{"text_format":"1","workbook":"xlsx","n_sheets":8,"sheets":["Ведомственная 2008","коды","разделы","Функц. 2019","Целевые 2019","Р., Пр.2019","ведом. 2019","Лист1"],"not_rendered":{"charts":0,"images":0,"macros":0,"external_links":4,"defined_names":9,"comments":2,"pivot_tables":0},"unopened":[],"bounds":{"document_bytes":16777216,"sheet_cells":100000,"rows_first":2000,"rows_last":500,"rows_between":2000,"halvings":0,"cell_chars":16384,"cell_head_chars":4096},"cells_cut":0,"cells_raw":0,"read":"whole","date_system":"1900"}

{"sheet":"Ведомственная 2008","index":0,"n_rows":2623,"n_cols":9,"rows_kept":2623,"cut":false,"hidden":true,"merged":[[2622,1,2622,7],[2621,1,2621,7],[10,1,10,7],[11,1,11,7]]}
[null,"                                                              Приложение 13"]
[null,"                                                              к Закону Московской области №"]
[null,"                                                             \"О внесении изменений в Закон Московской области   "]
[null,"                                                             \"О бюджете Московской области на 2008 год\""]
[]
[null,"                                                            Приложение 19"]
[null,"                                                             к Закону Московской области №"]
[null,"                                                            \"О бюджете Московской области на 2008 год\""]
[]
[]
[null,"Ведомственная структура расходов"]
[null,"бюджета Московской области на 2008 год"]
[]
[null,null,null,null,null,null,null,"(тыс. рублей)"]
[null,"Наименования","Код","Рз","ПР","ЦСР","ВР","Сумма"]
[]
[0,"Московская областная Дума","001",null,null,null,null,{"$f":"H18+H42+H47+H52","v":926254}]
[1,"Общегосударственные вопросы","001","01",null,null,null,{"$f":"H19+H34","v":818155}]
[103,"Функционирование законодательных (представительных) органов государственной власти и представительных органов муниципальных образований","001","01","03",null,null,{"$f":"H20+H27","v":806070}]
[103002,"Руководство и управление в сфере установленных функций органов государственной власти субъектов Российской Федерации  и органов местного самоуправления","001","01","03","002 00 00",null,{"$f":"H21+H23+H25","v":797591}]
[10300204,"Центральный аппарат","001","01","03","002 04 00",null,{"$f":"H22","v":709475}]
[10300204012,"Выполнение функций государственными органами","001","01","03","002 04 00","012",709475]
[10300209,"Председатель законодательного (представительного) органа государственной власти субъекта Российской Федерации","001","01","03","002 09 00",null,{"$f":"H24","v":2381}]
[10300209012,"Выполнение функций государственными органами","001","01","03","002 09 00","012",2381]
[10300210,"Депутаты (члены) законодательного (представительного) органа государственной власти субъекта Российской Федерации","001","01","03","002 10 00",null,{"$f":"H26","v":85735}]
[10300210012,"Выполнение функций государственными органами","001","01","03","002 10 00","012",85735]
[103803,"Расходы на страхование ","001","01","03","803 00 00",null,{"$f":"H28+H30+H32","v":8479}]
[1038030001,"Расходы на страхование имущества, находящегося в государственной собственности Московской области","001","01","03","803 00 01",null,{"$f":"H29","v":7300}]
[1038030001013,"Прочие расходы","001","01","03","803 00 01","013",7300]
[1038030003,"Расходы на обязательное страхование гражданской ответственности владельцев транспортных средств","001","01","03","803 00 03",null,{"$f":"H31","v":1055}]
[1038030003013,"Прочие расходы","001","01","03","803 00 03","013",1055]
[1038030004,"Расходы на добровольное страхование гражданской ответственности владельцев транспортных средств","001","01","03","803 00 04",null,{"$f":"H33","v":124}]
[1038030004013,"Прочие расходы","001","01","03","803 00 04","013",124]
[114,"Другие общегосударственные вопросы","001","01",14,null,null,{"$f":"H35","v":12085}]
[114001,"Руководство и управление в сфере установленных функций","001","01",14,"001 00 00",null,{"$f":"H36+H38+H40","v":12085}]
[11400112,"Члены Совета Федерации и их помощники","001","01",14,"001 12 00",null,{"$f":"H37","v":364}]
[11400112012,"Выполнение функций государственными органами","001","01",14,"001 12 00","012",364]
[11400161,"Расходы, связанные с выплатой Премии Московской областной Думы","001","01",14,"001 61 00",null,{"$f":"H39","v":8621}]
[11400161013,"Прочие расходы","001","01",14,"001 61 00","013",{"$f":"8621-8621+8621","v":8621}]
[11400162,"Расходы на выплату премий победителям конкурсов профессионального мастерства и награждения ценными подарками в связи с проведение профессиональных праздников","001","01",14,"001 62 00",null,{"$f":"H41","v":3100}]
[11400162013,"Прочие расходы","001","01",14,"001 62 00","013",3100]
[5,"Жилищно-коммунальное хозяйство","001","05",null,null,null,{"$f":"H43","v":65000}]
[501,"Жилищное хозяйство","001","05","01",null,null,{"$f":"H44","v":65000}]
[501350,"Поддержка жилищного хозяйства","001","05","01","350 00 00",null,{"$f":"H45","v":65000}]
[50135003,"Мероприятия в области жилищного хозяйства ","001","05","01","350 03 00",null,{"$f":"H46","v":65000}]
[50135003012,"Выполнение функций государственными органами","001","05","01","350 03 00","012",65000]
[7,"Образование","001","07",null,null,null,{"$f":"H48","v":450}]
[707,"Молодежная политика и оздоровление детей","001","07","07",null,null,{"$f":"H49","v":450}]
[707432,"Мероприятия по проведению оздоровительной кампании детей ","001","07","07","432 00 00",null,{"$f":"H50","v":450}]
[70743202,"Оздоровление детей ","001","07","07","432 02 00",null,{"$f":"H51","v":450}]
[70743202001,"Выполнение функций бюджетными учреждениями","001","07","07","432 02 00","001",450]
[9,"Здравоохранение, физическая культура и спорт","001","09",null,null,null,{"$f":"H53","v":42649}]
[910,"Другие вопросы в области здравоохранения, физической культуры и спорта","001","09",10,null,null,{"$f":"H54","v":42649}]
[910485,"Реализация государственных функций в области здравоохранения, спорта и туризма","001","09",10,"485 00 00",null,{"$f":"H55","v":42649}]
[91048597,"Мероприятия в области здравохранения, спорта и физической культуры, туризма","001","09",10,"485 97 00",null,{"$f":"H56","v":42649}]
[91048597079,"Мероприятия в области здравоохранения, спорта и физической культуры","001","09",10,"485 97 00","079",42649]
[]
[0,"Правительство  Московской области ","002",null,null,null,null,{"$f":"H59+H87+H92+H97","v":2730114}]
[1,"Общегосударственные вопросы","002","01",null,null,null,{"$f":"H60+H64+H70","v":1958797}]
[102,"Функционирование высшего должностного лица субъекта Российской Федерации и муниципального образования","002","01","02",null,null,{"$f":"H61","v":2114}]
[102002,"Руководство и управление в сфере установленных функций органов государственной власти субъектов Российской Федерации  и органов местного самоуправления","002","01","02","002 00 00",null,{"$f":"H62","v":2114}]
[10200201,"Высшее должностное лицо субъекта Российской Федерации","002","01","02","002 01 00",null,{"$f":"H63","v":2114}]
[10200201012,"Выполнение функций государственными органами","002","01","02","002 01 00","012",2114]
[104,"Функционирование Правительства Российской Федерации, высших исполнительных органов государственной власти субъектов Российской Федерации, местных администраций","002","01","04",null,null,{"$f":"H65","v":902951}]
[104002,"Руководство и управление в сфере установленных функций органов государственной власти субъектов Российской Федерации  и органов местного самоуправления","002","01","04","002 00 00",null,{"$f":"H66+H68","v":902951}]
[10400204,"Центральный аппарат","002","01","04","002 04 00",null,{"$f":"H67","v":886096}]
[10400204012,"Выполнение функций государственными органами","002","01","04","002 04 00","012",886096]
[10400206,"Высшее должностное лицо субъекта Российской Федерации (руководитель высшего исполнительного органа государственной власти субъекта Российской Федерации) и его заместители ","002","01","04","002 06 00",null,{"$f":"H69","v":16855}]
[10400206012,"Выполнение функций государственными органами","002","01","04","002 06 00","012",16855]
[114,"Другие общегосударственные вопросы","002","01",14,null,null,{"$f":"H71+H82","v":1053732}]
[114001,"Руководство и управление в сфере установленных функций","002","01",14,"001 00 00",null,{"$f":"H72+H74+H76+H78+H80","v":26458}]
[11400110,"Депутаты Государственной Думы и их помощники","002","01",14,"001 10 00",null,{"$f":"H73","v":20804}]
[11400110012,"Выполнение функций государственными органами","002","01",14,"001 10 00","012",20804]
[11400112,"Члены Совета Федерации и их помощники","002","01",14,"001 12 00",null,{"$f":"H75","v":484}]
[11400112012,"Выполнение функций государственными органами","002","01",14,"001 12 00","012",484]
[11400163,"Расходы на выплату Премии Губернатора Московской области","002","01",14,"001 63 00",null,{"$f":"H77","v":2000}]
[11400163013,"Прочие расходы","002","01",14,"001 63 00","013",2000]
[11400164,"Взносы Московской области в общественные организации, фонды, ассоциации","002","01",14,"001 64 00",null,{"$f":"H79","v":600}]
[11400164013,"Прочие расходы","002","01",14,"001 64 00","013",600]
[11400165,"Расходы на реализацию Закона Московской области \"О наградах Московской области\"","002","01",14,"001 65 00",null,{"$f":"H81","v":2570}]
[11400165013,"Прочие расходы","002","01",14,"001 65 00","013",2570]
[114093,"Учреждения по обеспечению хозяйственного обслуживания","002","01",14,"093 00 00",null,{"$f":"H83+H85","v":1027274}]
[11409310,"Обеспечение эксплуатации и надлежащего содержания зданий и помещений, занимаемых Правительством Московской области","002","01",14,"093 10 00",null,{"$f":"H84","v":27274}]
[11409310001,"Выполнение функций бюджетными учреждениями","002","01",14,"093 10 00","001",27274]
[11409311,"Обеспечение эксплуатации и надлежащего содержания зданий и помещений, занимаемых органами исполнительной власти Московской области","002","01",14,"093 11 00",null,{"$f":"H86","v":1000000}]
[11409311001,"Выполнение функций бюджетными учреждениями","002","01",14,"093 11 00","001",1000000]
[5,"Жилищно - коммунальное хозяйство","002","05",null,null,null,{"$f":"H88","v":400000}]
[501,"Жилищное хозяйство","002","05","01",null,null,{"$f":"H89","v":400000}]
[501350,"Поддержка жилищного хозяйства","002","05","01","350 00 00",null,{"$f":"H90","v":400000}]
[50135003,"Мероприятия в области жилищного хозяйства ","002","05","01","350 03 00",null,{"$f":"H91","v":400000}]
[50135003012,"Выполнение функций государственными органами","002","05","01","350 03 00","012",400000]
[7,"Образование","002","07",null,null,null,{"$f":"H93","v":2104}]
[707,"Молодежная политика и оздоровление детей","002","07","07",null,null,{"$f":"H94","v":2104}]
[707432,"Мероприятия по проведению оздоровительной кампании детей ","002","07","07","432 00 00",null,{"$f":"H95","v":2104}]
[70743202,"Оздоровление детей ","002","07","07","432 02 00",null,{"$f":"H96","v":2104}]
[70743202001,"Выполнение функций бюджетными учреждениями","002","07","07","432 02 00","001",2104]
[9,"Здравоохранение, физическая культура и спорт","002","09",null,null,null,{"$f":"H98","v":369213}]
[910,"Другие вопросы в области здравоохранения, физической культуры и спорта","002","09",10,null,null,{"$f":"H99","v":369213}]
[910485,"Реализация государственных функций в области здравоохранения, спорта и туризма","002","09",10,"485 00 00",null,{"$f":"H100","v":369213}]
[91048597,"Мероприятия в области здравохранения, спорта и физической культуры, туризма","002","09",10,"485 97 00",null,{"$f":"H101","v":369213}]
[91048597079,"Мероприятия в области здравоохранения, спорта и физической культуры","002","09",10,"485 97 00","079",369213]
[]
[0,"Министерство внешнеэкономических связей Московской области","003",null,null,null,null,{"$f":"H104+H116+H121+H126","v":287272}]
[1,"Общегосударственные вопросы","003","01",null,null,null,{"$f":"H105+H112","v":286941}]
[108,"Международные отношения и международное сотрудничество","003","01","08",null,null,{"$f":"H106+H109","v":200130}]
[108030,"Международное сотрудничество","003","01","08","030 00 00",null,{"$f":"H107","v":200000}]
[10803005,"Прочие расходы, связанные с международной деятельностью","003","01","08","030 05 00",null,{"$f":"H108","v":200000}]
[10803005012,"Выполнение функций государственными органами","003","01","08","030 05 00","012",200000]
[108522,"Региональные целевые программы","003","01","08","522 00 00",null,{"$f":"H110","v":130}]
[10852209,"Областная целевая программа \"Поддержка Московской областью соотечественников за рубежом на 2007-2010 годы\"","003","01","08","522 09 00",null,{"$f":"H111","v":130}]
[10852209012,"Выполнение функций государственными органами","003","01","08","522 09 00","012",130]
[114,"Другие общегосударственные вопросы","003","01",14,null,null,{"$f":"H113","v":86811}]
[114002,"Руководство и управление в сфере установленных функций органов государственной власти субъектов Российской Федерации  и органов местного самоуправления","003","01",14,"002 00 00",null,{"$f":"H114","v":86811}]
[11400204,"Центральный аппарат","003","01",14,"002 04 00",null,{"$f":"H115","v":86811}]
[11400204012,"Выполнение функций государственными органами","003","01",14,"002 04 00","012",86811]
[2,"Национальная оборона","003","02",null,null,null,{"$f":"H117","v":200}]
[204,"Мобилизационная подготовка экономики","003","02","04",null,null,{"$f":"H118","v":200}]
[204209,"Реализация государственных функций по мобилизационной подготовке экономики","003","02","04","209 00 00",null,{"$f":"H119","v":200}]
[20420901,"Мероприятия по обеспечению  мобилизационной готовности экономики","003","02","04","209 01 00",null,{"$f":"H120","v":200}]
[20420901012,"Выполнение функций государственными органами","003","02","04","209 01 00","012",200]
[3,"Национальная безопасность и правоохранительная деятельность","003","03",null,null,null,{"$f":"H122+H131","v":69}]
[309,"Защита населения и территории от последствий чрезвычайных ситуаций природного и техногенного характера, гражданская оборона ","003","03","09",null,null,{"$f":"H123","v":69}]
[309219,"Мероприятия по гражданской обороне","003","03","09","219 00 00",null,{"$f":"H124","v":69}]
[30921901,"Подготовка населения и организаций к действиям в чрезвычайной ситуации в мирное и военное время","003","03","09","219 01 00",null,{"$f":"H125","v":69}]
[30921901012,"Выполнение функций государственными органами","003","03","09","219 01 00","012",69]
[7,"Образование","003","07",null,null,null,{"$f":"H127","v":62}]
[707,"Молодежная политика и оздоровление детей","003","07","07",null,null,{"$f":"H128","v":62}]
[707432,"Мероприятия по проведению оздоровительной кампании детей ","003","07","07","432 00 00",null,{"$f":"H129","v":62}]
[70743202,"Оздоровление детей ","003","07","07","432 02 00",null,{"$f":"H130","v":62}]
[70743202001,"Выполнение функций бюджетными учреждениями","003","07","07","432 02 00","001",62]
[]
[0,"Министерство жилищно-коммунального  хозяйства Московской области","004",null,null,null,null,{"$f":"H133+H138+H143+H148+H170","v":1381721}]
[2,"Национальная оборона","004","02",null,null,null,{"$f":"H134","v":200}]
[204,"Мобилизационная подготовка экономики","004","02","04",null,null,{"$f":"H135","v":200}]
[204209,"Реализация государственных функций по мобилизационной подготовке экономики","004","02","04","209 00 00",null,{"$f":"H136","v":200}]
[20420901,"Мероприятия по обеспечению  мобилизационной готовности экономики","004","02","04","209 01 00",null,{"$f":"H137","v":200}]
[20420901012,"Выполнение функций государственными органами","004","02","04","209 01 00","012",200]
[3,"Национальная безопасность и правоохранительная деятельность","004","03",null,null,null,{"$f":"H139","v":78}]
[309,"Защита населения и территории от последствий чрезвычайных ситуаций природного и техногенного характера, гражданская оборона ","004","03","09",null,null,{"$f":"H140","v":78}]
[309219,"Мероприятия по гражданской обороне","004","03","09","219 00 00",null,{"$f":"H141","v":78}]
[30921901,"Подготовка населения и организаций к действиям в чрезвычайной ситуации в мирное и военное время","004","03","09","219 01 00",null,{"$f":"H142","v":78}]
[30921901012,"Выполнение функций государственными органами","004","03","09","219 01 00","012",78]
[4,"Национальная экономика","004","04",null,null,null,{"$f":"H144","v":500000}]
[412,"Другие вопросы в области национальной экономики","004","04",12,null,null,{"$f":"H145","v":500000}]
[412340,"Реализация государственных функций в области национальной экономики","004","04",12,"340 00 00",null,{"$f":"H146","v":500000}]
[41234004,"Мероприятия в области гражданской промышленности","004","04",12,"340 04 00",null,{"$f":"H147","v":500000}]
[41234004006,"Субсидии юридическим лицам","004","04",12,"340 04 00","006",500000]
[5,"Жилищно - коммунальное хозяйство","004","05",null,null,null,{"$f":"H149+H157+H162","v":881399}]
[501,"Жилищное хозяйство","004","05","01",null,null,{"$f":"H150+H154","v":384531}]
[501102,"Бюджетные инвестиции в объекты капитального строительства, не включенные в целевые программы","004","05","01","102 00 00",null,{"$f":"H151","v":190153}]
[50110201,"Бюджетные инвестиции в объекты капитального строительства государственной собственности субъектов Российской Федерации (объекты капитального строительства собственности муниципальных образований)","004","05","01","102 01 00",null,{"$f":"H152","v":190153}]
[5011020102,"Бюджетные инвестиции в объекты капитального строительства собственности муниципальных образований ","004","05","01","102 01 02",null,{"$f":"H153","v":190153}]
[5011020102003,"Бюджетные инвестиции","004","05","01","102 01 02","003",190153]
[501104,"Федеральная целевая программа \"Жилище\" на 2002 - 2010 годы (второй этап)","004","05","01","104 00 00",null,{"$f":"H155","v":194378}]
[50110407,"Расходы общепрограммного характера по федеральной целевой программе \"Жилище\" на 2002 - 2010 годы (второй этап)","004","05","01","104 07 00",null,{"$f":"H156","v":194378}]
[50110407012,"Выполнение функций государственными органами","004","05","01","104 07 00","012",194378]
[502,"Коммунальное хозяйство","004","05","02",null,null,{"$f":"H158","v":143500}]
[502522,"Региональные целевые программы","004","05","02","522 00 00",null,{"$f":"H159","v":143500}]
[50252201,"Областная целевая программа \"Экология Подмосковья на 2007-2008 годы\"","004","05","02","522 01 00",null,{"$f":"H160","v":143500}]
[5025220102,"Подпрограмма \"Строительство и реконструкция  природоохранных объектов коммунального  назначения\"","004","05","02","522 01 02",null,{"$f":"H161","v":143500}]
[5025220102003,"Бюджетные инвестиции","004","05","02","522 01 02","003",143500]
[505,"Другие вопросы в области жилищно-коммунального хозяйства","004","05","05",null,null,{"$f":"H163+H168","v":353368}]
[505002,"Руководство и управление в сфере установленных функций органов государственной власти субъектов Российской Федерации  и органов местного самоуправления","004","05","05","002 00 00",null,{"$f":"H164+H166","v":346710}]
[50500204,"Центральный аппарат","004","05","05","002 04 00",null,{"$f":"H165","v":205458}]
[50500204012,"Выполнение функций государственными органами","004","05","05","002 04 00","012",{"$f":"182658+22800","v":205458}]
[50500299,"Обеспечение деятельности подведомственных учреждений","004","05","05","002 99 00",null,{"$f":"H167","v":141252}]
[50500299001,"Выполнение функций бюджетными учреждениями","004","05","05","002 99 00","001",141252]
[505806,"Прочие расходы, не отнесенные к другим целевым статьям","004","05","05","806 00 00",null,{"$f":"H169","v":6658}]
[505806006,"Субсидии юридическим лицам","004","05","05","806 00 00","006",6658]
[7,"Образование","004","07",null,null,null,{"$f":"H171","v":44}]
[707,"Молодежная политика и оздоровление детей","004","07","07",null,null,{"$f":"H172","v":44}]
[707432,"Мероприятия по проведению оздоровительной кампании детей ","004","07","07","432 00 00",null,{"$f":"H173","v":44}]
[70743202,"Оздоровление детей ","004","07","07","432 02 00",null,{"$f":"H174","v":44}]
[70743202001,"Выполнение функций бюджетными учреждениями","004","07","07","432 02 00","001",44]
[]
[0,"Министерство  промышленности и науки Московской области","005",null,null,null,null,{"$f":"H177+H182+H187+H192+H211","v":226908}]
[1,"Общегосударственные вопросы","005","01",null,null,null,{"$f":"H178","v":72}]
[114,"Другие общегосударственные вопросы","005","01",14,null,null,{"$f":"H179","v":72}]
[114001,"Руководство и управление в сфере установленных функций","005","01",14,"001 00 00",null,{"$f":"H180","v":72}]
[11400164,"Взносы Московской области в общественные организации, фонды, ассоциации","005","01",14,"001 64 00",null,{"$f":"H181","v":72}]
[11400164013,"Прочие расходы","005","01",14,"001 64 00","013",72]
[2,"Национальная оборона","005","02",null,null,null,{"$f":"H183","v":750}]
[204,"Мобилизационная подготовка экономики","005","02","04",null,null,{"$f":"H184","v":750}]
[204209,"Реализация государственных функций по мобилизационной подготовке экономики","005","02","04","209 00 00",null,{"$f":"H185","v":750}]
[20420901,"Мероприятия по обеспечению  мобилизационной готовности экономики","005","02","04","209 01 00",null,{"$f":"H186","v":750}]
[20420901012,"Выполнение функций государственными органами","005","02","04","209 01 00","012",750]
[3,"Национальная безопасность и правоохранительная деятельность","005","03",null,null,null,{"$f":"H188","v":615}]
[309,"Защита населения и территории от последствий чрезвычайных ситуаций природного и техногенного характера, гражданская оборона ","005","03","09",null,null,{"$f":"H189","v":615}]
[309219,"Мероприятия по гражданской обороне","005","03","09","219 00 00",null,{"$f":"H190","v":615}]
[30921901,"Подготовка населения и организаций к действиям в чрезвычайной ситуации в мирное и военное время","005","03","09","219 01 00",null,{"$f":"H191","v":615}]
[30921901012,"Выполнение функций государственными органами","005","03","09","219 01 00","012",615]
[4,"Национальная экономика","005","04",null,null,null,{"$f":"H193+H198+H202","v":225371}]
[401,"Общеэкономические вопросы","005","04","01",null,null,{"$f":"H194","v":120224}]
[401002,"Руководство и управление в сфере установленных функций органов государственной власти субъектов Российской Федерации  и органов местного самоуправления","005","04","01","002 00 00",null,{"$f":"H195","v":120224}]
[40100204,"Центральный аппарат","005","04","01","002 04 00",null,{"$f":"H196+H197","v":120224}]
[40100204012,"Выполнение функций государственными органами","005","04","01","002 04 00","012",119724]
[40100204902,"Проведение мероприятий по защите информации, обеспечению безопасности информационных систем и баз данных, содержащих конфиденциальную информацию, в том числе персональные данные населения Московской области","005","04","01","002 04 00",902,500]
[411,"Прикладные научные исследования в области национальной экономики","005","04",11,null,null,{"$f":"H199","v":53000}]
[411081,"Прикладные научные исследования и разработки","005","04",11,"081 00 00",null,{"$f":"H200","v":53000}]
[41108169,"Выполнение научно- исследовательских и опытно-конструкторских работ по государственным контрактам","005","04",11,"081 69 00",null,{"$f":"H201","v":53000}]
[41108169012,"Выполнение функций государственными органами","005","04",11,"081 69 00","012",53000]
[412,"Другие вопросы в области национальной экономики","005","04",12,null,null,{"$f":"H203","v":52147}]
[412340,"Реализация государственных функций в области национальной экономики","005","04",12,"340 00 00",null,{"$f":"H204","v":52147}]
[41234083,"Государственная поддержка отдельных отраслей промышленности и топливно-энергетического комплекса","005","04",12,"340 83 00",null,{"$f":"H205+H207+H209","v":52147}]
[4123408303,"Субсидии организациям легкой и текстильной промышленности на возмещение части затрат на уплату процентов по кредитам, полученным в российских кредитных организациях в 2007-2010 годах, на осуществление сезонных закупок сырья и материалов для производства товаров народного потребления и продукции производственно-технического назначения","005","04",12,"340 83 03",null,{"$f":"H206","v":40000}]
[4123408303006,"Субсидии юридическим лицам","005","04",12,"340 83 03","006",40000]
[4123408304,"Субсидии организациям легкой и текстильной промышленности на возмещение части затрат на уплату процентов по кредитам, полученным в российских кредитных организациях в 2008-2010 годах, на осуществление технического перевооружения","005","04",12,"340 83 04",null,{"$f":"H208","v":10000}]
[4123408304006,"Субсидии юридическим лицам","005","04",12,"340 83 04","006",10000]
[4123408320,"Расходы на проведение мероприятий, общегосударственных праздников и юбилейных дат Московской области в области промышленности","005","04",12,"340 83 20",null,{"$f":"H210","v":2147}]
[4123408320013,"Прочие расходы","005","04",12,"340 83 20","013",2147]
[7,"Образование","005","07",null,null,null,{"$f":"H212","v":100}]
[707,"Молодежная политика и оздоровление детей","005","07","07",null,null,{"$f":"H213","v":100}]
[707432,"Мероприятия по проведению оздоровительной кампании детей ","005","07","07","432 00 00",null,{"$f":"H214","v":100}]
[70743202,"Оздоровление детей ","005","07","07","432 02 00",null,{"$f":"H215","v":100}]
[70743202001,"Выполнение функций бюджетными учреждениями","005","07","07","432 02 00","001",100]
[]
[0,"Министерство  сельского хозяйства и продовольствия Московской области","006",null,null,null,null,{"$f":"H218+H223+H228+H291+H296+H318+H324","v":2178172}]
[2,"Национальная оборона","006","02",null,null,null,{"$f":"H219","v":299}]
[204,"Мобилизационная подготовка экономики","006","02","04",null,null,{"$f":"H220","v":299}]
[204209,"Реализация государственных функций по мобилизационной подготовке экономики","006","02","04","209 00 00",null,{"$f":"H221","v":299}]
[20420901,"Мероприятия по обеспечению  мобилизационной готовности экономики","006","02","04","209 01 00",null,{"$f":"H222","v":299}]
[20420901012,"Выполнение функций государственными органами","006","02","04","209 01 00","012",299]
[3,"Национальная безопасность и правоохранительная деятельность","006","03",null,null,null,{"$f":"H224","v":645}]
[309,"Защита населения и территории от последствий чрезвычайных ситуаций природного и техногенного характера, гражданская оборона ","006","03","09",null,null,{"$f":"H225","v":645}]
[309219,"Мероприятия по гражданской обороне","006","03","09","219 00 00",null,{"$f":"H226","v":645}]
[30921901,"Подготовка населения и организаций к действиям в чрезвычайной ситуации в мирное и военное время","006","03","09","219 01 00",null,{"$f":"H227","v":645}]
[30921901012,"Выполнение функций государственными органами","006","03","09","219 01 00","012",645]
[4,"Национальная экономика","006","04",null,null,null,{"$f":"H229","v":1935857}]
[405,"Сельское хозяйство и рыболовство","006","04","05",null,null,{"$f":"H230+H234+H237+H242+H246+H277+H280+H283+H288","v":1935857}]
[405001,"Руководство и управление в сфере установленных функций","006","04","05","001 00 00",null,{"$f":"H231","v":7724}]
[40500151,"Осуществление полномочий по контролю, надзору, выдаче лицензий и разрешений в области охраны и использования объектов животного мира и среды их обитания","006","04","05","001 51 00",null,{"$f":"SUM(H232:H233)","v":7724}]
[40500151001,"Выполнение функций бюджетными учреждениями","006","04","05","001 51 00","001",4268]
[40500151012,"Выполнение функций государственными органами","006","04","05","001 51 00","012",{"$f":"7724-4268","v":3456}]
[405002,"Руководство и управление в сфере установленных функций органов государственной власти субъектов Российской Федерации  и органов местного самоуправления","006","04","05","002 00 00",null,{"$f":"H235","v":128333}]
[40500204,"Центральный аппарат","006","04","05","002 04 00",null,{"$f":"H236","v":128333}]
[40500204012,"Выполнение функций государственными органами","006","04","05","002 04 00","012",{"$f":"113789+14544","v":128333}]
[405100,"Федеральные целевые программы","006","04","05","100 00 00",null,{"$f":"H238+H240","v":70400}]
[40510011,"Федеральная целевая программа \"Социальное развитие села до 2010 года\"","006","04","05","100 11 00",null,{"$f":"H239","v":5300}]
[40510011013,"Прочие расходы","006","04","05","100 11 00","013",5300]
[40510060,"Федеральная целевая программа \"Сохранение и восстановление плодородия почв земель сельскохозяйственного назначения и агроландшафтов как национального достояния России на 2006 - 2010 годы\"","006","04","05","100 60 00",null,{"$f":"H241","v":65100}]
[40510060006,"Субсидии юридическим лицам","006","04","05","100 60 00","006",{"$f":"11000+54100","v":65100}]
[405102,"Бюджетные инвестиции в объекты капитального строительства, не включенные в целевые программы","006","04","05","102 00 00",null,{"$f":"H243","v":54000}]
[40510202,"Строительство объектов общегражданского назначения","006","04","05","102 02 00",null,{"$f":"H244","v":54000}]
[4051020201,"Строительство объектов социального и производственного комплексов, в том числе объектов общегражданского назначения, жилья, инфраструктуры","006","04","05","102 02 01",null,{"$f":"H245","v":54000}]
[4051020201003,"Бюджетные инвестиции","006","04","05","102 02 01","003",54000]
[405260,"Государственная поддержка сельского хозяйства","006","04","05","260 00 00",null,{"$f":"H247+H251+H249+H253+H255+H257+H259+H261+H263+H265+H267+H269+H271+H273+H275","v":612270}]
[40526001,"Субсидии на возмещение части затрат на уплату процентов сельскохозяйственным товаропроизводителям, организациям агропромышленного комплекса, независимо от их организационно-правовых форм и крестьянским (фермерским) хозяйствам, сельскохозяйственным потребительским кооперативам  по инвестиционным кредитам, полученным в российских кредитных организациях и займам, полученным в сельскохозяйственных кредитных кооперативах в 2004-2009 годах, на срок от 2 до 8 лет","006","04","05","260 01 00",null,{"$f":"H248","v":286100}]
[40526001006,"Субсидии юридическим лицам","006","04","05","260 01 00","006",286100]
[40526002,"Субсидии на возмещение части затрат на уплату процентов по кредитам, полученным в российских кредитных организациях, и займам, полученным в сельскохозяйственных кредитных потребительских кооперативах в 2005-2009 годах, личным подсобным хозяйствам, сельскохозяйственным потребительским кооперативам, крестьянским (фермерским) хозяйствам на срок от 2 до 8 лет ","006","04","05","260 02 00",null,{"$f":"H250","v":4000}]
[40526002006,"Субсидии юридическим лицам","006","04","05","260 02 00","006",4000]
[40526004,"Мероприятия в области сельскохозяйственного производства","006","04","05","260 04 00",null,{"$f":"H252","v":16800}]
[40526004006,"Субсидии юридическим лицам","006","04","05","260 04 00","006",16800]
[40526007,"Субсидии на поддержку элитного семеноводства","006","04","05","260 07 00",null,{"$f":"H254","v":9900}]
[40526007006,"Субсидии юридическим лицам","006","04","05","260 07 00","006",9900]
[40526010,"Субсидии на закладку и уход за многолетними насаждениями","006","04","05","260 10 00",null,{"$f":"H256","v":1690}]
[40526010006,"Субсидии юридическим лицам","006","04","05","260 10 00","006",1690]
[40526011,"Субсидии на компенсацию части затрат по страхованию урожая сельскохозяйственных культур, урожая многолетних насаждений и посадок многолетних насаждений","006","04","05","260 11 00",null,{"$f":"H258","v":800}]
[40526011006,"Субсидии юридическим лицам","006","04","05","260 11 00","006",800]
[40526013,"Субсидии на поддержку племенного животноводства","006","04","05","260 13 00",null,{"$f":"H260","v":77000}]
[40526013006,"Субсидии юридическим лицам","006","04","05","260 13 00","006",77000]
[40526014,"Субсидии на возмещение части затрат на уплату процентов по кредитам, полученным в российских кредитных организациях, и займам, полученным в сельскохозяйственных кредитных потребительских кооперативах в 2007-2009 годах на срок до одного года,  сельскохозяйственным товаропроизводителям, организациям агропромышленного комплекса,  независимо от их организационно- правовых форм, крестьянским (фермерским) хозяйствам и организациям потребительской кооперации","006","04","05","260 14 00",null,{"$f":"H262","v":10000}]
[40526014006,"Субсидии юридическим лицам","006","04","05","260 14 00","006",10000]
[40526015,"Субсиди на возмещение части затрат на уплату процентов организациям, осуществляющим промышленное рыбоводство, независимо от их организационно- правовых форм: по инвестиционным кредитам, полученным в российских кредитных организациях в 2007-2009 годах - на приобретение племенного материала рыб, техники и оборудования для  промышленного рыбоводства- на срок до пяти лет; на строительство, реконструкцию и модернизацию комплексов (ферм) по осуществлению промышленного рыбоводства – на срок до восьми лет","006","04","05","260 15 00",null,{"$f":"H264","v":12000}]
[40526015006,"Субсидии юридическим лицам","006","04","05","260 15 00","006",12000]
[40526030,"Субсидии на поддержку животноводства","006","04","05","260 30 00",null,{"$f":"H266","v":160000}]
[40526030006,"Субсидии юридическим лицам","006","04","05","260 30 00","006",160000]
[40526031,"Компенсация части затрат на приобретение средств химизации","006","04","05","260 31 00",null,{"$f":"H268","v":0}]
[40526031006,"Субсидии юридическим лицам","006","04","05","260 31 00","006",{"$f":"54100-54100","v":0}]
[40526032,"Субсидирование части затрат на приобретение дизельного топлива, использованного на проведение сезонных сельскохозяйственных работ","006","04","05","260 32 00",null,{"$f":"H270","v":0}]
[40526032006,"Субсидии юридическим лицам","006","04","05","260 32 00","006",{"$f":"16300-16300","v":0}]
[40526040,"Компенсация части затрат по агрохимической мелиорации и агрохимическому обследованию почв","006","04","05","260 40 00",null,{"$f":"H272","v":26480}]
[40526040006,"Субсидии юридическим лицам","006","04","05","260 40 00","006",26480]
[40526041,"Компенсация части затрат на приобретение ветеринарных препаратов и дезинфицирующих средств для проведения противоэпизоотических мероприятий","006","04","05","260 41 00",null,{"$f":"H274","v":0}]
[40526041006,"Субсидии юридическим лицам","006","04","05","260 41 00","006",{"$f":"16800-16800","v":0}]
[40526045,"Другие расходы на государственную поддержку сельского хозяйства","006","04","05","260 45 00",null,{"$f":"H276","v":7500}]
[40526045013,"Прочие расходы","006","04","05","260 45 00","013",7500]
[405261,"Учреждения, обеспечивающие предоставление услуг в области сельского хозяйства, охраны и использования объектов животного мира","006","04","05","261 00 00",null,{"$f":"H278","v":1044505}]
[40526199,"Обеспечение деятельности подведомственных учреждений","006","04","05","261 00 00",null,{"$f":"H279","v":1044505}]
[40526199001,"Выполнение функций бюджетными учреждениями","006","04","05","261 00 00","001",1044505]
[405263,"Учреждения, обеспечивающие предоставление услуг в области животноводства","006","04","05","263 00 00",null,{"$f":"H281","v":0}]
[40526399,"Обеспечение деятельности подведомственных учреждений","006","04","05","263 99 00",null,{"$f":"H282","v":0}]
[40526399001,"Выполнение функций бюджетными учреждениями","006","04","05","263 99 00","001",{"$f":"1044505-1044505","v":0}]
[405264,"Охрана и использование объектов животного мира","006","04","05","264 00 00",null,{"$f":"H284+H286","v":18625}]
[40526401,"Охрана и использование объектов животного мира, отнесенных к объектам охоты","006","04","05","264 01 00",null,{"$f":"H285","v":669}]
[40526401013,"Прочие расходы","006","04","05","264 01 00","013",669]
[40526499,"Обеспечение деятельности подведомственных учреждений","006","04","05","264 99 00",null,{"$f":"H287","v":17956}]
[40526499001,"Выполнение функций бюджетными учреждениями","006","04","05","264 99 00","001",17956]
[405267,"Государственная программа развития сельского хозяйства","006","04","05","267 00 00",null,{"$f":"H289","v":0}]
[40526701,"Государственная программа развития сельского хозяйства","006","04","05","267 01 00",null,{"$f":"H290","v":0}]
[40526701013,"Прочие расходы","006","04","05","267 01 00","013",{"$f":"5300-5300","v":0}]
[6,"Охрана окружающей среды","006","06",null,null,null,{"$f":"H292","v":0}]
[603,"Охрана объектов растительного и животного мира и среды их обитания","006","06","03",null,null,{"$f":"H293","v":0}]
[603264,"Охрана и использование объектов животного мира","006","06","03","264 00 00",null,{"$f":"H294","v":0}]
[60326401,"Охрана и использование объектов животного мира, отнесенных к объектам охоты","006","06","03","264 01 00",null,{"$f":"H295","v":0}]
[60326401009,"Фонд компенсаций","006","06","03","264 01 00","009",{"$f":"669-669","v":0}]
[7,"Образование","006","07",null,null,null,{"$f":"H297+H314","v":55371}]
[704,"Среднее профессиональное образование","006","07","04",null,null,{"$f":"H298","v":55371}]
[704427,"Средние специальные учебные заведения","006","07","04","427 00 00",null,{"$f":"H299","v":55371}]
[70442799,"Обеспечение деятельности подведомственных учреждений","006","07","04","427 99 00",null,{"$f":"H300+H302+H304+H306+H308+H310+H312","v":55371}]
[7044279901,"Выплаты стипендий и прочие расходы стипендиального фонда в средних специальных учебных заведениях","006","07","04","427 99 01",null,{"$f":"H301","v":3275}]
[7044279901001,"Выполнение функций бюджетными учреждениями","006","07","04","427 99 01","001",3275]
[7044279902,"Обеспечение питанием учащихся средних специальных учебных заведений","006","07","04","427 99 02",null,{"$f":"H303","v":544}]
[7044279902001,"Выполнение функций бюджетными учреждениями","006","07","04","427 99 02","001",544]
[7044279904,"Единовременное денежное пособие детям-сиротам - выпускникам областных образовательных учрежедний*","006","07","04","427 99 04",null,{"$f":"H305","v":240}]
[7044279904001,"Выполнение функций бюджетными учреждениями","006","07","04","427 99 04","001",240]
[7044279907,"Бесплатный проезд детей-сирот и детей, оставшихся без попечения родителей, обучающихся в государственных образовательных учреждениях Московской области*","006","07","04","427 99 07",null,{"$f":"H307","v":43}]
[7044279907001,"Выполнение функций бюджетными учреждениями","006","07","04","427 99 07","001",43]
[7044279908,"Ежемесячные стипендии Губернатора Московской области детям-сиротам, обучающимся в образовательных учреждениях среднего профессионального образования*","006","07","04","427 99 08",null,{"$f":"H309","v":864}]
[7044279908001,"Выполнение функций бюджетными учреждениями","006","07","04","427 99 08","001",864]
[7044279912,"Частичная компенсация стоимости питания  обучающихся в средних специальных учебных заведений*","006","07","04","427 99 12",null,{"$f":"H311","v":516}]
[7044279912001,"Выполнение функций бюджетными учреждениями","006","07","04","427 99 12","001",516]
[7044279999,"Другие расходы на содержание средних специальных учебных заведений","006","07","04","427 99 99",null,{"$f":"H313","v":49889}]
[7044279999001,"Выполнение функций бюджетными учреждениями","006","07","04","427 99 99","001",49889]
[707,"Молодежная политика и оздоровление детей","006","07","07",null,null,{"$f":"H315","v":0}]
[707432,"Мероприятия по проведению оздоровительной кампании детей ","006","07","07","432 00 00",null,{"$f":"H316","v":0}]
[70743202,"Оздоровление детей ","006","07","07","432 02 00",null,{"$f":"H317","v":0}]
[70743202001,"Выполнение функций бюджетными учреждениями","006","07","07","432 02 00","001"]
[10,"Социальная политика","006","10",null,null,null,{"$f":"H319","v":120000}]
[1003,"Социальное обеспечение населения","006",10,"03",null,null,{"$f":"H320","v":120000}]
[1003100,"Федеральные целевые программы","006",10,"03","100 00 00",null,{"$f":"H321","v":120000}]
[100310011,"Федеральная целевая программа \"Социальное развитие села до 2010 года\"","006",10,"03","100 11 00",null,{"$f":"H322+H323","v":120000}]
[100310011021,"Субсидии на обеспечение жильем молодых семей и молодых специалистов, проживающих и работающих в сельской местности","006",10,"03","100 11 00","021",80000]
[100310011099,"Субсидии на обеспечение жильем граждан Российской Федерации, проживающих в сельской местности","006",10,"03","100 11 00","099",40000]
[11,"Межбюджетные трансферты","006",11,null,null,null,{"$f":"H325","v":66000}]
[1102,"Субсидии бюджетам субъектов Российской Федерации и муниципальных образований (межбюджетные субсидии)","006",11,"02",null,null,{"$f":"H326","v":66000}]
[1102100,"Федеральные целевые программы","006",11,"02","100 00 00",null,{"$f":"H327","v":66000}]
[110210011,"Федеральная целевая программа \"Социальное развитие села до 2010 года\"","006",11,"02","100 11 00",null,{"$f":"H328","v":66000}]
[110210011020,"Софинансирование объектов капитального строительства государственной собственности субъектов Российской Федерации  (объектов капитального строительства собственности муниципальных образований)","006",11,"02","100 11 00","020",66000]
[]
[0,"Министерство строительного комплекса Московской области","007",null,null,null,null,{"$f":"H331+H340+H345+H350+H366+H383+H425+H444+H452","v":10241117}]
[1,"Общегосударственные вопросы","007","01",null,null,null,{"$f":"H332","v":720230}]
[114,"Другие общегосударственные вопросы","007","01",14,null,null,{"$f":"H333+H336","v":720230}]
[114001,"Руководство и управление в сфере установленных функций","007","01",14,"001 00 00",null,{"$f":"H334","v":230}]
[11400166,"Подготовка и проведение Праздника труда в Московской области","007","01",14,"001 66 00",null,{"$f":"H335","v":230}]
[11400166013,"Прочие расходы","007","01",14,"001 66 00","013",230]
[114102,"Бюджетные инвестиции в объекты капитального строительства, не включенные в целевые программы","007","01",14,"102 00 00",null,{"$f":"H337","v":720000}]
[11410201,"Бюджетные инвестиции в объекты капитального строительства государственной собственности субъектов Российской Федерации (объекты капитального строительства собственности муниципальных образований)","007","01",14,"102 01 00",null,{"$f":"H338","v":720000}]
[1141020101,"Бюджетные инвестиции в объекты капитального строительства государственной собственности субъектов Российской Федерации ","007","01",14,"102 01 01",null,{"$f":"H339","v":720000}]
[1141020101003,"Бюджетные инвестиции","007","01",14,"102 01 01","003",720000]
[2,"Национальная оборона","007","02",null,null,null,{"$f":"H341","v":1565}]
[204,"Мобилизационная подготовка экономики","007","02","04",null,null,{"$f":"H342","v":1565}]
[204209,"Реализация государственных функций по мобилизационной подготовке экономики","007","02","04","209 00 00",null,{"$f":"H343","v":1565}]
[20420901,"Мероприятия по обеспечению  мобилизационной готовности экономики","007","02","04","209 01 00",null,{"$f":"H344","v":1565}]
[20420901012,"Выполнение функций государственными органами","007","02","04","209 01 00","012",1565]
[3,"Национальная безопасность и правоохранительная деятельность","007","03",null,null,null,{"$f":"H346","v":93}]
[309,"Защита населения и территории от последствий чрезвычайных ситуаций природного и техногенного характера, гражданская оборона ","007","03","09",null,null,{"$f":"H347","v":93}]
[309219,"Мероприятия по гражданской обороне","007","03","09","219 00 00",null,{"$f":"H348","v":93}]
[30921901,"Подготовка населения и организаций к действиям в чрезвычайной ситуации в мирное и военное время","007","03","09","219 01 00",null,{"$f":"H349","v":93}]
[30921901012,"Выполнение функций государственными органами","007","03","09","219 01 00","012",93]
[4,"Национальная экономика","007","04",null,null,null,{"$f":"H351+H356","v":2682745}]
[401,"Общеэкономические вопросы","007","04","01",null,null,{"$f":"H352","v":294515}]
[401002,"Руководство и управление в сфере установленных функций органов государственной власти субъектов Российской Федерации  и органов местного самоуправления","007","04","01","002 00 00",null,{"$f":"H353","v":294515}]
[40100204,"Центральный аппарат","007","04","01","002 04 00",null,{"$f":"SUM(H354:H355)","v":294515}]
[40100204012,"Выполнение функций государственными органами","007","04","01","002 04 00","012",293955]
[40100204902,"Проведение мероприятий по защите информации, обеспечению безопасности информационных систем и баз данных, содержащих конфиденциальную информацию, в том числе персональные данные населения Московской области","007","04","01","002 04 00",902,560]
[412,"Другие вопросы в области национальной экономики","007","04",12,null,null,{"$f":"H357+H363","v":2388230}]
[412340,"Реализация государственных функций в области национальной экономики","007","04",12,"340 00 00",null,{"$f":"H358+H361","v":2294230}]
[41234004,"Мероприятия в области гражданской промышленности","007","04",12,"340 04 00",null,{"$f":"SUM(H359:H360)","v":1300133}]
[41234004006,"Субсидии юридическим лицам","007","04",12,"340 04 00","006",305903]
[41234004013,"Прочие расходы","007","04",12,"340 04 00","013",994230]
[41234010,"Субсидии юридическим лицам на компенсацию (оплату) процентов и иных платежей по привлеченным кредитам (займам)","007","04",12,"340 10 00",null,{"$f":"H362","v":994097}]
[41234010006,"Субсидии юридическим лицам","007","04",12,"340 10 00","006",994097]
[412522,"Региональные целевые программы","007","04",12,"522 00 00",null,{"$f":"H364","v":94000}]
[41252203,"Областная целевая программа \"Разработка Генерального плана развития Московской области на период до 2020 года\"","007","04",12,"522 03 00",null,{"$f":"H365","v":94000}]
[41252203012,"Выполнение функций государственными органами","007","04",12,"522 03 00","012",94000]
[5,"Жилищно-коммунальное хозяйство","007","05",null,null,null,{"$f":"H372","v":283200}]
[501,"Жилищное хозяйство","007","05","01",null,null,{"$f":"H368","v":0}]
[501522,"Региональные целевые программы","007","05","01","522 00 00",null,{"$f":"H369","v":0}]
[50152202,"Областная целевая программа \"Жилище\" на 2006-2010 годы","007","05","01","522 02 00",null,{"$f":"H370","v":0}]
[5015220202,"Подпрограмма \"Переселение граждан из ветхого и аварийного жилищного фонда\"","007","05","01","522 02 02",null,{"$f":"H371","v":0}]
[5015220202006,"Субсидии юридическим лицам","007","05","01","522 02 02","006"]
[502,"Коммунальное хозяйство","007","05","02",null,null,{"$f":"H373+H377","v":283200}]
[502102,"Бюджетные инвестиции в объекты капитального строительства, не включенные в целевые программы","007","05","02","102 00 00",null,{"$f":"H374","v":108000}]
[50210201,"Бюджетные инвестиции в объекты капитального строительства государственной собственности субъектов Российской Федерации (объекты капитального строительства собственности муниципальных образований)","007","05","02","102 01 00",null,{"$f":"H375","v":108000}]
[5021020101,"Бюджетные инвестиции в объекты капитального строительства государственной собственности субъектов Российской Федерации ","007","05","02","102 01 01",null,{"$f":"H376","v":108000}]
[5021020101003,"Бюджетные инвестиции","007","05","02","102 01 01","003",108000]
[502522,"Региональные целевые программы","007","05","02","522 00 00",null,{"$f":"H378","v":175200}]
[50252202,"Областная целевая программа \"Жилище\" на 2006-2010 годы","007","05","02","522 02 00",null,{"$f":"H379+H381","v":175200}]
[5025220201,"Подпрограмма \"Модернизация объектов коммунальной инфраструктуры\"","007","05","02","522 02 01",null,{"$f":"H380","v":115300}]
[5025220201003,"Бюджетные инвестиции","007","05","02","522 02 01","003",115300]
[5025220203,"Подпрограмма \"Обеспечение земельных участков коммунальной инфраструктурой в целях жилищного строительства\"","007","05","02","522 02 03",null,{"$f":"H382","v":59900}]
[5025220203006,"Субсидии юридическим лицам","007","05","02","522 02 03","006",59900]
[7,"Образование","007","07",null,null,null,{"$f":"H384+H389+H411+H416+H421","v":783113}]
[702,"Общее образование","007","07","02",null,null,{"$f":"H385","v":16320}]
[702102,"Бюджетные инвестиции в объекты капитального строительства, не включенные в целевые программы","007","07","02","102 00 00",null,{"$f":"H386","v":16320}]
[70210201,"Бюджетные инвестиции в объекты капитального строительства государственной собственности субъектов Российской Федерации (объекты капитального строительства собственности муниципальных образований)","007","07","02","102 01 00",null,{"$f":"H387","v":16320}]
[7021020101,"Бюджетные инвестиции в объекты капитального строительства государственной собственности субъектов Российской Федерации ","007","07","02","102 01 01",null,{"$f":"H388","v":16320}]
[7021020101003,"Бюджетные инвестиции","007","07","02","102 01 01","003",16320]
[704,"Среднее профессиональное образование","007","07","04",null,null,{"$f":"H390+H394","v":251895}]
[704102,"Бюджетные инвестиции в объекты капитального строительства, не включенные в целевые программы","007","07","04","102 00 00",null,{"$f":"H391","v":30220}]
[70410201,"Бюджетные инвестиции в объекты капитального строительства государственной собственности субъектов Российской Федерации (объекты капитального строительства собственности муниципальных образований)","007","07","04","102 01 00",null,{"$f":"H392","v":30220}]
[7041020101,"Бюджетные инвестиции в объекты капитального строительства государственной собственности субъектов Российской Федерации ","007","07","04","102 01 01",null,{"$f":"H393","v":30220}]
[7041020101003,"Бюджетные инвестиции","007","07","04","102 01 01","003",30220]
[704427,"Средние специальные учебные заведения","007","07","04","427 00 00",null,{"$f":"H395","v":221675}]
[70442799,"Обеспечение деятельности подведомственных учреждений","007","07","04","427 99 00",null,{"$f":"H396+H398+H400+H402+H404+H406+H408+H410","v":221675}]
[7044279901,"Выплаты стипендий и прочие расходы стипендиального фонда в средних специальных учебных заведениях","007","07","04","427 99 01",null,{"$f":"H397","v":13607}]
[7044279901001,"Выполнение функций бюджетными учреждениями","007","07","04","427 99 01","001",13607]
[7044279902,"Обеспечение питанием учащихся средних специальных учебных заведений","007","07","04","427 99 02",null,{"$f":"H399","v":952}]
[7044279902001,"Выполнение функций бюджетными учреждениями","007","07","04","427 99 02","001",952]
[7044279904,"Единовременное денежное пособие детям-сиротам - выпускникам областных образовательных учрежедний*","007","07","04","427 99 04",null,{"$f":"H401","v":420}]
[7044279904001,"Выполнение функций бюджетными учреждениями","007","07","04","427 99 04","001",420]
[7044279907,"Бесплатный проезд детей-сирот и детей, оставшихся без попечения родителей, обучающихся в государственных образовательных учреждениях Московской области*","007","07","04","427 99 07",null,{"$f":"H403","v":76}]
[7044279907001,"Выполнение функций бюджетными учреждениями","007","07","04","427 99 07","001",76]
[7044279908,"Ежемесячные стипендии Губернатора Московской области детям-сиротам, обучающимся в образовательных учреждениях среднего профессионального образования*","007","07","04","427 99 08",null,{"$f":"H405","v":1512}]
[7044279908001,"Выполнение функций бюджетными учреждениями","007","07","04","427 99 08","001",1512]
[7044279912,"Частичная компенсация стоимости питания  обучающихся в средних специальных учебных заведений*","007","07","04","427 99 12",null,{"$f":"H407","v":2267}]
[7044279912001,"Выполнение функций бюджетными учреждениями","007","07","04","427 99 12","001",2267]
[7044279999,"Другие расходы на содержание средних специальных учебных заведений","007","07","04","427 99 99",null,{"$f":"H409","v":198843}]
[7044279999001,"Выполнение функций бюджетными учреждениями","007","07","04","427 99 99","001",{"$f":"189343+9500","v":198843}]
[70442799910,"Финансирование расходов, осуществляемое за счет средств, поступающих от сдачи в аренду имущества, закрепленного за государственными организациями","007","07","04","427 99 00",910,3998]
[705,"Профессиональная подготовка, переподготовка и повышение квалификации","007","07","05",null,null,{"$f":"H412","v":7119}]
[705429,"Учебные заведения и курсы по переподготовке кадров","007","07","05","429 00 00",null,{"$f":"H413","v":7119}]
[70542999,"Обеспечение деятельности подведомственных учреждений","007","07","05","429 99 00",null,{"$f":"H414","v":7119}]
[7054299999,"Другие расходы на содержание учебных заведений и курсов по переподготовке, повышению кадров","007","07","05","429 99 99",null,{"$f":"H415","v":7119}]
[7054299999001,"Выполнение функций бюджетными учреждениями","007","07","05","429 99 99","001",7119]
[706,"Высшее и послевузовское профессиональное образование","007","07","06",null,null,{"$f":"H417","v":507500}]
[706102,"Бюджетные инвестиции в объекты капитального строительства, не включенные в целевые программы","007","07","06","102 00 00",null,{"$f":"H418","v":507500}]
[70610201,"Бюджетные инвестиции в объекты капитального строительства государственной собственности субъектов Российской Федерации (объекты капитального строительства собственности муниципальных образований)","007","07","06","102 01 00",null,{"$f":"H419","v":507500}]
[7061020101,"Бюджетные инвестиции в объекты капитального строительства государственной собственности субъектов Российской Федерации ","007","07","06","102 01 01",null,{"$f":"H420","v":507500}]
[7061020101003,"Бюджетные инвестиции","007","07","06","102 01 01","003",507500]
[707,"Молодежная политика и оздоровление детей","007","07","07",null,null,{"$f":"H422","v":279}]
[707432,"Мероприятия по проведению оздоровительной кампании детей ","007","07","07","432 00 00",null,{"$f":"H423","v":279}]
[70743202,"Оздоровление детей ","007","07","07","432 02 00",null,{"$f":"H424","v":279}]
[70743202001,"Выполнение функций бюджетными учреждениями","007","07","07","432 02 00","001",279]
[9,"Здравоохранение, физическая культура и спорт","007","09",null,null,null,{"$f":"H426+H431+H436","v":1235590}]
[901,"Стационарная медицинская помощь","007","09","01",null,null,{"$f":"H427","v":820590}]
[901102,"Бюджетные инвестиции в объекты капитального строительства, не включенные в целевые программы","007","09","01","102 00 00",null,{"$f":"H428","v":820590}]
[90110201,"Бюджетные инвестиции в объекты капитального строительства государственной собственности субъектов Российской Федерации (объекты капитального строительства собственности муниципальных образований)","007","09","01","102 01 00",null,{"$f":"H429","v":820590}]
[9011020101,"Бюджетные инвестиции в объекты капитального строительства государственной собственности субъектов Российской Федерации ","007","09","01","102 01 01",null,{"$f":"H430","v":820590}]
[9011020101003,"Бюджетные инвестиции","007","09","01","102 01 01","003",820590]
[908,"Физическая культура и спорт","007","09","08",null,null,{"$f":"H432","v":370000}]
[908102,"Бюджетные инвестиции в объекты капитального строительства, не включенные в целевые программы","007","09","08","102 00 00",null,{"$f":"H433","v":370000}]
[90810201,"Бюджетные инвестиции в объекты капитального строительства государственной собственности субъектов Российской Федерации (объекты капитального строительства собственности муниципальных образований)","007","09","08","102 01 00",null,{"$f":"H434","v":370000}]
[9081020101,"Бюджетные инвестиции в объекты капитального строительства государственной собственности субъектов Российской Федерации ","007","09","08","102 01 01",null,{"$f":"H435","v":370000}]
[9081020101003,"Бюджетные инвестиции","007","09","08","102 01 01","003",370000]
[910,"Другие вопросы в области здравоохранения, физической культуры и спорта","007","09",10,null,null,{"$f":"H437+H441","v":45000}]
[910102,"Бюджетные инвестиции в объекты капитального строительства, не включенные в целевые программы","007","09",10,"102 00 00",null,{"$f":"H438","v":45000}]
[91010201,"Бюджетные инвестиции в объекты капитального строительства государственной собственности субъектов Российской Федерации (объекты капитального строительства собственности муниципальных образований)","007","09",10,"102 01 00",null,{"$f":"H439","v":45000}]
[9101020101,"Бюджетные инвестиции в объекты капитального строительства государственной собственности субъектов Российской Федерации ","007","09",10,"102 01 01",null,{"$f":"H440","v":45000}]
[9101020101003,"Бюджетные инвестиции","007","09",10,"102 01 01","003",45000]
[910485,"Реализация государственных функций  в области здравоохранения, спорта и туризма","007","09",10,"485 00 00",null,{"$f":"H442","v":0}]
[91048597,"Мероприятия в области здравоохранения, спорта и физической культуры, туризма","007","09",10,"485 97 00",null,{"$f":"H443","v":0}]
[91048597006,"Субсидии юридическим лицам","007","09",10,"485 97 00","006",{"$f":"58095-58095","v":0}]
[10,"Социальная политика","007","10",null,null,null,{"$f":"H445+H446+H449","v":0}]
[1003,"Социальное обеспечение населения","007",10,"03"]
[1004,"Борьба с беспризорностью, опека, попечительство","007","10","04",null,null,{"$f":"H447","v":0}]
[1004102,"Непрограммные инвестиции в основные фонды","007","10","04","102 00 00",null,{"$f":"H448","v":0}]
[1004102214,"Строительство объектов общегражданского назначения","007","10","04","102 00 00",214]
[1006,"Другие вопросы в области социальной политики","007","10","06",null,null,{"$f":"H450","v":0}]
[1006102,"Непрограммные инвестиции в основные фонды","007","10","06","102 00 00",null,{"$f":"H451","v":0}]
[1006102214,"Строительство объектов общегражданского назначения","007","10","06","102 00 00",214]
[11,"Межбюджетные трансферты","007",11,null,null,null,{"$f":"H453+H461","v":4534581}]
[1102,"Субсидии бюджетам субъектов Российской Федерации и муниципальных образований (межбюджетные субсидии)","007",11,"02",null,null,{"$f":"H454+H458","v":4375200}]
[1102102,"Бюджетные инвестиции в объекты капитального строительства, не включенные в целевые программы","007",11,"02","102 00 00",null,{"$f":"H455","v":4000000}]
[110210201,"Бюджетные инвестиции в объекты капитального строительства государственной собственности субъектов Российской Федерации (объекты капитального строительства собственности муниципальных образований)","007",11,"02","102 01 00",null,{"$f":"H456","v":4000000}]
[11021020102,"Бюджетные инвестиции в объекты капитального строительства собственности муниципальных образований ","007",11,"02","102 01 02",null,{"$f":"H457","v":4000000}]
[11021020102903,"Бюджетные инвестиции в объекты капитального строительства собственности муниципальных образований, софинансирование которых осуществляется за счет средств федерального бюджета","007",11,"02","102 01 02",903,4000000]
[1102104,"Федеральная целевая программа \"Жилище\" на 2002 - 2010 годы (второй этап)","007",11,"02","104 00 00",null,{"$f":"H459","v":375200}]
[110210403,"Подпрограмма \"Модернизация объектов коммунальной инфраструктуры\"","007",11,"02","104 03 00",null,{"$f":"H460","v":375200}]
[110210403003,"Бюджетные инвестиции","007",11,"02","104 03 00","003",375200]
[1103,"Субвенции бюджетам субъектов Российской Федерации и муниципальных образований","007",11,"03",null,null,{"$f":"H462","v":159381}]
[1103521,"Межбюджетные трансферты","007",11,"03","521 00 00",null,{"$f":"H463+H466","v":159381}]
[110352102,"Иные субвенции местным бюджетам для финансового обеспечения расходных обязательств по переданным для осуществления государственным полномочиям","007",11,"03","521 02 00",null,{"$f":"H464","v":159381}]
[11035210203,"Субвенции, предоставляемые из бюджета Московской области бюджетам муниципальных образований Московской области на оказание мер государственной поддержки отдельным категориям работников бюджетной сферы Московской области по обеспечению жильем в рамках льготного (социального) ипотечного кредитования ","007",11,"03","521 02 03",null,{"$f":"H465","v":159381}]
[11035210203009,"Фонд компенсаций","007",11,"03","521 02 03","009",159381]
[]
[0,"Министерство финансов Московской области","008",null,null,null,null,{"$f":"H468+H495+H500+H505+H514+H532","v":66650100}]
[1,"Общегосударственные вопросы","008","01",null,null,null,{"$f":"H469+H475+H479+H483","v":12363707}]
[106,"Обеспечение деятельности финансовых, налоговых и таможенных органов и органов финансового (финансово-бюджетного) надзора","008","01","06",null,null,{"$f":"H470","v":2203799}]
[106002,"Руководство и управление в сфере установленных функций органов государственной власти субъектов Российской Федерации  и органов местного самоуправления","008","01","06","002 00 00",null,{"$f":"H471","v":2203799}]
[10600204,"Центральный аппарат","008","01","06","002 04 00",null,{"$f":"SUM(H472:H474)","v":2203799}]
[10600204012,"Выполнение функций государственными органами","008","01","06","002 04 00","012",{"$f":"2054749+141000","v":2195749}]
[10600204013,"Прочие расходы","008","01","06","002 04 00","013",3000]
[10600204902,"Проведение мероприятий по защите информации, обеспечению безопасности информационных систем и баз данных, содержащих конфиденциальную информацию, в том числе персональные данные населения Московской области","008","01","06","002 04 00",902,5050]
[111,"Обслуживание государственного и муниципального долга","008","01",11,null,null,{"$f":"H476","v":8537000}]
[111065,"Процентные платежи по долговым обязательствам","008","01",11,"065 00 00",null,{"$f":"H477","v":8537000}]
[11106502,"Процентные платежи по государственному долгу субъекта Российской Федерации ","008","01",11,"065 02 00",null,{"$f":"H478","v":8537000}]
[11106502013,"Прочие расходы","008","01",11,"065 02 00","013",8537000]
[112,"Резервные фонды","008","01",12,null,null,{"$f":"H480","v":1555107}]
[112070,"Резервные фонды","008","01",12,"070 00 00",null,{"$f":"H481","v":1555107}]
[11207004,"Резервные фонды исполнительных органов государственной власти субъектов Российской Федерации","008","01",12,"070 04 00",null,{"$f":"H482","v":1555107}]
[11207004013,"Прочие расходы","008","01",12,"070 04 00","013",{"$f":"1500000+55107","v":1555107}]
[114,"Другие общегосударственные вопросы","008","01",14,null,null,{"$f":"H484+H487+H490+H493","v":67801}]
[114001,"Руководство и управление в сфере установленных функций","008","01",14,"001 00 00",null,{"$f":"H485","v":801}]
[11400164,"Взносы Московской области в общественные организации, фонды, ассоциации","008","01",14,"001 64 00",null,{"$f":"H486","v":801}]
[11400164013,"Прочие расходы","008","01",14,"001 64 00","013",801]
[114090,"Реализация государственной политики в области приватизации и управления государственной и муниципальной собственностью","008","01",14,"090 00 00",null,{"$f":"H488","v":55000}]
[11409003,"Расходы, связанные с управлением государственной собственностью","008","01",14,"090 03 00",null,{"$f":"H489","v":55000}]
[11409003012,"Выполнение функций государственными органами","008","01",14,"090 03 00","012",55000]
[114092,"Реализация государственных функций, связанных с общегосударственным управлением","008","01",14,"092 00 00",null,{"$f":"H491","v":2000}]
[11409203,"Выполнение других обязательств государства","008","01",14,"092 03 00",null,{"$f":"H492","v":2000}]
[11409203012,"Выполнение функций государственными органами","008","01",14,"092 03 00","012",2000]
[114806,"Прочие расходы, не отнесенные к другим целевым статьям","008","01",14,"806 00 00",null,{"$f":"H494","v":10000}]
[114806013,"Прочие расходы","008","01",14,"806 00 00","013",10000]
[2,"Национальная оборона","008","02",null,null,null,{"$f":"H496","v":60}]
[204,"Мобилизационная подготовка экономики","008","02","04",null,null,{"$f":"H497","v":60}]
[204209,"Реализация государственных функций по мобилизационной подготовке экономики","008","02","04","209 00 00",null,{"$f":"H498","v":60}]
[20420901,"Мероприятия по обеспечению  мобилизационной готовности экономики","008","02","04","209 01 00",null,{"$f":"H499","v":60}]
[20420901012,"Выполнение функций государственными органами","008","02","04","209 01 00","012",60]
[3,"Национальная безопасность и правоохранительная деятельность","008","03",null,null,null,{"$f":"H501","v":500}]
[309,"Защита населения и территории от последствий чрезвычайных ситуаций природного и техногенного характера, гражданская оборона ","008","03","09",null,null,{"$f":"H502","v":500}]
[309219,"Мероприятия по гражданской обороне","008","03","09","219 00 00",null,{"$f":"H503","v":500}]
[30921901,"Подготовка населения и организаций к действиям в чрезвычайной ситуации в мирное и военное время","008","03","09","219 01 00",null,{"$f":"H504","v":500}]
[30921901012,"Выполнение функций государственными органами","008","03","09","219 01 00","012",500]
[4,"Национальная экономика","008","04",null,null,null,{"$f":"H506+H507+H511","v":899084}]
[405,"Сельское хозяйство и рыболовство","008","04","05"]
[410,"Связь и информатика","008","04","10",null,null,{"$f":"H508","v":99084}]
[410330,"Информационные технологии и связь","008","04","10","330 00 00",null,{"$f":"H509","v":99084}]
[41033082,"Информатика","008","04","10","330 82 00",null,{"$f":"H510","v":99084}]
[41033082012,"Выполнение функций государственными органами","008","04","10","330 82 00","012",99084]
[412,"Другие вопросы в области национальной экономики","008","04",12,null,null,{"$f":"H512","v":800000}]
[412806,"Прочие расходы, не отнесенные к другим целевым статьям","008","04",12,"806 00 00",null,{"$f":"H513","v":800000}]
[412806013,"Прочие расходы","008","04",12,"806 00 00","013",{"$f":"800000","v":800000}]
[7,"Образование","008","07",null,null,null,{"$f":"H515+H528","v":252364}]
[706,"Высшее и послевузовское профессиональное образование","008","07","06",null,null,{"$f":"H516","v":250874}]
[706430,"Высшие учебные заведения","008","07","06","430 00 00",null,{"$f":"H517","v":250874}]
[70643099,"Обеспечение деятельности подведомственных учреждений","008","07","06","430 99 00",null,{"$f":"H518+H520+H522+H524+H526","v":250874}]
[7064309901,"Выплаты стипендий и прочие расходы стипендиального фонда в высших учебных заведениях","008","07","06","430 99 01",null,{"$f":"H519","v":11792}]
[7064309901001,"Выполнение функций бюджетными учреждениями","008","07","06","430 99 01","001",11792]
[7064309902,"Обеспечение питанием учащихся высших учебных заведений","008","07","06","430 99 02",null,{"$f":"H521","v":301}]
[7064309902001,"Выполнение функций бюджетными учреждениями","008","07","06","430 99 02","001",301]
[7064309907,"Бесплатный проезд детей-сирот и детей, оставшихся без попечения родителей, обучающихся в государственных образовательных учреждениях Московской области*","008","07","06","430 99 07",null,{"$f":"H523","v":33}]
[7064309907001,"Выполнение функций бюджетными учреждениями","008","07","06","430 99 07","001",33]
[7064309912,"Частичная компенсация стоимости питания  обучающихся в высших учебных заведений*","008","07","06","430 99 12",null,{"$f":"H525","v":1063}]
[7064309912001,"Выполнение функций бюджетными учреждениями","008","07","06","430 99 12","001",1063]
[7064309999,"Другие расходы на содержание высших учебных заведений","008","07","06","430 99 99",null,{"$f":"H527","v":237685}]
[7064309999001,"Выполнение функций бюджетными учреждениями","008","07","06","430 99 99","001",237685]
[707,"Молодежная политика и оздоровление детей","008","07","07",null,null,{"$f":"H529","v":1490}]
[707432,"Мероприятия по проведению оздоровительной кампании детей ","008","07","07","432 00 00",null,{"$f":"H530","v":1490}]
[70743202,"Оздоровление детей ","008","07","07","432 02 00",null,{"$f":"H531","v":1490}]
[70743202001,"Выполнение функций бюджетными учреждениями","008","07","07","432 02 00","001",1490]
[11,"Межбюджетные трансферты","008",11,null,null,null,{"$f":"H533+H545+H623+H689","v":53134385}]
[1101,"Дотации бюджетам субъектов Российской Федерации и муниципальных образований","008",11,"01",null,null,{"$f":"H534+H540","v":4713428}]
[1101516,"Выравнивание бюджетной обеспеченности","008",11,"01","516 00 00",null,{"$f":"H535","v":3853337}]
[110151601,"Выравнивание бюджетной обеспеченности","008",11,"01","516 01 00",null,{"$f":"H536+H538","v":3853337}]
[11015160120,"Выравнивание бюджетной обеспеченности муниципальных районов (городских округов) из регионального фонда финансовой поддержки","008",11,"01","516 01 20",null,{"$f":"H537","v":3769237}]
[11015160120008,"Фонд финансовой поддержки","008",11,"01","516 01 20","008",{"$f":"4448220-678983","v":3769237}]
[11015160130,"Выравнивание бюджетной обеспеченности поселений из регионального фонда финансовой поддержки, в том числе городских округов по осуществлению ими полномочий по решению вопросов местного значения, отнесенных в соответствии с законодательством Российской Федерации","008",11,"01","516 01 30",null,{"$f":"H539","v":84100}]
[11015160130008,"Фонд финансовой поддержки","008",11,"01","516 01 30","008",84100]
[1101517,"Выравнивание бюджетной обеспеченности","008",11,"01","517 00 00",null,{"$f":"H541+H543","v":860091}]
[110151701,"Дотации бюджетам закрытых административно-территориальных образований","008",11,"01","517 01 00",null,{"$f":"H542","v":189513}]
[110151701007,"Прочие дотации ","008",11,"01","517 01 00","007",189513]
[110151702,"Поддержка мер по обеспечению сбалансированности бюджетов","008",11,"01","517 02 00",null,{"$f":"H544","v":670578}]
[110151702007,"Прочие дотации ","008",11,"01","517 02 00","007",{"$f":"652078+18500","v":670578}]
[1102,"Субсидии бюджетам субъектов Российской Федерации и муниципальных образований (межбюджетные субсидии)","008",11,"02",null,null,{"$f":"H546+H551+H561+H564+H567+H570+H584+H606+H617","v":12112050}]
[1102100,"Федеральные целевые программы","008",11,"02","100 00 00",null,{"$f":"H547","v":230000}]
[110210011,"Федеральная целевая программа \"Социальное развитие села до 2010 года\"","008",11,"02","100 11 00",null,{"$f":"H548+H549+H550","v":230000}]
[110210011021,"Субсидии на обеспечение жильем молодых семей и молодых специалистов, проживающих и работающих в сельской местности","008",11,"02","100 11 00","021",120000]
[110210011908,"Софинансирование строительства объектов газификации собственности муниципальных образований","008",11,"02","100 11 00",908,74000]
[110210011909,"Софинансирование строительства объектов водоснабжения собственности муниципальных образований","008",11,"02","100 11 00",909,36000]
[1102102,"Бюджетные инвестиции в объекты капитального строительства, не включенные в целевые программы","008",11,"02","102 00 00",null,{"$f":"H552","v":2769130}]
[110210201,"Бюджетные инвестиции в объекты капитального строительства государственной собственности субъектов Российской Федерации (объекты капитального строительства собственности муниципальных образований)","008",11,"02","102 01 00",null,{"$f":"H553+H555+H557+H559","v":2769130}]
[11021020102,"Бюджетные инвестиции в объекты капитального строительства собственности муниципальных образований ","008",11,"02","102 01 02",null,{"$f":"H554","v":314471}]
[11021020102908,"Софинансирование строительства объектов газификации собственности муниципальных образований","008",11,"02","102 01 02",908,314471]
[11021020103,"Субсидии бюджетам муниципальных образований Московской области на долевое финансирование расходов бюджетов муниципальных образований Московской области на  проведение инженерных изысканий, проектных работ, строительство и реконструкцию объектов физической культуры и спорта","008",11,"02","102 01 03",null,{"$f":"H556","v":679000}]
[11021020103020,"Софинансирование объектов капитального строительства государственной собственности субъектов Российской Федерации  (объектов капитального строительства собственности муниципальных образований)","008",11,"02","102 01 03","020",679000]
[11021020104,"Субсидии бюджетам муниципальных образований Московской области на долевое финансирование расходов бюджетов муниципальных образований Московской области на проведение инженерных изысканий, проектных работ, строительство пристроек к детским дошкольным учреждениям и реконструкцию детских дошкольных учреждений","008",11,"02","102 01 04",null,{"$f":"H558","v":1244550}]
[11021020104020,"Софинансирование объектов капитального строительства государственной собственности субъектов Российской Федерации  (объектов капитального строительства собственности муниципальных образований)","008",11,"02","102 01 04","020",{"$f":"244550+1000000","v":1244550}]
[11021020105,"Субсидии бюджетам муниципальных образований Московской области на капитальные вложения для финансирования развития социальной и инженерной инфраструктуры муниципальных образований за счет средств, перечисляемых из федерального бюджета ","008",11,"02","102 01 05",null,{"$f":"H560","v":531109}]
[11021020105020,"Софинансирование объектов капитального строительства государственной собственности субъектов Российской Федерации  (объектов капитального строительства собственности муниципальных образований)","008",11,"02","102 01 05","020",531109]
[1102104,"Федеральная целевая программа \"Жилище\" на 2002 - 2010 годы (второй этап)","008",11,"02","104 00 00",null,{"$f":"H562","v":75000}]
[110210402,"Подпрограмма \"Обеспечение жильем молодых семей\"","008",11,"02","104 02 00",null,{"$f":"H563","v":75000}]
[110210402010,"Фонд софинансирования","008",11,"02","104 02 00","010",75000]
[1102450,"Мероприятия в сфере культуры, кинематографии, средств массовой информации","008",11,"02","450 00 00",null,{"$f":"H565","v":13922}]
[110245006,"Комплектование книжных фондов библиотек муниципальных образований","008",11,"02","450 06 00",null,{"$f":"H566","v":13922}]
[110245006010,"Фонд софинансирования","008",11,"02","450 06 00","010",13922]
[1102518,"Реформирование региональных и муниципальных финансов","008",11,"02","518 00 00",null,{"$f":"H568","v":160000}]
[110251802,"Реформирование муниципальных  финансов","008",11,"02","518 02 00",null,{"$f":"H569","v":160000}]
[110251802010,"Фонд софинансирования","008",11,"02","518 02 00","010",160000]
[1102520,"Иные безвозмездные и безвозвратные перечисления","008",11,"02","520 00 00",null,{"$f":"H571+H573+H575+H580+H582","v":2127833}]
[110252003,"Развитие и поддержка социальной и инженерной инфраструктуры закрытых административно-территориальных образований","008",11,"02","520 03 00",null,{"$f":"H572","v":151146}]
[110252003010,"Фонд софинансирования","008",11,"02","520 03 00","010",151146]
[110252004,"Развитие и поддержка социальной, инженерной и инновационной инфраструктуры наукоградов Российской Федерации ","008",11,"02","520 04 00",null,{"$f":"H574","v":770817}]
[110252004010,"Фонд софинансирования","008",11,"02","520 04 00","010",770817]
[110252012,"Государственная поддержка внедрения комплексных мер модернизации образования","008",11,"02","520 12 00",null,{"$f":"H576+H578","v":643960}]
[11025201201,"Субсидии бюджетам муниципальных образований Московской области на государственную поддержку внедрения комплексных проектов модернизации образования за счет средств федерального бюджета","008",11,"02","520 12 01",null,{"$f":"H577","v":383960}]
[11025201201010,"Фонд софинансирования","008",11,"02","520 12 01","010",383960]
[11025201202,"Субсидии бюджетам муниципальных образований Московской области на государственную поддержку внедрения комплексных проектов модернизации образования за счет средств бюджета Московской области","008",11,"02","520 12 02",null,{"$f":"H579","v":260000}]
[11025201202010,"Фонд софинансирования","008",11,"02","520 12 02","010",260000]
[110252019,"Субсидии бюджетам муниципальных образований Московской области на частичное финансирование расходов негосударственных образовательных учреждениях, имеющих государственную аккредитацию и осуществляющих деятельность по предоставлению дошкольного, начального общего, основного общего, среднего (полного) общего образования в пределах государственных образовательных стандартов","008",11,"02","520 19 00",null,{"$f":"H581","v":211910}]
[110252019010,"Фонд софинансирования","008",11,"02","520 19 00","010",211910]
[110252020,"Субсидии бюджетам муниципальных образований Московской области на развитие и поддержку социальной и инженерной инфраструктуры бюджетов муниципальных образований Московской области, имеющих статус наукоградов Российской Федерации","008",11,"02","520 20 00",null,{"$f":"H583","v":350000}]
[110252020010,"Фонд софинансирования","008",11,"02","520 20 00","010",350000]
[1102521,"Межбюджетные трансферты","008",11,"02","521 00 00",null,{"$f":"H585","v":5479980}]
[110252101,"Иные субсидии местным бюджетам для софинансирования расходных обязательств по исполнению полномочий органов местного самоуправления по вопросам местного значения","008",11,"02","521 01 00",null,{"$f":"H586+H588+H590+H592+H594+H596+H598+H600+H602+H604","v":5479980}]
[11025210101,"Субсидии бюджетам муниципальных образований Московской области на частичное финансирование расходов бюджетов муниципальных образований Московской области на проведение работ по подготовке  жилищно-коммунального хозяйства и социальной сферы к осенне-зимнему периоду 2007/2008 года с учетом условий, установленных Правительством Московской области","008",11,"02","521 01 01",null,{"$f":"H587","v":3112363}]
[11025210101010,"Фонд софинансирования","008",11,"02","521 01 01","010",3112363]
[11025210102,"Субсидии бюджетам муниципальных образований Московской области на частичную компенсацию транспортных расходов организаций и индивидуальных предпринимателей по доставке продовольственных и промышленных товаров для населения в сельские населенные пункты Московской области","008",11,"02","521 01 02",null,{"$f":"H589","v":45418}]
[11025210102010,"Фонд софинансирования","008",11,"02","521 01 02","010",{"$f":"46015-878+281","v":45418}]
[11025210103,"Субсидии бюджетам муниципальных образований Московской области на частичную компенсацию выпадающих доходов организациям, предоставляющим населению коммунальные услуги по тарифам, не обеспечивающим возмещение издержек","008",11,"02","521 01 03",null,{"$f":"H591","v":390000}]
[11025210103010,"Фонд софинансирования","008",11,"02","521 01 03","010",390000]
[11025210104,"Субсидии бюджетам муниципальных образований Московской области на оснащение автобусами муниципальных общеобразовательных учреждений, расположенных в сельской местности ","008",11,"02","521 01 04",null,{"$f":"H593","v":21400}]
[11025210104010,"Фонд софинансирования","008",11,"02","521 01 04","010",21400]
[11025210105,"Субсидии бюджетам муниципальных образований Московской области на обеспечение эксплуатации и обслуживания приобретенных автобусов для муниципальных общеобразовательных учреждений, расположенных в сельской местности","008",11,"02","521 01 05",null,{"$f":"H595","v":37000}]
[11025210105010,"Фонд софинансирования","008",11,"02","521 01 05","010",37000]
[11025210106,"Субсидии бюджетам муниципальных образований Московской области на премирование победителей и призеров предварительного этапа Всероссийского конкурса на звание \"Самый благоустроенный город России\" среди городов и поселков городского типа Московской области","008",11,"02","521 01 06",null,{"$f":"H597","v":14000}]
[11025210106010,"Фонд софинансирования","008",11,"02","521 01 06","010",14000]
[11025210107,"Субсидии бюджетам муниципальных образований Московской области на приобретение оборудования для оснащения амбулаторно-поликлинических и стационарно-поликлинических муниципальных учреждений","008",11,"02","521 01 07",null,{"$f":"H599","v":0}]
[11025210107010,"Фонд софинансирования","008",11,"02","521 01 07","010",{"$f":"25040-25040","v":0}]
[11025210108,"Субсидии бюджетам муниципальных образований Московской области на проведение капитального ремонта в муниципальных детских дошкольных учреждениях","008",11,"02","521 01 08",null,{"$f":"H601","v":59309}]
[11025210108010,"Фонд софинансирования","008",11,"02","521 01 08","010",59309]
[11025210109,"Субсидии бюджетам муниципальных образований Московской области на частичную компенсацию расходов бюджетов муниципальных образований Московской области по уплате налога на имущество, находящегося в муниципальной собственности ","008",11,"02","521 01 09",null,{"$f":"H603","v":400000}]
[11025210109010,"Фонд софинансирования","008",11,"02","521 01 09","010",400000]
[11025210113,"Субсидии бюджетам муниципальных образований Московской области на проведение проектно-изыскательских работ, капитального ремонта, технического переоснащения и приобретение оборудования для культурно-досуговых объектов, находящихся в муниципальной собственности и подлежащих модернизации и техническому оснащению в целях обеспечения концертно-гастрольной деятельности на территории Московской области","008",11,"02","521 01 13",null,{"$f":"H605","v":1400490}]
[11025210113010,"Фонд софинансирования","008",11,"02","521 01 13","010",{"$f":"1408490-8000","v":1400490}]
[1102522,"Региональные целевые программы","008",11,"02","522 00 00",null,{"$f":"H607+H612","v":140570}]
[110252202,"Областная целевая программа \"Жилище\" на 2006-2010 годы","008",11,"02","522 02 00",null,{"$f":"H608+H610","v":115530}]
[11025220202,"Подпрограмма \"Переселение граждан из ветхого и аварийного жилищного фонда\"","008",11,"02","522 02 02",null,{"$f":"H609","v":35530}]
[11025220202010,"Фонд софинансирования","008",11,"02","522 02 02","010",35530]
[11025220204,"Подпрограмма \"Обеспечение жильем молодых семей\"","008",11,"02","522 02 04",null,{"$f":"H611","v":80000}]
[11025220204010,"Фонд софинансирования","008",11,"02","522 02 04","010",80000]
[110252212,"Областная целевая программа \"Предупреждение и борьба с заболеваниями социального характера в Московской области на период 2008-2011 годов\"","008",11,"02","522 12 00",null,{"$f":"H613+H615","v":25040}]
[11025221209,"Подпрограмма \"Профилактика и лечение артериальной гипертонии\"","008",11,"02","522 12 09",null,{"$f":"H614","v":5200}]
[11025221209010,"Фонд софинансирования","008",11,"02","522 12 09","010",5200]
[11025221210,"Подпрограмма \"Общая врачебная практика\"","008",11,"02","522 12 10",null,{"$f":"H616","v":19840}]
[11025221210010,"Фонд софинансирования","008",11,"02","522 12 10","010",19840]
[1102523,"Развитие социальной и инженерной инфраструктуры субъектов Российской Федерации и муниципальных образований","008",11,"02","523 00 00",null,{"$f":"H618","v":1115615}]
[110252301,"Развитие социальной и инженерной инфраструктуры","008",11,"02","523 01 00",null,{"$f":"H619+H621","v":1115615}]
[11025230101,"Субсидии бюджетам муниципальных образований Московской области на частичное возмещение расходов бюджетов муниципальных образований Московской области по осуществлению мероприятий по приведению инфраструктуры уличного освещения, находящейся на территории муниципальных образований Московской области, в надлежащее техническое состояние","008",11,"02","523 01 01",null,{"$f":"H620","v":478581}]
[11025230101010,"Фонд софинансирования","008",11,"02","523 01 01","010",478581]
[11025230102,"Субсидии бюджетам муниципальных образований Московской области на частичное возмещение расходов бюджетов муниципальных образований Московской области по приведению лифтов в многоквартирных жилых домах, находящихся на территории Московской области, в надлежащее техническое состояние","008",11,"02","523 01 02",null,{"$f":"H622","v":637034}]
[11025230102010,"Фонд софинансирования","008",11,"02","523 01 02","010",637034]
[1103,"Субвенции бюджетам субъектов Российской Федерации и муниципальных образований","008",11,"03",null,null,{"$f":"H624+H629+H632+H638+H643+H653","v":34352512}]
[1103001,"Руководство и управление в сфере установленных функций","008",11,"03","001 00 00",null,{"$f":"H625+H627","v":103976}]
[110300136,"Осуществление первичного воинского учета на территориях, где отсутствуют военные комиссариаты","008",11,"03","001 36 00",null,{"$f":"H626","v":90840}]
[110300136009,"Фонд компенсаций","008",11,"03","001 36 00","009",90840]
[110300140,"Составление (изменение и дополнение) списков кандидатов в присяжные заседатели  федеральных судов общей юрисдикции в Российской Федерации","008",11,"03","001 40 00",null,{"$f":"H628","v":13136}]
[110300140009,"Фонд компенсаций","008",11,"03","001 40 00","009",13136]
[1103202,"Воинские формирования (органы, подразделения)","008",11,"03","202 00 00",null,{"$f":"H630","v":27834}]
[110320201,"Обеспечение равного с Министерством внутренних дел Российской Федерации повышения денежного довольствия сотрудникам и заработной платы работникам подразделений милиции общественной безопасности","008",11,"03","202 01 00",null,{"$f":"H631","v":27834}]
[110320201009,"Фонд компенсаций","008",11,"03","202 01 00","009",27834]
[1103436,"Мероприятия в области образования","008",11,"03","436 00 00",null,{"$f":"H633","v":161400}]
[110343602,"Внедрение инновационных образовательных программ","008",11,"03","436 02 00",null,{"$f":"H634+H636","v":161400}]
[11034360201,"Субвенции бюджетам муниципальных образований Московской области на поддержку муниципальных общеобразовательных учреждений, реализующих комплекс мероприятий по созданию и внедрению новых качественно усовершенствованных технологий, методов и форм обучения (инновационные образовательные программы) за счет средств федерального бюджета ","008",11,"03","436 02 01",null,{"$f":"H635","v":107000}]
[11034360201009,"Фонд компенсаций","008",11,"03","436 02 01","009",107000]
[11034360202,"Субвенции бюджетам муниципальных образований Московской области на поддержку муниципальных общеобразовательных учреждений, реализующих комплекс мероприятий по созданию и внедрению новых качественно усовершенствованных технологий, методов и форм обучения (инновационные образовательные программы) за счет средств бюджета Московской области","008",11,"03","436 02 02",null,{"$f":"H637","v":54400}]
[11034360202009,"Фонд компенсаций","008",11,"03","436 02 02","009",54400]
[1103505,"Социальная помощь","008",11,"03","505 00 00",null,{"$f":"H639+H641","v":5648889}]
[110350536,"Обеспечение жилыми помещениями детей-сирот, детей, оставшихся без попечения родителей, а также детей, находящихся под опекой (попечительством), не имеющих закрепленного жилого помещения","008",11,"03","505 36 00",null,{"$f":"H640","v":805870}]
[110350536009,"Фонд компенсаций","008",11,"03","505 36 00","009",805870]
[110350548,"Предоставление гражданам субсидий на оплату жилого помещения  и коммунальных услуг","008",11,"03","505 48 00",null,{"$f":"H642","v":4843019}]
[110350548009,"Фонд компенсаций","008",11,"03","505 48 00","009",{"$f":"4668019+175000","v":4843019}]
[1103520,"Иные безвозмездные и безвозвратные перечисления","008",11,"03","520 00 00",null,{"$f":"H644+H646+H651","v":1360602}]
[110352009,"Ежемесячное денежное вознаграждение за классное руководство ","008",11,"03","520 09 00",null,{"$f":"H645","v":369235}]
[110352009009,"Фонд компенсаций","008",11,"03","520 09 00","009",369235]
[110352010,"Компенсация части родительской платы за содержание ребенка в государственных и муниципальных образовательных учреждениях, реализующих основную общеобразовательную программу дошкольного образования","008",11,"03","520 10 00",null,{"$f":"H647+H649","v":538765}]
[11035201001,"Субвенции бюджетам муниципальных образований Московской области на выплаты компенсации части родительской платы за содержание ребенка в государственных и муниципальных образовательных учреждениях, реализующих основную общеобразовательную программу дошкольного образования за счет средств федерального бюджета","008",11,"03","520 10 01",null,{"$f":"H648","v":488765}]
[11035201001009,"Фонд компенсаций","008",11,"03","520 10 01","009",488765]
[11035201002,"Организация выплаты компенсации родительской платы за содержание ребенка в государственных и муниципальных образовательных учреждениях, реализующих основную общеобразовательную программу дошкольного образования за счет средств бюджета Московской области","008",11,"03","520 10 02",null,{"$f":"H650","v":50000}]
[11035201002009,"Фонд компенсаций","008",11,"03","520 10 02","009",50000]
[110352018,"Денежные выплаты медицинскому персоналу фельдшерско-акушерских пунктов, врачам, фельдшерам и медицинским сестрам скорой медицинской помощи*","008",11,"03","520 18 00",null,{"$f":"H652","v":452602}]
[110352018009,"Фонд компенсаций","008",11,"03","520 18 00","009",452602]
[1103521,"Межбюджетные трансферты","008",11,"03","521 00 00",null,{"$f":"H654","v":27049811}]
[110352102,"Иные субвенции местным бюджетам для финансового обеспечения расходных обязательств по переданным для осуществления государственным полномочиям","008",11,"03","521 02 00",null,{"$f":"H655+H657+H659+H661+H663+H665+H667+H669+H671+H673+H675+H677+H679+H681+H683+H685+H687","v":27049811}]
[11035210201,"Субвенции бюджетам муниципальных образований Московской области на предоставление бюджетам городских поселений Московской области, существовавших на территориях муниципальных районов Московской области на день вступления в силу законов Московской области о статусе и границах указанных муниципальных районов, субсидий на частичную компенсацию транспортных расходов организаций и индивидуальных предпринимателей по доставке продовольственных и промышленных товаров для населения в сельские населенные пункты Московской области","008",11,"03","521 02 01",null,{"$f":"H656","v":0}]
[11035210201009,"Фонд компенсаций","008",11,"03","521 02 01","009",{"$f":"281-281","v":0}]
[11035210202,"Субвенции бюджетам муниципальных районов Московской области на предоставление бюджетам поселений Московской области субсидий на частичное финансирование расходов бюджетов поселений на проведение работ по подготовке жилищно-коммунального хозяйства и социальной сферы к осенне-зимнему периоду 2007/2008 года с учетом условий, установленных Правительством Московской области","008",11,"03","521 02 02",null,{"$f":"H658","v":70514}]
[11035210202009,"Фонд компенсаций","008",11,"03","521 02 02","009",{"$f":"70477+37","v":70514}]
[11035210204,"Субвенции бюджетам муниципальных образований Московской области на обеспечение полноценным питанием беременных женщин, кормящих матерей, а также детей в возрасте до трех лет в соответствии с Законом Московской области \"О порядке обеспечения полноценным питанием беременных женщин, кормящих матерей, а также детей в возрасте до трех лет в Московской области\"*","008",11,"03","521 02 04",null,{"$f":"H660","v":870081}]
[11035210204009,"Фонд компенсаций","008",11,"03","521 02 04","009",870081]
[11035210205,"Субвенции бюджетам муниципальных образований Московской области на денежные выплаты медицинскому персоналу фельдшерско - акушерских пунктов, врачам, фельдшерам и медицинским сестрам скорой медицинской помощи за счет средств, перечисляемых из федерального бюджета*","008",11,"03","521 02 05",null,{"$f":"H662","v":0}]
[11035210205009,"Фонд компенсаций","008",11,"03","521 02 05","009",{"$f":"452602-452602","v":0}]
[11035210206,"Субвенции бюджетам муниципальных образований Московской области на обеспечение питанием, одеждой, обувью и мягким инвентарем детей-сирот и детей, оставшихся без попечения родителей, находящихся в лечебно-профилактических учреждениях Московской области ","008",11,"03","521 02 06",null,{"$f":"H664","v":228615}]
[11035210206009,"Фонд компенсаций","008",11,"03","521 02 06","009",228615]
[11035210207,"Субвенции бюджетам муниципальных образований Московской области на финансирование штатной численности работников, обеспечивающих деятельность комиссий по делам несовершеннолетних и защите их прав","008",11,"03","521 02 07",null,{"$f":"H666","v":112161}]
[11035210207009,"Фонд компенсаций","008",11,"03","521 02 07","009",{"$f":"104761+7400","v":112161}]
[11035210208,"Субвенции бюджетам муниципальных образований Московской области на обеспечение преданных муниципальным образованиям государственных полномочий по хранению и комплектованию архивных дел, относящихся к собственности Московской области","008",11,"03","521 02 08",null,{"$f":"H668","v":144394}]
[11035210208009,"Фонд компенсаций","008",11,"03","521 02 08","009",144394]
[11035210209,"Субвенции бюджетам муниципальных образований Московской области на компенсацию затрат бюджетов муниципальных образований Московской области на текущий и капитальный ремонт помещений (зданий) для мировых судей Московской области","008",11,"03","521 02 09",null,{"$f":"H670","v":19306}]
[11035210209009,"Фонд компенсаций","008",11,"03","521 02 09","009",19306]
[11035210210,"Субвенции бюджетам муниципальных образований Московской области на обеспечение в соответствии с законодательством Российской Федерации государственных гарантий прав граждан на получение общедоступного и бесплатного дошкольного, начального общего, основного общего, среднего (полного) общего образования, а также дополнительного образования в общеобразовательных учреждениях в размере, необходимом для реализации основных общеобразовательных программ в части финансирования расходов на оплату труда работников общеобразовательных учреждений, расходов на учебники и учебные пособия, технические средства обучения, расходные материалы и хозяйственные нужды, (за исключением расходов на содержание зданий и коммунальных расходов, осуществляемых из местных бюджетов) и на реализацию приоритетного национального проекта \"Образование\"","008",11,"03","521 02 10",null,{"$f":"H672","v":24468329}]
[11035210210009,"Фонд компенсаций","008",11,"03","521 02 10","009",24468329]
[11035210211,"Субвенции бюджетам муниципальных образований Московской области на реализацию мер социальной поддержки и социального обеспечения детей-сирот, детей, оставшихся без попечения родителей, в муниципальных и негосударственных учреждениях Московской области в соответствии с Законом Московской области №170/2004-ОЗ \"Об обеспечении дополнительных гарантий по социальной поддержке детей-сирот и детей, оставшихся без попечения родителей, и предоставлении им полного государственного обеспечения\"","008",11,"03","521 02 11",null,{"$f":"H674","v":358274}]
[11035210211009,"Фонд компенсаций","008",11,"03","521 02 11","009",358274]
[11035210212,"Субвенции бюджетам муниципальных образований Московской области на финансирование компенсации расходов на проезд к месту учебы и обратно отдельным категориям обучающихся в муниципальных образовательных учреждениях Московской области в соответствии с Законом Московской области №7/2005-ОЗ \" О компенсации расходов на проезд к месту учебы и обратно отдельным категориям обучающихся\"","008",11,"03","521 02 12",null,{"$f":"H676","v":44811}]
[11035210212009,"Фонд компенсаций","008",11,"03","521 02 12","009",44811]
[11035210213,"Субвенции бюджетам муниципальных образований Московской области на финансирование частичной компенсации стоимости питания отдельным категориям обучающихся в муниципальных общеобразовательных учреждениях и в негосударственных общеобразовательных учреждениях, прошедших государственную аккредитацию в соответствии с Законом Московской области №24/2005-ОЗ \"О частич-ной компенсации стоимости питания отдельным категориям обучающихся в образовательных учреждениях Московской области\"","008",11,"03","521 02 13",null,{"$f":"H678","v":554895}]
[11035210213009,"Фонд компенсаций","008",11,"03","521 02 13","009",554895]
[11035210214,"Субвенции бюджетам муниципальных образований Московской области на предоставление бюджетам поселений Московской области субсидий на частичное возмещение расходов бюджетов поселений по осуществлению мероприятий по приведению инфраструктуры уличного освещения, находящейся на территории муниципальных образований Московской области, в надлежащее техническое состояние   ","008",11,"03","521 02 14",null,{"$f":"H680","v":7419}]
[11035210214009,"Фонд компенсаций","008",11,"03","521 02 14","009",7419]
[11035210215,"Субвенции бюджетам муниципальных образований Московской области на предоставление бюджетам поселений Московской области субсидий на частичное возмещение расходов бюджетов поселений по приведению лифтов в многоквартирных жилых домах, находящихся на территории Московской области, в надлежащее техническое состояние","008",11,"03","521 02 15",null,{"$f":"H682","v":14242}]
[11035210215009,"Фонд компенсаций","008",11,"03","521 02 15","009",14242]
[11035210216,"Субвенции бюджетам муниципальных образований Московской области на предоставление дотаций бюджетам поселений на выравнивание бюджетной обеспеченности поселений Московской области ","008",11,"03","521 02 16",null,{"$f":"H684","v":60900}]
[11035210216009,"Фонд компенсаций","008",11,"03","521 02 16","009",{"$f":"59601+1299","v":60900}]
[11035210217,"Субвенции бюджетам муниципальных образований Московской области на предоставление дотаций бюджетам поселений на сбалансированность бюджетов поселений Московской области","008",11,"03","521 02 17",null,{"$f":"H686","v":87870}]
[11035210217009,"Фонд компенсаций","008",11,"03","521 02 17","009",{"$f":"87081+789","v":87870}]
[11035210218,"Субвенции бюджетам муниципальных образований Московской области на предоставление бюджетам поселений субсидий на проведение проектно-изыскательских работ, капитального ремонта, технического переоснащения и приобретение оборудования для культурно-досуговых объектов, находящихся в муниципальной собственности и подлежащих модернизации и техническому оснащению в целях обеспечения концертно-гастрольной деятельности на территории Московской области","008",11,"03","521 02 18",null,{"$f":"H688","v":8000}]
[11035210218009,"Фонд компенсаций","008",11,"03","521 02 18","009",8000]
[1104,"Иные межбюджетные трансферты","008",11,"04",null,null,{"$f":"H690+H693","v":1956395}]
[1104520,"Иные безвозмездные и безвозвратные перечисления","008",11,"04","520 00 00",null,{"$f":"H691","v":23893}]
[110452006,"Переселение граждан из закрытых административно-территориальных образований","008",11,"04","520 06 00",null,{"$f":"H692","v":23893}]
[110452006017,"Иные межбюджетные трансферты","008",11,"04","520 06 00","017",23893]
[1104521,"Межбюджетные трансферты","008",11,"04","521 00 00",null,{"$f":"H694","v":1932502}]
[110452103,"Иные межбюджетные трансферты  бюджетам бюджетной системы","008",11,"04","521 03 00",null,{"$f":"H695","v":1932502}]
[110452103017,"Иные межбюджетные трансферты","008",11,"04","521 03 00","017",{"$f":"6000000+8621+5045-141000-21267-7647-3911250","v":1932502}]
[]
[0,"Министерство экологии и природопользования Московской области","009",null,null,null,null,{"$f":"H698+H703+H714+H737","v":532091}]
[3,"Национальная безопасность и правоохранительная деятельность","009","03",null,null,null,{"$f":"H699","v":458}]
[309,"Защита населения и территории от последствий чрезвычайных ситуаций природного и техногенного характера, гражданская оборона ","009","03","09",null,null,{"$f":"H700","v":458}]
[309219,"Мероприятия по гражданской обороне","009","03","09","219 00 00",null,{"$f":"H701","v":458}]
[30921901,"Подготовка населения и организаций к действиям в чрезвычайной ситуации в мирное и военное время","009","03","09","219 01 00",null,{"$f":"H702","v":458}]
[30921901012,"Выполнение функций государственными органами","009","03","09","219 01 00","012",458]
[4,"Национальная экономика","009","04",null,null,null,{"$f":"H704+H710","v":43721}]
[406,"Водные ресурсы","009","04","06",null,null,{"$f":"H705","v":36721}]
[406280,"Водохозяйственные мероприятия","009","04","06","280 00 00",null,{"$f":"H706+H708","v":36721}]
[40628003,"Осуществление капитального ремонта гидротехнических сооружений, находящихся в собственности субъектов Российской Федерации, муниципальной собственности, и бесхозяйных гидротехнических сооружений ","009","04","06","280 03 00",null,{"$f":"H707","v":14000}]
[40628003010,"Фонд софинансирования","009","04","06","280 03 00","010",14000]
[40628004,"Осуществление отдельных полномочий в области водных отношений","009","04","06","280 04 00",null,{"$f":"H709","v":22721}]
[40628004009,"Фонд компенсаций","009","04","06","280 04 00","009",22721]
[412,"Другие вопросы в области национальной экономики","009","04",12,null,null,{"$f":"H711","v":7000}]
[412522,"Региональные целевые программы","009","04",12,"522 00 00",null,{"$f":"H712","v":7000}]
[41252208,"Областная целевая программа \"Радиационная безопасность Московской области на 2006-2010 годы\"","009","04",12,"522 08 00",null,{"$f":"H713","v":7000}]
[41252208012,"Выполнение функций государственными органами","009","04",12,"522 08 00","012",7000]
[6,"Охрана окружающей среды","009","06",null,null,null,{"$f":"H715+H722","v":487816}]
[603,"Охрана объектов растительного и животного мира и среды их обитания","009","06","03",null,null,{"$f":"H716+H719","v":5125}]
[603264,"Охрана и использование объектов животного мира","009","06","03","264 00 00",null,{"$f":"H717","v":125}]
[60326402,"Охрана и использование объектов животного мира (за исключением отнесенных к объектам охоты, а также водных биологических ресурсов)","009","06","03","264 02 00",null,{"$f":"H718","v":125}]
[60326402009,"Фонд компенсаций","009","06","03","264 02 00","009",125]
[603270,"Рыболовное хозяйство","009","06","03","270 00 00",null,{"$f":"H720","v":5000}]
[60327004,"Организация,  регулирование и охрана водных  биологических ресурсов","009","06","03","270 04 00",null,{"$f":"H721","v":5000}]
[60327004009,"Фонд компенсаций","009","06","03","270 04 00","009",5000]
[605,"Другие вопросы в области охраны окружающей среды","009","06","05",null,null,{"$f":"H723+H727+H732","v":482691}]
[605002,"Руководство и управление в сфере установленных функций органов государственной власти субъектов Российской Федерации  и органов местного самоуправления","009","06","05","002 00 00",null,{"$f":"H724","v":291972}]
[60500204,"Центральный аппарат","009","06","05","002 04 00",null,{"$f":"SUM(H725:H726)","v":291972}]
[60500204012,"Выполнение функций государственными органами","009","06","05","002 04 00","012",291122]
[60500204902,"Проведение мероприятий по защите информации, обеспечению безопасности информационных систем и баз данных, содержащих конфиденциальную информацию, в том числе персональные данные населения Московской области","009","06","05","002 04 00",902,850]
[605410,"Состояние окружающей среды и природопользования","009","06","05","410 00 00",null,{"$f":"H728","v":38511}]
[60541001,"Природоохранные мероприятия","009","06","05","410 01 00",null,{"$f":"SUM(H729:H731)","v":38511}]
[60541001012,"Выполнение функций государственными органами","009","06","05","410 01 00","012",5400]
[60541001906,"Работы по гидрометеорологии и мониторингу окружающей среды","009","06","05","410 01 00",906,32205]
[60541001907,"Проведение государственной экологической экспертизы объектов регионального уровня на территории Московской области","009","06","05","410 01 00",907,906]
[605522,"Региональные целевые программы","009","06","05","522 00 00",null,{"$f":"H733","v":152208}]
[60552201,"Областная целевая программа \"Экология Подмосковья на 2007-2008 годы\"","009","06","05","522 01 00",null,{"$f":"H734","v":152208}]
[6055220101,"Подпрограмма \"Охрана окружающей среды Московской области\"","009","06","05","522 01 01",null,{"$f":"SUM(H735:H736)","v":152208}]
[6055220101003,"Бюджетные инвестиции","009","06","05","522 01 01","003",22000]
[6055220101012,"Выполнение функций государственными органами","009","06","05","522 01 01","012",130208]
[7,"Образование","009","07",null,null,null,{"$f":"H738","v":96}]
[707,"Молодежная политика и оздоровление детей","009","07","07",null,null,{"$f":"H739","v":96}]
[707432,"Мероприятия по проведению оздоровительной кампании детей ","009","07","07","432 00 00",null,{"$f":"H740","v":96}]
[70743202,"Оздоровление детей ","009","07","07","432 02 00",null,{"$f":"H741","v":96}]
[70743202001,"Выполнение функций бюджетными учреждениями","009","07","07","432 02 00","001",96]
[]
[0,"Министерство экономики Московской области","010",null,null,null,null,{"$f":"H744+H749+H754+H759+H772+H777","v":1132392}]
[1,"Общегосударственные вопросы","010","01",null,null,null,{"$f":"H745","v":271883}]
[114,"Другие общегосударственные вопросы","010","01",14,null,null,{"$f":"H746","v":271883}]
[114002,"Руководство и управление в сфере установленных функций органов государственной власти субъектов Российской Федерации  и органов местного самоуправления","010","01",14,"002 00 00",null,{"$f":"H747","v":271883}]
[11400204,"Центральный аппарат","010","01",14,"002 04 00",null,{"$f":"SUM(H748:H748)","v":271883}]
[11400204012,"Выполнение функций государственными органами","010","01",14,"002 04 00","012",271883]
[2,"Национальная оборона","010","02",null,null,null,{"$f":"H750","v":2620}]
[204,"Мобилизационная подготовка экономики","010","02","04",null,null,{"$f":"H751","v":2620}]
[204209,"Реализация государственных функций по мобилизационной подготовке экономики","010","02","04","209 00 00",null,{"$f":"H752","v":2620}]
[20420901,"Мероприятия по обеспечению  мобилизационной готовности экономики","010","02","04","209 01 00",null,{"$f":"H753","v":2620}]
[20420901012,"Выполнение функций государственными органами","010","02","04","209 01 00","012",2620]
[3,"Национальная безопасность и правоохранительная деятельность","010","03",null,null,null,{"$f":"H755","v":49}]
[309,"Защита населения и территории от последствий чрезвычайных ситуаций природного и техногенного характера, гражданская оборона ","010","03","09",null,null,{"$f":"H756","v":49}]
[309219,"Мероприятия по гражданской обороне","010","03","09","219 00 00",null,{"$f":"H757","v":49}]
[30921901,"Подготовка населения и организаций к действиям в чрезвычайной ситуации в мирное и военное время","010","03","09","219 01 00",null,{"$f":"H758","v":49}]
[30921901012,"Выполнение функций государственными органами","010","03","09","219 01 00","012",49]
[4,"Национальная экономика","010","04",null,null,null,{"$f":"H760+H764+H768","v":486000}]
[410,"Связь и информатика","010","04","10",null,null,{"$f":"H761","v":19000}]
[410330,"Информационные технологии и связь","010","04","10","330 00 00",null,{"$f":"H762","v":19000}]
[41033082,"Информатика","010","04","10","330 82 00",null,{"$f":"H763","v":19000}]
[41033082012,"Выполнение функций государственными органами","010","04","10","330 82 00","012",19000]
[411,"Прикладные научные исследования в области национальной экономики","010","04",11,null,null,{"$f":"H765","v":67000}]
[411081,"Прикладные научные исследования и разработки","010","04",11,"081 00 00",null,{"$f":"H766","v":67000}]
[41108169,"Выполнение научно- исследовательских и опытно-конструкторских работ по государственным контрактам","010","04",11,"081 69 00",null,{"$f":"H767","v":67000}]
[41108169012,"Выполнение функций государственными органами","010","04",11,"081 69 00","012",{"$f":"48000+19000","v":67000}]
[412,"Другие вопросы в области национальной экономики","010","04",12,null,null,{"$f":"H769","v":400000}]
[412340,"Реализация государственных функций в области национальной экономики","010","04",12,"340 00 00",null,{"$f":"H770","v":400000}]
[41234004,"Мероприятия в области гражданской промышленности","010","04",12,"340 04 00",null,{"$f":"H771","v":400000}]
[41234004013,"Прочие расходы","010","04",12,"340 04 00","013",400000]
[5,"Жилищно - коммунальное хозяйство","010","05",null,null,null,{"$f":"H773","v":371840}]
[502,"Коммунальное хозяйство","010","05","02",null,null,{"$f":"H776","v":371840}]
[502351,"Поддержка коммунального хозяйства","010","05","02","351 00 00",null,{"$f":"H775","v":371840}]
[50235104,"Компенсация выпадающих доходов организациям, предоставляющим населению услуги газоснабжения по тарифам, не обеспечивающим возмещение издержек","010","05","02","351 04 00",null,{"$f":"H776","v":371840}]
[50235104006,"Субсидии юридическим лицам","010","05","02","351 04 00","006",371840]
[7,"Образование","010","07",null,null,null,{"$f":"H778","v":0}]
[707,"Молодежная политика и оздоровление детей","010","07","07",null,null,{"$f":"H779","v":0}]
[707432,"Мероприятия по проведению оздоровительной кампании детей ","010","07","07","432 00 00",null,{"$f":"H780","v":0}]
[70743202,"Оздоровление детей ","010","07","07","432 02 00",null,{"$f":"H781","v":0}]
[70743202001,"Выполнение функций бюджетными учреждениями","010","07","07","432 02 00","001"]
[]
[0,"Министерство имущественных отношений Московской области","011",null,null,null,null,{"$f":"H784+H813+H818+H823+H837+H839","v":4412869}]
[1,"Общегосударственные вопросы","011","01",null,null,null,{"$f":"H785","v":4277978}]
[114,"Другие общегосударственные вопросы","011","01",14,null,null,{"$f":"H786+H791+H799+H807+H811","v":4277978}]
[114001,"Руководство и управление в сфере установленных функций","011","01",14,"001 00 00",null,{"$f":"H787+H789","v":1420}]
[11400129,"Обеспечение приватизации и проведение предпродажной подготовки объектов приватизации","011","01",14,"001 29 00",null,{"$f":"H788","v":670}]
[11400129012,"Выполнение функций государственными органами","011","01",14,"001 29 00","012",670]
[11400141,"Управление находящимися в государственной и муниципальной собственности акциями открытых акционерных обществ","011","01",14,"001 41 00",null,{"$f":"H790","v":750}]
[11400141012,"Выполнение функций государственными органами","011","01",14,"001 41 00","012",750]
[114002,"Руководство и управление в сфере установленных функций органов государственной власти субъектов Российской Федерации  и органов местного самоуправления","011","01",14,"002 00 00",null,{"$f":"H792+H795+H797","v":203468}]
[11400204,"Центральный аппарат","011","01",14,"002 04 00",null,{"$f":"SUM(H793:H794)","v":203468}]
[11400204012,"Выполнение функций государственными органами","011","01",14,"002 04 00","012",198468]
[11400204902,"Проведение мероприятий по защите информации, обеспечению безопасности информационных систем и баз данных, содержащих конфиденциальную информацию, в том числе персональные данные населения Московской области","011","01",14,"002 04 00",902,5000]
[11400229,"Обеспечение приватизации и проведение предпродажной подготовки объектов приватизации","011","01",14,"002 29 00",null,{"$f":"H796","v":0}]
[11400229012,"Выполнение функций государственными органами","011","01",14,"002 29 00","012",{"$f":"670-670","v":0}]
[11400241,"Управление находящимися в государственной и муниципальной собственности акциями открытых акционерных обществ","011","01",14,"002 41 00",null,{"$f":"H798","v":0}]
[11400241012,"Выполнение функций государственными органами","011","01",14,"002 41 00","012",{"$f":"750-750","v":0}]
[114090,"Реализация государственной политики в области приватизации и управления государственной и муниципальной собственностью","011","01",14,"090 00 00",null,{"$f":"H800+H805","v":16092}]
[11409002,"Оценка недвижимости, признание прав и регулирование отношений по государственной и муниципальной собственности","011","01",14,"090 02 00",null,{"$f":"H801+H803","v":15748}]
[1140900201,"Оформление права государственной собственности Московской области при разграничении собственности на землю ","011","01",14,"090 02 01",null,{"$f":"H802","v":64}]
[1140900201012,"Выполнение функций государственными органами","011","01",14,"090 02 01","012",64]
[1140900202,"Оценка и техническая инвентаризация имущества, принадлежащего Московской области ","011","01",14,"090 02 02",null,{"$f":"H804","v":15684}]
[1140900202012,"Выполнение функций государственными органами","011","01",14,"090 02 02","012",15684]
[11409003,"Расходы, связанные с управлением государственной собственностью","011","01",14,"090 03 00",null,{"$f":"H806","v":344}]
[11409003012,"Выполнение функций государственными органами","011","01",14,"090 03 00","012",344]
[114102,"Бюджетные инвестиции в объекты капитального строительства, не включенные в целевые программы","011","01",14,"102 00 00",null,{"$f":"H808","v":3681998}]
[11410201,"Бюджетные инвестиции в объекты капитального строительства государственной собственности субъектов Российской Федерации (объекты капитального строительства собственности муниципальных образований)","011","01",14,"102 01 00",null,{"$f":"H809","v":3681998}]
[1141020101,"Бюджетные инвестиции в объекты капитального строительства государственной собственности субъектов Российской Федерации ","011","01",14,"102 01 01",null,{"$f":"H810","v":3681998}]
[1141020101003,"Бюджетные инвестиции","011","01",14,"102 01 01","003",3681998]
[114804,"Приобретение земельных участков в государственную собственность Московской области","011","01",14,"804 00 00 ",null,{"$f":"H812","v":375000}]
[114804012,"Выполнение функций государственными органами","011","01",14,"804 00 00 ","012",375000]
[2,"Национальная оборона","011","02",null,null,null,{"$f":"H814","v":530}]
[204,"Мобилизационная подготовка экономики","011","02","04",null,null,{"$f":"H815","v":530}]
[204209,"Реализация государственных функций по мобилизационной подготовке экономики","011","02","04","209 00 00",null,{"$f":"H816","v":530}]
[20420901,"Мероприятия по обеспечению  мобилизационной готовности экономики","011","02","04","209 01 00",null,{"$f":"H817","v":530}]
[20420901012,"Выполнение функций государственными органами","011","02","04","209 01 00","012",530]
[3,"Национальная безопасность и правоохранительная деятельность","011","03",null,null,null,{"$f":"H819","v":124}]
[309,"Защита населения и территории от последствий чрезвычайных ситуаций природного и техногенного характера, гражданская оборона ","011","03","09",null,null,{"$f":"H820","v":124}]
[309219,"Мероприятия по гражданской обороне","011","03","09","219 00 00",null,{"$f":"H821","v":124}]
[30921901,"Подготовка населения и организаций к действиям в чрезвычайной ситуации в мирное и военное время","011","03","09","219 01 00",null,{"$f":"H822","v":124}]
[30921901012,"Выполнение функций государственными органами","011","03","09","219 01 00","012",124]
[4,"Национальная экономика","011","04",null,null,null,{"$f":"H824+H828","v":134076}]
[410,"Связь и информатика","011","04","10",null,null,{"$f":"H825","v":6880}]
[410330,"Информационные технологии и связь","011","04","10","330 00 00",null,{"$f":"H826","v":6880}]
[41033082,"Информатика","011","04","10","330 82 00",null,{"$f":"H827","v":6880}]
[41033082012,"Выполнение функций государственными органами","011","04","10","330 82 00","012",6880]
[412,"Другие вопросы в области национальной экономики","011","04",12,null,null,{"$f":"H829","v":127196}]
[412340,"Реализация государственных функций в области национальной экономики","011","04",12,"340 00 00 ",null,{"$f":"H830","v":127196}]
[41234003,"Мероприятия по землеустройству и землепользованию","011","04",12,"340 03 00 ",null,{"$f":"H831+H833+H835","v":127196}]
[4123400301,"Формирование землеустроительных дел, межевание земель и постановка на кадастровый учет земельных участков при приобретении земельных участков в государственную собственность Московской области ","011","04",12,"340 03 01",null,{"$f":"H832","v":98450}]
[4123400301012,"Выполнение функций государственными органами","011","04",12,"340 03 01","012",98450]
[4123400302,"Формирование землеустроительных дел, межевание земель и постановка на кадастровый учет земельных участков при разграничении государственной собственности на землю ","011","04",12,"340 03 02",null,{"$f":"H834","v":21850}]
[4123400302012,"Выполнение функций государственными органами","011","04",12,"340 03 02","012",21850]
[4123400304,"Компенсация затрат по аренде земельного участка","011","04",12,"340 03 04",null,{"$f":"H836","v":6896}]
[4123400304012,"Выполнение функций государственными органами","011","04",12,"340 03 04","012",6896]
[5,"Жилищно-коммунальное хозяйство","011","05",null,null,null,{"$f":"H838","v":0}]
[501,"Жилищное хозяйство","011","05","01"]
[7,"Образование","011","07",null,null,null,{"$f":"H840","v":161}]
[707,"Молодежная политика и оздоровление детей","011","07","07",null,null,{"$f":"H841","v":161}]
[707432,"Мероприятия по проведению оздоровительной кампании детей ","011","07","07","432 00 00",null,{"$f":"H842","v":161}]
[70743202,"Оздоровление детей ","011","07","07","432 02 00",null,{"$f":"H843","v":161}]
[70743202001,"Выполнение функций бюджетными учреждениями","011","07","07","432 02 00","001",161]
[]
[0,"Министерство по делам печати и информации Московской области","012",null,null,null,null,{"$f":"H846+H851+H856+H861","v":2148211}]
[1,"Общегосударственные вопросы","012","01",null,null,null,{"$f":"H847","v":420}]
[108,"Международные отношения и международное сотрудничество","012","01","08",null,null,{"$f":"H848","v":420}]
[108522,"Региональные целевые программы","012","01","08","522 00 00",null,{"$f":"H849","v":420}]
[10852209,"Областная целевая программа \"Поддержка Московской областью соотечественников за рубежом на 2007-2010 годы\"","012","01","08","522 09 00",null,{"$f":"H850","v":420}]
[10852209012,"Выполнение функций государственными органами","012","01","08","522 09 00","012",420]
[2,"Национальная оборона","012","02",null,null,null,{"$f":"H852","v":630}]
[204,"Мобилизационная подготовка экономики","012","02","04",null,null,{"$f":"H853","v":630}]
[204209,"Реализация государственных функций по мобилизационной подготовке экономики","012","02","04","209 00 00",null,{"$f":"H854","v":630}]
[20420901,"Мероприятия по обеспечению  мобилизационной готовности экономики","012","02","04","209 01 00",null,{"$f":"H855","v":630}]
[20420901012,"Выполнение функций государственными органами","012","02","04","209 01 00","012",630]
[3,"Национальная безопасность и правоохранительная деятельность","012","03",null,null,null,{"$f":"H857","v":895}]
[309,"Защита населения и территории от последствий чрезвычайных ситуаций природного и техногенного характера, гражданская оборона ","012","03","09",null,null,{"$f":"H858","v":895}]
[309219,"Мероприятия по гражданской обороне","012","03","09","219 00 00",null,{"$f":"H859","v":895}]
[30921901,"Подготовка населения и организаций к действиям в чрезвычайной ситуации в мирное и военное время","012","03","09","219 01 00",null,{"$f":"H860","v":895}]
[30921901012,"Выполнение функций государственными органами","012","03","09","219 01 00","012",895]
[8,"Культура, кинематография, средства массовой информации","012","08",null,null,null,{"$f":"H862+H869+H876","v":2146266}]
[803,"Телевидение и радиовещание","012","08","03",null,null,{"$f":"H863+H866","v":915009}]
[803450,"Мероприятия в сфере культуры, кинематографии, средств массовой информации","012","08","03","450 00 00",null,{"$f":"H864","v":666000}]
[80345085,"Государственная поддержка в сфере культуры, кинематографии, средств массовой информации","012","08","03","450 85 00",null,{"$f":"H865","v":666000}]
[80345085012,"Выполнение функций государственными органами","012","08","03","450 85 00","012",666000]
[803453,"Телерадиокомпании и телеорганизации","012","08","03","453 00 00",null,{"$f":"H867","v":249009}]
[80345399,"Обеспечение деятельности подведомственных учреждений","012","08","03","453 99 00",null,{"$f":"H868","v":249009}]
[80345399001,"Выполнение функций бюджетными учреждениями","012","08","03","453 99 00","001",249009]
[804,"Периодическая печать и издательства","012","08","04",null,null,{"$f":"H870+H873","v":482232}]
[804450,"Мероприятия в сфере культуры, кинематографии, средств массовой информации","012","08","04","450 00 00",null,{"$f":"H871","v":187144}]
[80445085,"Государственная поддержка в сфере культуры, кинематографии, средств массовой информации","012","08","04","450 85 00",null,{"$f":"H872","v":187144}]
[80445085012,"Выполнение функций государственными органами","012","08","04","450 85 00","012",187144]
[804455,"Издательства","012","08","04","455 00 00",null,{"$f":"H874","v":295088}]
[80445599,"Обеспечение деятельности подведомственных учреждений","012","08","04","455 99 00",null,{"$f":"H875","v":295088}]
[80445599001,"Выполнение функций бюджетными учреждениями","012","08","04","455 99 00","001",295088]
[806,"Другие вопросы в области культуры, кинематографии, средств массовой информации","012","08","06",null,null,{"$f":"H877+H881+H884","v":749025}]
[806002,"Руководство и управление в сфере установленных функций органов государственной власти субъектов Российской Федерации  и органов местного самоуправления","012","08","06","002 00 00",null,{"$f":"H878","v":137533}]
[80600204,"Центральный аппарат","012","08","06","002 04 00",null,{"$f":"SUM(H879:H880)","v":137533}]
[80600204012,"Выполнение функций государственными органами","012","08","06","002 04 00","012",136783]
[80600204902,"Проведение мероприятий по защите информации, обеспечению безопасности информационных систем и баз данных, содержащих конфиденциальную информацию, в том числе персональные данные населения Московской области","012","08","06","002 04 00",902,750]
[806450,"Мероприятия в сфере культуры, кинематографии, средств массовой информации","012","08","06","450 00 00",null,{"$f":"H882","v":15060}]
[80645085,"Государственная поддержка в сфере культуры, кинематографии, средств массовой информации","012","08","06","450 85 00",null,{"$f":"H883","v":15060}]
[80645085012,"Выполнение функций государственными органами","012","08","06","450 85 00","012",15060]
[806451,"Информационные агентства","012","08","06","451 00 00",null,{"$f":"H885","v":596432}]
[80645199,"Обеспечение деятельности подведомственных учреждений","012","08","06","451 99 00",null,{"$f":"H886","v":596432}]
[80645199001,"Выполнение функций бюджетными учреждениями","012","08","06","451 99 00","001",596432]
[]
[0,"Министерство здравоохранения  Московской  области","013",null,null,null,null,{"$f":"H889+H894+H899+H904+H909+H943","v":18192454}]
[1,"Общегосударственные вопросы","013","01",null,null,null,{"$f":"H890","v":550}]
[108,"Международные отношения и международное сотрудничество","013","01","08",null,null,{"$f":"H891","v":550}]
[108522,"Региональные целевые программы","013","01","08","522 00 00",null,{"$f":"H892","v":550}]
[10852209,"Областная целевая программа \"Поддержка Московской областью соотечественников за рубежом на 2007-2010 годы\"","013","01","08","522 09 00",null,{"$f":"H893","v":550}]
[10852209012,"Выполнение функций государственными органами","013","01","08","522 09 00","012",550]
[2,"Национальная оборона","013","02",null,null,null,{"$f":"H895","v":260}]
[204,"Мобилизационная подготовка экономики","013","02","04",null,null,{"$f":"H896","v":260}]
[204209,"Реализация государственных функций по мобилизационной подготовке экономики","013","02","04","209 00 00",null,{"$f":"H897","v":260}]
[20420901,"Мероприятия по обеспечению  мобилизационной готовности экономики","013","02","04","209 01 00",null,{"$f":"H898","v":260}]
[20420901012,"Выполнение функций государственными органами","013","02","04","209 01 00","012",260]
[3,"Национальная безопасность и правоохранительная деятельность","013","03",null,null,null,{"$f":"H900","v":5327}]
[309,"Защита населения и территории от последствий чрезвычайных ситуаций природного и техногенного характера, гражданская оборона ","013","03","09",null,null,{"$f":"H901","v":5327}]
[309219,"Мероприятия по гражданской обороне","013","03","09","219 00 00",null,{"$f":"H902","v":5327}]
[30921901,"Подготовка населения и организаций к действиям в чрезвычайной ситуации в мирное и военное время","013","03","09","219 01 00",null,{"$f":"H903","v":5327}]
[30921901012,"Выполнение функций государственными органами","013","03","09","219 01 00","012",5327]
[4,"Национальная экономика","013","04",null,null,null,{"$f":"H905","v":40000}]
[412,"Другие вопросы в области национальной экономики","013","04",12,null,null,{"$f":"H906","v":40000}]
[412340,"Реализация государственных функций в области национальной экономики","013","04",12,"340 00 00",null,{"$f":"H907","v":40000}]
[41234004,"Мероприятия в области гражданской промышленности","013","04",12,"340 04 00",null,{"$f":"H908","v":40000}]
[41234004006,"Субсидии юридическим лицам","013","04",12,"340 04 00","006",40000]
[7,"Образование","013","07",null,null,null,{"$f":"H910+H928+H935+H939","v":767038}]
[704,"Среднее профессиональное образование","013","07","04",null,null,{"$f":"H911","v":604633}]
[704427,"Средние специальные учебные заведения","013","07","04","427 00 00",null,{"$f":"H912","v":604633}]
[70442799,"Обеспечение деятельности подведомственных учреждений","013","07","04","427 99 00",null,{"$f":"H913+H915+H917+H919+H921+H923+H925+H927","v":604633}]
[7044279901,"Выплаты стипендий и прочие расходы стипендиального фонда в средних специальных учебных заведениях","013","07","04","427 99 01",null,{"$f":"H914","v":35126}]
[7044279901001,"Выполнение функций бюджетными учреждениями","013","07","04","427 99 01","001",35126]
[7044279902,"Обеспечение питанием учащихся средних специальных учебных заведений","013","07","04","427 99 02",null,{"$f":"H916","v":5302}]
[7044279902001,"Выполнение функций бюджетными учреждениями","013","07","04","427 99 02","001",5302]
[7044279904,"Единовременное денежное пособие детям-сиротам - выпускникам областных образовательных учрежедний*","013","07","04","427 99 04",null,{"$f":"H918","v":2340}]
[7044279904001,"Выполнение функций бюджетными учреждениями","013","07","04","427 99 04","001",2340]
[7044279907,"Бесплатный проезд детей-сирот и детей, оставшихся без попечения родителей, обучающихся в государственных образовательных учреждениях Московской области*","013","07","04","427 99 07",null,{"$f":"H920","v":421}]
[7044279907001,"Выполнение функций бюджетными учреждениями","013","07","04","427 99 07","001",421]
[7044279908,"Ежемесячные стипендии Губернатора Московской области детям-сиротам, обучающимся в образовательных учреждениях среднего профессионального образования*","013","07","04","427 99 08",null,{"$f":"H922","v":8424}]
[7044279908001,"Выполнение функций бюджетными учреждениями","013","07","04","427 99 08","001",8424]
[7044279912,"Частичная компенсация стоимости питания  обучающихся в средних специальных учебных заведений*","013","07","04","427 99 12",null,{"$f":"H924","v":5794}]
[7044279912001,"Выполнение функций бюджетными учреждениями","013","07","04","427 99 12","001",5794]
[7044279999,"Другие расходы на содержание средних специальных учебных заведений","013","07","04","427 99 99",null,{"$f":"H926","v":546362}]
[7044279999001,"Выполнение функций бюджетными учреждениями","013","07","04","427 99 99","001",546362]
[70442799910,"Финансирование расходов, осуществляемое за счет средств, поступающих от сдачи в аренду имущества, закрепленного за государственными организациями","013","07","04","427 99 00",910,864]
[705,"Профессиональная подготовка, переподготовка и повышение квалификации","013","07","05",null,null,{"$f":"H929","v":134382}]
[705429,"Учебные заведения и курсы по переподготовке кадров","013","07","05","429 00 00",null,{"$f":"H930","v":134382}]
[70542999,"Обеспечение деятельности подведомственных учреждений","013","07","05","429 99 00",null,{"$f":"H931+H933","v":134382}]
[7054299901,"Выплаты стипендий и прочие расходы стипендиального фонда в учебных заведениях и курсах о переподготовке кадров","013","07","05","429 99 01",null,{"$f":"H932","v":2214}]
[7054299901001,"Выполнение функций бюджетными учреждениями","013","07","05","429 99 01","001",2214]
[7054299999,"Другие расходы на содержание учебных заведений и курсов по переподготовке, повышению кадров","013","07","05","429 99 99",null,{"$f":"H934","v":132168}]
[7054299999001,"Выполнение функций бюджетными учреждениями","013","07","05","429 99 99","001",132168]
[707,"Молодежная политика и оздоровление детей","013","07","07",null,null,{"$f":"H936","v":1375}]
[707432,"Мероприятия по проведению оздоровительной кампании детей ","013","07","07","432 00 00",null,{"$f":"H937","v":1375}]
[70743202,"Оздоровление детей ","013","07","07","432 02 00",null,{"$f":"H938","v":1375}]
[70743202001,"Выполнение функций бюджетными учреждениями","013","07","07","432 02 00","001",1375]
[709,"Другие вопросы в области образования","013","07","09",null,null,{"$f":"H940","v":26648}]
[709806,"Прочие расходы, не отнесенные к другим целевым статьям","013","07","09","806 00 00",null,{"$f":"H941","v":26648}]
[70980601,"Подготовка врачебных кадров","013","07","09","806 01 00",null,{"$f":"H942","v":26648}]
[70980601013,"Прочие расходы","013","07","09","806 01 00","013",26648]
[9,"Здравоохранение, физическая культура и спорт","013","09",null,null,null,{"$f":"H944+H971+H980+H997+H1006+H1013","v":17379279}]
[901,"Стационарная медицинская помощь","013","09","01",null,null,{"$f":"H945+H948+H956+H964","v":13427421}]
[901100,"Федеральные целевые программы","013","09","01","100 00 00",null,{"$f":"H946","v":0}]
[90110059,"Федеральная целевая программа \"Повышение безопасности дорожного движения в 2006 - 2012 годах\"","013","09","01","100 59 00",null,{"$f":"H947","v":0}]
[90110059213,"Строительство объектов для нужд отрасли","013","09","01","100 59 00",213]
[901469,"Учреждения, обеспечивающие предоставление услуг в сфере здравоохранения","013","09","01","469 00 00",null,{"$f":"H949","v":796356}]
[90146999,"Обеспечение деятельности подведомственных учреждений","013","09","01","469 99 00",null,{"$f":"H950+H952+H954","v":796356}]
[9014699901,"Приобретение медикаментов для учреждений, обеспечивающих предоставление услуг в сфере здравоохранения","013","09","01","469 99 01",null,{"$f":"H951","v":16352}]
[9014699901001,"Выполнение функций бюджетными учреждениями","013","09","01","469 99 01","001",16352]
[9014699902,"Приобретение продуктов питания  для учреждений, обеспечивающих предоставление услуг в сфере здравоохранения","013","09","01","469 99 02",null,{"$f":"H953","v":2827}]
[9014699902001,"Выполнение функций бюджетными учреждениями","013","09","01","469 99 02","001",2827]
[9014699999,"Другие расходы на содержание и обеспечение деятельности учреждениий, обеспечивающих предоставление услуг в сфере здравоохранения","013","09","01","469 99 99",null,{"$f":"H955","v":777177}]
[9014699999001,"Выполнение функций бюджетными учреждениями","013","09","01","469 99 99","001",777177]
[901470,"Больницы, клиники, госпитали, медико-санитарные части","013","09","01","470 00 00",null,{"$f":"H957","v":6956302}]
[90147099,"Обеспечение деятельности подведомственных учреждений","013","09","01","470 99 00",null,{"$f":"H958+H960+H962","v":6956302}]
[9014709901,"Приобретение медикаментов для больниц, клиник, госпиталей, медико-санитарных частей","013","09","01","470 99 01",null,{"$f":"H959","v":464887}]
[9014709901001,"Выполнение функций бюджетными учреждениями","013","09","01","470 99 01","001",464887]
[9014709902,"Приобретение продуктов питания для больниц, клиник, госпиталей, медико-санитарных частей","013","09","01","470 99 02",null,{"$f":"H961","v":300192}]
[9014709902001,"Выполнение функций бюджетными учреждениями","013","09","01","470 99 02","001",300192]
[9014709999,"Другие расходы на содержание и обеспечение деятельности больниц, клиник, госпиталей, медико-санитарных частей","013","09","01","470 99 99",null,{"$f":"H963","v":6191223}]
[9014709999001,"Выполнение функций бюджетными учреждениями","013","09","01","470 99 99","001",6191223]
[901485,"Реализация государственных функций в области здравоохранения, спорта и туризма","013","09","01","485 00 00",null,{"$f":"H965+H967+H969","v":5674763}]
[90148510,"Централизованные закупки лекарственных средств, предназначенных для лечения больных гемофилией, муковисцидозом, гипофизарным нанизмом, болезнью Гоше, миелолейкозом, рассеянным склерозом, а также после трансплантации органов и (или) тканей","013","09","01","485 10 00",null,{"$f":"H966","v":4655565}]
[90148510012,"Выполнение функций государственными органами","013","09","01","485 10 00","012",4655565]
[90148577,"Централизованные закупки медикаментов и медицинского оборудования","013","09","01","485 77 00",null,{"$f":"H968","v":0}]
[90148577012,"Выполнение функций государственными органами","013","09","01","485 77 00","012",{"$f":"1764725+2890840-4655565","v":0}]
[90148597,"Мероприятия в области здравоохранения, спорта и физической культуры, туризма","013","09","01","485 97 00",null,{"$f":"H970","v":1019198}]
[90148597001,"Выполнение функций бюджетными учреждениями","013","09","01","485 97 00","001",1019198]
[902,"Амбулаторная помощь","013","09","02",null,null,{"$f":"H972","v":662232},{"$f":"H971-(H975+H977+H979)","v":0}]
[902471,"Поликлиники, амбулатории, диагностические центры","013","09","02","471 00 00",null,{"$f":"H973","v":662232}]
[90247199,"Обеспечение деятельности подведомственных учреждений","013","09","02","471 99 00",null,{"$f":"H974+H976+H978","v":662232}]
[9024719901,"Приобретение медикаментов для поликлиник, амбулаторий, диагностических центров","013","09","02","471 99 01",null,{"$f":"H975","v":36428}]
[9024719901001,"Выполнение функций бюджетными учреждениями","013","09","02","471 99 01","001",36428]
[9024719902,"Приобретение продуктов питания для поликлиник, амбулаторий, диагностических центров","013","09","02","471 99 02",null,{"$f":"H977","v":547}]
[9024719902001,"Выполнение функций бюджетными учреждениями","013","09","02","471 99 02","001",547]
[9024719999,"Другие расходы на содержание и обеспечение деятельности поликлиник, амбулаторий, диагностических центров","013","09","02","471 99 99",null,{"$f":"H979","v":625257}]
[9024719999001,"Выполнение функций бюджетными учреждениями","013","09","02","471 99 99","001",625257]
[905,"Санаторно-оздоровительная помощь","013","09","05",null,null,{"$f":"H981+H989","v":724098},{"$f":"H980-(H984+H986+H988+H992+H994+H996)","v":0}]
[905473,"Санатории для больных туберкулезом","013","09","05","473 00 00",null,{"$f":"H982","v":411598}]
[90547399,"Обеспечение деятельности подведомственных учреждений","013","09","05","473 99 00",null,{"$f":"H983+H985+H987","v":411598}]
[9054739901,"Приобретение медикаментов для санаториев для больных туберкулезом","013","09","05","473 99 01",null,{"$f":"H984","v":7560}]
[9054739901001,"Выполнение функций бюджетными учреждениями","013","09","05","473 99 01","001",7560]
[9054739902,"Приобретение продуктов питания для санаториев для больных туберкулезом","013","09","05","473 99 02",null,{"$f":"H986","v":31232}]
[9054739902001,"Выполнение функций бюджетными учреждениями","013","09","05","473 99 02","001",31232]
[9054739999,"Другие расходы на содержание и обеспечение деятельности санаториев для больных туберкулезом","013","09","05","473 99 99",null,{"$f":"H988","v":372806}]
[9054739999001,"Выполнение функций бюджетными учреждениями","013","09","05","473 99 99","001",372806]
[905474,"Санатории для детей и подростков","013","09","05","474 00 00",null,{"$f":"H990","v":312500}]
[90547499,"Обеспечение деятельности подведомственных учреждений","013","09","05","474 99 00",null,{"$f":"H991+H993+H995","v":312500}]
[9054749901,"Приобретение медикаментов для санаториев для детей и подростков ","013","09","05","474 99 01",null,{"$f":"H992","v":3254}]
[9054749901001,"Выполнение функций бюджетными учреждениями","013","09","05","474 99 01","001",3254]
[9054749902,"Приобретение продуктов питания для санаториев для детей и подростков ","013","09","05","474 99 02",null,{"$f":"H994","v":24056}]
[9054749902001,"Выполнение функций бюджетными учреждениями","013","09","05","474 99 02","001",24056]
[9054749999,"Другие расходы на содержание и обеспечение деятельности санаториев для детей и подростков ","013","09","05","474 99 99",null,{"$f":"H996","v":285190}]
[9054749999001,"Выполнение функций бюджетными учреждениями","013","09","05","474 99 99","001",285190]
[906,"Заготовка, переработка, хранение и обеспечение безопасности донорской крови и её компонентов","013","09","06",null,null,{"$f":"H998","v":377981},{"$f":"H997-H1001-H1003-H1005","v":0}]
[906472,"Центры, станции и отделения переливания крови","013","09","06","472 00 00",null,{"$f":"H999","v":377981}]
[90647299,"Обеспечение деятельности подведомственных учреждений","013","09","06","472 99 00",null,{"$f":"H1000+H1002+H1004","v":377981}]
[9064729901,"Приобретение медикаментов для центров, станций и отделений переливания крови","013","09","06","472 99 01",null,{"$f":"H1001","v":91228}]
[9064729901001,"Выполнение функций бюджетными учреждениями","013","09","06","472 99 01","001",91228]
[9064729902,"Приобретение продуктов питания для для центров, станций и отделений переливания крови","013","09","06","472 99 02",null,{"$f":"H1003","v":356}]
[9064729902001,"Выполнение функций бюджетными учреждениями","013","09","06","472 99 02","001",356]
[9064729999,"Другие расходы на содержание и обеспечение деятельности  центров, станций и отделений переливания крови","013","09","06","472 99 99",null,{"$f":"H1005","v":286397}]
[9064729999001,"Выполнение функций бюджетными учреждениями","013","09","06","472 99 99","001",286397]
[909,"Прикладные научные исследования в области здравоохранения, физической культуры и спорта","013","09","09",null,null,{"$f":"H1007","v":269728},{"$f":"H1006-H1010-H1012","v":0}]
[909081,"Прикладные научные исследования и разработки","013","09","09","081 00 00",null,{"$f":"H1008","v":269728}]
[90908199,"Обеспечение деятельности подведомственных учреждений","013","09","09","081 99 00",null,{"$f":"H1009+H1011","v":269728}]
[9090819901,"Выплата стипендий ординаторам и аспирантам научных учреждений","013","09","09","081 99 01",null,{"$f":"H1010","v":7395}]
[9090819901001,"Выполнение функций бюджетными учреждениями","013","09","09","081 99 01","001",7395]
[9090819999,"Другие расходы на содержание научных учреждений","013","09","09","081 99 99",null,{"$f":"H1012","v":262333}]
[9090819999001,"Выполнение функций бюджетными учреждениями","013","09","09","081 99 99","001",262333]
[910,"Другие вопросы в области здравоохранения, физической культуры и спорта","013","09",10,null,null,{"$f":"H1014+H1017+H1023+H1031+H1058+H1067","v":1917819},{"$f":"H1013-(H1016+H1022+H1026+H1028+H1030+H1034+H1036+H1039+H1041+H1043+H1045+H1047+H1049+H1051+H1053+H1055+H1057+H1060+H1062+H1064+H1068)","v":0}]
[910002,"Руководство и управление в сфере установленных функций органов государственной власти субъектов Российской Федерации  и органов местного самоуправления","013","09",10,"002 00 00",null,{"$f":"H1015","v":150268}]
[91000204,"Центральный аппарат","013","09",10,"002 04 00",null,{"$f":"H1016","v":150268}]
[91000204012,"Выполнение функций государственными органами","013","09",10,"002 04 00","012",150268]
[910485,"Реализация государственных функций в области здравоохранения, спорта и туризма","013","09",10,"485 00 00",null,{"$f":"H1018+H1020","v":4470}]
[91048577,"Централизованные закупки медикаментов и медицинского оборудования","013","09",10,"485 77 00",null,{"$f":"H1019","v":0}]
[91048577012,"Выполнение функций государственными органами","013","09",10,"485 77 00","012",{"$f":"1764725-1764725","v":0}]
[91048597,"Мероприятия в области здравоохранения, спорта и физической культуры, туризма","013","09",10,"485 97 00",null,{"$f":"H1021+H1022","v":4470}]
[91048597001,"Выполнение функций бюджетными учреждениями","013","09",10,"485 97 00","001",{"$f":"1019198-1019198","v":0}]
[91048597079,"Мероприятия в области здравоохранения, спорта и физической культуры","013","09",10,"485 97 00","079",{"$f":"975739-971269","v":4470}]
[910486,"Дома ребенка","013","09",10,"486 00 00",null,{"$f":"H1024","v":545947}]
[91048699,"Обеспечение деятельности подведомственных учреждений","013","09",10,"486 99 00",null,{"$f":"H1025+H1027+H1029","v":545947}]
[9104869901,"Приобретение медикаментов для домов ребенка","013","09",10,"486 99 01",null,{"$f":"H1026","v":2424}]
[9104869901001,"Выполнение функций бюджетными учреждениями","013","09",10,"486 99 01","001",2424]
[9104869902,"Приобретение продуктов питания для домов ребенка","013","09",10,"486 99 02",null,{"$f":"H1028","v":56969}]
[9104869902001,"Выполнение функций бюджетными учреждениями","013","09",10,"486 99 02","001",56969]
[9104869999,"Другие расходы на содержание и обеспечение деятельности домов ребенка","013","09",10,"486 99 99",null,{"$f":"H1030","v":486554}]
[9104869999001,"Выполнение функций бюджетными учреждениями","013","09",10,"486 99 99","001",486554]
[910522,"Региональные целевые программы","013","09",10,"522 00 00",null,{"$f":"H1032+H1035+H1037","v":1144219}]
[91052210,"Областная целевая программа \"Обеспечение безопасности дорожного движения на территории Московской области в 2007-2010 годах\"","013","09",10,"522 10 00",null,{"$f":"H1033","v":43200}]
[9105221004,"Раздел \"Совершенствование контрольно-надзорной деятельности и деятельности по ликвидации последствий и снижению тяжести ДТП\"","013","09",10,"522 10 04",null,{"$f":"H1034","v":43200}]
[9105221004079,"Мероприятия в области здравоохранения, спорта и физической культуры","013","09",10,"522 10 04","079",43200]
[91052211,"Областная целевая программа \"Совершенствование медицинской помощи новорожденным, беременным женщинам и матерям в Московской области на период 2008-2011 годов\"","013","09",10,"522 11 00",null,{"$f":"H1036","v":129750}]
[91052211079,"Мероприятия в области здравоохранения, спорта и физической культуры","013","09",10,"522 11 00","079",129750]
[91052212,"Областная целевая программа \"Предупреждение и борьба с заболеваниями социального характера в Московской области на период 2008-2011 годов\"","013","09",10,"522 12 00",null,{"$f":"H1038+H1040+H1042+H1044+H1046+H1048+H1050+H1052+H1054+H1056","v":971269}]
[9105221201,"Подпрограмма \"Сахарный диабет\"","013","09",10,"522 12 01",null,{"$f":"H1039","v":117185}]
[9105221201079,"Мероприятия в области здравоохранения, спорта и физической культуры","013","09",10,"522 12 01","079",117185]
[9105221202,"Подпрограмма \"Неотложные меры борьбы с туберкулезом\"","013","09",10,"522 12 02",null,{"$f":"H1041","v":115250}]
[9105221202079,"Мероприятия в области здравоохранения, спорта и физической культуры","013","09",10,"522 12 02","079",115250]
[9105221203,"Подпрограмма \"О мерах по предупреждению распространения заболевания, вызываемого вирусом иммунодефицита человека (ВИЧ - инфекции)\"","013","09",10,"522 12 03",null,{"$f":"H1043","v":116027}]
[9105221203079,"Мероприятия в области здравоохранения, спорта и физической культуры","013","09",10,"522 12 03","079",116027]
[9105221204,"Подпрограмма \"О мерах по развитию онкологической помощи\"","013","09",10,"522 12 04",null,{"$f":"H1045","v":354630}]
[9105221204079,"Мероприятия в области здравоохранения, спорта и физической культуры","013","09",10,"522 12 04","079",354630]
[9105221205,"Подпрограмма \"О мерах по предупреждению дальнейшего распространения заболеваний, передаваемых половым путем\"","013","09",10,"522 12 05",null,{"$f":"H1047","v":3394}]
[9105221205079,"Мероприятия в области здравоохранения, спорта и физической культуры","013","09",10,"522 12 05","079",3394]
[9105221206,"Подпрограмма \"Вирусные гепатиты\"","013","09",10,"522 12 06",null,{"$f":"H1049","v":68500}]
[9105221206079,"Мероприятия в области здравоохранения, спорта и физической культуры","013","09",10,"522 12 06","079",68500]
[9105221207,"Подпрограмма \"Развитие психиатрической помощи\"","013","09",10,"522 12 07",null,{"$f":"H1051","v":131070}]
[9105221207079,"Мероприятия в области здравоохранения, спорта и физической культуры","013","09",10,"522 12 07","079",131070]
[9105221208,"Подпрограмма \"Вакцинопрофилактика\"","013","09",10,"522 12 08",null,{"$f":"H1053","v":34550}]
[9105221208079,"Мероприятия в области здравоохранения, спорта и физической культуры","013","09",10,"522 12 08","079",34550]
[9105221209,"Подпрограмма \"Профилактика и лечение артериальной гипертонии\"","013","09",10,"522 12 09",null,{"$f":"H1055","v":29125}]
[9105221209079,"Мероприятия в области здравоохранения, спорта и физической культуры","013","09",10,"522 12 09","079",29125]
[9105221210,"Подпрограмма \"Общая врачебная практика\"","013","09",10,"522 12 10",null,{"$f":"H1057","v":1538}]
[9105221210079,"Мероприятия в области здравоохранения, спорта и физической культуры","013","09",10,"522 12 10","079",1538]
[910803,"Расходы на страхование","013","09",10,"803 00 00",null,{"$f":"H1059+H1061+H1063+H1065","v":72665}]
[9108030001,"Расходы на страхование имущества, находящегося в государственной собственности Московской области","013","09",10,"803 00 01",null,{"$f":"H1060","v":64153}]
[9108030001013,"Прочие расходы","013","09",10,"803 00 01","013",64153]
[9108030002,"Расходы на страхование гражданской ответственности учреждений, находящихся в государственной собственности Московской области","013","09",10,"803 00 02",null,{"$f":"H1062","v":4928}]
[9108030002013,"Прочие расходы","013","09",10,"803 00 02","013",4928]
[9108030003,"Расходы на обязательное страхование гражданской ответственности владельцев транспортных средств","013","09",10,"803 00 03",null,{"$f":"H1064","v":3584}]
[9108030003013,"Прочие расходы","013","09",10,"803 00 03","013",3584]
[9108030005,"Расходы на страхование жизни и здоровья медицинских, фармацевтических и других работников государственных учреждений здравоохранения Московской области, работа которых связана с угрозой их жизни и здоровью","013","09",10,"803 00 05",null,{"$f":"H1066","v":0}]
[9108030005013,"Прочие расходы","013","09",10,"803 00 05","013",{"$f":"4704-4704","v":0}]
[910808,"Расходы на оценку имущества, подлежащего страхованию","013","09",10,"808 00 00",null,{"$f":"H1068","v":250}]
[910808013,"Прочие расходы","013","09",10,"808 00 00","013",250]
[]
[0,"Министерство образования Московской области ","014",null,null,null,null,{"$f":"H1071+H1076+H1081+H1086+H1288","v":15040672}]
[1,"Общегосударственные вопросы","014","01",null,null,null,{"$f":"H1072","v":1100}]
[108,"Международные отношения и международное сотрудничество","014","01","08",null,null,{"$f":"H1073","v":1100}]
[108522,"Региональные целевые программы","014","01","08","522 00 00",null,{"$f":"H1074","v":1100}]
[10852209,"Областная целевая программа \"Поддержка Московской областью соотечественников за рубежом на 2007-2010 годы\"","014","01","08","522 09 00",null,{"$f":"H1075","v":1100}]
[10852209012,"Выполнение функций государственными органами","014","01","08","522 09 00","012",1100]
[2,"Национальная оборона","014","02",null,null,null,{"$f":"H1077","v":520}]
[204,"Мобилизационная подготовка экономики","014","02","04",null,null,{"$f":"H1078","v":520}]
[204209,"Реализация государственных функций по мобилизационной подготовке экономики","014","02","04","209 00 00",null,{"$f":"H1079","v":520}]
[20420901,"Мероприятия по обеспечению  мобилизационной готовности экономики","014","02","04","209 01 00",null,{"$f":"H1080","v":520}]
[20420901012,"Выполнение функций государственными органами","014","02","04","209 01 00","012",520]
[3,"Национальная безопасность и правоохранительная деятельность","014","03",null,null,null,{"$f":"H1082","v":6650}]
[309,"Защита населения и территории от последствий чрезвычайных ситуаций природного и техногенного характера, гражданская оборона ","014","03","09",null,null,{"$f":"H1083","v":6650}]
[309219,"Мероприятия по гражданской обороне","014","03","09","219 00 00",null,{"$f":"H1084","v":6650}]
[30921901,"Подготовка населения и организаций к действиям в чрезвычайной ситуации в мирное и военное время","014","03","09","219 01 00",null,{"$f":"H1085","v":6650}]
[30921901012,"Выполнение функций государственными органами","014","03","09","219 01 00","012",6650]
[7,"Образование","014","07",null,null,null,{"$f":"H1087+H1094+H1156+H1178+H1196+H1205+H1227+H1231+H1235","v":12224640}]
[701,"Дошкольное образование","014","07","01",null,null,{"$f":"H1088","v":45109}]
[701420,"Детские дошкольные учреждения","014","07","01","420 00 00",null,{"$f":"H1089","v":45109}]
[70142099,"Обеспечение деятельности подведомственных учреждений","014","07","01","420 99 00",null,{"$f":"H1090+H1092","v":45109}]
[7014209902,"Обеспечение питанием воспитанников детских дошкольных учреждений","014","07","01","420 99 02",null,{"$f":"H1091","v":6031}]
[7014209902001,"Выполнение функций бюджетными учреждениями","014","07","01","420 99 02","001",6031]
[7014209999,"Другие расходы на содержание детских дошкольных учреждений","014","07","01","420 99 99",null,{"$f":"H1093","v":39078}]
[7014209999001,"Выполнение функций бюджетными учреждениями","014","07","01","420 99 99","001",39078]
[702,"Общее образование","014","07","02",null,null,{"$f":"H1095+H1109+H1123+H1127+H1137+H1151","v":932483}]
[702421,"Школы-детские сады, школы начальные, неполные средние и средние ","014","07","02","421 00 00",null,{"$f":"H1096+H1098","v":230652}]
[70242103,"Поощрение лучших учителей","014","07","02","421 03 00",null,{"$f":"H1097","v":0}]
[70242103012,"Выполнение функций государственными органами","014","07","02","421 03 00","012",{"$f":"35100-35100","v":0}]
[70242199,"Обеспечение деятельности подведомственных учреждений","014","07","02","421 99 00",null,{"$f":"H1099+H1101+H1103+H1105+H1107","v":230652}]
[7024219902,"Обеспечение питанием учащихся школ-детских садов, школ начальных, неполных средних и средних ","014","07","02","421 99 02",null,{"$f":"H1100","v":9326}]
[7024219902001,"Выполнение функций бюджетными учреждениями","014","07","02","421 99 02","001",9326]
[7024219903,"Единовременное пособие учащимся образовательных учрежедний, продолжающим обучение* ","014","07","02","421 99 03",null,{"$f":"H1102","v":12}]
[7024219903001,"Выполнение функций бюджетными учреждениями","014","07","02","421 99 03","001",12]
[7024219905,"Ежемесячные денежные средства на личные расходы детем-сиротам и детям, оставшихся без попечения родителей, находящимся, воспитывающимся и обучающимся в областных образовательных учреждениях * ","014","07","02","421 99 05",null,{"$f":"H1104","v":22}]
[7024219905001,"Выполнение функций бюджетными учреждениями","014","07","02","421 99 05","001",22]
[7024219907,"Бесплатный проезд детей-сирот и детей, оставшихся без попечения родителей, обучающихся в государственных образовательных учреждениях Московской области*","014","07","02","421 99 07",null,{"$f":"H1106","v":225}]
[7024219907001,"Выполнение функций бюджетными учреждениями","014","07","02","421 99 07","001",225]
[7024219999,"Другие расходы на содержание школ-детских садов, школ начальных, неполных средних и средних, обеспечение и организацию учебного процесса ","014","07","02","421 99 99",null,{"$f":"H1108","v":221067}]
[7024219999001,"Выполнение функций бюджетными учреждениями","014","07","02","421 99 99","001",221067]
[702422,"Школы - интернаты","014","07","02","422 00 00",null,{"$f":"H1110","v":337493}]
[70242299,"Обеспечение деятельности подведомственных учреждений","014","07","02","422 99 00",null,{"$f":"H1111+H1113+H1115+H1117+H1119+H1121","v":337493}]
[7024229902,"Обеспечение питанием учащихся (воспитанников) школ-интернатов","014","07","02","422 99 02",null,{"$f":"H1112","v":40703}]
[7024229902001,"Выполнение функций бюджетными учреждениями","014","07","02","422 99 02","001",{"$f":"14381+26322","v":40703}]
[7024229903,"Единовременное пособие учащимся образовательных учрежедний, продолжающим обучение *","014","07","02","422 99 03",null,{"$f":"H1114","v":48}]
[7024229903001,"Выполнение функций бюджетными учреждениями","014","07","02","422 99 03","001",48]
[7024229904,"Единовременное денежное пособие детям-сиротам - выпускникам областных образовательных учрежедний*","014","07","02","422 99 04",null,{"$f":"H1116","v":100}]
[7024229904001,"Выполнение функций бюджетными учреждениями","014","07","02","422 99 04","001",{"$f":"80+20","v":100}]
[7024229905,"Ежемесячные денежные средства на личные расходы детям-сиротам и детям, оставшихся без попечения родителей, находящимся, воспитывающимся и обучающимся в областных образовательных учреждениях*  ","014","07","02","422 99 05",null,{"$f":"H1118","v":434}]
[7024229905001,"Выполнение функций бюджетными учреждениями","014","07","02","422 99 05","001",{"$f":"36+398","v":434}]
[7024229907,"Бесплатный проезд детей-сирот и детей, оставшихся без попечения родителей, обучающихся в государственных образовательных учреждениях Московской области*","014","07","02","422 99 07",null,{"$f":"H1120","v":608}]
[7024229907001,"Выполнение функций бюджетными учреждениями","014","07","02","422 99 07","001",608]
[7024229999,"Другие расходы на содержание школ-интернатов, обеспечение и организацию учебного процесса ","014","07","02","422 99 99",null,{"$f":"H1122","v":295600}]
[7024229999001,"Выполнение функций бюджетными учреждениями","014","07","02","422 99 99","001",{"$f":"42363+253237","v":295600}]
[702423,"Учреждения по внешкольной работе с детьми","014","07","02","423 00 00",null,{"$f":"H1124","v":44937}]
[70242399,"Обеспечение деятельности подведомственных учреждений","014","07","02","423 99 00",null,{"$f":"H1125","v":44937}]
[7024239999,"Другие расходы на содержание учреждений по внешкольной работе с детьми ","014","07","02","423 99 99",null,{"$f":"H1126","v":44937}]
[7024239999001,"Выполнение функций бюджетными учреждениями","014","07","02","423 99 99","001",44937]
[702424,"Детские дома","014","07","02","424 00 00",null,{"$f":"H1128","v":282617}]
[70242499,"Обеспечение деятельности подведомственных учреждений","014","07","02","424 99 00",null,{"$f":"H1129+H1131+H1133+H1135","v":282617}]
[7024249902,"Обеспечение питанием воспитанников детских домов","014","07","02","424 99 02",null,{"$f":"H1130","v":26245}]
[7024249902001,"Выполнение функций бюджетными учреждениями","014","07","02","424 99 02","001",26245]
[7024249903,"Еединовременное пособие учащимся образовательных учрежедний, продолжающим обучение *","014","07","02","424 99 03",null,{"$f":"H1132","v":72}]
[7024249903001,"Выполнение функций бюджетными учреждениями","014","07","02","424 99 03","001",72]
[7024249905,"Ежемесячные денежные средства на личные расходы детем-сиротам и детям, оставшихся без попечения родителей, находящимся, воспитывающимся и обучающимся в областных образовательных учреждениях*  ","014","07","02","424 99 05",null,{"$f":"H1134","v":993}]
[7024249905001,"Выполнение функций бюджетными учреждениями","014","07","02","424 99 05","001",993]
[7024249999,"Другие расходы на содержание детских домов, обеспечение и организацию учебного процесса ","014","07","02","424 99 99",null,{"$f":"H1136","v":255307}]
[7024249999001,"Выполнение функций бюджетными учреждениями","014","07","02","424 99 99","001",255307]
[702433,"Специальные (коррекционные) учреждения","014","07","02","433 00 00",null,{"$f":"H1138","v":0}]
[70243399,"Обеспечение деятельности подведомственных учреждений","014","07","02","433 99 00",null,{"$f":"H1139+H1141+H1143+H1145+H1147+H1149","v":0}]
[7024339902,"Обеспечение питанием учащихся (воспитанников) специальных (коррекционных) учреждений","014","07","02","433 99 02",null,{"$f":"H1140","v":0}]
[7024339902001,"Выполнение функций бюджетными учреждениями","014","07","02","433 99 02","001",{"$f":"34443-34443","v":0}]
[7024339903,"Единовременное пособие учащимся образовательных учрежедний, продолжающим обучение *","014","07","02","433 99 03",null,{"$f":"H1142","v":0}]
[7024339903001,"Выполнение функций бюджетными учреждениями","014","07","02","433 99 03","001",{"$f":"48-48","v":0}]
[7024339904,"Единовременное денежное пособие детям-сиротам - выпускникам областных образовательных учрежедний*","014","07","02","433 99 04",null,{"$f":"H1144","v":0}]
[7024339904001,"Выполнение функций бюджетными учреждениями","014","07","02","433 99 04","001",{"$f":"20-20","v":0}]
[7024339905,"Ежемесячные денежные средства на личные расходы детем-сиротам и детям, оставшихся без попечения родителей, находящимся, воспитывающимся и обучающимся в областных образовательных учреждениях*  ","014","07","02","433 99 05",null,{"$f":"H1146","v":0}]
[7024339905001,"Выполнение функций бюджетными учреждениями","014","07","02","433 99 05","001",{"$f":"398-398","v":0}]
[7024339907,"Бесплатный проезд детей-сирот и детей, оставшихся без попечения родителей, обучающихся в государственных образовательных учреждениях Московской области*","014","07","02","433 99 07",null,{"$f":"H1148","v":0}]
[7024339907001,"Выполнение функций бюджетными учреждениями","014","07","02","433 99 07","001",{"$f":"608-608","v":0}]
[7024339999,"Другие расходы на содержание специальных (коррекционных) учреждений, обеспечение и организацию учебного процесса ","014","07","02","433 99 99",null,{"$f":"H1150","v":0}]
[7024339999001,"Выполнение функций бюджетными учреждениями","014","07","02","433 99 99","001",{"$f":"330724-330724","v":0}]
[702520,"Иные безвозмездные и безвозвратные перечисления","014","07","02","520 00 00",null,{"$f":"H1152+H1154","v":36784}]
[70252009,"Ежемесячное денежное вознаграждение за классное руководство","014","07","02","520 09 00",null,{"$f":"H1153","v":884}]
[70252009001,"Выполнение функций бюджетными учреждениями","014","07","02","520 09 00","001",884]
[70252011,"Поощрение лучших учителей","014","07","02","520 11 00",null,{"$f":"H1155","v":35900}]
[70252011012,"Выполнение функций государственными органами","014","07","02","520 11 00","012",35900]
[703,"Начальное профессиональное образование","014","07","03",null,null,{"$f":"H1157","v":4630807}]
[703425,"Профессионально-технические училища","014","07","03","425 00 00",null,{"$f":"H1158","v":4630807}]
[70342599,"Обеспечение деятельности подведомственных учреждений","014","07","03","425 99 00",null,{"$f":"H1159+H1161+H1163+H1165+H1167+H1169+H1171+H1173+H1175+H1177","v":4630807}]
[7034259901,"Выплата стипендий и другие расходы из степиндиального фонда в профессионально-технических училищах","014","07","03","425 99 01",null,{"$f":"H1160","v":313617}]
[7034259901001,"Выполнение функций бюджетными учреждениями","014","07","03","425 99 01","001",313617]
[7034259902,"Обеспечение питанием учащихся профессионально-технических училищ","014","07","03","425 99 02",null,{"$f":"H1162","v":486591}]
[7034259902001,"Выполнение функций бюджетными учреждениями","014","07","03","425 99 02","001",486591]
[7034259903,"Единовременное пособие учащимся образовательных учрежедний, продолжающим обучение* ","014","07","03","425 99 03",null,{"$f":"H1164","v":174}]
[7034259903001,"Выполнение функций бюджетными учреждениями","014","07","03","425 99 03","001",174]
[7034259904,"Единовременное денежное пособие детям-сиротам - выпускникам областных образовательных учрежедний*","014","07","03","425 99 04",null,{"$f":"H1166","v":18700}]
[7034259904001,"Выполнение функций бюджетными учреждениями","014","07","03","425 99 04","001",18700]
[7034259906,"Проезд к месту учебы и обратно отдельных категорий обучающихся в государственных образовательных учреждениях Московской области*","014","07","03","425 99 06",null,{"$f":"H1168","v":19179}]
[7034259906001,"Выполнение функций бюджетными учреждениями","014","07","03","425 99 06","001",19179]
[7034259907,"Бесплатный проезд детей-сирот и детей, оставшихся без попечения родителей, обучающихся в государственных образовательных учреждениях Московской области*","014","07","03","425 99 07",null,{"$f":"H1170","v":15070}]
[7034259907001,"Выполнение функций бюджетными учреждениями","014","07","03","425 99 07","001",15070]
[7034259909,"Ежемесячные выплаты к стипендиям детям-сиротам, обучающимся в учреждениях начального профессионального образования Московской области* ","014","07","03","425 99 09",null,{"$f":"H1172","v":83840}]
[7034259909001,"Выполнение функций бюджетными учреждениями","014","07","03","425 99 09","001",83840]
[7034259910,"Ежегодная материальная помощь детям-сиротам, обучающимся в учреждениях начального профессионального образования Московской области на приобретение предметов первой необходимости*","014","07","03","425 99 10",null,{"$f":"H1174","v":5240}]
[7034259910001,"Выполнение функций бюджетными учреждениями","014","07","03","425 99 10","001",5240]
[7034259999,"Другие расходы на содержание профессионально-технических училищ, обеспечение и организацию учебного процесса ","014","07","03","425 99 99",null,{"$f":"H1176","v":3673198}]
[7034259999001,"Выполнение функций бюджетными учреждениями","014","07","03","425 99 99","001",3673198]
[70342599910,"Финансирование расходов, осуществляемое за счет средств, поступающих от сдачи в аренду имущества, закрепленного за государственными организациями","014","07","03","425 99 00",910,15198]
[704,"Среднее профессиональное образование","014","07","04",null,null,{"$f":"H1179","v":1647655}]
[704427,"Средние специальные учебные заведения","014","07","04","427 00 00",null,{"$f":"H1180","v":1647655}]
[70442799,"Обеспечение деятельности подведомственных учреждений","014","07","04","427 99 00",null,{"$f":"H1181+H1183+H1185+H1187+H1189+H1191+H1193+H1195","v":1647655}]
[7044279901,"Выплаты стипендий и прочие расходы стипендиального фонда в средних специальных учебных заведениях","014","07","04","427 99 01",null,{"$f":"H1182","v":114459}]
[7044279901001,"Выполнение функций бюджетными учреждениями","014","07","04","427 99 01","001",114459]
[7044279902,"Обеспечение питанием учащихся средних специальных учебных заведений","014","07","04","427 99 02",null,{"$f":"H1184","v":62805}]
[7044279902001,"Выполнение функций бюджетными учреждениями","014","07","04","427 99 02","001",62805]
[7044279903,"Единовременное пособие учащимся образовательных учрежедний, продолжающим обучение* ","014","07","04","427 99 03",null,{"$f":"H1186","v":8}]
[7044279903001,"Выполнение функций бюджетными учреждениями","014","07","04","427 99 03","001",8]
[7044279904,"Единовременное денежное пособие детям-сиротам - выпускникам областных образовательных учрежедний*","014","07","04","427 99 04",null,{"$f":"H1188","v":2840}]
[7044279904001,"Выполнение функций бюджетными учреждениями","014","07","04","427 99 04","001",2840]
[7044279907,"Бесплатный проезд детей-сирот и детей, оставшихся без попечения родителей, обучающихся в государственных образовательных учреждениях Московской области*","014","07","04","427 99 07",null,{"$f":"H1190","v":2026}]
[7044279907001,"Выполнение функций бюджетными учреждениями","014","07","04","427 99 07","001",2026]
[7044279912,"Частичная компенсация стоимости питания  обучающихся в средних специальных учебных заведений*","014","07","04","427 99 12",null,{"$f":"H1192","v":11863}]
[7044279912001,"Выполнение функций бюджетными учреждениями","014","07","04","427 99 12","001",11863]
[7044279999,"Другие расходы на содержание средних специальных учебных заведений","014","07","04","427 99 99",null,{"$f":"H1194","v":1451400}]
[7044279999001,"Выполнение функций бюджетными учреждениями","014","07","04","427 99 99","001",1451400]
[70442799910,"Финансирование расходов, осуществляемое за счет средств, поступающих от сдачи в аренду имущества, закрепленного за государственными организациями","014","07","04","427 99 00",910,2254]
[705,"Профессиональная подготовка, переподготовка и повышение квалификации","014","07","05",null,null,{"$f":"H1197","v":175682}]
[705428,"Институты повышения квалификации","014","07","05","428 00 00",null,{"$f":"H1198","v":175682}]
[70542899,"Обеспечение деятельности подведомственных учреждений","014","07","05","428 99 00",null,{"$f":"H1199+H1201+H1203","v":175682}]
[7054289901,"Выплата стипендий и другие расходы из степиндиального фонда в институтах повышения квалификации","014","07","05","428 99 01",null,{"$f":"H1200","v":378}]
[7054289901001,"Выполнение функций бюджетными учреждениями","014","07","05","428 99 01","001",378]
[7054289902,"Обеспечение питанием учащихся институтов повышения квалификации","014","07","05","428 99 02",null,{"$f":"H1202","v":31}]
[7054289902001,"Выполнение функций бюджетными учреждениями","014","07","05","428 99 02","001",31]
[7054289999,"Другие расходы на содержание институтов повышения квалификации, обеспечение и организацию учебного процесса  ","014","07","05","428 99 99",null,{"$f":"H1204","v":175273}]
[7054289999001,"Выполнение функций бюджетными учреждениями","014","07","05","428 99 99","001",175273]
[706,"Высшее профессиональное образование","014","07","06",null,null,{"$f":"H1206+H1221+H1224","v":2964257}]
[706430,"Высшие учебные заведения","014","07","06","430 00 00",null,{"$f":"H1207","v":2902746}]
[70643099,"Обеспечение деятельности подведомственных учреждений","014","07","06","430 99 00",null,{"$f":"H1208+H1210+H1212+H1214+H1216+H1218+H1220","v":2902746}]
[7064309901,"Выплата стипендий и другие расходы из степиндиального фонда в высших учебных заведениях","014","07","06","430 99 01",null,{"$f":"H1209","v":298346}]
[7064309901001,"Выполнение функций бюджетными учреждениями","014","07","06","430 99 01","001",298346]
[7064309902,"Обеспечение питанием студентов высших учебных заведений","014","07","06","430 99 02",null,{"$f":"H1211","v":15494}]
[7064309902001,"Выполнение функций бюджетными учреждениями","014","07","06","430 99 02","001",{"$f":"39321-23827","v":15494}]
[7064309904,"Единовременное денежное пособие детям-сиротам - выпускникам областных образовательных учрежедний*","014","07","06","430 99 04",null,{"$f":"H1213","v":580}]
[7064309904001,"Выполнение функций бюджетными учреждениями","014","07","06","430 99 04","001",580]
[7064309907,"Бесплатный проезд детей-сирот и детей, оставшихся без попечения родителей, обучающихся в государственных образовательных учреждениях Московской области*","014","07","06","430 99 07",null,{"$f":"H1215","v":561}]
[7064309907001,"Выполнение функций бюджетными учреждениями","014","07","06","430 99 07","001",561]
[7064309912,"Частичная компенсация стоимости питания  обучающихся в высших учебных заведениях*","014","07","06","430 99 12",null,{"$f":"H1217","v":23827}]
[7064309912001,"Выполнение функций бюджетными учреждениями","014","07","06","430 99 12","001",23827]
[7064309999,"Другие расходы на содержание высших учебных заведений, обеспечение и организацию учебного процесса  ","014","07","06","430 99 99",null,{"$f":"H1219","v":2563302}]
[7064309999001,"Выполнение функций бюджетными учреждениями","014","07","06","430 99 99","001",{"$f":"2564443-580-561","v":2563302}]
[70643099910,"Финансирование расходов, осуществляемое за счет средств, поступающих от сдачи в аренду имущества, закрепленного за государственными организациями","014","07","06","430 99 00",910,636]
[706436,"Мероприятия в области образования","014","07","06","436 00 00",null,{"$f":"H1222","v":40000}]
[70643611,"Государственная поддержка внедрения комплексных мер модернизации образования за счет средств бюджета Московской области","014","07","06","436 11 00",null,{"$f":"H1223","v":40000}]
[70643611001,"Выполнение функций бюджетными учреждениями","014","07","06","436 11 00","001",40000]
[706520,"Иные безвозмездные и безвозвратные перечисления","014","07","06","520 00 00",null,{"$f":"H1225","v":21511}]
[70652012,"Государственная поддержка внедрения комплексных мер модернизации образования ","014","07","06","520 12 00",null,{"$f":"H1226","v":21511}]
[70652012001,"Выполнение функций бюджетными учреждениями","014","07","06","520 12 00","001",21511]
[707,"Молодежная политика и оздоровление детей","014","07","07",null,null,{"$f":"H1228","v":285}]
[707432,"Мероприятия по организации оздоровительной кампании детей и подростков","014","07","07","432 00 00",null,{"$f":"H1229","v":285}]
[70743202,"Оздоровление детей ","014","07","07","432 02 00",null,{"$f":"H1230","v":285}]
[70743202001,"Выполнение функций бюджетными учреждениями","014","07","07","432 02 00","001",285]
[708,"Прикладные научные исследования в области образования","014","07","08",null,null,{"$f":"H1232","v":5625}]
[708081,"Прикладные научные исследования и разработки","014","07","08","081 00 00",null,{"$f":"H1233","v":5625}]
[70808199,"Обеспечение деятельности подведомственных учреждений","014","07","08","081 99 00",null,{"$f":"H1234","v":5625}]
[70808199001,"Выполнение функций бюджетными учреждениями","014","07","08","081 99 00","001",5625]
[709,"Другие вопросы в области образования","014","07","09",null,null,{"$f":"H1236+H1240+H1246+H1273+H1279+H1286","v":1822737}]
[709002,"Руководство и управление в сфере установленных функций органов государственной власти субъектов Российской Федерации  и органов местного самоуправления","014","07","09","002 00 00",null,{"$f":"H1237","v":788194}]
[70900204,"Центральный аппарат","014","07","09","002 04 00",null,{"$f":"SUM(H1238:H1239)","v":788194}]
[70900204012,"Выполнение функций государственными органами","014","07","09","002 04 00","012",787674]
[70900204902,"Проведение мероприятий по защите информации, обеспечению безопасности информационных систем и баз данных, содержащих конфиденциальную информацию, в том числе персональные данные населения Московской области","014","07","09","002 04 00",902,520]
[709435,"Учреждения, обеспечивающие предоставление услуг в сфере образования ","014","07","09","435 00 00",null,{"$f":"H1241","v":47569}]
[70943599,"Обеспечение деятельности подведомственных учреждений","014","07","09","435 99 00",null,{"$f":"H1242+H1244","v":47569}]
[7094359902,"Обеспечение питанием учащихся (воспитанников) учреждений, обеспечивающих предоставление услуг в сфере образования ","014","07","09","435 99 02",null,{"$f":"H1243","v":2090}]
[7094359902001,"Выполнение функций бюджетными учреждениями","014","07","09","435 99 02","001",2090]
[7094359999,"Другие расходы на содержание учреждений, обеспечивающих предоставление услуг в сфере образования  ","014","07","09","435 99 99",null,{"$f":"H1245","v":45479}]
[7094359999001,"Выполнение функций бюджетными учреждениями","014","07","09","435 99 99","001",{"$f":"7070+38409","v":45479}]
[709436,"Мероприятия в области образования","014","07","09","436 00 00",null,{"$f":"H1247+H1252+H1254+H1256+H1271","v":686124}]
[70943601,"Государственная поддержка в сфере образования ","014","07","09","436 01 00",null,{"$f":"H1248+H1250","v":21600}]
[7094360101,"Единовременное пособие выпускникам областных высших и средних педагогических образовательных  учреждений, направленных на работу в образовательные учреждения Московской области* ","014","07","09","436 01 01",null,{"$f":"H1249","v":16600}]
[7094360101001,"Выполнение функций бюджетными учреждениями","014","07","09","436 01 01","001",16600]
[7094360102,"Другие формы государственной поддержки в сфере образования ","014","07","09","436 01 02",null,{"$f":"H1251","v":5000}]
[7094360102001,"Выполнение функций бюджетными учреждениями","014","07","09","436 01 02","001",{"$f":"21600-16600","v":5000}]
[70943609,"Проведение мероприятий для детей и молодежи","014","07","09","436 09 00",null,{"$f":"H1253","v":55980}]
[70943609012,"Выполнение функций государственными органами","014","07","09","436 09 00","012",55980]
[70943611,"Поощрение лучших учителей","014","07","09","436 11 00",null,{"$f":"H1255","v":35100}]
[70943611012,"Выполнение функций государственными органами","014","07","09","436 11 00","012",35100]
[70943693,"Премии в области литературы и искусства, образования, печатных средств массовой информации, науки и техники и иные поощрения за особые заслуги перед государством","014","07","09","436 93 00",null,{"$f":"H1257+H1259+H1261+H1263+H1265+H1267+H1269","v":274445}]
[7094369301,"Выплата научных грантов Губернатора Московской области студентам, аспирантам и докторантам государственных высших образовательных учреждений, курсантам, адъюнктам высших военных учебных заведений, расположенных на территории Московской области*","014","07","09","436 93 01",null,{"$f":"H1258","v":820}]
[7094369301013,"Прочие расходы","014","07","09","436 93 01","013",820]
[7094369302,"Ежемесячные стипендии Губернатора Московской области детям-сиротам, обучающимся в образовательных учреждениях среднего и высшего профессионального образования*","014","07","09","436 93 02",null,{"$f":"H1260","v":212000}]
[7094369302013,"Прочие расходы","014","07","09","436 93 02","013",212000]
[7094369303,"Именные стипендии \"Подмосковье\"  студентам государственных высших образовательных учебных заведений, расположенных на территории Московской области, студентам государственных высших образовательных учебных заведений, подведомственных Министерству образования Московской области, курсантам и слушателям высших военных учебных заведений, расположенных на территории Московской области*","014","07","09","436 93 03",null,{"$f":"H1262","v":6720}]
[7094369303013,"Прочие расходы","014","07","09","436 93 03","013",6720]
[7094369304,"Ежемесячные именные стипендии \"Подмосковье\" детям-инвалидам, учащимся в образовательных учреждениях*","014","07","09","436 93 04",null,{"$f":"H1264","v":6000}]
[7094369304013,"Прочие расходы","014","07","09","436 93 04","013",6000]
[7094369305,"Именные стипендии Губернатора Московской области для детей и подростков, проявивших выдающиеся способности в области науки, искусства и спорта*","014","07","09","436 93 05",null,{"$f":"H1266","v":24000}]
[7094369305013,"Прочие расходы","014","07","09","436 93 05","013",24000]
[7094369306,"Именные премии Губернатора Московской области работникам образовательных учреждений в Московской области*","014","07","09","436 93 06",null,{"$f":"H1268","v":9000}]
[7094369306013,"Прочие расходы","014","07","09","436 93 06","013",9000]
[7094369307,"Другие премии в области литературы и искусства, образования, печатных средств массовой информации, науки и техники и иные поощрения за особые заслуги перед государством","014","07","09","436 93 07",null,{"$f":"H1270","v":15905}]
[7094369307013,"Прочие расходы","014","07","09","436 93 07","013",{"$f":"274445-820-212000-6720-6000-24000-9000","v":15905}]
[70943694,"Прочие мероприятия в области образования","014","07","09","436 94 00",null,{"$f":"H1272","v":298999}]
[70943694013,"Прочие расходы","014","07","09","436 94 00","013",{"$f":"348999-50000","v":298999}]
[709522,"Региональные целевые программы","014","07","09","522 00 00",null,{"$f":"H1274+H1276","v":220300}]
[70952206,"Областная целевая программа \"Развитие образования в Московской области на период 2006-2010 годов\"","014","07","09","522 06 00",null,{"$f":"H1275","v":205000}]
[70952206012,"Выполнение функций государственными органами","014","07","09","522 06 00","012",205000]
[70952210,"Областная целевая программа \"Обеспечение безопасности дорожного движения на территории Московской области в 2007-2010 годах\"","014","07","09","522 10 00",null,{"$f":"H1277","v":15300}]
[7095221001,"Раздел \"Предупреждение опасного поведения участников дорожного движения\"","014","07","09","522 10 01",null,{"$f":"H1278","v":15300}]
[7095221001012,"Выполнение функций государственными органами","014","07","09","522 10 01","012",15300]
[709803,"Расходы на страхование ","014","07","09","803 00 00",null,{"$f":"H1280+H1282+H1284","v":80300}]
[7098030001,"Расходы на страхование имущества, находящегося в государственной собственности Московской области","014","07","09","803 00 01",null,{"$f":"H1281","v":73000}]
[7098030001013,"Прочие расходы","014","07","09","803 00 01","013",73000]
[7098030002,"Расходы на страхование гражданской ответственности учреждений, находящихся в государственной собственности Московской области","014","07","09","803 00 02",null,{"$f":"H1283","v":2800}]
[7098030002013,"Прочие расходы","014","07","09","803 00 02","013",2800]
[7098030003,"Расходы на обязательное страхование гражданской ответственности владельцев транспортных средств","014","07","09","803 00 03",null,{"$f":"H1285","v":4500}]
[7098030003013,"Прочие расходы","014","07","09","803 00 03","013",4500]
[709808,"Расходы на оценку имущества, подлежащего страхованию","014","07","09","808 00 00",null,{"$f":"H1287","v":250}]
[709808013,"Прочие расходы","014","07","09","808 00 00","013",250]
[10,"Социальная политика","014",10,null,null,null,{"$f":"H1289","v":2807762}]
[1004,"Охрана семьи и детства","014",10,"04",null,null,{"$f":"H1290+H1297+H1308","v":2807762}]
[1004505,"Социальная помощь","014",10,"04","505 00 00",null,{"$f":"H1291+H1293+H1295","v":478340}]
[10045050502,"Выплата единовременного пособия при всех формах устройства детей, лишенных родительского попечения, в семью*","014",10,"04","505 05 02",null,{"$f":"H1292","v":28096}]
[10045050502005,"Социальные выплаты","014",10,"04","505 05 02","005",28096]
[10045050503,"Выплата единовременного пособия детям-сиротам и детям, оставшимся без попечения родителей, переданным на усыновление в семьи граждан Российской Федерации*","014",10,"04","505 05 03",null,{"$f":"H1294","v":15940}]
[10045050503005,"Социальные выплаты","014",10,"04","505 05 03","005",15940]
[10045050504,"Выплата ежемесячного пособия детям, переданным на усыновление в семьи граждан Российской Федерации*","014",10,"04","505 05 04",null,{"$f":"H1296","v":434304}]
[10045050504005,"Социальные выплаты","014",10,"04","505 05 04","005",434304]
[1004511,"Мероприятия по борьбе с беспризорностью, по опеке и попечительству","014",10,"04","511 00 00",null,{"$f":"H1298+H1300+H1302+H1304+H1306","v":2178407}]
[100451101,"Выплаты семьям опекунов на содержание подопечных детей за счет средств бюджета Московской области*","014",10,"04","511 01 00",null,{"$f":"H1299","v":1258792}]
[100451101005,"Социальные выплаты","014",10,"04","511 01 00","005",{"$f":"1150179+108613","v":1258792}]
[100451104,"Выплаты приемной семье на содержание приемных детей*","014",10,"04","511 04 00",null,{"$f":"H1301","v":218698}]
[100451104005,"Социальные выплаты","014",10,"04","511 04 00","005",{"$f":"199907+18791","v":218698}]
[100451105,"Выплаты приемным родителям и приемным семьям за счет средств бюджета Московской области*","014",10,"04","511 05 00",null,{"$f":"H1303","v":465435}]
[100451105005,"Социальные выплаты","014",10,"04","511 05 00","005",465435]
[100451106,"Вознаграждение патронатного воспитателя*","014",10,"04","511 06 00",null,{"$f":"H1305","v":170324}]
[100451106005,"Социальные выплаты","014",10,"04","511 06 00","005",170324]
[100451107,"Обеспечение бесплатного проезда детей-сирот и детей, оставшихся без попечения родителей*","014",10,"04","511 07 00",null,{"$f":"H1307","v":65158}]
[100451107005,"Социальные выплаты","014",10,"04","511 07 00","005",65158]
[1004520,"Иные безвозмездные и безвозвратные перечисления","014",10,"04","520 00 00",null,{"$f":"H1309","v":151015}]
[100452013,"Содержание ребенка в семье опекуна и приемной семье, а также оплата труда приемного родителя*","014",10,"04","520 13 00",null,{"$f":"H1310","v":151015}]
[10045201310,"Материальное обеспечение приемной семьи","014",10,"04","520 13 10",null,{"$f":"H1311+H1313+H1315","v":151015}]
[10045201311,"Выплаты приемной семье на содержание приемных детей*","014",10,"04","520 13 11",null,{"$f":"H1312","v":17307}]
[10045201311005,"Социальные выплаты","014",10,"04","520 13 11","005",17307]
[10045201312,"Оплата труда приемного родителя*","014",10,"04","520 13 12",null,{"$f":"H1314","v":34073}]
[10045201312005,"Социальные выплаты","014",10,"04","520 13 12","005",34073]
[10045201313,"Выплаты семьям опекунов на содержание подопечных детей*","014",10,"04","520 13 13",null,{"$f":"H1316","v":99635}]
[10045201313005,"Социальные выплаты","014",10,"04","520 13 13","005",99635]
[]
[0,"Министерство информационных технологий и связи Московской области","015",null,null,null,null,{"$f":"H1319+H1327+H1332","v":564821}]
[4,"Национальная экономика","015","04",null,null,null,{"$f":"H1320","v":267559}]
[410,"Связь и информатика","015","04","10",null,null,{"$f":"H1321+H1324","v":267559}]
[410002,"Руководство и управление в сфере установленных функций органов государственной власти субъектов Российской Федерации  и органов местного самоуправления","015","04","10","002 00 00",null,{"$f":"H1322","v":82000}]
[41000204,"Центральный аппарат","015","04","10","002 04 00",null,{"$f":"H1323","v":82000}]
[41000204012,"Выполнение функций государственными органами","015","04","10","002 04 00","012",82000]
[410522,"Региональные целевые программы","015","04","10","522 00 00",null,{"$f":"H1325","v":185559}]
[41052204,"Областная целевая программа \"Электронное Подмосковье на период 2006-2009 годы\"","015","04","10","522 04 00",null,{"$f":"H1326","v":185559}]
[41052204059,"Мероприятия в области информатики и использования информационных систем","015","04","10","522 04 00","059",185559]
[7,"Образование","015","07",null,null,null,{"$f":"H1328","v":62}]
[707,"Молодежная политика и оздоровление детей","015","07","07",null,null,{"$f":"H1329","v":62}]
[707432,"Мероприятия по организации оздоровительной кампании детей и подростков","015","07","07","432 00 00",null,{"$f":"H1330","v":62}]
[70743202,"Оздоровление детей ","015","07","07","432 02 00",null,{"$f":"H1331","v":62}]
[70743202001,"Выполнение функций бюджетными учреждениями","015","07","07","432 02 00","001",62]
[11,"Межбюджетные трансферты","015",11,null,null,null,{"$f":"H1333","v":297200}]
[1102,"Субсидии бюджетам субъектов Российской Федерации и муниципальных образований (межбюджетные субсидии)","015",11,"02",null,null,{"$f":"H1334","v":297200}]
[1102330,"Информационные технологии и связь","015",11,"02","330 00 00",null,{"$f":"H1335","v":297200}]
[110233003,"Технопарки в сфере высоких технологий","015",11,"02","330 03 00",null,{"$f":"H1336","v":297200}]
[11023300301,"Создание технопарков","015",11,"02","330 03 01",null,{"$f":"H1337","v":297200}]
[11023300301020,"Софинансирование объектов капитального строительства государственной собственности субъектов Российской Федерации  (объектов капитального строительства собственности муниципальных образований)","015",11,"02","330 03 01","020",297200]
[]
[0,"Комитет по делам молодежи  Московской области","016",null,null,null,null,{"$f":"H1340+H1345+H1350+H1355","v":115912}]
[1,"Общегосударственные вопросы","016","01",null,null,null,{"$f":"H1341","v":80}]
[114,"Другие общегосударственные вопросы","016","01",14,null,null,{"$f":"H1342","v":80}]
[114001,"Руководство и управление в сфере установленных функций","016","01",14,"001 00 00",null,{"$f":"H1343","v":80}]
[11400166,"Подготовка и проведение Праздника труда в Московской области","016","01",14,"001 66 00",null,{"$f":"H1344","v":80}]
[11400166013,"Прочие расходы","016","01",14,"001 66 00","013",80]
[2,"Национальная оборона","016","02",null,null,null,{"$f":"H1346","v":142}]
[204,"Мобилизационная подготовка экономики","016","02","04",null,null,{"$f":"H1347","v":142}]
[204209,"Реализация государственных функций по мобилизационной подготовке экономики","016","02","04","209 00 00",null,{"$f":"H1348","v":142}]
[20420901,"Мероприятия по обеспечению  мобилизационной готовности экономики","016","02","04","209 01 00",null,{"$f":"H1349","v":142}]
[20420901012,"Выполнение функций государственными органами","016","02","04","209 01 00","012",142]
[3,"Национальная безопасность и правоохранительная деятельность","016","03",null,null,null,{"$f":"H1351","v":41}]
[309,"Защита населения и территории от последствий чрезвычайных ситуаций природного и техногенного характера, гражданская оборона ","016","03","09",null,null,{"$f":"H1352","v":41}]
[309219,"Мероприятия по гражданской обороне","016","03","09","219 00 00",null,{"$f":"H1353","v":41}]
[30921901,"Подготовка населения и организаций к действиям в чрезвычайной ситуации в мирное и военное время","016","03","09","219 01 00",null,{"$f":"H1354","v":41}]
[30921901012,"Выполнение функций государственными органами","016","03","09","219 01 00","012",41]
[7,"Образование","016","07",null,null,null,{"$f":"H1356","v":115649}]
[707,"Молодежная политика и оздоровление детей","016","07","07",null,null,{"$f":"H1357+H1361+H1366","v":115649}]
[707002,"Руководство и управление в сфере установленных функций органов государственной власти субъектов Российской Федерации  и органов местного самоуправления","016","07","07","002 00 00",null,{"$f":"H1358","v":39771}]
[70700204,"Центральный аппарат","016","07","07","002 04 00",null,{"$f":"SUM(H1359:H1360)","v":39771}]
[70700204012,"Выполнение функций государственными органами","016","07","07","002 04 00","012",39313]
[70700204902,"Проведение мероприятий по защите информации, обеспечению безопасности информационных систем и баз данных, содержащих конфиденциальную информацию, в том числе персональные данные населения Московской области","016","07","07","002 04 00",902,458]
[707432,"Мероприятия по организации оздоровительной кампании детей и подростков","016","07","07","432 00 00",null,{"$f":"H1362+H1364","v":2070}]
[70743201,"Мероприятия по организации оздоровительной кампании детей","016","07","07","432 01 00",null,{"$f":"H1363","v":1989}]
[70743201001,"Выполнение функций бюджетными учреждениями","016","07","07","432 01 00","001",1989]
[70743202,"Оздоровление детей ","016","07","07","432 02 00",null,{"$f":"H1365","v":81}]
[70743202001,"Выполнение функций бюджетными учреждениями","016","07","07","432 02 00","001",81]
[707522,"Региональные целевые программы","016","07","07","522 00 00",null,{"$f":"H1367","v":73808}]
[70752207,"Областная целевая программа \"Молодое поколение Подмосковья на 2006-2008 годы\"","016","07","07","522 07 00",null,{"$f":"H1368","v":73808}]
[70752207447,"Проведение оздоровительных и других мероприятий для детей и молодежи ","016","07","07","522 07 00",447,73808]
[]
[0,"Министерство по делам территориальных образований Московской области","017",null,null,null,null,{"$f":"H1371+H1377+H1382+H1387","v":500750}]
[1,"Общегосударственные вопросы","017","01",null,null,null,{"$f":"H1372","v":249963}]
[114,"Другие общегосударственные вопросы","017","01",14,null,null,{"$f":"H1373","v":249963}]
[114002,"Руководство и управление в сфере установленных функций органов государственной власти субъектов Российской Федерации  и органов местного самоуправления","017","01",14,"002 00 00",null,{"$f":"H1374","v":249963}]
[11400204,"Центральный аппарат","017","01",14,"002 04 00",null,{"$f":"SUM(H1375:H1376)","v":249963}]
[11400204012,"Выполнение функций государственными органами","017","01",14,"002 04 00","012",247180]
[11400204902,"Проведение мероприятий по защите информации, обеспечению безопасности информационных систем и баз данных, содержащих конфиденциальную информацию, в том числе персональные данные населения Московской области","017","01",14,"002 04 00",902,2783]
[2,"Национальная оборона","017","02",null,null,null,{"$f":"H1378","v":530}]
[204,"Мобилизационная подготовка экономики","017","02","04",null,null,{"$f":"H1379","v":530}]
[204209,"Реализация государственных функций по мобилизационной подготовке экономики","017","02","04","209 00 00",null,{"$f":"H1380","v":530}]
[20420901,"Мероприятия по обеспечению  мобилизационной готовности экономики","017","02","04","209 01 00",null,{"$f":"H1381","v":530}]
[20420901012,"Выполнение функций государственными органами","017","02","04","209 01 00","012",530]
[3,"Национальная безопасность и правоохранительная деятельность","017","03",null,null,null,{"$f":"H1383","v":257}]
[309,"Защита населения и территории от последствий чрезвычайных ситуаций природного и техногенного характера, гражданская оборона ","017","03","09",null,null,{"$f":"H1384","v":257}]
[309219,"Мероприятия по гражданской обороне","017","03","09","219 00 00",null,{"$f":"H1385","v":257}]
[30921901,"Подготовка населения и организаций к действиям в чрезвычайной ситуации в мирное и военное время","017","03","09","219 01 00",null,{"$f":"H1386","v":257}]
[30921901012,"Выполнение функций государственными органами","017","03","09","219 01 00","012",257]
[4,"Национальная экономика","017","04",null,null,null,{"$f":"H1388","v":250000}]
[412,"Другие вопросы в области национальной экономики","017","04",12,null,null,{"$f":"H1389","v":250000}]
[412340,"Реализация государственных функций в области национальной экономики","017","04",12,"340 00 00 ",null,{"$f":"H1390","v":250000}]
[41234003,"Мероприятия по землеустройству и землепользованию","017","04",12,"340 03 00 ",null,{"$f":"H1391","v":250000}]
[4123400303,"Описание и утверждение границ муниципальных образований Московской области в соответствии с требованиями градостроительного и земельного законодательства","017","04",12,"340 03 03",null,{"$f":"H1392","v":250000}]
[4123400303012,"Выполнение функций государственными органами","017","04",12,"340 03 03","012",250000]
[]
[0,"Министерство культуры Московской области","018",null,null,null,null,{"$f":"H1395+H1403+H1407+H1412+H1417+H1444","v":2940977}]
[1,"Общегосударственные вопросы","018","01",null,null,null,{"$f":"H1396","v":6750}]
[108,"Международные отношения и международное сотрудничество","018","01","08",null,null,{"$f":"H1397+H1400","v":6750}]
[108030,"Международное сотрудничество","018","01","08","030 00 00",null,{"$f":"H1398","v":5800}]
[10803004,"Международные культурные, научные и информационные связи","018","01","08","030 04 00",null,{"$f":"H1399","v":5800}]
[10803004012,"Выполнение функций государственными органами","018","01","08","030 04 00","012",5800]
[108522,"Региональные целевые программы","018","01","08","522 00 00",null,{"$f":"H1401","v":950}]
[10852209,"Областная целевая программа \"Поддержка Московской областью соотечественников за рубежом на 2007-2010 годы\"","018","01","08","522 09 00",null,{"$f":"H1402","v":950}]
[10852209012,"Выполнение функций государственными органами","018","01","08","522 09 00","012",950]
[2,"Национальная оборона","018","02",null,null,null,{"$f":"H1404","v":0}]
[203,"Мобилизационная подготовка экономики","018","02","03",null,null,{"$f":"H1405","v":0}]
[203209,"Реализация государственных функций по мобилизационной подготовке экономики","018","02","03","209 00 00",null,{"$f":"H1406","v":0}]
[203209237,"Мероприятия по обеспечению мобилизационной готовности экономики","018","02","03","209 00 00",237]
[3,"Национальная безопасность и правоохранительная деятельность","018","03",null,null,null,{"$f":"H1408","v":1819}]
[309,"Защита населения и территории от последствий чрезвычайных ситуаций природного и техногенного характера, гражданская оборона ","018","03","09",null,null,{"$f":"H1409","v":1819}]
[309219,"Мероприятия по гражданской обороне","018","03","09","219 00 00",null,{"$f":"H1410","v":1819}]
[30921901,"Подготовка населения и организаций к действиям в чрезвычайной ситуации в мирное и военное время","018","03","09","219 01 00",null,{"$f":"H1411","v":1819}]
[30921901012,"Выполнение функций государственными органами","018","03","09","219 01 00","012",1819]
[4,"Национальная экономика","018","04",null,null,null,{"$f":"H1413","v":100000}]
[412,"Другие вопросы в области национальной экономики","018","04",12,null,null,{"$f":"H1414","v":100000}]
[412340,"Реализация государственных функций в области национальной экономики","018","04",12,"340 00 00",null,{"$f":"H1415","v":100000}]
[41234004,"Мероприятия в области гражданской промышленности","018","04",12,"340 04 00",null,{"$f":"H1416","v":100000}]
[41234004006,"Субсидии юридическим лицам","018","04",12,"340 04 00","006",100000]
[7,"Образование","018","07",null,null,null,{"$f":"H1418+H1437","v":357691}]
[704,"Среднее профессиональное образование","018","07","04",null,null,{"$f":"H1419","v":348857}]
[704427,"Средние специальные учебные заведения","018","07","04","427 00 00",null,{"$f":"H1420","v":348857}]
[70442799,"Обеспечение деятельности подведомственных учреждений","018","07","04","427 99 00",null,{"$f":"H1421+H1423+H1425+H1427+H1429+H1431+H1433+H1435","v":348857}]
[7044279901,"Выплаты стипендий и прочие расходы стипендиального фонда в средних специальных учебных заведениях","018","07","04","427 99 01",null,{"$f":"H1422","v":8114}]
[7044279901001,"Выполнение функций бюджетными учреждениями","018","07","04","427 99 01","001",8114]
[7044279902,"Обеспечение питанием учащихся средних специальных учебных заведений","018","07","04","427 99 02",null,{"$f":"H1424","v":408}]
[7044279902001,"Выполнение функций бюджетными учреждениями","018","07","04","427 99 02","001",408]
[7044279904,"Единовременное денежное пособие детям-сиротам - выпускникам областных образовательных учрежедний*","018","07","04","427 99 04",null,{"$f":"H1426","v":180}]
[7044279904001,"Выполнение функций бюджетными учреждениями","018","07","04","427 99 04","001",180]
[7044279907,"Бесплатный проезд детей-сирот и детей, оставшихся без попечения родителей, обучающихся в государственных образовательных учреждениях Московской области*","018","07","04","427 99 07",null,{"$f":"H1428","v":32}]
[7044279907001,"Выполнение функций бюджетными учреждениями","018","07","04","427 99 07","001",32]
[7044279908,"Ежемесячные стипендии Губернатора Московской области детям-сиротам, обучающимся в образовательных учреждениях среднего профессионального образования*","018","07","04","427 99 08",null,{"$f":"H1430","v":648}]
[7044279908001,"Выполнение функций бюджетными учреждениями","018","07","04","427 99 08","001",648]
[7044279911,"Ежемесячные стипендии Губернатора Московской области детям-инвалидам, учащимся образовательных  и культурно - досуговых учреждений сферы культуры и искусства Московской области за успешное освоение программ обучения и за достижения в различных направлениях искусства* ","018","07","04","427 99 11",null,{"$f":"H1432","v":6000}]
[7044279911001,"Выполнение функций бюджетными учреждениями","018","07","04","427 99 11","001",6000]
[7044279912,"Частичная компенсация стоимости питания  обучающихся в средних специальных учебных заведений*","018","07","04","427 99 12",null,{"$f":"H1434","v":1367}]
[7044279912001,"Выполнение функций бюджетными учреждениями","018","07","04","427 99 12","001",1367]
[7044279999,"Другие расходы на содержание средних специальных учебных заведений","018","07","04","427 99 99",null,{"$f":"H1436","v":332108}]
[7044279999001,"Выполнение функций бюджетными учреждениями","018","07","04","427 99 99","001",332108]
[709,"Другие вопросы в области образования","018","07","09",null,null,{"$f":"H1438+H1441","v":8834}]
[709436,"Мероприятия в области образования","018","07","09","436 00 00",null,{"$f":"H1439","v":3299}]
[70943609,"Проведение мероприятий для детей и молодежи","018","07","09","436 09 00",null,{"$f":"H1440","v":3299}]
[70943609013,"Прочие расходы","018","07","09","436 09 00","013",3299]
[709806,"Прочие расходы, не отнесенные к другим целевым статьям","018","07","09","806 00 00",null,{"$f":"H1442","v":5535}]
[70980602,"Подготовка кадров в сфере культуры и искусства","018","07","09","806 02 00",null,{"$f":"H1443","v":5535}]
[70980602013,"Прочие расходы","018","07","09","806 02 00","013",5535]
[8,"Культура, кинематография, средства массовой информации","018","08",null,null,null,{"$f":"H1445+H1493","v":2474717}]
[801,"Культура ","018","08","01",null,null,{"$f":"H1446+H1450+H1456+H1464+H1472+H1480+H1483","v":2306507}]
[801102,"Бюджетные инвестиции в объекты капитального строительства, не включенные в целевые программы","018","08","01","102 00 00",null,{"$f":"H1447","v":253950}]
[80110201,"Бюджетные инвестиции в объекты капитального строительства государственной собственности субъектов Российской Федерации (объекты капитального строительства собственности муниципальных образований)","018","08","01","102 01 00",null,{"$f":"H1448","v":253950}]
[8011020101,"Бюджетные инвестиции в объекты капитального строительства государственной собственности субъектов Российской Федерации ","018","08","01","102 01 01",null,{"$f":"H1449","v":253950}]
[8011020101003,"Бюджетные инвестиции","018","08","01","102 01 01","003",253950]
[801440,"Дворцы и дома культуры, другие учреждения культуры и средств массовой информации","018","08","01","440 00 00",null,{"$f":"H1451","v":138019}]
[80144099,"Обеспечение деятельности подведомственных учреждений","018","08","01","440 99 00",null,{"$f":"H1452+H1454","v":138019}]
[8014409901,"Расходы на уплату земельного налога и налога на имущество дворцов и домов культуры, других учреждений культуры и средств массовой информации","018","08","01","440 99 01",null,{"$f":"H1453","v":3949}]
[8014409901001,"Выполнение функций бюджетными учреждениями","018","08","01","440 99 01","001",3949]
[8014409999,"Другие расходы на обеспечение деятельности дворцов и домов культуры, других учреждений культуры и средств массовой информации","018","08","01","440 99 99",null,{"$f":"H1455","v":134070}]
[8014409999001,"Выполнение функций бюджетными учреждениями","018","08","01","440 99 99","001",{"$f":"131070+3000","v":134070}]
[801441,"Музеи и постоянные выставки","018","08","01","441 00 00",null,{"$f":"H1457","v":522403}]
[80144199,"Обеспечение деятельности подведомственных учреждений","018","08","01","441 99 00",null,{"$f":"H1458+H1460+H1462","v":522403}]
[8014419901,"Расходы на уплату земельного налога и налога на имущество музеев и постоянных выставок","018","08","01","441 99 01",null,{"$f":"H1459","v":7333}]
[8014419901001,"Выполнение функций бюджетными учреждениями","018","08","01","441 99 01","001",7333]
[8014419902,"Расходы на охранные мероприятия музеев и постоянных выставок","018","08","01","441 99 02",null,{"$f":"H1461","v":70672}]
[8014419902001,"Выполнение функций бюджетными учреждениями","018","08","01","441 99 02","001",70672]
[8014419999,"Другие расходы на обеспечение деятельности музеев и постоянных выставок","018","08","01","441 00 99",null,{"$f":"H1463","v":444398}]
[8014419999001,"Выполнение функций бюджетными учреждениями","018","08","01","441 00 99","001",444398]
[801442,"Библиотеки","018","08","01","442 00 00",null,{"$f":"H1465","v":57143}]
[80144299,"Обеспечение деятельности подведомственных учреждений","018","08","01","442 99 00",null,{"$f":"H1466+H1468+H1470","v":57143}]
[8014429901,"Расходы на уплату земельного налога и налога на имущество библиотек","018","08","01","442 99 01",null,{"$f":"H1467","v":688}]
[8014429901001,"Выполнение функций бюджетными учреждениями","018","08","01","442 99 01","001",688]
[8014429902,"Расходы на охранные мероприятия библиотек","018","08","01","442 99 02",null,{"$f":"H1469","v":5786}]
[8014429902001,"Выполнение функций бюджетными учреждениями","018","08","01","442 99 02","001",5786]
[8014429999,"Другие расходы на обеспечение деятельности библиотек","018","08","01","442 99 99",null,{"$f":"H1471","v":50669}]
[8014429999001,"Выполнение функций бюджетными учреждениями","018","08","01","442 99 99","001",50669]
[801443,"Театры, цирки, концертные и другие организации исполнительских искусств","018","08","01","443 00 00",null,{"$f":"H1473","v":1045737}]
[80144399,"Обеспечение деятельности подведомственных учреждений","018","08","01","443 99 00",null,{"$f":"H1474+H1476+H1478","v":1045737}]
[8014439901,"Расходы на уплату земельного налога и налога на имущество театров, цирков, концертных и других организаций исполнительских искусств","018","08","01","443 99 01",null,{"$f":"H1475","v":5361}]
[8014439901001,"Выполнение функций бюджетными учреждениями","018","08","01","443 99 01","001",5361]
[8014439902,"Расходы на охранные мероприятия театров, цирков, концертных и других организаций исполнительских искусств","018","08","01","443 99 02",null,{"$f":"H1477","v":11566}]
[8014439902001,"Выполнение функций бюджетными учреждениями","018","08","01","443 99 02","001",11566]
[8014439999,"Другие расходы на обеспечение деятельности театров, цирков, концертных и других организаций исполнительских искусств","018","08","01","443 99 99",null,{"$f":"H1479","v":1028810}]
[8014439999001,"Выполнение функций бюджетными учреждениями","018","08","01","443 99 99","001",1028810]
[801450,"Мероприятия в сфере культуры, кинематографии, средств массовой информации","018","08","01","450 00 00",null,{"$f":"H1481","v":126955}]
[80145085,"Государственная поддержка в сфере культуры, кинематографии, средств массовой информации","018","08","01","450 85 00",null,{"$f":"H1482","v":126955}]
[80145085013,"Прочие расходы","018","08","01","450 85 00","013",126955]
[801522,"Региональные целевые программы","018","08","01","522 00 00",null,{"$f":"H1484","v":162300}]
[80152205,"Областная целевая программа \"Сохранение объектов культурного наследия (памятников истории и культуры) в Московской области на 2006-2008 годы\"","018","08","01","522 05 00",null,{"$f":"H1485+H1487+H1489+H1491","v":162300}]
[8015220501,"Раздел 1 \"Сохранение объектов культурного наследия\"","018","08","01","522 05 01",null,{"$f":"H1486","v":115500}]
[8015220501023,"Мероприятия по поддержке и развитию культуры, искусства, кинематографии, средств массовой информации и архивного дела","018","08","01","522 05 01","023",115500]
[8015220502,"Раздел 2 \"Государственная охрана объектов культурного наследия\"","018","08","01","522 05 02",null,{"$f":"H1488","v":3300}]
[8015220502023,"Мероприятия по поддержке и развитию культуры, искусства, кинематографии, средств массовой информации и архивного дела","018","08","01","522 05 02","023",3300]
[8015220503,"Раздел 3 \"Оказание поддержки религиозным организациям в проведении работ по сохранению памятников истории и культуры религиозного назначения\"","018","08","01","522 05 03",null,{"$f":"H1490","v":43500}]
[8015220503023,"Мероприятия по поддержке и развитию культуры, искусства, кинематографии, средств массовой информации и архивного дела","018","08","01","522 05 03","023",43500]
[8015221004,"Раздел 4 \"Установка памятника создателям славянской азбуки, просветителям славянских народов, святым братьям Кириллу и Мефодию\"","018","08","01","522 05 04",null,{"$f":"H1492","v":0}]
[8015221004453,"Мероприятия по поддержке и развитию культуры, искусства, кинематографии, средств массовой информации и архивного дела","018","08","01","522 05 04","023"]
[806,"Другие вопросы в области культуры, кинематографии, средств массовой информации","018","08","06",null,null,{"$f":"H1494+H1498+H1501+H1508","v":168210}]
[806002,"Руководство и управление в сфере установленных функций органов государственной власти субъектов Российской Федерации  и органов местного самоуправления","018","08","06","002 00 00",null,{"$f":"H1495","v":154321}]
[80600204,"Центральный аппарат","018","08","06","002 04 00",null,{"$f":"SUM(H1496:H1497)","v":154321}]
[80600204012,"Выполнение функций государственными органами","018","08","06","002 04 00","012",153861]
[80600204902,"Проведение мероприятий по защите информации, обеспечению безопасности информационных систем и баз данных, содержащих конфиденциальную информацию, в том числе персональные данные населения Московской области","018","08","06","002 04 00",902,460]
[806450,"Мероприятия в сфере культуры, кинематографии, средств массовой информации","018","08","06","450 00 00",null,{"$f":"H1499","v":1700}]
[80645085,"Государственная поддержка в сфере культуры, кинематографии, средств массовой информации","018","08","06","450 85 00",null,{"$f":"H1500","v":1700}]
[80645085012,"Выполнение функций государственными органами","018","08","06","450 85 00","012",1700]
[806803,"Расходы на страхование ","018","08","06","803 00 00",null,{"$f":"+H1502+H1504+H1506","v":11689}]
[8068030001,"Расходы на страхование имущества, находящегося в государственной собственности Московской области","018","08","06","803 00 01",null,{"$f":"H1503","v":10389}]
[8068030001013,"Прочие расходы","018","08","06","803 00 01","013",10389]
[8068030002,"Расходы на страхование гражданской ответственности учреждений, находящихся в государственной собственности Московской области","018","08","06","803 00 02",null,{"$f":"H1505","v":500}]
[8068030002013,"Прочие расходы","018","08","06","803 00 02","013",500]
[8068030003,"Расходы на обязательное страхование гражданской ответственности владельцев транспортных средств","018","08","06","803 00 03",null,{"$f":"H1507","v":800}]
[8068030003013,"Прочие расходы","018","08","06","803 00 03","013",800]
[806808,"Расходы на оценку имущества, подлежащего страхованию","018","08","06","808 00 00",null,{"$f":"H1509","v":500}]
[806808013,"Прочие расходы","018","08","06","808 00 00","013",500]
[]
[0,"Комитет по развитию предпринимательства Московской области","019",null,null,null,null,{"$f":"H1512+H1520","v":58758}]
[4,"Национальная экономика","019","04",null,null,null,{"$f":"H1513","v":58718}]
[412,"Другие вопросы в области национальной экономики","019","04",12,null,null,{"$f":"H1514+H1517","v":58718}]
[412002,"Руководство и управление в сфере установленных функций органов государственной власти субъектов Российской Федерации  и органов местного самоуправления","019","04",12,"002 00 00",null,{"$f":"H1515","v":48212}]
[41200204,"Центральный аппарат","019","04",12,"002 04 00",null,{"$f":"SUM(H1516:H1516)","v":48212}]
[41200204012,"Выполнение функций государственными органами","019","04",12,"002 04 00","012",48212]
[412092,"Реализация государственных функций, связанных с общегосударственным управлением","019","04",12,"092 00 00",null,{"$f":"H1518","v":10506}]
[41209299,"Обеспечение деятельности подведомственных учреждений","019","04",12,"092 99 00",null,{"$f":"H1519","v":10506}]
[41209299001,"Выполнение функций бюджетными учреждениями","019","04",12,"092 99 00","001",10506]
[7,"Образование","019","07",null,null,null,{"$f":"H1521","v":40}]
[707,"Молодежная политика и оздоровление детей","019","07","07",null,null,{"$f":"H1522","v":40}]
[707432,"Мероприятия по организации оздоровительной кампании детей и подростков","019","07","07","432 00 00",null,{"$f":"H1523","v":40}]
[70743202,"Оздоровление детей ","019","07","07","432 02 00",null,{"$f":"H1524","v":40}]
[70743202001,"Выполнение функций бюджетными учреждениями","019","07","07","432 02 00","001",40]
[]
[0,"Комитет по физической культуре и спорту Московской области","020",null,null,null,null,{"$f":"H1559+H1527","v":2970780}]
[7,"Образование","020","07",null,null,null,{"$f":"H1528+H1535+H1546+H1550","v":1015493}]
[702,"Общее образование","020","07","02",null,null,{"$f":"H1529","v":561362}]
[702423,"Учреждения по внешкольной работе с детьми","020","07","02","423 00 00",null,{"$f":"H1530","v":561362}]
[70242399,"Обеспечение деятельности подведомственных учреждений","020","07","02","423 99 00",null,{"$f":"H1531+H1533","v":561362}]
[7024239902,"Обеспечение питанием учащихся учреждений по внешкольной работе с детьми","020","07","02","423 99 02",null,{"$f":"H1532","v":31256}]
[7024239902001,"Выполнение функций бюджетными учреждениями","020","07","02","423 99 02","001",{"$f":"28608+2648","v":31256}]
[7024239999,"Другие расходы на содержание учреждений по внешкольной работе с детьми ","020","07","02","423 99 99",null,{"$f":"H1534","v":530106}]
[7024239999001,"Выполнение функций бюджетными учреждениями","020","07","02","423 99 99","001",{"$f":"497754+32352","v":530106}]
[704,"Среднее профессиональное образование","020","07","04",null,null,{"$f":"H1536","v":310005}]
[704427,"Средние специальные учебные заведения","020","07","04","427 00 00",null,{"$f":"H1537","v":310005}]
[70442799,"Обеспечение деятельности подведомственных учреждений","020","07","04","427 99 00",null,{"$f":"H1538+H1540+H1542+H1544","v":310005}]
[7044279901,"Выплаты стипендий и прочие расходы стипендиального фонда в средних специальных учебных заведениях","020","07","04","427 99 01",null,{"$f":"H1539","v":3960}]
[7044279901001,"Выполнение функций бюджетными учреждениями","020","07","04","427 99 01","001",{"$f":"3990-30","v":3960}]
[7044279902,"Обеспечение питанием учащихся средних специальных учебных заведений","020","07","04","427 99 02",null,{"$f":"H1541","v":20754}]
[7044279902001,"Выполнение функций бюджетными учреждениями","020","07","04","427 99 02","001",{"$f":"23254-2500","v":20754}]
[7044279911,"Ежемесячные стипендии Губернатора Московской области детям-инвалидам, учащимся образовательных  и культурно - досуговых учреждений сферы культуры и искусства Московской области за успешное освоение программ обучения и за достижения в различных направлениях искусства* ","020","07","04","427 99 11",null,{"$f":"H1543","v":2160}]
[7044279911001,"Выполнение функций бюджетными учреждениями","020","07","04","427 99 11","001",2160]
[7044279999,"Другие расходы на содержание средних специальных учебных заведений","020","07","04","427 99 99",null,{"$f":"H1545","v":283131}]
[7044279999001,"Выполнение функций бюджетными учреждениями","020","07","04","427 99 99","001",{"$f":"298601-15470","v":283131}]
[707,"Молодежная политика и оздоровление детей","020","07","07",null,null,{"$f":"H1547","v":123}]
[707432,"Мероприятия по организации оздоровительной кампании детей и подростков","020","07","07","432 00 00",null,{"$f":"H1548","v":123}]
[70743202,"Оздоровление детей ","020","07","07","432 02 00",null,{"$f":"H1549","v":123}]
[70743202001,"Выполнение функций бюджетными учреждениями","020","07","07","432 02 00","001",123]
[709,"Другие вопросы в области образования","020","07","09",null,null,{"$f":"H1551","v":144003}]
[709802,"Прочие учреждения в области образования","020","07","09","802 00 00",null,{"$f":"H1552","v":144003}]
[70980299,"Обеспечение деятельности подведомственных учреждений","020","07","09","802 99 00",null,{"$f":"H1553+H1555+H1557","v":144003}]
[7098029901,"Выплата стипендий в прочих учреждениях в области образования","020","07","09","802 99 01",null,{"$f":"H1554","v":0}]
[7098029901001,"Выполнение функций бюджетными учреждениями","020","07","09","802 99 01","001"]
[7098029902,"Обеспечение питанием учащихся в прочих учреждениях в области образования","020","07","09","802 99 02",null,{"$f":"H1556","v":20103}]
[7098029902001,"Выполнение функций бюджетными учреждениями","020","07","09","802 99 02","001",20103]
[7098029999,"Другие расходы на содержание прочих учреждений в области образования","020","07","09","802 99 99",null,{"$f":"H1558","v":123900}]
[7098029999001,"Выполнение функций бюджетными учреждениями","020","07","09","802 99 99","001",123900]
[9,"Здравоохранение, физическая культура и спорт","020","09",null,null,null,{"$f":"H1570+H1560","v":1955287}]
[908,"Физическая культура и спорт","020","09","08",null,null,{"$f":"H1561+H1564+H1567","v":792926}]
[908482,"Центры спортивной подготовки (сборные команды)","020","09","08","482 00 00",null,{"$f":"H1562","v":542223}]
[90848299,"Обеспечение деятельности подведомственных учреждений","020","09","08","482 99 00",null,{"$f":"H1563","v":542223}]
[90848299001,"Выполнение функций бюджетными учреждениями","020","09","08","482 99 00","001",542223]
[908512,"Физкультурно-оздоровительная работа и спортивные мероприятия","020","09","08","512 00 00",null,{"$f":"H1565","v":242903}]
[90851210,"Мероприятия в области спорта и физической культуры","020","09","08","512 10 00",null,{"$f":"H1566","v":242903}]
[90851210012,"Выполнение функций государственными органами","020","09","08","512 10 00","012",{"$f":"236203+6700","v":242903}]
[908803,"Расходы на страхование ","020","09","08","803 00 00",null,{"$f":"H1568","v":7800}]
[9088030006,"Расходы на страхование жизни и здоровья членов сборных команд Московской области","020","09","08","803 00 06",null,{"$f":"H1569","v":7800}]
[9088030006013,"Прочие расходы","020","09","08","803 00 06","013",7800]
[910,"Другие вопросы в области здравоохранения, физической культуры и спорта","020","09","10",null,null,{"$f":"H1571+H1575","v":1162361}]
[910002,"Руководство и управление в сфере установленных функций органов государственной власти субъектов Российской Федерации  и органов местного самоуправления","020","09","10","002 00 00",null,{"$f":"H1572","v":61003}]
[91000204,"Центральный аппарат","020","09","10","002 04 00",null,{"$f":"SUM(H1573:H1574)","v":61003}]
[91000204012,"Выполнение функций государственными органами","020","09","10","002 04 00","012",60303]
[91000204902,"Проведение мероприятий по защите информации, обеспечению безопасности информационных систем и баз данных, содержащих конфиденциальную информацию, в том числе персональные данные населения Московской области","020","09","10","002 04 00",902,700]
[910485,"Реализация государственных функций  в области здравоохранения, спорта и туризма","020","09",10,"485 00 00",null,{"$f":"H1576","v":1101358}]
[91048597,"Мероприятия в области здравоохранения, спорта и физической культуры, туризма","020","09",10,"485 97 00",null,{"$f":"SUM(H1577:H1578)","v":1101358}]
[91048597006,"Субсидии юридическим лицам","020","09",10,"485 97 00","006",{"$f":"943263+98095","v":1041358}]
[91048597013,"Прочие расходы","020","09",10,"485 97 00","013",60000]
[]
[0,"Министерство социальной защиты населения Московской области","021",null,null,null,null,{"$f":"H1581+H1586+H1591+H1596+H1620","v":38025719}]
[1,"Общегосударственные вопросы","021","01",null,null,null,{"$f":"H1582","v":550}]
[108,"Международные отношения и международное сотрудничество","021","01","08",null,null,{"$f":"H1583","v":550}]
[108522,"Региональные целевые программы","021","01","08","522 00 00",null,{"$f":"H1584","v":550}]
[10852209,"Областная целевая программа \"Поддержка Московской областью соотечественников за рубежом на 2007-2010 годы\"","021","01","08","522 09 00",null,{"$f":"H1585","v":550}]
[10852209012,"Выполнение функций государственными органами","021","01","08","522 09 00","012",550]
[3,"Национальная безопасность и правоохранительная деятельность","021","03",null,null,null,{"$f":"H1587","v":27847}]
[309,"Защита населения и территории от последствий чрезвычайных ситуаций природного и техногенного характера, гражданская оборона ","021","03","09",null,null,{"$f":"H1588","v":27847}]
[309219,"Мероприятия по гражданской обороне","021","03","09","219 00 00",null,{"$f":"H1589","v":27847}]
[30921901,"Подготовка населения и организаций к действиям в чрезвычайной ситуации в мирное и военное время","021","03","09","219 01 00",null,{"$f":"H1590","v":27847}]
[30921901012,"Выполнение функций государственными органами","021","03","09","219 01 00","012",27847]
[4,"Национальная экономика","021","04",null,null,null,{"$f":"H1592","v":55000}]
[410,"Связь и информатика","021","04","10",null,null,{"$f":"H1593","v":55000}]
[410330,"Информационные технологии и связь","021","04","10","330 00 00",null,{"$f":"H1594","v":55000}]
[41033002,"Отдельные мероприятия в области информационно-коммуникационных технологий и связи","021","04","10","330 02 00",null,{"$f":"H1595","v":55000}]
[41033002012,"Выполнение функций государственными органами","021","04","10","330 02 00","012",55000]
[7,"Образование","021","07",null,null,null,{"$f":"H1597+H1614","v":297338}]
[703,"Начальное профессиональное образование","021","07","03",null,null,{"$f":"H1598","v":41111}]
[703425,"Профессионально-технические училища","021","07","03","425 00 00",null,{"$f":"H1599","v":41111}]
[70342599,"Обеспечение деятельности подведомственных учреждений","021","07","03","425 99 00",null,{"$f":"H1600+H1602+H1604+H1606+H1608+H1610+H1612","v":41111}]
[7034259901,"Выплата стипендий и другие расходы из степиндиального фонда в профессионально-технических училищах","021","07","03","425 99 01",null,{"$f":"H1601","v":751}]
[7034259901001,"Выполнение функций бюджетными учреждениями","021","07","03","425 99 01","001",751]
[7034259902,"Обеспечение питанием учащихся профессионально-технических училищ","021","07","03","425 99 02",null,{"$f":"H1603","v":2204}]
[7034259902001,"Выполнение функций бюджетными учреждениями","021","07","03","425 99 02","001",2204]
[7034259904,"Единовременное денежное пособие детям-сиротам - выпускникам областных образовательных учрежедний*","021","07","03","425 99 04",null,{"$f":"H1605","v":200}]
[7034259904001,"Выполнение функций бюджетными учреждениями","021","07","03","425 99 04","001",200]
[7034259907,"Бесплатный проезд детей-сирот и детей, оставшихся без попечения родителей, обучающихся в государственных образовательных учреждениях Московской области*","021","07","03","425 99 07",null,{"$f":"H1607","v":36}]
[7034259907001,"Выполнение функций бюджетными учреждениями","021","07","03","425 99 07","001",36]
[7034259909,"Ежемесячные выплаты к стипендиям детям-сиротам, обучающимся в учреждениях начального профессионального образования Московской области* ","021","07","03","425 99 09",null,{"$f":"H1609","v":320}]
[7034259909001,"Выполнение функций бюджетными учреждениями","021","07","03","425 99 09","001",320]
[7034259910,"Ежегодная материальная помощь детям-сиротам, обучающимся в учреждениях начального профессионального образования Московской области на приобретение предметов первой необходимости*","021","07","03","425 99 10",null,{"$f":"H1611","v":20}]
[7034259910001,"Выполнение функций бюджетными учреждениями","021","07","03","425 99 10","001",20]
[7034259999,"Другие расходы на содержание профессионально-технических училищ, обеспечение и организацию учебного процесса ","021","07","03","425 99 99",null,{"$f":"H1613","v":37580}]
[7034259999001,"Выполнение функций бюджетными учреждениями","021","07","03","425 99 99","001",37580]
[707,"Молодежная политика и оздоровление детей","021","07","07",null,null,{"$f":"H1615","v":256227}]
[707432,"Мероприятия по организации оздоровительной кампании детей и подростков","021","07","07","432 00 00",null,{"$f":"H1616+H1618","v":256227}]
[70743201,"Мероприятия по организации оздоровительной кампании детей","021","07","07","432 01 00",null,{"$f":"H1617","v":253035}]
[70743201001,"Выполнение функций бюджетными учреждениями","021","07","07","432 01 00","001",253035]
[70743202,"Оздоровление детей ","021","07","07","432 02 00",null,{"$f":"H1619","v":3192}]
[70743202001,"Выполнение функций бюджетными учреждениями","021","07","07","432 02 00","001",3192]
[10,"Социальная политика","021",10,null,null,null,{"$f":"H1621+H1660+H1791+H1802","v":37644984}]
[1002,"Социальное обслуживание населения","021",10,"02",null,null,{"$f":"H1622+H1626+H1642","v":6942058}]
[1002102,"Бюджетные инвестиции в объекты капитального строительства, не включенные в целевые программы","021",10,"02","102 00 00",null,{"$f":"H1623","v":384800}]
[100210201,"Бюджетные инвестиции в объекты капитального строительства государственной собственности субъектов Российской Федерации (объекты капитального строительства собственности муниципальных образований)","021",10,"02","102 01 00",null,{"$f":"H1624","v":384800}]
[10021020101,"Бюджетные инвестиции в объекты капитального строительства государственной собственности субъектов Российской Федерации ","021",10,"02","102 01 01",null,{"$f":"H1625","v":384800}]
[10021020101003,"Бюджетные инвестиции","021",10,"02","102 01 01","003",384800]
[1002501,"Дома-интернаты для престарелых и инвалидов","021",10,"02","501 00 00",null,{"$f":"H1627","v":2372084}]
[100250199,"Обеспечение деятельности подведомственных учреждений","021",10,"02","501 99 00",null,{"$f":"H1628+H1630+H1632+H1634+H1636+H1638+H1640","v":2372084}]
[10025019901,"Проведение текущего ремонта домов-интернатов для престарелых и инвалидов","021",10,"02","501 99 01",null,{"$f":"H1629","v":34000}]
[10025019901001,"Выполнение функций бюджетными учреждениями","021",10,"02","501 99 01","001",34000]
[10025019902,"Оплата услуг вневедомственной охраны учреждений домов-интернатов для престарелых и инвалидов","021",10,"02","501 99 02",null,{"$f":"H1631","v":46603}]
[10025019902001,"Выполнение функций бюджетными учреждениями","021",10,"02","501 99 02","001",46603]
[10025019903,"Приобретение продуктов питания для домов-интернатов для престарелых и инвалидов ","021",10,"02","501 99 03",null,{"$f":"H1633","v":299482}]
[10025019903001,"Выполнение функций бюджетными учреждениями","021",10,"02","501 99 03","001",299482]
[10025019904,"Приобретение медикаментов, перевязочных средств для домов-интернатов для престарелых и инвалидов ","021",10,"02","501 99 04",null,{"$f":"H1635","v":31133}]
[10025019904001,"Выполнение функций бюджетными учреждениями","021",10,"02","501 99 04","001",31133]
[10025019905,"Приобретение мягкого инвентаря для граждан, находящихся в домах-интернатах для престарелых и инвалидов ","021",10,"02","501 99 05",null,{"$f":"H1637","v":120219}]
[10025019905001,"Выполнение функций бюджетными учреждениями","021",10,"02","501 99 05","001",120219]
[10025019907,"Установка и обслуживание вновь установленных систем противопожарной сигнализации","021",10,"02","501 99 07",null,{"$f":"H1639","v":13110}]
[10025019907001,"Выполнение функций бюджетными учреждениями","021",10,"02","501 99 07","001",13110]
[10025019999,"Другие расходы на содержание домов-интернатов для престарелых и инвалидов","021",10,"02","501 99 99",null,{"$f":"H1641","v":1827537}]
[10025019999001,"Выполнение функций бюджетными учреждениями","021",10,"02","501 99 99","001",1827537]
[1002507,"Учреждения социального обслуживания населения","021",10,"02","507 00 00",null,{"$f":"H1643","v":4185174}]
[100250799,"Обеспечение деятельности подведомственных учреждений","021",10,"02","507 99 00",null,{"$f":"H1644+H1646+H1648+H1650+H1652+H1654+H1656+H1658","v":4185174}]
[10025079901,"Проведение текущего ремонта государственных учреждений социального обслуживания населения","021",10,"02","507 99 01",null,{"$f":"H1645","v":66000}]
[10025079901001,"Выполнение функций бюджетными учреждениями","021",10,"02","507 99 01","001",{"$f":"67267-1267","v":66000}]
[10025079902,"Оплата услуг вневедомственной охраны государственных учреждений социального обслуживания населения","021",10,"02","507 99 02",null,{"$f":"H1647","v":77202}]
[10025079902001,"Выполнение функций бюджетными учреждениями","021",10,"02","507 99 02","001",77202]
[10025079903,"Приобретение продуктов питания для государственных учреждений социального обслуживания населения","021",10,"02","507 99 03",null,{"$f":"H1649","v":171566}]
[10025079903001,"Выполнение функций бюджетными учреждениями","021",10,"02","507 99 03","001",171566]
[10025079904,"Приобретение медикаментов, перевязочных средств для государственных учреждений социального обслуживания населения","021",10,"02","507 99 04",null,{"$f":"H1651","v":10063}]
[10025079904001,"Выполнение функций бюджетными учреждениями","021",10,"02","507 99 04","001",10063]
[10025079905,"Приобретение мягкого инвентаря для граждан, находящихся в государственных учреждениях социального обслуживания населения","021",10,"02","507 99 05",null,{"$f":"H1653","v":45600}]
[10025079905001,"Выполнение функций бюджетными учреждениями","021",10,"02","507 99 05","001",45600]
[10025079906,"Компенсация стоимости самостоятельно приобретенной спецодежды, работникам государственных учреждений социального обслуживания населения, деятельность которых связана с разъездами ","021",10,"02","507 99 06",null,{"$f":"H1655","v":16841}]
[10025079906001,"Выполнение функций бюджетными учреждениями","021",10,"02","507 99 06","001",16841]
[10025079907,"Установка и обслуживание вновь установленных систем противопожарной сигнализации в государственных учреждениях социального обслуживания населения","021",10,"02","507 99 07",null,{"$f":"H1657","v":25717}]
[10025079907001,"Выполнение функций бюджетными учреждениями","021",10,"02","507 99 07","001",25717]
[10025079999,"Другие расходы на содержание государственных учреждений социального обслуживания населения","021",10,"02","507 99 99",null,{"$f":"H1659","v":3772185}]
[10025079999001,"Выполнение функций бюджетными учреждениями","021",10,"02","507 99 99","001",{"$f":"4055918-283733","v":3772185}]
[1003,"Социальное обеспечение населения","021",10,"03",null,null,{"$f":"H1661+H1785","v":28195048}]
[1003505,"Социальная помощь","021",10,"03","505 00 00",null,{"$f":"H1662+H1664+H1671+H1673+H1698+H1709+H1711+H1713+H1715+H1734","v":28142248},{"$f":"H1661-(H1663+H1666+H1668+H1670+H1672+H1675+H1677+H1679+H1681+H1683+H1685+H1687+H1689+H1691+H1693+H1695+H1697+H1700+H1702+H1704+H1706+H1708+H1710+H1712+H1714+H1717+H1719+H1721+H1723+H1725+H1727+H1729+H1731+H1733+H1736+H1738+H1740+H1742+H1744+H1746+H1748+H1750+H1752+H1754+H1756+H1758+H1760+H1762+H1764+H1766+H1768+H1770+H1772+H1774+H1776+H1778+H1780+H1782+H1784)","v":0}]
[10035052205,"Выплата социального пособия на погребение и возмещение расходов по гарантированному перечню услуг по погребению за счет бюджетов субъектов Российской Федерации и местных бюджетов*","021",10,"03","505 22 05",null,{"$f":"H1663","v":7328}]
[10035052205005,"Социальные выплаты","021",10,"03","505 22 05","005",7328]
[100350529,"Обеспечение мер социальной поддержки для лиц, награжденных знаком \"Почетный донор СССР\", \"Почетный донор России\"","021",10,"03","505 29 00",null,{"$f":"H1665+H1667+H1669","v":327600}]
[10035052926,"Меры социальной поддержки пенсионеров, награжденных знаком \"Почетный донор СССР\", \"Почетный донор России\" по оплате коммунальных услуг*","021",10,"03","505 29 26",null,{"$f":"H1666","v":38480}]
[10035052926005,"Социальные выплаты","021",10,"03","505 29 26","005",38480]
[10035052927,"Ежемесячные денежные выплаты пенсионерам, награжденным знаком \"Почетный донор СССР\", \"Почетный донор России\"*  ","021",10,"03","505 29 27",null,{"$f":"H1668","v":43434}]
[10035052927005,"Социальные выплаты","021",10,"03","505 29 27","005",43434]
[10035052928,"Денежные выплаты лицам, награжденным знаком \"Почетный донор СССР\", \"Почетный донор России\"*  ","021",10,"03","505 29 28",null,{"$f":"H1670","v":245686}]
[10035052928009,"Фонд компенсаций","021",10,"03","505 29 28","009",245686]
[100350530,"Ежемесячное пособие на ребенка*","021",10,"03","505 30 00",null,{"$f":"H1672","v":2805741}]
[100350530005,"Социальные выплаты","021",10,"03","505 30 00","005",{"$f":"2429827+375914","v":2805741}]
[100350531,"Обеспечение мер социальной поддержки ветеранов труда и тружеников тыла","021",10,"03","505 31 00",null,{"$f":"H1674+H1676+H1678+H1680+H1682+H1684+H1686+H1688+H1690+H1692+H1694+H1696","v":10217397}]
[10035053111,"Обеспечение мер социальной поддержки по оплате жилого помещения и коммунальных услуг ветеранов труда ","021",10,"03","505 31 11",null,{"$f":"H1675","v":6189306}]
[10035053111005,"Социальные выплаты","021",10,"03","505 31 11","005",6189306]
[10035053112,"Обеспечение мер социальной поддержки по оплате жилого помещения и коммунальных услуг труженников тыла ","021",10,"03","505 31 12",null,{"$f":"H1677","v":12696}]
[10035053112005,"Социальные выплаты","021",10,"03","505 31 12","005",12696]
[10035053120,"Обеспечение мер социальной поддержки ветеранов труда по проезду на транспорте общего пользования Московской области","021",10,"03","505 31 20",null,{"$f":"H1679","v":1473600}]
[10035053120005,"Социальные выплаты","021",10,"03","505 31 20","005",1473600]
[10035053121,"Ежемесячные денежные выплаты ветеранам труда по проезду на транспорте общего пользования Московской области и на территории других субъектов Российской Федерации *","021",10,"03","505 31 21",null,{"$f":"H1681","v":1061802}]
[10035053121005,"Социальные выплаты","021",10,"03","505 31 21","005",1061802]
[10035053122,"Ежемесячные денежные выплаты ветеранам труда по проезду на железнодорожном транспорте пригородного сообщения *","021",10,"03","505 31 22",null,{"$f":"H1683","v":58687}]
[10035053122005,"Социальные выплаты","021",10,"03","505 31 22","005",58687]
[10035053123,"Обеспечение мер социальной поддержки труженников тыла по проезду на транспорте общего пользования Московской области","021",10,"03","505 31 23",null,{"$f":"H1685","v":27917}]
[10035053123005,"Социальные выплаты","021",10,"03","505 31 23","005",27917]
[10035053124,"Ежемесячные денежные выплаты труженикам тыла по проезду на транспорте общего пользования Московской области и на территории других субъектов Российской Федерации *","021",10,"03","505 31 24",null,{"$f":"H1687","v":43771}]
[10035053124005,"Социальные выплаты","021",10,"03","505 31 24","005",43771]
[10035053125,"Ежемесячные денежные выплаты труженикам тыла по проезду на железнодорожном транспорте пригородного сообщения *","021",10,"03","505 31 25",null,{"$f":"H1689","v":8300}]
[10035053125005,"Социальные выплаты","021",10,"03","505 31 25","005",8300]
[10035053126,"Обеспечение мер социальной поддержки ветеранов труда по компенсации расходов, связанных с зубопротезированием","021",10,"03","505 31 26",null,{"$f":"H1691","v":281224}]
[10035053126005,"Социальные выплаты","021",10,"03","505 31 26","005",281224]
[10035053127,"Обеспечение мер социальной поддержки тружеников тыла по компенсации расходов, связанных с зубопротезированием","021",10,"03","505 31 27",null,{"$f":"H1693","v":20081}]
[10035053127005,"Социальные выплаты","021",10,"03","505 31 27","005",20081]
[10035053133,"Расходы на ежемесячную денежную выплату ветеранам труда*","021",10,"03","505 31 33",null,{"$f":"H1695","v":493518}]
[10035053133005,"Социальные выплаты","021",10,"03","505 31 33","005",{"$f":"409109+84409","v":493518}]
[10035053134,"Компенсация абонентской платы за телефон ветеранам труда*","021",10,"03","505 31 34",null,{"$f":"H1697","v":546495}]
[10035053134005,"Социальные выплаты","021",10,"03","505 31 34","005",546495]
[100350533,"Мероприятия в области социальной политики","021",10,"03","505 33 00",null,{"$f":"H1699+H1701+H1703+H1705+H1707","v":1970048}]
[10035053311,"Обеспечение мер социальной поддержки по оплате жилого помещения и коммунальных услуг многодетным семьям","021",10,"03","505 33 11",null,{"$f":"H1700","v":215998}]
[10035053311005,"Социальные выплаты","021",10,"03","505 33 11","005",215998]
[10035053312,"Обеспечение мер социальной поддержки по оплате жилого помещения и коммунальных услуг одиноким пенсионерам","021",10,"03","505 33 12",null,{"$f":"H1702","v":50188}]
[10035053312005,"Социальные выплаты","021",10,"03","505 33 12","005",50188]
[10035053313,"Обеспечение мер социальной поддержки по оплате жилого помещения и коммунальных услуг лиц, работающих и имеющих место жительства в сельских населенных пунктах и поселках городского типа","021",10,"03","505 33 13",null,{"$f":"H1704","v":847924}]
[10035053313005,"Социальные выплаты","021",10,"03","505 33 13","005",847924]
[10035053314,"Обеспечение мер социальной поддержки по оплате жилого помещения и коммунальных услуг иным категориям граждан ","021",10,"03","505 33 14",null,{"$f":"H1706","v":55938}]
[10035053314005,"Социальные выплаты","021",10,"03","505 33 14","005",55938]
[10035053322,"Реализация мер социальной поддержки отдельных категорий граждан по проезду на железнодорожном транспорте пригородного сообщения","021",10,"03","505 33 22",null,{"$f":"H1708","v":800000}]
[10035053322005,"Социальные выплаты","021",10,"03","505 33 22","005",800000]
[100350544,"Государственные единовременные пособия и ежемесячные денежные компенсации гражданам при возникновении поствакцинальных осложнений*","021",10,"03","505 44 00",null,{"$f":"H1710","v":372}]
[100350544009,"Фонд компенсаций","021",10,"03","505 44 00","009",372]
[100350545,"Выплаты инвалидам компенсаций страховых премий по договорам обязательного страхования гражданской ответственности владельцев транспортных средств*","021",10,"03","505 45 00",null,{"$f":"H1712","v":6783}]
[100350545009,"Фонд компенсаций","021",10,"03","505 45 00","009",6783]
[100350546,"Оплата жилищно-коммунальных услуг отдельным категориям граждан","021",10,"03","505 46 00",null,{"$f":"H1714","v":5352624}]
[100350546005,"Социальные выплаты","021",10,"03","505 46 00","005",5352624]
[100350547,"Обеспечение мер социальной поддержки реабилитированных лиц и лиц, признанных  пострадавшими от политических репрессий","021",10,"03","505 47 00",null,{"$f":"H1716+H1718+H1720+H1722+H1724+H1726+H1728+H1730+H1732","v":240026}]
[10035054710,"Обеспечение мер социальной поддержки по оплате жилого помещения и коммунальных услуг реабилитированных лиц и лиц, признанных пострадавшими от политических репрессий","021",10,"03","505 47 10",null,{"$f":"H1717","v":157456}]
[10035054710005,"Социальные выплаты","021",10,"03","505 47 10","005",157456]
[10035054720,"Обеспечение мер социальной поддержки реабилитированных лиц и лиц, признанных пострадавшими от политических репрессий по проезду на транспорте общего пользования Московской области ","021",10,"03","505 47 20",null,{"$f":"H1719","v":6436}]
[10035054720005,"Социальные выплаты","021",10,"03","505 47 20","005",6436]
[10035054721,"Ежемесячные денежные выплаты реабилитированным лицам и лицам, признанным пострадавшими от политических репрессий по проезду на транспорте общего пользования Московской области и на территории других субъектов Российской Федерации *","021",10,"03","505 47 21",null,{"$f":"H1721","v":7874}]
[10035054721005,"Социальные выплаты","021",10,"03","505 47 21","005",7874]
[10035054722,"Ежемесячные денежные выплаты реабилитированным лицам и лицам, признанным пострадавшими от политических репрессий по проезду на железнодорожном транспорте пригородного сообщения *","021",10,"03","505 47 22",null,{"$f":"H1723","v":2901}]
[10035054722005,"Социальные выплаты","021",10,"03","505 47 22","005",2901]
[10035054725,"Обеспечение мер социальной поддержки реабилитированных лиц и лиц, признанных пострадавшими от политических репрессий по компенсации расходов, связанных с зубопротезированием","021",10,"03","505 47 25",null,{"$f":"H1725","v":3059}]
[10035054725005,"Социальные выплаты","021",10,"03","505 47 25","005",3059]
[10035054730,"Меры социальной поддержки реабилитированных лиц в части бесплатной установки телефона*","021",10,"03","505 47 30",null,{"$f":"H1727","v":2056}]
[10035054730005,"Социальные выплаты","021",10,"03","505 47 30","005",2056]
[10035054731,"Компенсация расходов, связанных с погребением реабилитированных лиц*","021",10,"03","505 47 31",null,{"$f":"H1729","v":1562}]
[10035054731005,"Социальные выплаты","021",10,"03","505 47 31","005",1562]
[10035054732,"Меры социальной поддержки реабилитированных лиц в части оплаты проезда на железнодорожном транспорте один раз в год (туда и обратно)*","021",10,"03","505 47 32",null,{"$f":"H1731","v":6182}]
[10035054732005,"Социальные выплаты","021",10,"03","505 47 32","005",6182]
[10035054733,"Ежегодные денежные компенсации реабилитированным лицам*","021",10,"03","505 47 33",null,{"$f":"H1733","v":52500}]
[10035054733005,"Социальные выплаты","021",10,"03","505 47 33","005",52500]
[100350585,"Оказание других видов социальной помощи","021",10,"03","505 85 00",null,{"$f":"H1735+H1737+H1739+H1741+H1743+H1745+H1747+H1749+H1751+H1753+H1755+H1757+H1759+H1761+H1763+H1765+H1767+H1769+H1771+H1773+H1775+H1777+H1779+H1781+H1783","v":7214329}]
[10035058535,"Меры социальной поддержки отдельных категорий граждан по выплате компенсаций абонентской платы за телефон*","021",10,"03","505 85 35",null,{"$f":"H1736","v":1501}]
[10035058535005,"Социальные выплаты","021",10,"03","505 85 35","005",1501]
[10035058536,"Выплаты доплат к пенсиям отдельным категориям граждан*","021",10,"03","505 85 36",null,{"$f":"H1738","v":4520593}]
[10035058536005,"Социальные выплаты","021",10,"03","505 85 36","005",4520593]
[10035058537,"Ежемесячные компенсационные выплаты военнослужащим и членам их семей*","021",10,"03","505 85 37",null,{"$f":"H1740","v":537782}]
[10035058537005,"Социальные выплаты","021",10,"03","505 85 37","005",537782]
[10035058538,"Ежемесячные компенсационные выплаты вдовам (вдовцам) летчиков-испытателей, членов экипажей самолетов и парашютистов-испытателей *","021",10,"03","505 85 38",null,{"$f":"H1742","v":1843}]
[10035058538005,"Социальные выплаты","021",10,"03","505 85 38","005",1843]
[10035058539,"Ежемесячные компенсационные выплаты вдовам (вдовцам) Героев Советского Союза, Героев Российской Федерации и полных кавалеров ордена Славы, Героев Социалистического Труда и полных кавалеров ордена Трудовой Славы*","021",10,"03","505 85 39",null,{"$f":"H1744","v":17543}]
[10035058539005,"Социальные выплаты","021",10,"03","505 85 39","005",17543]
[10035058540,"Меры социальной поддержки отдельных категорий граждан, нуждающихся в протезно-ортопедической помощи*","021",10,"03","505 85 40",null,{"$f":"H1746","v":59223}]
[10035058540005,"Социальные выплаты","021",10,"03","505 85 40","005",59223]
[10035058541,"Обеспечение мобильными телефонами и услугами сотовой связи отдельных категорий граждан*  ","021",10,"03","505 85 41",null,{"$f":"H1748","v":16977}]
[10035058541005,"Социальные выплаты","021",10,"03","505 85 41","005",16977]
[10035058542,"Дополнительное ежемесячное пенсионное обеспечение отдельным категориям граждан, имеющим особые заслуги перед государством*","021",10,"03","505 85 42",null,{"$f":"H1750","v":54943}]
[10035058542005,"Социальные выплаты","021",10,"03","505 85 42","005",54943]
[10035058543,"Ежемесячные компенсационные выплаты детям, потерявшим одного или обоих родителей в результате террористического акта или техногенной аварии* ","021",10,"03","505 85 43",null,{"$f":"H1752","v":2875}]
[10035058543005,"Социальные выплаты","021",10,"03","505 85 43","005",2875]
[10035058544,"Единовременное пособие при рождении  детей*","021",10,"03","505 85 44",null,{"$f":"H1754","v":597886}]
[10035058544005,"Социальные выплаты","021",10,"03","505 85 44","005",{"$f":"181911+415975","v":597886}]
[10035058545,"Ежемесячное пособие детям-инвалидам* ","021",10,"03","505 85 45",null,{"$f":"H1756","v":190418}]
[10035058545005,"Социальные выплаты","021",10,"03","505 85 45","005",190418]
[10035058546,"Ежемесячное пособие студенческим семьям, имеющим детей, и отдельным категориям студентов*","021",10,"03","505 85 46",null,{"$f":"H1758","v":38698}]
[10035058546005,"Социальные выплаты","021",10,"03","505 85 46","005",38698]
[10035058547,"Единовременное пособие супругам к юбилеям их совместной жизни*","021",10,"03","505 85 47",null,{"$f":"H1760","v":88140}]
[10035058547005,"Социальные выплаты","021",10,"03","505 85 47","005",88140]
[10035058548,"Обеспечение санаторно-курортными путевками отдельных категорий детей*","021",10,"03","505 85 48",null,{"$f":"H1762","v":93865}]
[10035058548005,"Социальные выплаты","021",10,"03","505 85 48","005",93865]
[10035058549,"Оказание государственной социальной помощи малоимущим семьям, малоимущим одиноко проживающим гражданам и иным категориям граждан*","021",10,"03","505 85 49",null,{"$f":"H1764","v":313000}]
[10035058549005,"Социальные выплаты","021",10,"03","505 85 49","005",313000]
[10035058550,"Оказание адресной материальной помощи гражданам, находящимся в трудной жизненной ситуации*","021",10,"03","505 85 50",null,{"$f":"H1766","v":30707}]
[10035058550005,"Социальные выплаты","021",10,"03","505 85 50","005",30707]
[10035058551,"Единовременная материальная помощь на погребение*","021",10,"03","505 85 51",null,{"$f":"H1768","v":29888}]
[10035058551005,"Социальные выплаты","021",10,"03","505 85 51","005",29888]
[10035058552,"Единовременная материальная помощь в связи с празднованием 64-й годовщины снятия блокады города Ленинграда отдельным категориям граждан*","021",10,"03","505 85 52",null,{"$f":"H1770","v":4095}]
[10035058552005,"Социальные выплаты","021",10,"03","505 85 52","005",4095]
[10035058553,"Единовременная материальная помощь в связи с празднованием 67-й годовщины начала контрнаступления советских войск против немецко-фашистских войск в битве под Москвой гражданам, награжденным медалью \"За оборону Москвы\"*","021",10,"03","505 85 53",null,{"$f":"H1772","v":7758}]
[10035058553005,"Социальные выплаты","021",10,"03","505 85 53","005",7758]
[10035058554,"Единовременная материальная помощь в связи с празднованием 63-й годовщины Победы в Великой Отечественной войне 1941-1945 годов отдельным категориям граждан*","021",10,"03","505 85 54",null,{"$f":"H1774","v":385497}]
[10035058554005,"Социальные выплаты","021",10,"03","505 85 54","005",385497]
[10035058555,"Единовременная материальная помощь членам семей ветеранов боевых действий, умерших от заболеваний не связанных с участием в боевых действиях*","021",10,"03","505 85 55",null,{"$f":"H1776","v":0}]
[10035058555005,"Социальные выплаты","021",10,"03","505 85 55","005",{"$f":"5045-5045","v":0}]
[10035058556,"Проведение подписки на периодические печатные издания малоимущим гражданам*","021",10,"03","505 85 56",null,{"$f":"H1778","v":22600}]
[10035058556005,"Социальные выплаты","021",10,"03","505 85 56","005",22600]
[10035058557,"Обеспечение бесплатными санаторно-курортными путевками отдельных категорий неработающих граждан*","021",10,"03","505 85 57",null,{"$f":"H1780","v":62716}]
[10035058557005,"Социальные выплаты","021",10,"03","505 85 57","005",62716]
[10035058560,"Компенсация расходов, связанных с зубопротезированием лиц, родившихся до 1 января 1935 года и не имеющих других льгот","021",10,"03","505 85 60",null,{"$f":"H1782","v":90250}]
[10035058560005,"Социальные выплаты","021",10,"03","505 85 60","005",90250]
[10035058561,"Компенсация расходов, связанных со слухопротезированием граждан, не имеющим ограничения способности к трудовой деятельности ","021",10,"03","505 85 61",null,{"$f":"H1784","v":45531}]
[10035058561005,"Социальные выплаты","021",10,"03","505 85 61","005",45531]
[1003514,"Реализация государственных функций в области социальной политики","021",10,"03","514 00 00",null,{"$f":"H1786","v":52800}]
[100351401,"Мероприятия в области социальной политики","021",10,"03","514 01 00",null,{"$f":"H1787+H1789","v":52800}]
[10035140101,"Изготовление и обслуживание социальных карт жителя Московской области","021",10,"03","514 01 01",null,{"$f":"H1788","v":45000}]
[10035140101013,"Прочие расходы","021",10,"03","514 01 01","013",45000]
[10035140102,"Приобретение бланков временных единых социальных билетов жителя Московской области ","021",10,"03","514 01 02",null,{"$f":"H1790","v":7800}]
[10035140102013,"Прочие расходы","021",10,"03","514 01 02","013",7800]
[1004,"Охрана семьи и детства","021",10,"04",null,null,{"$f":"H1792+H1798","v":66185}]
[1004511,"Мероприятия по борьбе с беспризорностью, по опеке и попечительству","021",10,"04","511 00 00",null,{"$f":"H1793+H1796","v":64185}]
[100451102,"Перевозка несовершеннолетних, самовольно ушедших из семей, детских домов, школ-интернатов, специальных учебно-воспитательных и иных детских учреждений","021",10,"04","511 02 00",null,{"$f":"SUM(H1794:H1795)","v":580}]
[100451102009,"Фонд компенсаций","021",10,"04","511 02 00","009",530]
[100451102013,"Прочие расходы","021",10,"04","511 02 00","013",50]
[100451106,"Вознаграждение патронатного родителя*","021",10,"04","511 06 00",null,{"$f":"H1797","v":63605}]
[100451106005,"Социальные выплаты","021",10,"04","511 06 00","005",63605]
[1004514,"Реализация государственных функций в области социальной политики","021",10,"04","514 00 00",null,{"$f":"H1799","v":2000}]
[100451401,"Мероприятия в области социальной политики","021",10,"04","514 01 00",null,{"$f":"H1800","v":2000}]
[10045140103,"Компенсация расходов, связанных с оплатой проезда детей больных онкологическими заболеваниями к месту лечения и обратно","021",10,"04","514 01 03",null,{"$f":"H1801","v":2000}]
[10045140103005,"Социальные выплаты","021",10,"04","514 01 03","005",2000]
[1006,"Другие вопросы в области социальной политики","021",10,"06",null,null,{"$f":"H1803+H1807+H1814+H1823","v":2441693}]
[1006002,"Руководство и управление в сфере установленных функций органов государственной власти субъектов Российской Федерации  и органов местного самоуправления","021",10,"06","002 00 00",null,{"$f":"H1804","v":2328189}]
[100600204,"Центральный аппарат","021",10,"06","002 04 00",null,{"$f":"SUM(H1805:H1806)","v":2328189}]
[100600204012,"Выполнение функций государственными органами","021",10,"06","002 04 00","012",{"$f":"1988045+285000","v":2273045}]
[100600204902,"Проведение мероприятий по защите информации, обеспечению безопасности информационных систем и баз данных, содержащих конфиденциальную информацию, в том числе персональные данные населения Московской области","021",10,"06","002 04 00",902,55144]
[1006803,"Расходы на страхование ","021",10,"06","803 00 00",null,{"$f":"H1808+H1810+H1812","v":27340}]
[10068030001,"Расходы на страхование имущества, находящегося в государственной собственности Московской области","021",10,"06","803 00 01",null,{"$f":"H1809","v":19040}]
[10068030001013,"Прочие расходы","021",10,"06","803 00 01","013",19040]
[10068030002,"Расходы на страхование гражданской ответственности учреждений, находящихся в государственной собственности Московской области","021",10,"06","803 00 02",null,{"$f":"H1811","v":4000}]
[10068030002013,"Прочие расходы","021",10,"06","803 00 02","013",4000]
[10068030003,"Расходы на обязательное страхование гражданской ответственности владельцев транспортных средств","021",10,"06","803 00 03",null,{"$f":"H1813","v":4300}]
[10068030003013,"Прочие расходы","021",10,"06","803 00 03","013",4300]
[1006806,"Прочие расходы, не отнесенные к другим целевым статьям","021",10,"06","806 00 00",null,{"$f":"H1815+H1817+H1819+H1821","v":85664}]
[10068060030,"Создание финансового резерва для обеспечения выплаты дополнительных пенсий работникам государственных учреждений Московской области, вышедшим на пенсию","021",10,"06","806 00 30",null,{"$f":"H1816","v":30347}]
[10068060030013,"Прочие расходы","021",10,"06","806 00 30","013",30347]
[10068060031,"Компенсация расходов адвокатам, оказывающим гражданам Российской Федерации на территории Московской области юридическую помощь бесплатно","021",10,"06","806 00 31",null,{"$f":"H1818","v":150}]
[10068060031013,"Прочие расходы","021",10,"06","806 00 31","013",150]
[10068060032,"Проведение мероприятий в сфере социальной защиты населения, посвященных знаменательным событиям и памятным датам, установленным в Российской Федерации и Московской области ","021",10,"06","806 00 32",null,{"$f":"H1820","v":31815}]
[10068060032013,"Прочие расходы","021",10,"06","806 00 32","013",31815]
[10068060033,"Возмещение стоимости услуг, согласно гарантированному перечню услуг по погребению умерших","021",10,"06","806 00 33",null,{"$f":"H1822","v":23352}]
[10068060033013,"Прочие расходы","021",10,"06","806 00 33","013",23352]
[1006808,"Расходы на оценку имущества, подлежащего страхованию","021",10,"06","808 00 00",null,{"$f":"H1824","v":500}]
[1006808013,"Прочие расходы","021",10,"06","808 00 00","013",500]
[]
[0,"Министерство транспорта Московской области","022",null,null,null,null,{"$f":"H1827+H1837+H1871+H1832+H1876+H1886","v":4765724}]
[2,"Национальная оборона","022","02",null,null,null,{"$f":"H1828","v":150}]
[204,"Мобилизационная подготовка экономики","022","02","04",null,null,{"$f":"H1829","v":150}]
[204209,"Реализация государственных функций по мобилизационной подготовке экономики","022","02","04","209 00 00",null,{"$f":"H1830","v":150}]
[20420901,"Мероприятия по обеспечению  мобилизационной готовности экономики","022","02","04","209 01 00",null,{"$f":"H1831","v":150}]
[20420901012,"Выполнение функций государственными органами","022","02","04","209 01 00","012",150]
[3,"Национальная безопасность и правоохранительная деятельность","022","03",null,null,null,{"$f":"H1833","v":121}]
[309,"Защита населения и территории от последствий чрезвычайных ситуаций природного и техногенного характера, гражданская оборона ","022","03","09",null,null,{"$f":"H1834","v":121}]
[309219,"Мероприятия по гражданской обороне","022","03","09","219 00 00",null,{"$f":"H1835","v":121}]
[30921901,"Подготовка населения и организаций к действиям в чрезвычайной ситуации в мирное и военное время","022","03","09","219 01 00",null,{"$f":"H1836","v":121}]
[30921901012,"Выполнение функций государственными органами","022","03","09","219 01 00","012",121]
[4,"Национальная экономика","022","04",null,null,null,{"$f":"H1838+H1857+H1861","v":2375434}]
[408,"Транспорт","022","04","08",null,null,{"$f":"H1839+H1842+H1845+H1851","v":2020818}]
[408002,"Руководство и управление в сфере установленных функций органов государственной власти субъектов Российской Федерации  и органов местного самоуправления","022","04","08","002 00 00",null,{"$f":"H1840","v":308487}]
[40800204,"Центральный аппарат","022","04","08","002 04 00",null,{"$f":"H1841","v":308487}]
[40800204012,"Выполнение функций государственными органами","022","04","08","002 04 00","012",308487]
[408301,"Водный транспорт","022","04","08","301 00 00",null,{"$f":"H1843","v":2070}]
[40830103,"Отдельные мероприятия в области морского и речного транспорта","022","04","08","301 03 00",null,{"$f":"H1844","v":2070}]
[40830103006,"Субсидии юридическим лицам","022","04","08","301 03 00","006",2070]
[408303,"Автомобильный транспорт","022","04","08","303 00 00",null,{"$f":"H1846","v":0}]
[40830302,"Отдельные мероприятия в области автомобильного транспорта","022","04","08","303 02 00",null,{"$f":"H1847+H1849","v":0}]
[4083030201,"Расходы на организацию транспортного обслуживания населения автомобильным транспортом (пригородное и межмуниципальное сообщение)","022","04","08","303 02 01",null,{"$f":"H1848","v":0}]
[4083030201006,"Субсидии юридическим лицам","022","04","08","303 02 01","006",{"$f":"1690261-1690261","v":0}]
[4083030202,"Расходы на проведение мероприятий, общегосударственных праздников и юбилейных дат Московской области в области транспорта","022","04","08","303 02 02",null,{"$f":"H1850","v":0}]
[4083030202013,"Прочие расходы","022","04","08","303 02 02","013",{"$f":"20000-20000","v":0}]
[408317,"Другие виды транспорта","022","04","08","317 00 00",null,{"$f":"H1852","v":1710261}]
[40831701,"Субсидии на проведение отдельных мероприятий по другим видам транспорта","022","04","08","317 01 00",null,{"$f":"H1853+H1855","v":1710261}]
[4083170102,"Расходы на организацию транспортного обслуживания населения автомобильным транспортом (пригородное и межмуниципальное сообщение)","022","04","08","317 01 02",null,{"$f":"H1854","v":1690261}]
[4083170102006,"Субсидии юридическим лицам","022","04","08","317 01 02","006",1690261]
[4083170103,"Расходы на проведение мероприятий, общегосударственных праздников и юбилейных дат Московской области в области транспорта","022","04","08","317 01 03",null,{"$f":"H1856","v":20000}]
[4083170103013,"Прочие расходы","022","04","08","317 01 03","013",20000]
[410,"Связь и информатика","022","04","10",null,null,{"$f":"H1858","v":26000}]
[410330,"Информационные технологии и связь","022","04","10","330 00 00",null,{"$f":"H1859","v":26000}]
[41033082,"Информатика","022","04","10","330 82 00",null,{"$f":"H1860","v":26000}]
[41033082012,"Выполнение функций государственными органами","022","04","10","330 82 00","012",26000]
[412,"Другие вопросы в области национальной экономики","022","04",12,null,null,{"$f":"H1862+H1865","v":328616}]
[412002,"Руководство и управление в сфере установленных функций органов государственной власти субъектов Российской Федерации  и органов местного самоуправления","022","04",12,"002 00 00",null,{"$f":"H1863","v":327366}]
[41200299,"Обеспечение деятельности подведомственных учреждений","022","04",12,"002 99 00",null,{"$f":"H1864","v":327366}]
[41200299001,"Выполнение функций бюджетными учреждениями","022","04",12,"002 99 00","001",327366]
[412522,"Региональные целевые программы","022","04",12,"522 00 00",null,{"$f":"H1866","v":1250}]
[41252210,"Областная целевая программа \"Обеспечение безопасности дорожного движения на территории Московской области в 2007-2010 годах\"","022","04",12,"522 10 00",null,{"$f":"H1867+H1869","v":1250}]
[4125221001,"Раздел \"Предупреждение опасного поведения участников дорожного движения\"","022","04",12,"522 10 01",null,{"$f":"H1868","v":1000}]
[4125221001038,"Мероприятия по повышению безопасности дорожного движения","022","04",12,"522 10 01","038",1000]
[4125221003,"Раздел \"Совершенствование системы подготовки и переподготовки водительского, ремонтного и инженерно-технического персонала\"","022","04",12,"522 10 03",null,{"$f":"H1870","v":250}]
[4125221003038,"Мероприятия по повышению безопасности дорожного движения","022","04",12,"522 10 03","038",250]
[7,"Образование","022","07",null,null,null,{"$f":"H1872","v":245}]
[707,"Молодежная политика и оздоровление детей","022","07","07",null,null,{"$f":"H1873","v":245}]
[707432,"Мероприятия по проведению оздоровительной кампании детей ","022","07","07","432 00 00",null,{"$f":"H1874","v":245}]
[70743202,"Оздоровление детей ","022","07","07","432 02 00",null,{"$f":"H1875","v":245}]
[70743202001,"Выполнение функций бюджетными учреждениями","022","07","07","432 02 00","001",245]
[10,"Социальная политика","022",10,null,null,null,{"$f":"H1877","v":2189774}]
[1003,"Социальное обеспечение населения","022",10,"03",null,null,{"$f":"H1878","v":2189774}]
[1003505,"Социальная помощь","022",10,"03","505 00 00",null,{"$f":"H1879+H1884","v":2189774}]
[100350533,"Мероприятия в области социальной политики","022",10,"03","505 33 00",null,{"$f":"H1880+H1882","v":1951483}]
[10035053320,"Финансирование транспортным организациям выпадающих доходов, возникающих в связи с предоставлением мер социальной поддержки по проезду отдельных категорий граждан, имеющих место жительства в Московской области, за исключением ветеранов труда, тружеников тыла, реабилитированных лиц и лиц, признанных пострадавшими от политических репрессий,  финансирование выпадающих доходов по перевозке отдельных категорий граждан на внутреннем водном транспорте пригородного сообщения","022",10,"03","505 33 20",null,{"$f":"H1881","v":1194483}]
[10035053320005,"Социальные выплаты","022",10,"03","505 33 20","005",1194483]
[10035053321,"Финансирование транспортным организациям выпадающих доходов, возникающих в связи с реализацией мер социальной поддержки в части транспортного обслуживания отдельных категорий граждан, имеющих место жительства в городе Москве, пассажирским транспортом общего пользования Московской области","022",10,"03","505 33 21",null,{"$f":"H1883","v":757000}]
[10035053321005,"Социальные выплаты","022",10,"03","505 33 21","005",757000]
[100350537,"Обеспечение равной доступности услуг общественного транспорта на территории соответствующего субъекта Российской Федерации для отдельных категорий граждан","022",10,"03","505 37 00",null,{"$f":"H1885","v":238291}]
[100350537005,"Социальные выплаты","022",10,"03","505 37 00","005",238291]
[11,"Межбюджетные трансферты","022",11,null,null,null,{"$f":"H1887","v":200000}]
[1104,"Иные межбюджетные трансферты","022",11,"04",null,null,{"$f":"H1888","v":200000}]
[1104520,"Иные безвозмездные и безвозвратные перечисления","022",11,"04","520 00 00",null,{"$f":"H1889","v":200000}]
[110452015,"Средства, передаваемые для компенсации дополнительных расходов, возникших в результате решений, принятых органами власти другого уровня","022",11,"04","520 15 00",null,{"$f":"H1890","v":200000}]
[110452015017,"Иные межбюджетные трансферты","022",11,"04","520 15 00","017",200000]
[]
[0,"Главное контрольное управление Московской области","023",null,null,null,null,{"$f":"H1893+H1898+H1903+H1908","v":116246}]
[1,"Общегосударственные вопросы","023","01",null,null,null,{"$f":"H1894","v":116048}]
[106,"Обеспечение деятельности финансовых, налоговых и таможенных органов и органов финансового (финансово-бюджетного) надзора","023","01","06",null,null,{"$f":"H1895","v":116048}]
[106002,"Руководство и управление в сфере установленных функций органов государственной власти субъектов Российской Федерации  и органов местного самоуправления","023","01","06","002 00 00",null,{"$f":"H1896","v":116048}]
[10600204,"Центральный аппарат","023","01","06","002 04 00",null,{"$f":"H1897","v":116048}]
[10600204012,"Выполнение функций государственными органами","023","01","06","002 04 00","012",116048]
[2,"Национальная оборона","023","02",null,null,null,{"$f":"H1899","v":114}]
[204,"Мобилизационная подготовка экономики","023","02","04",null,null,{"$f":"H1900","v":114}]
[204209,"Реализация государственных функций по мобилизационной подготовке экономики","023","02","04","209 00 00",null,{"$f":"H1901","v":114}]
[20420901,"Мероприятия по обеспечению  мобилизационной готовности экономики","023","02","04","209 01 00",null,{"$f":"H1902","v":114}]
[20420901012,"Выполнение функций государственными органами","023","02","04","209 01 00","012",114]
[3,"Национальная безопасность и правоохранительная деятельность","023","03",null,null,null,{"$f":"H1904","v":41}]
[309,"Защита населения и территории от последствий чрезвычайных ситуаций природного и техногенного характера, гражданская оборона ","023","03","09",null,null,{"$f":"H1905","v":41}]
[309219,"Мероприятия по гражданской обороне","023","03","09","219 00 00",null,{"$f":"H1906","v":41}]
[30921901,"Подготовка населения и организаций к действиям в чрезвычайной ситуации в мирное и военное время","023","03","09","219 01 00",null,{"$f":"H1907","v":41}]
[30921901012,"Выполнение функций государственными органами","023","03","09","219 01 00","012",41]
[7,"Образование","023","07",null,null,null,{"$f":"H1909","v":43}]
[707,"Молодежная политика и оздоровление детей","023","07","07",null,null,{"$f":"H1910","v":43}]
[707432,"Мероприятия по проведению оздоровительной кампании детей ","023","07","07","432 00 00",null,{"$f":"H1911","v":43}]
[70743202,"Оздоровление детей ","023","07","07","432 02 00",null,{"$f":"H1912","v":43}]
[70743202001,"Выполнение функций бюджетными учреждениями","023","07","07","432 02 00","001",43]
[]
[0,"Главное управление региональной безопасности Московской области","024",null,null,null,null,{"$f":"H1915+H1920+H1925+H1956","v":566033}]
[1,"Общегосударственные вопросы","024","01",null,null,null,{"$f":"H1916","v":171189}]
[114,"Другие общегосударственные вопросы","024","01",14,null,null,{"$f":"H1917","v":171189}]
[114002,"Руководство и управление в сфере установленных функций органов государственной власти субъектов Российской Федерации  и органов местного самоуправления","024","01",14,"002 00 00",null,{"$f":"H1918","v":171189}]
[11400204,"Центральный аппарат","024","01",14,"002 04 00",null,{"$f":"H1919","v":171189}]
[11400204012,"Выполнение функций государственными органами","024","01",14,"002 04 00","012",171189]
[2,"Национальная оборона","024","02",null,null,null,{"$f":"H1921","v":530}]
[204,"Мобилизационная подготовка экономики","024","02","04",null,null,{"$f":"H1922","v":530}]
[204209,"Реализация государственных функций по мобилизационной подготовке экономики","024","02","04","209 00 00",null,{"$f":"H1923","v":530}]
[20420901,"Мероприятия по обеспечению  мобилизационной готовности экономики","024","02","04","209 01 00",null,{"$f":"H1924","v":530}]
[20420901012,"Выполнение функций государственными органами","024","02","04","209 01 00","012",530]
[3,"Национальная безопасность и правоохранительная деятельность","024","03",null,null,null,{"$f":"H1926+H1934+H1942+H1947+H1951","v":394237}]
[302,"Органы внутренних дел","024","03","02",null,null,{"$f":"H1927","v":48354}]
[302202,"Воинские формирования (органы, подразделения)","024","03","02","202 00 00",null,{"$f":"H1928+H1931","v":48354}]
[30220258,"Военный  персонал  ","024","03","02","202 58 00",null,{"$f":"H1929","v":48298}]
[3022025801,"Дополнительные гарантии социальной защиты сотрудникам  территориальных федеральных органов, установленные законодательством Московской области ","024","03","02","202 58 01",null,{"$f":"H1930","v":48298}]
[3022025801014,"Функционирование органов в сфере национальной безопасности, правоохранительной деятельности и обороны","024","03","02","202 58 01","014",48298]
[30220267,"Функционирование органов в сфере национальной безопасности, правоохранительной деятельности ","024","03","02","202 67 00",null,{"$f":"H1932","v":56}]
[3022026701,"Дополнительные гарантии социальной защиты  гражданскому персоналу территориальных федеральных органов, установленные законодательством Московской области ","024","03","02","202 67 01",null,{"$f":"H1933","v":56}]
[3022026701014,"Функционирование органов в сфере национальной безопасности, правоохранительной деятельности и обороны","024","03","02","202 67 01","014",56]
[305,"Система исполнения наказаний","024","03","05",null,null,{"$f":"H1935","v":177958}]
[305202,"Воинские формирования (органы, подразделения)","024","03","05","202 00 00",null,{"$f":"H1936+H1939","v":177958}]
[30520258,"Военный  персонал  ","024","03","05","202 58 00",null,{"$f":"H1937","v":147086}]
[3052025801,"Дополнительные гарантии социальной защиты сотрудникам  территориальных федеральных органов, установленные законодательством Московской области ","024","03","05","202 58 01",null,{"$f":"H1938","v":147086}]
[3052025801014,"Функционирование органов в сфере национальной безопасности, правоохранительной деятельности и обороны","024","03","05","202 58 01","014",147086]
[30520267,"Функционирование органов в сфере национальной безопасности, правоохранительной деятельности ","024","03","05","202 67 00",null,{"$f":"H1940","v":30872}]
[3052026701,"Дополнительные гарантии социальной защиты  гражданскому персоналу территориальных федеральных органов, установленные законодательством Московской области ","024","03","05","202 67 01",null,{"$f":"H1941","v":30872}]
[3052026701014,"Функционирование органов в сфере национальной безопасности, правоохранительной деятельности и обороны","024","03","05","202 67 01","014",30872]
[308,"Органы по контролю за оборотом наркотических средств и психотропных веществ","024","03","08",null,null,{"$f":"H1943","v":67662}]
[308202,"Воинские формирования (органы, подразделения)","024","03","08","202 00 00",null,{"$f":"H1944","v":67662}]
[30820258,"Военный  персонал  ","024","03","08","202 58 00",null,{"$f":"H1945","v":67662}]
[3082025801,"Дополнительные гарантии социальной защиты сотрудникам  территориальных федеральных органов, установленные законодательством Московской области ","024","03","08","202 58 01",null,{"$f":"H1946","v":67662}]
[3082025801014,"Функционирование органов в сфере национальной безопасности, правоохранительной деятельности и обороны","024","03","08","202 58 01","014",67662]
[309,"Защита населения и территории от последствий чрезвычайных ситуаций природного и техногенного характера, гражданская оборона ","024","03","09",null,null,{"$f":"H1948","v":263}]
[309219,"Мероприятия по гражданской обороне","024","03","09","219 00 00",null,{"$f":"H1949","v":263}]
[30921901,"Подготовка населения и организаций к действиям в чрезвычайной ситуации в мирное и военное время","024","03","09","219 01 00",null,{"$f":"H1950","v":263}]
[30921901012,"Выполнение функций государственными органами","024","03","09","219 01 00","012",263]
[310,"Обеспечение пожарной безопасности","024","03",10,null,null,{"$f":"H1952","v":100000}]
[310202,"Воинские формирования (органы, подразделения)","024","03",10,"202 00 00",null,{"$f":"H1953","v":100000}]
[31020258,"Военный  персонал  ","024","03",10,"202 58 00",null,{"$f":"H1954","v":100000}]
[3102025801,"Дополнительные гарантии социальной защиты сотрудникам  территориальных федеральных органов, установленные законодательством Московской области ","024","03",10,"202 58 01",null,{"$f":"H1955","v":100000}]
[3102025801014,"Функционирование органов в сфере национальной безопасности, правоохранительной деятельности и обороны","024","03",10,"202 58 01","014",100000]
[7,"Образование","024","07",null,null,null,{"$f":"H1957","v":77}]
[707,"Молодежная политика и оздоровление детей","024","07","07",null,null,{"$f":"H1958","v":77}]
[707432,"Мероприятия по проведению оздоровительной кампании детей ","024","07","07","432 00 00",null,{"$f":"H1959","v":77}]
[70743202,"Оздоровление детей ","024","07","07","432 02 00",null,{"$f":"H1960","v":77}]
[70743202001,"Выполнение функций бюджетными учреждениями","024","07","07","432 02 00","001",77]
[]
[0,"Главное управление архитектуры и градостроительства Московской области","025",null,null,null,null,{"$f":"H1963+H1968+H1973+H1977","v":288644}]
[2,"Национальная оборона","025","02",null,null,null,{"$f":"H1964","v":100}]
[204,"Мобилизационная подготовка экономики","025","02","04",null,null,{"$f":"H1965","v":100}]
[204209,"Реализация государственных функций по мобилизационной подготовке экономики","025","02","04","209 00 00",null,{"$f":"H1966","v":100}]
[20420901,"Мероприятия по обеспечению  мобилизационной готовности экономики","025","02","04","209 01 00",null,{"$f":"H1967","v":100}]
[20420901012,"Выполнение функций государственными органами","025","02","04","209 01 00","012",100]
[3,"Национальная безопасность и правоохранительная деятельность","025","03",null,null,null,{"$f":"H1969","v":325}]
[309,"Защита населения и территории от последствий чрезвычайных ситуаций природного и техногенного характера, гражданская оборона ","025","03","09",null,null,{"$f":"H1970","v":325}]
[309219,"Мероприятия по гражданской обороне","025","03","09","219 00 00",null,{"$f":"H1971","v":325}]
[30921901,"Подготовка населения и организаций к действиям в чрезвычайной ситуации в мирное и военное время","025","03","09","219 01 00",null,{"$f":"H1972","v":325}]
[30921901012,"Выполнение функций государственными органами","025","03","09","219 01 00","012",325]
[4,"Национальная экономика","025","04",null,null,null,{"$f":"H1974","v":190340}]
[412,"Другие вопросы в области национальной экономики","025","04",12,null,null,{"$f":"H1975","v":190340}]
[412338,"Мероприятия в области строительства, архитектуры и градостроительства","025","04",12,"338 00 00",null,{"$f":"H1976","v":190340}]
[412338012,"Выполнение функций государственными органами","025","04",12,"338 00 00","012",190340]
[5,"Жилищно-коммунальное хозяйство","025","05",null,null,null,{"$f":"H1978","v":97879}]
[505,"Другие вопросы в области жилищно-коммунального хозяйства","025","05","05",null,null,{"$f":"H1979","v":97879}]
[505002,"Руководство и управление в сфере установленных функций органов государственной власти субъектов Российской Федерации  и органов местного самоуправления","025","05","05","002 00 00",null,{"$f":"H1980","v":97879}]
[50500204,"Центральный аппарат","025","05","05","002 04 00",null,{"$f":"SUM(H1981:H1982)","v":97879}]
[50500204012,"Выполнение функций государственными органами","025","05","05","002 04 00","012",97379]
[50500204902,"Проведение мероприятий по защите информации, обеспечению безопасности информационных систем и баз данных, содержащих конфиденциальную информацию, в том числе персональные данные населения Московской области","025","05","05","002 04 00",902,500]
[]
[0,"Главное управление государственного строительного надзора Московской области","026",null,null,null,null,{"$f":"H1985+H1990","v":225063}]
[4,"Национальная экономика","026","04",null,null,null,{"$f":"H1986","v":224791}]
[401,"Общеэкономические вопросы","026","04","01",null,null,{"$f":"H1987","v":224791}]
[401002,"Руководство и управление в сфере установленных функций органов государственной власти субъектов Российской Федерации  и органов местного самоуправления","026","04","01","002 00 00",null,{"$f":"H1988","v":224791}]
[40100204,"Центральный аппарат","026","04","01","002 04 00",null,{"$f":"H1989","v":224791}]
[40100204012,"Выполнение функций государственными органами","026","04","01","002 04 00","012",224791]
[7,"Образование","026","07",null,null,null,{"$f":"H1991","v":272}]
[707,"Молодежная политика и оздоровление детей","026","07","07",null,null,{"$f":"H1992","v":272}]
[707432,"Мероприятия по проведению оздоровительной кампании детей ","026","07","07","432 00 00",null,{"$f":"H1993","v":272}]
[70743202,"Оздоровление детей ","026","07","07","432 02 00",null,{"$f":"H1994","v":272}]
[70743202001,"Выполнение функций бюджетными учреждениями","026","07","07","432 02 00","001",272]
[]
[0,"Главное управление записи актов гражданского состояния Московской области","027",null,null,null,null,{"$f":"H1997+H2006+H2011+H2016","v":492295}]
[1,"Общегосударственные вопросы","027","01",null,null,null,{"$f":"H1998","v":491211}]
[114,"Другие общегосударственные вопросы","027","01",14,null,null,{"$f":"H1999+H2002","v":491211}]
[114001,"Руководство и управление в сфере установленных функций","027","01",14,"001 00 00",null,{"$f":"H2000","v":180190}]
[11400138,"Государственная регистрация актов гражданского состояния ","027","01",14,"001 38 00",null,{"$f":"SUM(H2001:H2001)","v":180190}]
[11400138012,"Выполнение функций государственными органами","027","01",14,"001 38 00","012",180190]
[114002,"Руководство и управление в сфере установленных функций органов государственной власти субъектов Российской Федерации  и органов местного самоуправления","027","01",14,"002 00 00",null,{"$f":"H2003","v":311021}]
[11400204,"Центральный аппарат","027","01",14,"002 04 00",null,{"$f":"SUM(H2004:H2005)","v":311021}]
[11400204012,"Выполнение функций государственными органами","027","01",14,"002 04 00","012",294171]
[11400204902,"Проведение мероприятий по защите информации, обеспечению безопасности информационных систем и баз данных, содержащих конфиденциальную информацию, в том числе персональные данные населения Московской области","027","01",14,"002 04 00",902,16850]
[2,"Национальная оборона","027","02",null,null,null,{"$f":"H2007","v":120}]
[204,"Мобилизационная подготовка экономики","027","02","04",null,null,{"$f":"H2008","v":120}]
[204209,"Реализация государственных функций по мобилизационной подготовке экономики","027","02","04","209 00 00",null,{"$f":"H2009","v":120}]
[20420901,"Мероприятия по обеспечению  мобилизационной готовности экономики","027","02","04","209 01 00",null,{"$f":"H2010","v":120}]
[20420901012,"Выполнение функций государственными органами","027","02","04","209 01 00","012",120]
[3,"Национальная безопасность и правоохранительная деятельность","027","03",null,null,null,{"$f":"H2012","v":720}]
[309,"Защита населения и территории от последствий чрезвычайных ситуаций природного и техногенного характера, гражданская оборона ","027","03","09",null,null,{"$f":"H2013","v":720}]
[309219,"Мероприятия по гражданской обороне","027","03","09","219 00 00",null,{"$f":"H2014","v":720}]
[30921901,"Подготовка населения и организаций к действиям в чрезвычайной ситуации в мирное и военное время","027","03","09","219 01 00",null,{"$f":"H2015","v":720}]
[30921901012,"Выполнение функций государственными органами","027","03","09","219 01 00","012",720]
[7,"Образование","027","07",null,null,null,{"$f":"H2017","v":244}]
[707,"Молодежная политика и оздоровление детей","027","07","07",null,null,{"$f":"H2018","v":244}]
[707432,"Мероприятия по проведению оздоровительной кампании детей ","027","07","07","432 00 00",null,{"$f":"H2019","v":244}]
[70743202,"Оздоровление детей ","027","07","07","432 02 00",null,{"$f":"H2020","v":244}]
[70743202001,"Выполнение функций бюджетными учреждениями","027","07","07","432 02 00","001",244]
[]
[0,"Главное управление по труду и социальным вопросам Московской области","028",null,null,null,null,{"$f":"H2023+H2032+H2037+H2042","v":75805}]
[1,"Общегосударственные вопросы","028","01",null,null,null,{"$f":"H2024","v":70044}]
[114,"Другие общегосударственные вопросы","028","01",14,null,null,{"$f":"H2025+H2028","v":70044}]
[114001,"Руководство и управление в сфере установленных функций","028","01",14,"001 00 00",null,{"$f":"H2026","v":9269}]
[11400166,"Подготовка и проведение Праздника труда в Московской области","028","01",14,"001 66 00",null,{"$f":"H2027","v":9269}]
[11400166013,"Прочие расходы","028","01",14,"001 66 00","013",9269]
[114002,"Руководство и управление в сфере установленных функций органов государственной власти субъектов Российской Федерации  и органов местного самоуправления","028","01",14,"002 00 00",null,{"$f":"H2029","v":60775}]
[11400204,"Центральный аппарат","028","01",14,"002 04 00",null,{"$f":"SUM(H2030:H2031)","v":60775}]
[11400204012,"Выполнение функций государственными органами","028","01",14,"002 04 00","012",59938]
[11400204902,"Проведение мероприятий по защите информации, обеспечению безопасности информационных систем и баз данных, содержащих конфиденциальную информацию, в том числе персональные данные населения Московской области","028","01",14,"002 04 00",902,837]
[2,"Национальная оборона","028","02",null,null,null,{"$f":"H2033","v":90}]
[204,"Мобилизационная подготовка экономики","028","02","04",null,null,{"$f":"H2034","v":90}]
[204209,"Реализация государственных функций по мобилизационной подготовке экономики","028","02","04","209 00 00",null,{"$f":"H2035","v":90}]
[20420901,"Мероприятия по обеспечению  мобилизационной готовности экономики","028","02","04","209 01 00",null,{"$f":"H2036","v":90}]
[20420901012,"Выполнение функций государственными органами","028","02","04","209 01 00","012",90]
[3,"Национальная безопасность и правоохранительная деятельность","028","03",null,null,null,{"$f":"H2038","v":111}]
[309,"Защита населения и территории от последствий чрезвычайных ситуаций природного и техногенного характера, гражданская оборона ","028","03","09",null,null,{"$f":"H2039","v":111}]
[309219,"Мероприятия по гражданской обороне","028","03","09","219 00 00",null,{"$f":"H2040","v":111}]
[30921901,"Подготовка населения и организаций к действиям в чрезвычайной ситуации в мирное и военное время","028","03","09","219 01 00",null,{"$f":"H2041","v":111}]
[30921901012,"Выполнение функций государственными органами","028","03","09","219 01 00","012",111]
[7,"Образование","028","07",null,null,null,{"$f":"H2043+H2047","v":5560}]
[705,"Профессиональная подготовка, переподготовка и повышение квалификации","028","07","05",null,null,{"$f":"H2044","v":5500}]
[705429,"Учебные заведения и курсы по переподготовке кадров","028","07","05","429 00 00",null,{"$f":"H2045","v":5500}]
[70542978,"Переподготовка и повышение квалификации кадров","028","07","05","429 78 00",null,{"$f":"H2046","v":5500}]
[70542978001,"Выполнение функций бюджетными учреждениями","028","07","05","429 78 00","001",5500]
[707,"Молодежная политика и оздоровление детей","028","07","07",null,null,{"$f":"H2048","v":60}]
[707432,"Мероприятия по проведению оздоровительной кампании детей ","028","07","07","432 00 00",null,{"$f":"H2049","v":60}]
[70743202,"Оздоровление детей ","028","07","07","432 02 00",null,{"$f":"H2050","v":60}]
[70743202001,"Выполнение функций бюджетными учреждениями","028","07","07","432 02 00","001",60]
[]
[0,"Министерство потребительского рынка и услуг Московской области","029",null,null,null,null,{"$f":"H2053+H2058+H2063","v":205616}]
[2,"Национальная оборона","029","02",null,null,null,{"$f":"H2054","v":377}]
[204,"Мобилизационная подготовка экономики","029","02","04",null,null,{"$f":"H2055","v":377}]
[204209,"Реализация государственных функций по мобилизационной подготовке экономики","029","02","04","209 00 00",null,{"$f":"H2056","v":377}]
[20420901,"Мероприятия по обеспечению  мобилизационной готовности экономики","029","02","04","209 01 00",null,{"$f":"H2057","v":377}]
[20420901012,"Выполнение функций государственными органами","029","02","04","209 01 00","012",377]
[3,"Национальная безопасность и правоохранительная деятельность","029","03",null,null,null,{"$f":"H2059","v":583}]
[309,"Защита населения и территории от последствий чрезвычайных ситуаций природного и техногенного характера, гражданская оборона ","029","03","09",null,null,{"$f":"H2060","v":583}]
[309219,"Мероприятия по гражданской обороне","029","03","09","219 00 00",null,{"$f":"H2061","v":583}]
[30921901,"Подготовка населения и организаций к действиям в чрезвычайной ситуации в мирное и военное время","029","03","09","219 01 00",null,{"$f":"H2062","v":583}]
[30921901012,"Выполнение функций государственными органами","029","03","09","219 01 00","012",583]
[4,"Национальная экономика","029","04",null,null,null,{"$f":"H2064","v":204656}]
[412,"Другие вопросы в области национальной экономики","029","04",12,null,null,{"$f":"H2065","v":204656}]
[412002,"Руководство и управление в сфере установленных функций органов государственной власти субъектов Российской Федерации  и органов местного самоуправления","029","04",12,"002 00 00",null,{"$f":"H2066","v":204656}]
[41200204,"Центральный аппарат","029","04",12,"002 04 00",null,{"$f":"SUM(H2067:H2068)","v":204656}]
[41200204012,"Выполнение функций государственными органами","029","04",12,"002 04 00","012",{"$f":"161900+42500","v":204400}]
[41200204902,"Проведение мероприятий по защите информации, обеспечению безопасности информационных систем и баз данных, содержащих конфиденциальную информацию, в том числе персональные данные населения Московской области","029","04",12,"002 04 00",902,256]
[]
[0,"Главное управление государственной службы занятости населения Московской области","030",null,null,null,null,{"$f":"H2071+H2103","v":929248}]
[4,"Национальная экономика","030","04",null,null,null,{"$f":"H2072","v":534421}]
[401,"Общеэкономические вопросы","030","04","01",null,null,{"$f":"H2073+H2076","v":534421}]
[401002,"Руководство и управление в сфере установленных функций органов государственной власти субъектов Российской Федерации  и органов местного самоуправления","030","04","01","002 00 00",null,{"$f":"H2074","v":51621}]
[40100204,"Центральный аппарат","030","04","01","002 04 00",null,{"$f":"SUM(H2075:H2075)","v":51621}]
[40100204012,"Выполнение функций государственными органами","030","04","01","002 04 00","012",51621]
[401510,"Реализация государственной политики занятости населения","030","04","01","510 00 00",null,{"$f":"H2077+H2100","v":482800}]
[40151002,"Осуществление полномочий Российской Федерации в области содействия занятости населения, включая расходы по осуществлению этих полномочий","030","04","01","510 02 00",null,{"$f":"H2078+H2080+H2082+H2084+H2086+H2088+H2090+H2092+H2094+H2096+H2098","v":134867}]
[4015100201,"Профессиональное обучение безработных граждан","030","04","01","510 02 01",null,{"$f":"H2079","v":40000}]
[4015100201009,"Фонд компенсаций","030","04","01","510 02 01","009",40000]
[4015100202,"Профессиональная ориентация","030","04","01","510 02 02",null,{"$f":"H2081","v":3000}]
[4015100202009,"Фонд компенсаций","030","04","01","510 02 02","009",3000]
[4015100203,"Организация ярмарок вакансий и учебных рабочих мест","030","04","01","510 02 03",null,{"$f":"H2083","v":4500}]
[4015100203009,"Фонд компенсаций","030","04","01","510 02 03","009",4500]
[4015100204,"Информирование населения и работодателей о положении на рынке труда","030","04","01","510 02 04",null,{"$f":"H2085","v":2543}]
[4015100204009,"Фонд компенсаций","030","04","01","510 02 04","009",2543]
[4015100205,"Организация общественных работ","030","04","01","510 02 05",null,{"$f":"H2087","v":8115}]
[4015100205009,"Фонд компенсаций","030","04","01","510 02 05","009",8115]
[4015100206,"Организация временного трудоустройства безработных граждан, испытывающих трудности в поиске работы","030","04","01","510 02 06",null,{"$f":"H2089","v":3371}]
[4015100206009,"Фонд компенсаций","030","04","01","510 02 06","009",3371]
[4015100207,"Социальная адаптация безработных граждан на рынке труда","030","04","01","510 02 07",null,{"$f":"H2091","v":3000}]
[4015100207009,"Фонд компенсаций","030","04","01","510 02 07","009",3000]
[4015100208,"Оказание содействия самозанятости безработных граждан","030","04","01","510 02 08",null,{"$f":"H2093","v":2500}]
[4015100208009,"Фонд компенсаций","030","04","01","510 02 08","009",2500]
[4015100209,"Организация временого трудоустройства несовершеннолетних граждан в возрасте от 14 до 18 лет","030","04","01","510 02 09",null,{"$f":"H2095","v":33145}]
[4015100209009,"Фонд компенсаций","030","04","01","510 02 09","009",33145]
[4015100210,"Организация временного трудоустройства безработных граждан в возрасте от 18 до 20 лет из числа выпускников учреждений начального и среднего профессионального образовования, ищущих работу впервые","030","04","01","510 02 10",null,{"$f":"H2097","v":999}]
[4015100210009,"Фонд компенсаций","030","04","01","510 02 10","009",999]
[4015100215,"Расходы по обеспечению осуществления переданных полномочий в области содействия занятости населения","030","04","01","510 02 15",null,{"$f":"H2099","v":33694}]
[4015100215009,"Фонд компенсаций","030","04","01","510 02 15","009",33694]
[40151099,"Обеспечение деятельности подведомственных учреждений","030","04","01","510 99 00",null,{"$f":"H2101+H2102","v":347933}]
[40151099001,"Выполнение функций бюджетными учреждениями","030","04","01","510 99 00","001",55539]
[40151099009,"Фонд компенсаций","030","04","01","510 99 00","009",292394]
[10,"Социальная политика","030",10,null,null,null,{"$f":"H2104","v":394827}]
[1003,"Социальное обеспечение населения","030",10,"03",null,null,{"$f":"H2105","v":394827}]
[1003510,"Реализация государственной политики занятости населения","030",10,"03","510 00 00",null,{"$f":"H2106","v":394827}]
[100351002,"Осуществление полномочий Российской Федерации в области содействия занятости населения, включая расходы по осуществлению этих полномочий","030",10,"03","510 02 00",null,{"$f":"H2107","v":394827}]
[100351002009,"Фонд компенсаций","030",10,"03","510 02 00","009",394827]
[]
[0,"Управление по обеспечению деятельности мировых судей Московской области","031",null,null,null,null,{"$f":"H2110+H2115","v":1164766}]
[1,"Общегосударственные вопросы","031","01",null,null,null,{"$f":"H2111","v":1163086}]
[105,"Судебная система","031","01","05",null,null,{"$f":"H2112","v":1163086}]
[105002,"Руководство и управление в сфере установленных функций органов государственной власти субъектов Российской Федерации  и органов местного самоуправления","031","01","05","002 00 00",null,{"$f":"H2113","v":1163086}]
[10500223,"Обеспечение деятельности аппаратов судов","031","01","05","002 23 00",null,{"$f":"SUM(H2114:H2114)","v":1163086}]
[10500223012,"Выполнение функций государственными органами","031","01","05","002 23 00","012",1163086]
[7,"Образование","031","07",null,null,null,{"$f":"H2116","v":1680}]
[707,"Молодежная политика и оздоровление детей","031","07","07",null,null,{"$f":"H2117","v":1680}]
[707432,"Мероприятия по проведению оздоровительной кампании детей ","031","07","07","432 00 00",null,{"$f":"H2118","v":1680}]
[70743202,"Оздоровление детей ","031","07","07","432 02 00",null,{"$f":"H2119","v":1680}]
[70743202001,"Выполнение функций бюджетными учреждениями","031","07","07","432 02 00","001",1680]
[]
[0,"Главное управление по надзору за техническим состоянием самоходных машин и других видов техники Московской области","032",null,null,null,null,{"$f":"H2122+H2127+H2132","v":134473}]
[2,"Национальная оборона","032","02",null,null,null,{"$f":"H2123","v":30}]
[204,"Мобилизационная подготовка экономики","032","02","04",null,null,{"$f":"H2124","v":30}]
[204209,"Реализация государственных функций по мобилизационной подготовке экономики","032","02","04","209 00 00",null,{"$f":"H2125","v":30}]
[20420901,"Мероприятия по обеспечению  мобилизационной готовности экономики","032","02","04","209 01 00",null,{"$f":"H2126","v":30}]
[20420901012,"Выполнение функций государственными органами","032","02","04","209 01 00","012",30]
[3,"Национальная безопасность и правоохранительная деятельность","032","03",null,null,null,{"$f":"H2128","v":10}]
[309,"Защита населения и территории от последствий чрезвычайных ситуаций природного и техногенного характера, гражданская оборона ","032","03","09",null,null,{"$f":"H2129","v":10}]
[309219,"Мероприятия по гражданской обороне","032","03","09","219 00 00",null,{"$f":"H2130","v":10}]
[30921901,"Подготовка населения и организаций к действиям в чрезвычайной ситуации в мирное и военное время","032","03","09","219 01 00",null,{"$f":"H2131","v":10}]
[30921901012,"Выполнение функций государственными органами","032","03","09","219 01 00","012",10]
[4,"Национальная экономика","032","04",null,null,null,{"$f":"H2133","v":134433}]
[408,"Транспорт","032","04","08",null,null,{"$f":"H2134","v":134433}]
[408002,"Руководство и управление в сфере установленных функций органов государственной власти субъектов Российской Федерации  и органов местного самоуправления","032","04","08","002 00 00",null,{"$f":"H2135","v":134433}]
[40800204,"Центральный аппарат","032","04","08","002 04 00",null,{"$f":"H2136","v":134433}]
[40800204012,"Выполнение функций государственными органами","032","04","08","002 04 00","012",134433]
[]
[0,"Главное архивное управление Московской области","034",null,null,null,null,{"$f":"H2139+H2150+H2155+H2160","v":322417}]
[1,"Общегосударственные вопросы","034","01",null,null,null,{"$f":"H2140","v":322250}]
[114,"Другие общегосударственные вопросы","034","01",14,null,null,{"$f":"H2141+H2144","v":322250}]
[114001,"Руководство и управление в сфере установленных функций","034","01",14,"001 00 00",null,{"$f":"H2142","v":3500}]
[11400167,"Возмещение расходов негосударственных организаций по отбору и передаче в упорядоченном состоянии архивных документов, отнесенных к собственности Московской области, в государственные архивы Московской области","034","01",14,"001 67 00",null,{"$f":"H2143","v":3500}]
[11400167013,"Прочие расходы","034","01",14,"001 67 00","013",3500]
[114002,"Руководство и управление в сфере установленных функций органов государственной власти субъектов Российской Федерации  и органов местного самоуправления","034","01",14,"002 00 00",null,{"$f":"H2145+H2148","v":318750}]
[11400204,"Центральный аппарат","034","01",14,"002 04 00",null,{"$f":"SUM(H2146:H2147)","v":268196}]
[11400204012,"Выполнение функций государственными органами","034","01",14,"002 04 00","012",267896]
[11400204902,"Проведение мероприятий по защите информации, обеспечению безопасности информационных систем и баз данных, содержащих конфиденциальную информацию, в том числе персональные данные населения Московской области","034","01",14,"002 04 00",902,300]
[11400299,"Обеспечение деятельности подведомственных учреждений","034","01",14,"002 99 00",null,{"$f":"SUM(H2149:H2149)","v":50554}]
[11400299001,"Выполнение функций бюджетными учреждениями","034","01",14,"002 99 00","001",50554]
[2,"Национальная оборона","034","02",null,null,null,{"$f":"H2151","v":60}]
[204,"Мобилизационная подготовка экономики","034","02","04",null,null,{"$f":"H2152","v":60}]
[204209,"Реализация государственных функций по мобилизационной подготовке экономики","034","02","04","209 00 00",null,{"$f":"H2153","v":60}]
[20420901,"Мероприятия по обеспечению  мобилизационной готовности экономики","034","02","04","209 01 00",null,{"$f":"H2154","v":60}]
[20420901012,"Выполнение функций государственными органами","034","02","04","209 01 00","012",60]
[3,"Национальная безопасность и правоохранительная деятельность","034","03",null,null,null,{"$f":"H2156","v":90}]
[309,"Защита населения и территории от последствий чрезвычайных ситуаций природного и техногенного характера, гражданская оборона ","034","03","09",null,null,{"$f":"H2157","v":90}]
[309219,"Мероприятия по гражданской обороне","034","03","09","219 00 00",null,{"$f":"H2158","v":90}]
[30921901,"Подготовка населения и организаций к действиям в чрезвычайной ситуации в мирное и военное время","034","03","09","219 01 00",null,{"$f":"H2159","v":90}]
[30921901012,"Выполнение функций государственными органами","034","03","09","219 01 00","012",90]
[7,"Образование","034","07",null,null,null,{"$f":"H2161","v":17}]
[707,"Молодежная политика и оздоровление детей","034","07","07",null,null,{"$f":"H2162","v":17}]
[707432,"Мероприятия по проведению оздоровительной кампании детей ","034","07","07","432 00 00",null,{"$f":"H2163","v":17}]
[70743202,"Оздоровление детей ","034","07","07","432 02 00",null,{"$f":"H2164","v":17}]
[70743202001,"Выполнение функций бюджетными учреждениями","034","07","07","432 02 00","001",17]
[]
[0,"Управление государственной и муниципальной службы Московской области","036",null,null,null,null,{"$f":"H2167+H2181+H2186+H2191+H2203+H2208","v":677649}]
[1,"Общегосударственные вопросы","036","01",null,null,null,{"$f":"H2168","v":76112}]
[114,"Другие общегосударственные вопросы","036","01",14,null,null,{"$f":"H2169+H2177","v":76112}]
[114001,"Руководство и управление в сфере установленных функций","036","01",14,"001 00 00",null,{"$f":"H2170+H2172","v":37071}]
[11400168,"Денежное содержание и доплата до размере денежного содержания лицам, замещавшим государственные должности Московской области*","036","01",14,"001 68 00",null,{"$f":"H2171","v":20412}]
[11400168013,"Прочие расходы","036","01",14,"001 68 00","013",20412]
[11400169,"Расходы по реализации Закона Московской области \"О государственной гражданской службе Московской области\"","036","01",14,"001 69 00",null,{"$f":"H2173+H2175","v":16659}]
[1140016901,"Возмещение расходов на ритуальные услуги, связанные с погребением государственного гражданского служащего Московской области или лица, имевшего на день смерти право на пенсию за выслугу лет*","036","01",14,"001 69 01",null,{"$f":"H2174","v":500}]
[1140016901013,"Прочие расходы","036","01",14,"001 69 01","013",500]
[1140016902,"Единовременное поощрение государственным гражданским служащим Московской области при выходе на государственную пенсию за выслугу лет*","036","01",14,"001 69 02",null,{"$f":"H2176","v":16159}]
[1140016902013,"Прочие расходы","036","01",14,"001 69 02","013",16159]
[114002,"Руководство и управление в сфере установленных функций органов государственной власти субъектов Российской Федерации  и органов местного самоуправления","036","01",14,"002 00 00",null,{"$f":"H2178","v":39041}]
[11400204,"Центральный аппарат","036","01",14,"002 04 00",null,{"$f":"SUM(H2179:H2180)","v":39041}]
[11400204012,"Выполнение функций государственными органами","036","01",14,"002 04 00","012",38621]
[11400204902,"Проведение мероприятий по защите информации, обеспечению безопасности информационных систем и баз данных, содержащих конфиденциальную информацию, в том числе персональные данные населения Московской области","036","01",14,"002 04 00",902,420]
[2,"Национальная оборона","036","02",null,null,null,{"$f":"H2182","v":17}]
[204,"Мобилизационная подготовка экономики","036","02","04",null,null,{"$f":"H2183","v":17}]
[204209,"Реализация государственных функций по мобилизационной подготовке экономики","036","02","04","209 00 00",null,{"$f":"H2184","v":17}]
[20420901,"Мероприятия по обеспечению  мобилизационной готовности экономики","036","02","04","209 01 00",null,{"$f":"H2185","v":17}]
[20420901012,"Выполнение функций государственными органами","036","02","04","209 01 00","012",17]
[3,"Национальная безопасность и правоохранительная деятельность","036","03",null,null,null,{"$f":"H2187","v":10}]
[309,"Защита населения и территории от последствий чрезвычайных ситуаций природного и техногенного характера, гражданская оборона ","036","03","09",null,null,{"$f":"H2188","v":10}]
[309219,"Мероприятия по гражданской обороне","036","03","09","219 00 00",null,{"$f":"H2189","v":10}]
[30921901,"Подготовка населения и организаций к действиям в чрезвычайной ситуации в мирное и военное время","036","03","09","219 01 00",null,{"$f":"H2190","v":10}]
[30921901012,"Выполнение функций государственными органами","036","03","09","219 01 00","012",10]
[7,"Образование","036","07",null,null,null,{"$f":"H2192+H2199","v":97194}]
[705,"Профессиональная подготовка, переподготовка и повышение квалификации","036","07","05",null,null,{"$f":"H2193","v":97160}]
[705429,"Учебные заведения и курсы по переподготовке кадров","036","07","05","429 00 00",null,{"$f":"H2194+H2196","v":97160}]
[70542978,"Переподготовка и повышение квалификации кадров","036","07","05","429 78 00",null,{"$f":"H2195","v":5908}]
[70542978001,"Выполнение функций бюджетными учреждениями","036","07","05","429 78 00","001",5908]
[70542999,"Обеспечение деятельности подведомственных учреждений","036","07","05","429 99 00",null,{"$f":"H2197","v":91252}]
[7054299999,"Другие расходы на содержание учебных заведений и курсов по переподготовке кадров, обеспечение и организацию учебного процесса  ","036","07","05","429 99 99",null,{"$f":"H2198","v":91252}]
[7054299999001,"Выполнение функций бюджетными учреждениями","036","07","05","429 99 99","001",91252]
[707,"Молодежная политика и оздоровление детей","036","07","07",null,null,{"$f":"H2200","v":34}]
[707432,"Мероприятия по проведению оздоровительной кампании детей ","036","07","07","432 00 00",null,{"$f":"H2201","v":34}]
[70743202,"Оздоровление детей ","036","07","07","432 02 00",null,{"$f":"H2202","v":34}]
[70743202001,"Выполнение функций бюджетными учреждениями","036","07","07","432 02 00","001",34]
[9,"Здравоохранение, физическая культура и спорт","036","09",null,null,null,{"$f":"H2204","v":303110}]
[910,"Другие вопросы в области здравоохранения, физической культуры и спорта","036","09",10,null,null,{"$f":"H2205","v":303110}]
[910485,"Реализация государственных функций  в области здравоохранения, спорта и туризма","036","09",10,"485 00 00",null,{"$f":"H2206","v":303110}]
[91048597,"Мероприятия в области здравоохранения, спорта и физической культуры, туризма","036","09",10,"485 97 00",null,{"$f":"H2207","v":303110}]
[91048597079,"Мероприятия в области здравоохранения, спорта и физической культуры","036","09",10,"485 97 00","079",{"$f":"281843+21267","v":303110}]
[10,"Социальная политика","036",10,null,null,null,{"$f":"H2209+H2213","v":201206}]
[1001,"Пенсионное обеспечение","036",10,"01",null,null,{"$f":"H2210","v":142633}]
[1001491,"Доплаты к пенсиям, дополнительное пенсионное обеспечение","036",10,"01","491 00 00",null,{"$f":"H2211","v":142633}]
[100149101,"Доплаты к пенсиям государственных служащих субъектов Российской Федерации и муниципальных служащих*","036",10,"01","491 01 00",null,{"$f":"H2212","v":142633}]
[100149101005,"Социальные выплаты","036",10,"01","491 01 00","005",142633]
[1006,"Другие вопросы в области социальной политики","036",10,"06",null,null,{"$f":"H2214","v":58573}]
[1006803,"Расходы на страхование ","036",10,"06","803 00 00",null,{"$f":"H2215","v":58573}]
[10068030007,"Расходы на страхование на случай причинения вреда жизни и здоровью лиц, замещающих государственные должности Московской области и государственных гражданских служащих Московской области","036",10,"06","803 00 07",null,{"$f":"H2216","v":58573}]
[10068030007013,"Прочие расходы","036",10,"06","803 00 07","013",{"$f":"50926+7647","v":58573}]
[]
[0,"Избирательная комиссия Московской области","039",null,null,null,null,{"$f":"H2219+H2226","v":68074}]
[1,"Общегосударственные вопросы","039","01",null,null,null,{"$f":"H2220","v":67921}]
[107,"Обеспечение проведения выборов и референдумов","039","01","07",null,null,{"$f":"H2221","v":67921}]
[107002,"Руководство и управление в сфере установленных функций органов государственной власти субъектов Российской Федерации  и органов местного самоуправления","039","01","07","002 00 00",null,{"$f":"H2222+H2224","v":67921}]
[10700204,"Центральный аппарат","039","01","07","002 04 00",null,{"$f":"H2223","v":64398}]
[10700204012,"Выполнение функций государственными органами","039","01","07","002 04 00","012",64398]
[10700220,"Члены избирательной комиссии субъектов Российской Федерации","039","01","07","002 20 00",null,{"$f":"H2225","v":3523}]
[10700220012,"Выполнение функций государственными органами","039","01","07","002 20 00","012",3523]
[7,"Образование","039","07",null,null,null,{"$f":"H2227","v":153}]
[707,"Молодежная политика и оздоровление детей","039","07","07",null,null,{"$f":"H2228","v":153}]
[707432,"Мероприятия по проведению оздоровительной кампании детей ","039","07","07","432 00 00",null,{"$f":"H2229","v":153}]
[70743202,"Оздоровление детей ","039","07","07","432 02 00",null,{"$f":"H2230","v":153}]
[70743202001,"Выполнение функций бюджетными учреждениями","039","07","07","432 02 00","001",153]
[]
[0,"Главное управление внутренних дел по Московской области 1)","040",null,null,null,null,{"$f":"H2233+H2238+H2284","v":11882711}]
[2,"Национальная оборона","040","02",null,null,null,{"$f":"H2234","v":2400}]
[204,"Мобилизационная подготовка экономики","040","02","04",null,null,{"$f":"H2235","v":2400}]
[204209,"Реализация государственных функций по мобилизационной подготовке экономики","040","02","04","209 00 00",null,{"$f":"H2236","v":2400}]
[20420901,"Мероприятия по обеспечению  мобилизационной готовности экономики","040","02","04","209 01 00",null,{"$f":"H2237","v":2400}]
[20420901012,"Выполнение функций государственными органами","040","02","04","209 01 00","012",2400]
[3,"Национальная безопасность и правоохранительная деятельность","040","03",null,null,null,{"$f":"H2239+H2280","v":11829876}]
[302,"Органы внутренних дел","040","03","02",null,null,{"$f":"H2240+H2244+H2270+H2273","v":11826176}]
[302102,"Бюджетные инвестиции в объекты капитального строительства, не включенные в целевые программы","040","03","02","102 00 00",null,{"$f":"H2241","v":315585}]
[30210201,"Бюджетные инвестиции в объекты капитального строительства государственной собственности субъектов Российской Федерации (объекты капитального строительства собственности муниципальных образований)","040","03","02","102 01 00",null,{"$f":"H2242","v":315585}]
[3021020101,"Бюджетные инвестиции в объекты капитального строительства государственной собственности субъектов Российской Федерации ","040","03","02","102 01 01",null,{"$f":"H2243","v":315585}]
[3021020101003,"Бюджетные инвестиции","040","03","02","102 01 01","003",315585]
[302202,"Воинские формирования (органы, подразделения)","040","03","02","202 00 00",null,{"$f":"H2245+H2247+H2252+H2254+H2264+H2266+H2268","v":11373391}]
[30220201,"Обеспечение равного с Министерством внутренних дел Российской Федерации повышения денежного довольствия сотрудникам и заработной платы работникам подразделений милиции общественной безопасности","040","03","02","202 01 00",null,{"$f":"H2246","v":814538}]
[30220201014,"Функционирование органов в сфере национальной безопасности, правоохранительной деятельности и обороны","040","03","02","202 01 00","014",814538]
[30220258,"Военный  персонал  ","040","03","02","202 58 00",null,{"$f":"H2248+H2250","v":6458191}]
[3022025801,"Дополнительные гарантии социальной защиты сотрудникам  территориальных федеральных органов, установленные законодательством Московской области ","040","03","02","202 58 01",null,{"$f":"H2249","v":2902526}]
[3022025801014,"Функционирование органов в сфере национальной безопасности, правоохранительной деятельности и обороны","040","03","02","202 58 01","014",2902526]
[3022025802,"Денежное довольствие и  дополнительные выплаты в соответствии  с законодательством Российской Федерации","040","03","02","202 58 02",null,{"$f":"H2251","v":3555665}]
[3022025802014,"Функционирование органов в сфере национальной безопасности, правоохранительной деятельности и обороны","040","03","02","202 58 02","014",3555665]
[30220264,"Компенсации членам семей погибших военнослужащих*","040","03","02","202 64 00",null,{"$f":"H2253","v":7500}]
[30220264005,"Социальные выплаты","040","03","02","202 64 00","005",7500]
[30220267,"Функционирование органов в сфере национальной безопасности, правоохранительной деятельности ","040","03","02","202 67 00",null,{"$f":"H2255+H2257+H2259+H2261","v":3878033}]
[3022026701,"Дополнительные гарантии социальной защиты  гражданскому персоналу территориальных федеральных органов, установленные законодательством Московской области ","040","03","02","202 67 01",null,{"$f":"H2256","v":356170}]
[3022026701014,"Функционирование органов в сфере национальной безопасности, правоохранительной деятельности и обороны","040","03","02","202 67 01","014",356170]
[3022026702,"Расходы на оплату труда гражданского персонала","040","03","02","202 67 02",null,{"$f":"H2258","v":155281}]
[3022026702014,"Функционирование органов в сфере национальной безопасности, правоохранительной деятельности и обороны","040","03","02","202 67 02","014",{"$f":"113281+42000","v":155281}]
[3022026703,"Обеспечение подразделений УГИБДД ГУВД по Московской области специальной продукцией для допуска транспортных средств к участию в дорожном движении","040","03","02","202 67 03",null,{"$f":"H2260","v":303106}]
[3022026703014,"Функционирование органов в сфере национальной безопасности, правоохранительной деятельности и обороны","040","03","02","202 67 03","014",{"$f":"277000+26106","v":303106}]
[3022026799,"Другие расходы на обеспечение деятельности органов в сфере национальной безопасности, правоохранительной деятельности ","040","03","02","202 67 99",null,{"$f":"SUM(H2262:H2263)","v":3063476}]
[3022026799014,"Функционирование органов в сфере национальной безопасности, правоохранительной деятельности и обороны","040","03","02","202 67 99","014",2708276]
[3022026799904,"Обеспечение деятельности подразделений УГИБДД ГУВД по Московской области ","040","03","02","202 67 99","904",{"$f":"397200-42000","v":355200}]
[30220271,"Продовольственное обеспечение","040","03","02","202 71 00",null,{"$f":"H2265","v":8316}]
[30220271014,"Функционирование органов в сфере национальной безопасности, правоохранительной деятельности и обороны","040","03","02","202 71 00","014",8316]
[30220272,"Вещевое обеспечение","040","03","02","202 72 00",null,{"$f":"H2267","v":112135}]
[30220272014,"Функционирование органов в сфере национальной безопасности, правоохранительной деятельности и обороны","040","03","02","202 72 00","014",112135]
[30220276,"Пособия и компенсации военнослужащим, приравненным к ним лицам, а также уволенным из их числа","040","03","02","202 76 00",null,{"$f":"H2269","v":94678}]
[30220276005,"Социальные выплаты","040","03","02","202 76 00","005",94678]
[302247,"Реализация других функций, связанных с обеспечением национальной безопасности и правоохранительной деятельности ","040","03","02","247 00 00",null,{"$f":"H2271","v":3000}]
[30224766,"Специальные объекты","040","03","02","247 66 00",null,{"$f":"H2272","v":3000}]
[30224766014,"Функционирование органов в сфере национальной безопасности, правоохранительной деятельности и обороны","040","03","02","247 66 00","014",3000]
[302522,"Региональные целевые программы","040","03","02","522 00 00",null,{"$f":"H2274","v":134200}]
[30252210,"Областная целевая программа \"Обеспечение безопасности дорожного движения на территории Московской области в 2007-2010 годах\"","040","03","02","522 10 00",null,{"$f":"H2275+H2277","v":134200}]
[3025221001,"Раздел \"Предупреждение опасного поведения участников дорожного движения\"","040","03","02","522 10 01",null,{"$f":"H2276","v":7900}]
[3025221001012,"Выполнение функций государственными органами","040","03","02","522 10 01","012",7900]
[3025221004,"Раздел \"Совершенствование контрольно-надзорной деятельности и деятельности по ликвидации последствий и снижению тяжести ДТП\"","040","03","02","522 10 04",null,{"$f":"SUM(H2278:H2279)","v":126300}]
[3025221004012,"Выполнение функций государственными органами","040","03","02","522 10 04","012",{"$f":"4500+121800","v":126300}]
[3025221004904,"Обеспечение деятельности подразделений УГИБДД ГУВД по Московской области за счет  средств, поступающих в бюджет Московской области за проведение государственного технического осмотра транспортных средств ","040","03","02","522 10 04","904",{"$f":"121800-121800","v":0}]
[309,"Защита населения и территории от последствий чрезвычайных ситуаций природного и техногенного характера, гражданская оборона ","040","03","09",null,null,{"$f":"H2281","v":3700}]
[309219,"Мероприятия по гражданской обороне","040","03","09","219 00 00",null,{"$f":"H2282","v":3700}]
[30921901,"Подготовка населения и организаций к действиям в чрезвычайной ситуации в мирное и военное время","040","03","09","219 01 00",null,{"$f":"H2283","v":3700}]
[30921901014,"Функционирование органов в сфере национальной безопасности, правоохранительной деятельности и обороны","040","03","09","219 01 00","014",3700]
[10,"Социальная политика","040",10,null,null,null,{"$f":"H2285","v":50435}]
[1003,"Социальное обеспечение населения","040",10,"03",null,null,{"$f":"H2286","v":50435}]
[1003505,"Социальная помощь","040",10,"03","505 00 00",null,{"$f":"H2287","v":50435}]
[100350585,"Оказание других видов социальной помощи","040",10,"03","505 85 00",null,{"$f":"H2288","v":50435}]
[10035058598,"Ежемесячные компенсационные выплаты членам семей погибших сотрудников органов внутренних дел*","040",10,"03","505 85 98",null,{"$f":"H2289","v":50435}]
[10035058598005,"Социальные выплаты","040",10,"03","505 85 98","005",50435]
[]
[0,"Департамент обеспечения правопорядка на закрытых территориях и режимных объектах (Восьмое главное управление) Министерства внутренних дел Российской Федерации","041",null,null,null,"              ",{"$f":"H2292+H2313","v":127881}]
[3,"Национальная безопасность и правоохранительная деятельность","041","03",null,null,null,{"$f":"H2293","v":126555}]
[302,"Органы внутренних дел","041","03","02",null,null,{"$f":"H2294","v":126555}]
[302202,"Воинские формирования (органы, подразделения)","041","03","02","202 00 00",null,{"$f":"H2295+H2297+H2302+H2309+H2311","v":126555}]
[30220201,"Обеспечение равного с Министерством внутренних дел Российской Федерации повышения денежного довольствия сотрудникам и заработной платы работникам подразделений милиции общественной безопасности","041","03","02","202 01 00",null,{"$f":"H2296","v":7508}]
[30220201014,"Функционирование органов в сфере национальной безопасности, правоохранительной деятельности и обороны","041","03","02","202 01 00","014",7508]
[30220258,"Военный  персонал  ","041","03","02","202 58 00",null,{"$f":"H2298+H2300","v":101163}]
[3022025801,"Дополнительные гарантии социальной защиты сотрудникам  территориальных федеральных органов, установленные законодательством Московской области ","041","03","02","202 58 01",null,{"$f":"H2299","v":54627}]
[3022025801014,"Функционирование органов в сфере национальной безопасности, правоохранительной деятельности и обороны","041","03","02","202 58 01","014",54627]
[3022025802,"Денежное довольствие и  дополнительные выплаты в соответствии  с законодательством Российской Федерации","041","03","02","202 58 02",null,{"$f":"H2301","v":46536}]
[3022025802014,"Функционирование органов в сфере национальной безопасности, правоохранительной деятельности и обороны","041","03","02","202 58 02","014",46536]
[30220267,"Функционирование органов в сфере национальной безопасности, правоохранительной деятельности ","041","03","02","202 67 00",null,{"$f":"H2303+H2305+H2307","v":15706}]
[3022026701,"Дополнительные гарантии социальной защиты  гражданскому персоналу территориальных федеральных органов, установленные законодательством Московской области ","041","03","02","202 67 01",null,{"$f":"H2304","v":4030}]
[3022026701014,"Функционирование органов в сфере национальной безопасности, правоохранительной деятельности и обороны","041","03","02","202 67 01","014",4030]
[3022026702,"Расходы на оплату труда гражданского персонала","041","03","02","202 67 02",null,{"$f":"H2306","v":371}]
[3022026702014,"Функционирование органов в сфере национальной безопасности, правоохранительной деятельности и обороны","041","03","02","202 67 02","014",371]
[3022026799,"Другие расходы на обеспечение деятельности органов в сфере национальной безопасности, правоохранительной деятельности ","041","03","02","202 67 99",null,{"$f":"H2308","v":11305}]
[3022026799014,"Функционирование органов в сфере национальной безопасности, правоохранительной деятельности и обороны","041","03","02","202 67 99","014",11305]
[30220272,"Вещевое обеспечение","041","03","02","202 72 00",null,{"$f":"H2310","v":451}]
[30220272014,"Функционирование органов в сфере национальной безопасности, правоохранительной деятельности и обороны","041","03","02","202 72 00","014",451]
[30220276,"Пособия и компенсации военнослужащим, приравненным к ним лицам, а также уволенным из их числа","041","03","02","202 76 00",null,{"$f":"H2312","v":1727}]
[30220276005,"Социальные выплаты","041","03","02","202 76 00","005",1727]
[10,"Социальная политика","041",10,null,null,null,{"$f":"H2314","v":1326}]
[1003,"Социальное обеспечение населения","041",10,"03",null,null,{"$f":"H2315","v":1326}]
[1003505,"Социальная помощь","041",10,"03","505 00 00",null,{"$f":"H2316","v":1326}]
[100350585,"Оказание других видов социальной помощи","041",10,"03","505 85 00",null,{"$f":"H2317","v":1326}]
[10035058598,"Ежемесячные компенсационные выплаты членам семей погибших сотрудников органов внутренних дел*","041",10,"03","505 85 98",null,{"$f":"H2318","v":1326}]
[10035058598005,"Социальные выплаты","041",10,"03","505 85 98","005",1326]
[]
[0,"Главное управление Министерства Российской Федерации по делам гражданской обороны, чрезвычайным ситуациям и ликвидации последствий стихийных бедствий по Московской области","042",null,null,null,null,{"$f":"H2321","v":4085343}]
[3,"Национальная безопасность и правоохранительная деятельность","042","03",null,null,null,{"$f":"H2322+H2335","v":4085343}]
[309,"Защита населения и территории от последствий чрезвычайных ситуаций природного и техногенного характера, гражданская оборона ","042","03","09",null,null,{"$f":"H2323+H2332","v":759070}]
[309202,"Воинские формирования (органы, подразделения)","042","03","09","202 00 00",null,{"$f":"H2324+H2327","v":82113}]
[30920258,"Военный  персонал  ","042","03","09","202 58 00",null,{"$f":"H2325","v":49043}]
[3092025801,"Дополнительные гарантии социальной защиты сотрудникам  территориальных федеральных органов, установленные законодательством Московской области ","042","03","09","202 58 01",null,{"$f":"H2326","v":49043}]
[3092025801014,"Функционирование органов в сфере национальной безопасности, правоохранительной деятельности и обороны","042","03","09","202 58 01","014",49043]
[30920267,"Функционирование органов в сфере национальной безопасности, правоохранительной деятельности ","042","03","09","202 67 00",null,{"$f":"H2328+H2330","v":33070}]
[3092026701,"Дополнительные гарантии социальной защиты  гражданскому персоналу территориальных федеральных органов, установленные законодательством Московской области ","042","03","09","202 67 01",null,{"$f":"H2329","v":13062}]
[3092026701014,"Функционирование органов в сфере национальной безопасности, правоохранительной деятельности и обороны","042","03","09","202 67 01","014",13062]
[3092026799,"Другие расходы на обеспечение деятельности органов в сфере национальной безопасности, правоохранительной деятельности ","042","03","09","202 67 99",null,{"$f":"H2331","v":20008}]
[3092026799014,"Функционирование органов в сфере национальной безопасности, правоохранительной деятельности и обороны","042","03","09","202 67 99","014",20008]
[309302,"Поисковые и аварийно-спасательные учреждения","042","03","09","302 00 00",null,{"$f":"H2333","v":676957}]
[30930299,"Обеспечение деятельности подведомственных учреждений","042","03","09","302 99 00",null,{"$f":"H2334","v":676957}]
[30930299001,"Выполнение функций бюджетными учреждениями","042","03","09","302 99 00","001",676957]
[310,"Обеспечение пожарной безопасности","042","03",10,null,null,{"$f":"H2336+H2339+H2343+H2354","v":3326273}]
[310001,"Руководство и управление в сфере установленных функций","042","03",10,"001 00 00",null,{"$f":"H2337","v":645949}]
[31000137,"Денежное довольствие и социальные выплаты сотрудникам, и заработная плата работникам территориальных подразделений Государственной противопожарной службы, содержащимся за счет средств субъектов Российской Федерации (за исключением подразделений, созданных субъектами Российской Федерации в соответствии со статьей 5 Федерального закона от 21 декабря 1994 года № 69-ФЗ \"О пожарной безопасности\")","042","03",10,"001 37 00",null,{"$f":"H2338","v":645949}]
[31000137014,"Функционирование органов в сфере национальной  безопасности, правоохранительной деятельности и обороны","042","03",10,"001 37 00","014",645949]
[310102,"Бюджетные инвестиции в объекты капитального строительства, не включенные в целевые программы","042","03",10,"102 00 00",null,{"$f":"H2340","v":46851}]
[31010201,"Бюджетные инвестиции в объекты капитального строительства государственной собственности субъектов Российской Федерации (объекты капитального строительства собственности муниципальных образований)","042","03",10,"102 01 00",null,{"$f":"H2341","v":46851}]
[3101020101,"Бюджетные инвестиции в объекты капитального строительства государственной собственности субъектов Российской Федерации ","042","03",10,"102 01 01",null,{"$f":"H2342","v":46851}]
[3101020101003,"Бюджетные инвестиции","042","03",10,"102 01 01","003",46851]
[310202,"Воинские формирования (органы, подразделения)","042","03",10,"202 00 00",null,{"$f":"H2344+H2347+H2352","v":458055}]
[31020258,"Военный  персонал  ","042","03",10,"202 58 00",null,{"$f":"H2345","v":323429}]
[3102025801,"Дополнительные гарантии социальной защиты сотрудникам  территориальных федеральных органов, установленные законодательством Московской области ","042","03",10,"202 58 01",null,{"$f":"H2346","v":323429}]
[3102025801014,"Функционирование органов в сфере национальной безопасности, правоохранительной деятельности и обороны","042","03",10,"202 58 01","014",323429]
[31020267,"Функционирование органов в сфере национальной безопасности, правоохранительной деятельности ","042","03",10,"202 67 00",null,{"$f":"H2348+H2350","v":122626}]
[3102026701,"Дополнительные гарантии социальной защиты  гражданскому персоналу территориальных федеральных органов, установленные законодательством Московской области ","042","03",10,"202 67 01",null,{"$f":"H2349","v":1112}]
[3102026701014,"Функционирование органов в сфере национальной безопасности, правоохранительной деятельности и обороны","042","03",10,"202 67 01","014",1112]
[3102026799,"Другие расходы на обеспечение деятельности органов в сфере национальной безопасности, правоохранительной деятельности ","042","03",10,"202 67 99",null,{"$f":"H2351","v":121514}]
[3102026799014,"Функционирование органов в сфере национальной безопасности, правоохранительной деятельности и обороны","042","03",10,"202 67 99","014",121514]
[31020272,"Вещевое обеспечение","042","03",10,"202 72 00",null,{"$f":"H2353","v":12000}]
[31020272014,"Функционирование органов в сфере национальной безопасности, правоохранительной деятельности и обороны","042","03",10,"202 72 00","014",12000]
[310247,"Реализация других функций, связанных с обеспечением национальной безопасности и правоохранительной деятельности","042","03",10,"247 00 00",null,{"$f":"H2355","v":2175418}]
[31024799,"Обеспечение деятельности подведомственных учреждений","042","03",10,"247 99 00",null,{"$f":"H2356","v":2175418}]
[31024799001,"Выполнение функций бюджетными учреждениями","042","03",10,"247 99 00","001",{"$f":"2121685+53733","v":2175418}]
[]
[0,"Уполномоченный по правам человека в Московской области","050",null,null,null,null,{"$f":"H2359","v":43586}]
[1,"Общегосударственные вопросы","050","01",null,null,null,{"$f":"H2360","v":43586}]
[114,"Другие общегосударственные вопросы","050","01",14,null,null,{"$f":"H2361","v":43586}]
[114002,"Руководство и управление в сфере установленных функций органов государственной власти субъектов Российской Федерации  и органов местного самоуправления","050","01",14,"002 00 00",null,{"$f":"H2362","v":43586}]
[11400204,"Центральный аппарат","050","01",14,"002 04 00",null,{"$f":"H2363","v":43586}]
[11400204012,"Выполнение функций государственными органами","050","01",14,"002 04 00","012",{"$f":"40586+3000","v":43586}]
[]
[0,"Государственное учреждение Московской области \"Управление автомобильных дорог Московской области \"Мосавтодор\"","052",null,null,null,null,{"$f":"H2366","v":35016518}]
[4,"Национальная экономика","052","04",null,null,null,{"$f":"H2367","v":35016518}]
[409,"Дорожное хозяйство","052","04","09",null,null,{"$f":"H2368+H2372+H2431","v":35016518}]
[409100,"Федеральные целевые программы","052","04","09","100 00 00",null,{"$f":"H2371","v":8478000}]
[4091000100,"Федеральная целевая программа \"Модернизация транспортной системы России (2002-2010 годы)\"","052","04","09","100 01 00",null,{"$f":"H2368","v":8478000}]
[4091000102,"Подпрограмма \"Автомобильные дороги\"","052","04","09","100 01 02",null,{"$f":"H2368","v":8478000}]
[4091000102003,"Бюджетные инвестиции","052","04","09","100 01 02","003",8478000]
[409315,"Дорожное хозяйство","052","04","09","315 00 00",null,{"$f":"SUM(H2373:H2427)","v":26438018}]
[409315001,"Выполнение функций бюджетными учреждениями","052","04","09","315 00 00","001",{"$f":"23354803-542991","v":22811812}]
[409315003,"Бюджетные инвестиции","052","04","09","315 00 00","003",{"$f":"2063181+542991+449970","v":3056142}]
[40931501701,"Реконструкция автомобильной дороги Челобитьево-Пирогово-Тарасовка (Осташковское шоссе) на участке Челобитьево-Беляниново в Мытищинском районе Московской области","052","04","09","315 00 00","701",52118]
[40931501702,"Реконструкция Лихачевского шоссе в г. Долгопрудном Московской области","052","04","09","315 00 00","702",72793]
[40931501703,"Реконструкция наплавного моста через р. Ока у г. Озеры на автомобильной дороге «Егорьевск-Коломна-Кашира-Ненашево» в Озерском районе Московской области","052","04","09","315 00 00","703",1000]
[40931501704,"Реконструкция автомобильной дороги «Подход к г. Подольску» на участке км 11- км 13,6 в Подольском районе Московской области","052","04","09","315 00 00","704",16282]
[40931501705,"Путепровод через пути Московской железной дороги на 11 км автодороги «Подход к г. Подольску» , Московская область","052","04","09","315 00 00","705",96540]
[40931501706,"Строительство мостового перехода через р.Пахру в пос. Володарского Ленинского района Московской области, Московская область","052","04","09","315 00 00","706",19433]
[40931501707,"Реконструкция автомобильной дороги «Москва-Жуковский» на участке км 22+400 - км 25+900 в Люберецком районе Московской области","052","04","09","315 00 00","707",16815]
[40931501708,"Реконструкция автомобильной дороги «Щелково-Фряново» на участке км 0- км 4 в Щелковском районе Московской области","052","04","09","315 00 00","708",39240]
[40931501709,"Реконструкция автомобильной дороги Челобитьево-Северная ТЭЦ-г. Мытищи (Волковское шоссе) на участке от ул. Мира до Олимпийского проспекта в Мытищинском районе Московской области","052","04","09","315 00 00","709",34880]
[40931501710,"Строительство автомобильной дороги «Объезд Истринского гидроузла» в Истринском районе","052","04","09","315 00 00","710",1000]
[40931501711,"Реконструкция автомобильной дороги «Подход к г. Подольску» (км 4,0- км 7,0)","052","04","09","315 00 00","711",1000]
[40931501712,"Реконструкция паромной переправы через р. Ока у н.п. Ловцы на 28,000 км а/д Врачево-Белоомут-Каданок-Ловцы-Дединово в Луховицком районе Московской области","052","04","09","315 00 00","712",500]
[40931501713,"Реконструкция автомобильной дороги «МК-Григорово-Гжель» с подъездом к ГКЗ в Раменском районе Московской области","052","04","09","315 00 00","713",500]
[40931501714,"Строительство мостового перехода через реку Яуза у населенного пункта Свистуново на автомобильной дороге «Степанцево-Овсянниково-Свистуново» в Клинском районе Московской области","052","04","09","315 00 00","714",1885]
[40931501715,"Реконструкция мостового перехода через р.Лутосня на км 1,67 автомобильной дороги «Москва-Санкт-Петербург-Высоковск»-Чумичево-Попелково в Клинском районе Московской области","052","04","09","315 00 00","715",2413]
[40931501716,"Реконструкция автомобильной дороги «Раменье-Ивашково-граница Московской области» с подъездом «Раменье-Ивашково-граница Московской области» - Ивашково»в Шаховском районе Московской области","052","04","09","315 00 00","716",16181]
[40931501717,"Реконструкция автомобильной дороги «Тимоново-Федино-Мерзлово-Заовражье» на участке км 0+000 - поворот на Толстяково в Солнечногорском районе Московской области","052","04","09","315 00 00","717",1807]
[40931501718,"Реконструкция автомобильной дороги «Можайское шоссе» на участке км 40+000- км 44+600 в Одинцовском районе Московской области","052","04","09","315 00 00","718",8973]
[40931501719,"Реконструкция автомобильной дороги «Тетерино-Мышкино-Поречье» на участке км 17+800 - км 29+978 в Можайском районе Московской области","052","04","09","315 00 00","719",22392]
[40931501720,"Реконструкция автодороги «Звенигород-Колюбакино-Нестерово»-Молодиково-Морево с мостовым переходом через р. Москва в Рузском районе Московской области","052","04","09","315 00 00","720",13944]
[40931501721,"Реконструкция мостового перехода через р.Протва у д. Загряжское на 11,5 км автомобильной дороги «Ермолино-Боровск-Верея-Колодкино» в Наро-Фоминском районе Московской области","052","04","09","315 00 00","721",10527]
[40931501722,"Реконструкция автомобильной дороги «Подъезд № 3011 на 17 км подъезда к г. Подольску, на участке км 1,18 - км 2,61» в Подольском районе Московской области","052","04","09","315 00 00","722",3293]
[40931501723,"Реконструкция автомобильной дороги «Москва-Воронеж»-Картино-Дроздово на участке км 3,0 - км 5,6 в Ленинском районе Московской области","052","04","09","315 00 00","723",2208]
[40931501724,"Реконструкция мостового перехода через р. Северка в д. Голубино на км 10+139 автомобильной дороги «Шебанцево-Голубино-Глотаево» в Домодедовском районе Московской области","052","04","09","315 00 00","724",4598]
[40931501725,"Реконструкция ул. Мира и ул. Октябрьская в г.Чехове Московской области","052","04","09","315 00 00","725",7578]
[40931501726,"Реконструкция автомобильной дороги «Сапроново-МК-Беспятово» Ступинского района Московской области","052","04","09","315 00 00","726",3961]
[40931501727,"Реконструкция автомобильной дороги «Кашира-Серебряные Пруды-Кимовск-Узловая»-Коровино-Малынь-Накаплово» в Серебряно-Прудском районе Московской области","052","04","09","315 00 00","727",2639]
[40931501728,"Строительство автомобильной дороги «Серебряные Пруды-Венев»- Н.Мойгоры со строительством моста через р. Осетр в Серебряно-Прудском районе Московской области","052","04","09","315 00 00","728",4200]
[40931501729,"Строительство автомобильной дороги «Коломна-Малино»-»Черкизово-Непецино-Шкинь» в Коломенском районе Московской области","052","04","09","315 00 00","729",10010]
[40931501730,"Строительство автомобильной дороги «Москва-Егорьевск-Тума-Касимов»- на участке обхода дд. Щеголево, Юрцово в Егорьевском районе Московской области","052","04","09","315 00 00","730",8170]
[40931501731,"Реконструкция мостового перехода через р. Пехорка на 0,7км автомобильной дороги «МКАД-Крутицы-Железнодорожный-Ликино-Дулево»- Троицкое-Фенино-Руднево в Балашихинском районе Московской области","052","04","09","315 00 00","731",2508]
[40931501732,"Реконструкция улицы Октября в г. Реутов Московской области","052","04","09","315 00 00","732",4103]
[40931501733,"Реконструкция автомобильной дороги «Велино-Сельвачево» в Раменском районе Московской области","052","04","09","315 00 00","733",8057]
[40931501734,"Реконструкция автомобильной дороги «Москва-Челябинск»-Дзержинский-Гремячево на участке км 0+000 - км 3+400 в г. Котельники Московской области","052","04","09","315 00 00","734",22227]
[40931501735,"Строительство автомобильной дороги проезда 6046 на участке от ул. Угрешская до автодороги «Москва-Челябинск»-Дзержинский-Гремячево, включая переезд через ж/д ст. Яничкино - г.Дзержинский, в г. Дзержинский Московской области","052","04","09","315 00 00","735",4354]
[40931501736," Реконструкция ул. Коммунальная в г. Королеве Московской области","052","04","09","315 00 00","736",14816]
[40931501737,"Реконструкция автомобильной дороги «Дмитров-Талдом-Темпы» на участке км 37+800 км 45+200 в Талдомском районе Московской области","052","04","09","315 00 00","737",8978]
[40931501738,"Строительство автомобильной дороги «Ивановское-Городище-Шляково» в Шаховском районе Московской области","052","04","09","315 00 00","738",3876]
[40931501739,"Реконструкция автомобильной дороги «Калужское шоссе - д.Рыжово» в Подольском районе Московской области","052","04","09","315 00 00","739",2915]
[40931501740,"Строительство автомобильной дороги «Скурыгино-Ходаево-Чепелево»-Б.Петровское в Чеховском районе Московской области","052","04","09","315 00 00","740",1565]
[40931501741,"Строительство автомобильной дороги «Скурыгино-Ходаево-Чепелево»-Покров-Аксенчиково в Чеховском районе Московской области","052","04","09","315 00 00","741",4478]
[40931501742,"Строительство автомобильной дороги «Озеры-Трасна-Полуряденки-Сосновка»-Свиридоново в Озерском районе Московской области","052","04","09","315 00 00","742",2712]
[40931501743,"Строительство Рузского проезда в г. Волоколамске Московской области","052","04","09","315 00 00","743",1000]
[40931501744,"Строительство соединительной автомобильной дороги от ул. Крестьянская с выходом на автомобильную дорогу Солнечногорск-Спасс в Солнечногорском районе Московской области","052","04","09","315 00 00","744",1095]
[40931501745,"Реконструкция подъезда 2066 на автомобильной дороге «Москва-Челябинск» в Воскресенском районе Московской области","052","04","09","315 00 00","745",1000]
[40931501746,"Строительство объездной автомобильной дороги г.Егорьевска: ул. 1 Мая - Антипова - ул. Рязанская в Егорьевском районе Московской области","052","04","09","315 00 00","746",1000]
[40931501747,"Строительство пешеходного моста через р. Клязьма со стороны ул. Заречная в г. Щелково Московской области","052","04","09","315 00 00","747",1000]
[40931501748,"Строительство транспортной развязки в одном уровне кольцевого типа на пересечении Красноармейского шоссе и старого Ярославского шоссе в г. Пушкино Пушкинского района Московской области","052","04","09","315 00 00","748",4000]
[40931501749,"Строительство автомобильной дороги «Подъезд к д. Сапроново от автомобильной дороги «Сапроново-МК-Беспятово» в Ступинском районе Московской области","052","04","09","315 00 00","749",1000]
[40931501750,"Строительство автодороги «Белоомут-Слемские Горки-Алпатьево»- Д-3 в Луховицком районе Московской области","052","04","09","315 00 00","750",500]
[40931501751,"Строительство подъезда к д. Комарево от автомобильной дороги «Москва-Ростов-на-Дону-Ступино-Городищи»-Озеры в Озерском районе Московской области","052","04","09","315 00 00","751",500]
[40931501752,"Строительство автомобильной дороги «Кашира-Серебряные Пруды-Узловая»-Топканово-Масловская фабрика Колмна в Каширском районе Московской области","052","04","09","315 00 00","752",500]
[40931501753,"Строительство автомобильной дороги «Степаново-Животино» в Дмитровском районе Московской области","052","04","09","315 00 00","753",1000]
[40931502,"Поддержка дорожного хозяйства","052","04","09","315 02 00",null,{"$f":"H2429","v":0}]
[4093150201,"Строительство и модернизация автомобильных дорог общего пользования, в том числе дорог в поселениях (за исключением автомобильных дорог федерального значения)","052","04","09","315 02 01",null,{"$f":"H2430","v":0}]
[4093150201001,"Выполнение функций бюджетными учреждениями","052","04","09","315 02 01","001",{"$f":"449970-449970","v":0}]
[409522,"Региональные целевые программы","052","04","09","522 00 00",null,{"$f":"H2432+H2448","v":100500}]
[40852203,"Областная целевая программа \"Дороги Подмосковья на период 2004-2007 годов\"","052","04","09","522 03 00",null,{"$f":"H2433+H2438+H2442+H2445","v":0}]
[4085220301,"Подпрограмма 1 \"Обеспечение содержания, ремонта, реконструкции и строительства автомобильных дорог общего пользования Московской области и сооружений на них в 2004-2007 годах\"","052","04","09","522 03 01",null,{"$f":"SUM(H2434:H2437)","v":0}]
[4085220301213,"Строительство объектов для нужд отрасли","052","04","09","522 03 01",213]
[4085220301327,"Обеспечение деятельности подведомственных учреждений","052","04","09","522 03 01",327]
[4085220301365,"Отдельные мероприятия в области дорожного хозяйства","052","04","09","522 03 01",365]
[4085220301593,"Строительство и модернизация автомобильных дорог общего пользования, в том числе дорог в поселениях (за исключением автомобильных дорог федерального значения) ","052","04","09","522 03 01",593]
[4085220302,"Подпрограмма 2 \"Обеспечение содержания, ремонта, реконструкции и строительства объектов дорожно-мостового хозяйства, находящихся в государственной собственности Московской области и расположенных в городских и сельских поселениях, в 2004-2007 годах\"","052","04","09","522 03 02",null,{"$f":"H2439+H2440+H2441","v":0}]
[4085220302213,"Строительство объектов для нужд отрасли","052","04","09","522 03 02",213]
[4085220302327,"Обеспечение деятельности подведомственных учреждений","052","04","09","522 03 02",327]
[4085220302365,"Отдельные мероприятия в области дорожного хозяйства","052","04","09","522 03 02",365]
[4085220303,"Подпрограмма 3 \"Обеспечение содержания, ремонта, реконструкции и строительства (установки) светофорных объектов, находящихся в государственной собственности Московской области, в 2004-2007 годах\"","052","04","09","522 03 03",null,{"$f":"H2443+H2444","v":0}]
[4085220303213,"Строительство объектов для нужд отрасли","052","04","09","522 03 03",213]
[4085220303365,"Отдельные мероприятия в области дорожного хозяйства","052","04","09","522 03 03",365]
[4085220304,"Подпрограмма 4 \"Обустройство участков автомобильных дорог, находящихся в государственной собственности Московской области и расположенных вблизи детских и образовательных учреждений, в 2007 году\"","052","04","09","522 03 04",null,{"$f":"H2446+H2447","v":0}]
[4085220304213,"Строительство объектов для нужд отрасли","052","04","09","522 03 04",213]
[4085220304365,"Отдельные мероприятия в области дорожного хозяйства","052","04","09","522 03 04",365]
[40952210,"Областная целевая программа \"Обеспечение безопасности дорожного движения на территории Московской области в 2007-2010 годах\"","052","04","09","522 10 00",null,{"$f":"H2449+H2451","v":100500}]
[4095221002,"Раздел \"Организационно-планировочные и инженерные меры, направленные на совершенствование организации движения транспортных средств и пешеходов\"","052","04","09","522 10 02",null,{"$f":"H2450","v":100500}]
[4095221002001,"Выполнение функций бюджетными учреждениями","052","04","09","522 10 02","001",100500]
[]
[0,"Государственное специализированное учреждение Московской области \"Московский областной финансовый центр\"","053",null,null,null,null,{"$f":"H2453","v":56894}]
[1,"Общегосударственные вопросы","053","01",null,null,null,{"$f":"H2454","v":56894}]
[114,"Другие общегосударственные вопросы","053","01",14,null,null,{"$f":"H2455","v":56894}]
[114002,"Руководство и управление в сфере установленных функций органов государственной власти субъектов Российской Федерации  и органов местного самоуправления","053","01",14,"002 00 00",null,{"$f":"H2456","v":56894}]
[11400204,"Центральный аппарат","053","01",14,"002 04 00",null,{"$f":"H2457","v":56894}]
[11400204012,"Выполнение функций государственными органами","053","01",14,"002 04 00","012",56894]
[]
[0,"Государственное специализированное учреждение Московской области \"Фонд имущества Московской области\"","054",null,null,null,null,{"$f":"H2460","v":36700}]
[1,"Общегосударственные вопросы","054","01",null,null,null,{"$f":"H2461","v":36700}]
[114,"Другие общегосударственные вопросы","054","01",14,null,null,{"$f":"H2462","v":36700}]
[114002,"Руководство и управление в сфере установленных функций органов государственной власти субъектов Российской Федерации  и органов местного самоуправления","054","01",14,"002 00 00",null,{"$f":"H2463","v":36700}]
[11400204,"Центральный аппарат","054","01",14,"002 04 00",null,{"$f":"H2464","v":36700}]
[11400204012,"Выполнение функций государственными органами","054","01",14,"002 04 00","012",36700]
[]
[0,"Государственное учреждение Московской области \"Комплекс \"Сатурн\" ","055",null,null,null,null,{"$f":"H2467","v":203000}]
[9,"Здравоохранение, физическая культура и спорт","055","09",null,null,null,{"$f":"H2468","v":203000}]
[908,"Физическая культура и спорт","055","09","08",null,null,{"$f":"H2469","v":203000}]
[908482,"Центры спортивной подготовки (сборные команды)","055","09","08","482 00 00",null,{"$f":"H2470","v":203000}]
[90848299,"Обеспечение деятельности подведомственных учреждений","055","09","08","482 99 00",null,{"$f":"H2471","v":203000}]
[90848299001,"Выполнение функций бюджетными учреждениями","055","09","08","482 99 00","001",203000]
[]
[0,"Государственное учреждение Московской области \"Спортивный клуб \"Химик\"","056",null,null,null,null,{"$f":"H2474","v":170245}]
[9,"Здравоохранение, физическая культура и спорт","056","09",null,null,null,{"$f":"H2475","v":170245}]
[908,"Физическая культура и спорт","056","09","08",null,null,{"$f":"H2476","v":170245}]
[908482,"Центры спортивной подготовки (сборные команды)","056","09","08","482 00 00",null,{"$f":"H2477","v":170245}]
[90848299,"Обеспечение деятельности подведомственных учреждений","056","09","08","482 99 00",null,{"$f":"H2478","v":170245}]
[90848299001,"Выполнение функций бюджетными учреждениями","056","09","08","482 99 00","001",170245]
[]
[0,"Государственное учреждение Московской области \"Противопожарная служба Московской области\"","057",null,null,null,null,{"$f":"H2481","v":0}]
[3,"Национальная безопасность и правоохранительная деятельность","057","03",null,null,null,{"$f":"H2482+H2485","v":0}]
[309,"Предупреждение и ликвидация последствий чрезвычайных ситуаций и стихийных бедствий, гражданская оборона","059","03","09",null,null,{"$f":"H2483","v":0}]
[309219,"Мероприятия по гражданской обороне","057","03","09","219 00 00",null,{"$f":"H2484","v":0}]
[309219261,"Подготовка населения и организаций к действиям в чрезвычайной ситуации в мирное и военное время","057","03","09","219 00 00",261]
[310,"Обеспечение противопожарной безопасности","057","03",10,null,null,{"$f":"H2486","v":0}]
[310247,"Реализация государственных функций, связанных с обеспечением национальной безопасности и правоохранительной деятельности","057","03",10,"247 00 00",null,{"$f":"H2487","v":0}]
[310247327,"Обеспечение деятельности подведомственных учреждений","057","03",10,"247 00 00",327]
[]
[0,"Государственное учреждение Московской области \"Московская областная спасательная служба\"","058",null,null,null,null,{"$f":"H2490","v":0}]
[3,"Национальная безопасность и правоохранительная деятельность","058","03",null,null,null,{"$f":"H2491","v":0}]
[309,"Предупреждение и ликвидация последствий чрезвычайных ситуаций и стихийных бедствий, гражданская оборона","058","03","09",null,null,{"$f":"H2492","v":0}]
[309302,"Поисковые и аварийно-спасательные учреждения","058","03","09","302 00 00",null,{"$f":"H2493","v":0}]
[309302327,"Обеспечение деятельности подведомственных учреждений","058","03","09","302 00 00",327]
[]
[0,"Государственное учреждение Московской области \"Специальный центр \"Звенигород\"","059",null,null,null,null,{"$f":"H2496","v":184963}]
[3,"Национальная безопасность и правоохранительная деятельность","059","03",null,null,null,{"$f":"H2497","v":184963}]
[309,"Защита населения и территории от последствий чрезвычайных ситуаций природного и техногенного характера, гражданская оборона ","059","03","09",null,null,{"$f":"H2498+H2501","v":184963}]
[309219,"Мероприятия по гражданской обороне","059","03","09","219 00 00",null,{"$f":"H2499","v":2670}]
[30921901,"Подготовка населения и организаций к действиям в чрезвычайной ситуации в мирное и военное время","059","03","09","219 01 00",null,{"$f":"H2500","v":2670}]
[30921901001,"Выполнение функций бюджетными учреждениями","059","03","09","219 01 00","001",2670]
[309247,"Реализация других функций, связанных с обеспечением национальной безопасности и правоохранительной деятельности ","059","03","09","247 00 00",null,{"$f":"H2502+H2504","v":182293}]
[30924766,"Специальные объекты","059","03","09","247 66 00",null,{"$f":"H2503","v":74560}]
[30924766001,"Выполнение функций бюджетными учреждениями","059","03","09","247 66 00","001",74560]
[30924799,"Обеспечение деятельности подведомственных учреждений","059","03","09","247 99 00",null,{"$f":"H2505","v":107733}]
[30924799001,"Выполнение функций бюджетными учреждениями","059","03","09","247 99 00","001",107733]
[]
[0,"Московский областной фонд обязательного медицинского страхования ","063",null,null,null,null,{"$f":"H2508","v":15158639}]
[9,"Здравоохранение, физическая культура и спорт","063","09",null,null,null,{"$f":"H2509","v":15158639}]
[910,"Другие вопросы в области здравоохранения, физической культуры и спорта","063","09",10,null,null,{"$f":"H2510","v":15158639}]
[910771,"Территориальная программа обязательного медицинского страхования","063","09",10,"771 00 00",null,{"$f":"H2511","v":15158639}]
[91077101,"Обязательное медицинское страхование неработающего населения ","063","09",10,"771 01 00",null,{"$f":"H2512","v":15158639}]
[91077101905,"Страховые взносы по обязательному медицинскому страхованию неработающего населения","063","09",10,"771 01 00",905,15158639]
[]
[0,"Топливно-энергетический комитет Московской области","064",null,null,null,null,{"$f":"H2515+H2520+H2525+H2535","v":910342}]
[2,"Национальная оборона","064","02",null,null,null,{"$f":"H2516","v":620}]
[204,"Мобилизационная подготовка экономики","064","02","04",null,null,{"$f":"H2517","v":620}]
[204209,"Реализация государственных функций по мобилизационной подготовке экономики","064","02","04","209 00 00",null,{"$f":"H2518","v":620}]
[20420901,"Мероприятия по обеспечению  мобилизационной готовности экономики","064","02","04","209 01 00",null,{"$f":"H2519","v":620}]
[20420901012,"Выполнение функций государственными органами","064","02","04","209 01 00","012",620]
[3,"Национальная безопасность и правоохранительная деятельность","064","03",null,null,null,{"$f":"H2521","v":40}]
[309,"Защита населения и территории от последствий чрезвычайных ситуаций природного и техногенного характера, гражданская оборона ","064","03","09",null,null,{"$f":"H2522","v":40}]
[309219,"Мероприятия по гражданской обороне","064","03","09","219 00 00",null,{"$f":"H2523","v":40}]
[30921901,"Подготовка населения и организаций к действиям в чрезвычайной ситуации в мирное и военное время","064","03","09","219 01 00",null,{"$f":"H2524","v":40}]
[30921901012,"Выполнение функций государственными органами","064","03","09","219 01 00","012",40]
[4,"Национальная экономика","064","04",null,null,null,{"$f":"H2526+H2531","v":909589}]
[402,"Топливно-энергетический комплекс","064","04","02",null,null,{"$f":"H2527","v":139333}]
[402002,"Руководство и управление в сфере установленных функций органов государственной власти субъектов Российской Федерации  и органов местного самоуправления","064","04","02","002 00 00",null,{"$f":"H2528","v":139333}]
[40200204,"Центральный аппарат","064","04","02","002 04 00",null,{"$f":"SUM(H2529:H2530)","v":139333}]
[40200204012,"Выполнение функций государственными органами","064","04","02","002 04 00","012",139180]
[40200204902,"Проведение мероприятий по защите информации, обеспечению безопасности информационных систем и баз данных, содержащих конфиденциальную информацию, в том числе персональные данные населения Московской области","064","04","02","002 04 00",902,153]
[412,"Другие вопросы в области национальной экономики","064","04",12,null,null,{"$f":"H2532","v":770256}]
[412340,"Реализация государственных функций в области национальной экономики","064","04",12,"340 00 00",null,{"$f":"H2533","v":770256}]
[41234004,"Мероприятия в области гражданской промышленности","064","04",12,"340 04 00",null,{"$f":"H2534","v":770256}]
[41234004013,"Прочие расходы","064","04",12,"340 04 00","013",770256]
[7,"Образование","064","07",null,null,null,{"$f":"H2536","v":93}]
[707,"Молодежная политика и оздоровление детей","064","07","07",null,null,{"$f":"H2537","v":93}]
[707432,"Мероприятия по проведению оздоровительной кампании детей ","064","07","07","432 00 00",null,{"$f":"H2538","v":93}]
[70743202,"Оздоровление детей ","064","07","07","432 02 00",null,{"$f":"H2539","v":93}]
[70743202001,"Выполнение функций бюджетными учреждениями","064","07","07","432 02 00","001",93]
[]
[0,"Комитет по туризму Московской области","066",null,null,null,null,{"$f":"H2542+H2547+H2552","v":74920}]
[2,"Национальная оборона","066","02",null,null,null,{"$f":"H2543","v":50}]
[204,"Мобилизационная подготовка экономики","066","02","04",null,null,{"$f":"H2544","v":50}]
[204209,"Реализация государственных функций по мобилизационной подготовке экономики","066","02","04","209 00 00",null,{"$f":"H2545","v":50}]
[20420901,"Мероприятия по обеспечению  мобилизационной готовности экономики","066","02","04","209 01 00",null,{"$f":"H2546","v":50}]
[20420901012,"Выполнение функций государственными органами","066","02","04","209 01 00","012",50]
[3,"Национальная безопасность и правоохранительная деятельность","066","03",null,null,null,{"$f":"H2548","v":104}]
[309,"Защита населения и территории от последствий чрезвычайных ситуаций природного и техногенного характера, гражданская оборона ","066","03","09",null,null,{"$f":"H2549","v":104}]
[309219,"Мероприятия по гражданской обороне","066","03","09","219 00 00",null,{"$f":"H2550","v":104}]
[30921901,"Подготовка населения и организаций к действиям в чрезвычайной ситуации в мирное и военное время","066","03","09","219 01 00",null,{"$f":"H2551","v":104}]
[30921901012,"Выполнение функций государственными органами","066","03","09","219 01 00","012",104]
[9,"Здравоохранение, физическая культура и спорт","066","09",null,null,null,{"$f":"H2553","v":74766}]
[910,"Другие вопросы в области здравоохранения, физической культуры и спорта","066","09",10,null,null,{"$f":"H2554","v":74766}]
[910002,"Руководство и управление в сфере установленных функций органов государственной власти субъектов Российской Федерации  и органов местного самоуправления","066","09",10,"002 00 00",null,{"$f":"H2555","v":74766}]
[91000204,"Центральный аппарат","066","09",10,"002 04 00",null,{"$f":"H2556","v":74766}]
[91000204012,"Выполнение функций государственными органами","066","09",10,"002 04 00","012",74766]
[]
[0,"Государственное учреждение Московской области \"Гандбольный центр Московской области\"","070",null,null,null,null,{"$f":"H2559","v":46650}]
[9,"Здравоохранение, физическая культура и спорт","070","09",null,null,null,{"$f":"H2560","v":46650}]
[908,"Физическая культура и спорт","070","09","08",null,null,{"$f":"H2561","v":46650}]
[908482,"Центры спортивной подготовки (сборные команды)","070","09","08","482 00 00",null,{"$f":"H2562","v":46650}]
[90848299,"Обеспечение деятельности подведомственных учреждений","070","09","08","482 99 00",null,{"$f":"H2563","v":46650}]
[90848299001,"Выполнение функций бюджетными учреждениями","070","09","08","482 99 00","001",46650]
[]
[0,"Главное управление государственного административно-технического надзора Московской области","073",null,null,null,null,{"$f":"H2566+H2571+H2576+H2586","v":440190}]
[2,"Национальная оборона","073","02",null,null,null,{"$f":"H2567","v":8}]
[204,"Мобилизационная подготовка экономики","073","02","04",null,null,{"$f":"H2568","v":8}]
[204209,"Реализация государственных функций по мобилизационной подготовке экономики","073","02","04","209 00 00",null,{"$f":"H2569","v":8}]
[20420901,"Мероприятия по обеспечению  мобилизационной готовности экономики","073","02","04","209 01 00",null,{"$f":"H2570","v":8}]
[20420901012,"Выполнение функций государственными органами","073","02","04","209 01 00","012",8]
[3,"Национальная безопасность и правоохранительная деятельность","073","03",null,null,null,{"$f":"H2572","v":352}]
[309,"Защита населения и территории от последствий чрезвычайных ситуаций природного и техногенного характера, гражданская оборона ","073","03","09",null,null,{"$f":"H2573","v":352}]
[309219,"Мероприятия по гражданской обороне","073","03","09","219 00 00",null,{"$f":"H2574","v":352}]
[30921901,"Подготовка населения и организаций к действиям в чрезвычайной ситуации в мирное и военное время","073","03","09","219 01 00",null,{"$f":"H2575","v":352}]
[30921901012,"Выполнение функций государственными органами","073","03","09","219 01 00","012",352]
[5,"Жилищно-коммунальное хозяйство","073","05",null,null,null,{"$f":"H2577","v":439662}]
[505,"Другие вопросы в области жилищно-коммунального хозяйства","073","05","05",null,null,{"$f":"H2578+H2581","v":439662}]
[505002,"Руководство и управление в сфере установленных функций органов государственной власти субъектов Российской Федерации  и органов местного самоуправления","073","05","05","002 00 00",null,{"$f":"H2579","v":435693}]
[50500204,"Центральный аппарат","073","05","05","002 04 00",null,{"$f":"H2580","v":435693}]
[50500204012,"Выполнение функций государственными органами","073","05","05","002 04 00","012",435693]
[505803,"Расходы на страхование","073","05","05","803 00 00",null,{"$f":"H2582+H2584","v":3969}]
[5058030001,"Расходы на страхование имущества, находящегося в государственной собственности Московской области","073","05","05","803 00 01",null,{"$f":"H2583","v":2886}]
[5058030001013,"Прочие расходы","073","05","05","803 00 01","013",2886]
[5058030003,"Расходы на обязательное страхование гражданской ответственности владельцев транспортных средств","073","05","05","803 00 03",null,{"$f":"H2585","v":1083}]
[5058030003013,"Прочие расходы","073","05","05","803 00 03","013",1083]
[7,"Образование","073","07",null,null,null,{"$f":"H2587","v":168}]
[707,"Молодежная политика и оздоровление детей","073","07","07",null,null,{"$f":"H2588","v":168}]
[707432,"Мероприятия по проведению оздоровительной кампании детей ","073","07","07","432 00 00",null,{"$f":"H2589","v":168}]
[70743202,"Оздоровление детей ","073","07","07","432 02 00",null,{"$f":"H2590","v":168}]
[70743202001,"Выполнение функций бюджетными учреждениями","073","07","07","432 02 00","001",168]
[]
[0,"Главное управление Московской области \"Государственная жилищная инспекция Московской области\"","074",null,null,null,null,{"$f":"H2593+H2598","v":172949}]
[3,"Национальная безопасность и правоохранительная деятельность","074","03",null,null,null,{"$f":"H2594","v":220}]
[309,"Защита населения и территории от последствий чрезвычайных ситуаций природного и техногенного характера, гражданская оборона ","074","03","09",null,null,{"$f":"H2595","v":220}]
[309219,"Мероприятия по гражданской обороне","074","03","09","219 00 00",null,{"$f":"H2596","v":220}]
[30921901,"Подготовка населения и организаций к действиям в чрезвычайной ситуации в мирное и военное время","074","03","09","219 01 00",null,{"$f":"H2597","v":220}]
[30921901012,"Выполнение функций государственными органами","074","03","09","219 01 00","012",220]
[5,"Жилищно-коммунальное хозяйство","074","05",null,null,null,{"$f":"H2599","v":172729}]
[505,"Другие вопросы в области жилищно-коммунального хозяйства","074","05","05",null,null,{"$f":"H2600","v":172729}]
[505002,"Руководство и управление в сфере установленных функций органов государственной власти субъектов Российской Федерации  и органов местного самоуправления","074","05","05","002 00 00",null,{"$f":"H2601","v":172729}]
[50500204,"Центральный аппарат","074","05","05","002 04 00",null,{"$f":"H2602","v":172729}]
[50500204012,"Выполнение функций государственными органами","074","05","05","002 04 00","012",172729]
[]
[0,"Территориальный исполнительный орган государственной власти Московской области на территории города Подольска Московской области","079",null,null,null,null,{"$f":"H2605","v":8400}]
[1,"Общегосударственные вопросы","079","01",null,null,null,{"$f":"H2606","v":8400}]
[114,"Другие общегосударственные вопросы","079","01",14,null,null,{"$f":"H2607","v":8400}]
[114002,"Руководство и управление в сфере установленных функций органов государственной власти субъектов Российской Федерации  и органов местного самоуправления","079","01",14,"002 00 00",null,{"$f":"H2608","v":8400}]
[11400204,"Центральный аппарат","079","01",14,"002 04 00",null,{"$f":"H2609","v":8400}]
[11400204012,"Выполнение функций государственными органами","079","01",14,"002 04 00","012",8400]
[]
[0,"Государственное учреждение Московской области \"Дирекция спортивных сооружений\"","080",null,null,null,null,{"$f":"H2612","v":210000}]
[9,"Здравоохранение, физическая культура и спорт","080","09",null,null,null,{"$f":"H2613","v":210000}]
[908,"Физическая культура и спорт","080","09","08",null,null,{"$f":"H2614","v":210000}]
[908482,"Центры спортивной подготовки (сборные команды)","080","09","08","482 00 00",null,{"$f":"H2615","v":210000}]
[90848299,"Обеспечение деятельности подведомственных учреждений","080","09","08","482 99 00",null,{"$f":"H2616","v":210000}]
[90848299001,"Выполнение функций бюджетными учреждениями","080","09","08","482 99 00","001",210000]
[]
[]
[null,"В  С  Е  Г  О    Р  А  С  Х  О  Д  О  В ",null,null,null,null,null,{"$f":"SUMIF($A$17:$A$2618,\"=0\",H17:H2618)","v":250120048}]
[]
[null,"Примечание:"]
[null,"      1) Главное управление внутренних дел по Московской области, являясь в соответствии с настоящим Законом главным распорядителем средств бюджета Московской области, исполняет функции государственного заказчика при размещении заказов на поставку товаров, выполнение работ, оказание услуг за счет средств бюджета Московской области; "]
[null,"  * Публичные нормативные обязательства .",null,null,null,null,null,null,{"$f":"H304+H306+H308+H310+H400+H402+H404+H406+H522+H524+H651+H659+H661+H917+H919+H921+H923+H1101+H1103+H1105+H1113+H1115+H1117+H1119+H1131+H1133+H1141+H1143+H1145+H1147+H1163+H1165+H1167+H1169+H1171+H1173+H1185+H1187+H1189+H1191+H1212+H1214+H1216+H1248+H1257+H1259+H1261+H1263+H1265+H1267+H1291+H1293+H1295+H1298+H1300+H1302+H1304+H1306+H1309+H1311+H1313+H1315+H1425+H1427+H1429+H1431+H1433+H1542+H1604+H1606+H1608+H1610+H1662+H1665+H1667+H1669+H1671+H1680+H1682+H1686+H1688+H1694+H1696+H1709+H1711+H1720+H1722+H1726+H1728+H1730+H1732+H1735+H1737+H1739+H1741+H1743+H1745+H1747+H1749+H1751+H1753+H1755+H1757+H1759+H1761+H1763+H1765+H1767+H1769+H1771+H1773+H1775+H1777+H1779+H1796+H2170+H2173+H2175+H2211+H2252+H2288+H2317","v":17592588}]

{"sheet":"коды","index":1,"n_rows":57,"n_cols":5,"rows_kept":57,"cut":false,"hidden":true,"merged":[]}
[]
["ЦСР",null,null,"ВР"]
[null,null,null,901,"Взносы Московской области в общественные организации, фонды, ассоциации"]
[null,null,null,"701-823","Софинансирование дорожных объектов"]
["802 00 00","Прочие учреждения в области образования",null,902,"Проведение мероприятий по защите информации, обеспечению безопасности информационных систем и баз данных, содержащих конфиденциальную информацию, в том числе персональные данные населения Московской области"]
["803 00 00","Расходы на страхование ",null,903,"Бюджетные инвестиции в объекты капитального строительства собственности муниципальных образований, софинансирование которых осуществляется за счет средств федерального бюджета"]
["803 00 01","Расходы на страхование имущества, находящегося в государственной собственности Московской области",null,904,"Обеспечение деятельности подразделений УГИБДД ГУВД по Московской области"]
["803 00 02","Расходы на страхование гражданской ответственности учреждений, находящихся в государственной собственности Московской области",null,905,"Страховые взносы по обязательному медицинскому страхованию неработающего населения"]
["803 00 03","Расходы на обязательное страхование гражданской ответственности владельцев транспортных средств",null,906,"Работы по гидрометеорологии и мониторингу окружающей среды"]
["803 00 04","Расходы на добровольное страхование гражданской ответственности владельцев транспортных средств",null,907,"Проведение государственной экологической экспертизы объектов регионального уровня на территории Московской области"]
["803 00 05","Расходы на страхование жизни и здоровья медицинских, фармацевтических и других работников государственных учреждений здравоохранения Московской области, работа которых связана с угрозой их жизни и здоровью",null,908,"Софинансирование строительства объектов газификации собственности муниципальных образований"]
["803 00 06","Расходы на страхование жизни и здоровья членов сборных команд Московской области",null,909,"Софинансирование строительства объектов водоснабжения собственности муниципальных образований"]
["803 00 07","Расходы на страхование на случай причинения вреда жизни и здоровью лиц, замещающих государственные должности Московской области и государственных гражданских служащих Московской области",null,910,"Финансирование расходов, осуществляемое за счет средств, поступающих от сдачи в аренду имущества, закрепленного за государственными организациями"]
["804 00 00 ","Приобретение земельных участков в государственную собственность Московской области",null,917,"Субсидии на возмещение за счет средств фонда стимулирования организаций легкой и текстильной промышленности, состоящих на учете в налоговых органах по Московской области, части процентных ставок по кредитам, предоставляемых российскими кредитными организациями"]
["806 00 00","Прочие расходы, не отнесенные к другим целевым статьям",null,919,"Финансирование транспортным организациям выпадающих доходов, возникающих в связи с предоставлением мер социальной поддержки по проезду отдельных категорий граждан, имеющих место жительства в Московской области, за исключением ветеранов труда, тружеников тыла, реабилитированных лиц и лиц, признанных пострадавшими от политических репрессий,  финансирование выпадающих доходов по перевозке отдельных категорий граждан на внутреннем водном транспорте пригородного сообщения"]
["806 01 00","Подготовка врачебных кадров",null,921,"Финансирование транспортным организациям выпадающих доходов, возникающих в связи с реализацией мер социальной поддержки в части транспортного обслуживания отдельных категорий граждан, имеющих место жительства в городе Москве, паасажирским транспортом общего пользования Московской области"]
["806 02 00","Подготовка кадров в сфере культуры и искусства"]
["806 00 30","Создание финансового резерва для обеспечения выплаты дополнительных пенсий работникам государственных учреждений Московской области, вышедшим на пенсию"]
["806 00 31","Компенсация расходов адвокатам, оказывающим гражданам Российской Федерации на территории Московской области юридическую помощь бесплатно"]
["806 00 32","Проведение мероприятий в сфере социальной защиты населения, посвященных знаменательным событиям и памятным датам, установленным в Российской Федерации и Московской области "]
["806 00 33","Возмещение стоимости услуг, согласно гарантированному перечню услуг по погребению умерших"]
["807 00 00","Меры социальной поддержки по обеспечению проездом граждан"]
["808 00 00","Расходы на оценку имущества, подлежащего страхованию"]
["522 01 00","Областная целевая программа \"Экология Подмосковья на 2007-2008 годы\""]
["522 02 00","Областная целевая программа \"Жилище\" на 2006-2010 годы"]
["522 02 01","Подпрограмма \"Модернизация объектов коммунальной инфраструктуры\""]
["522 02 02","Подпрограмма \"Переселение граждан из ветхого и аварийного жилищного фонда\""]
["522 02 03","Подпрограмма \"Обеспечение земельных участков коммунальной инфраструктурой в целях жилищного строительства\""]
["522 02 04","Подпрограмма \"Обеспечение жильем молодых семей\""]
["522 03 00","Областная целевая программа \"Разработка Генерального плана развития Московской области на период до 2020 года\""]
["522 04 00","Областная целевая программа \"Электронное Подмосковье на период 2006-2009 годы\""]
["522 05 00","Областная целевая программа \"Сохранение объектов культурного наследия (памятников истории и культуры) в Московской области на 2006-2008 годы\""]
["522 05 01","Раздел 1 \"Сохранение объектов культурного наследия\""]
["522 05 02","Раздел 2 \"Государственная охрана объектов культурного наследия\""]
["522 05 03","Раздел 3 \"Оказание поддержки религиозным организациям в проведении работ по сохранению памятников истории и культуры религиозного назначения\""]
["522 05 04","Раздел 4 \"Установка памятника создателям славянской азбуки, просветителям славянских народов, святым братьям Кириллу и Мефодию\""]
["522 06 00","Областная целевая программа \"Развитие образования в Московской области на период 2006-2010 годов\""]
["522 07 00","Областная целевая программа \"Молодое поколение Подмосковья на 2006-2008 годы\""]
["522 08 00","Областная целевая программа \"Радиационная безопасность Московской области на 2006-2010 годы\""]
["522 09 00","Областная целевая программа \"Поддержка Московской областью соотечественников за рубежом на 2007-2010 годы\""]
["522 10 00","Областная целевая программа \"Обеспечение безопасности дорожного движения на территории Московской области в 2007-2010 годах\""]
["522 10 01","Раздел \"Предупреждение опасного поведения участников дорожного движения\""]
["522 10 02","Раздел \"Организационно-планировочные и инженерные меры, направленные на совершенствование организации движения транспортных средств и пешеходов\""]
["522 10 03","Раздел \"Совершенствование системы подготовки и переподготовки водительского, ремонтного и инженерно-технического персонала\""]
["522 10 05","Раздел \"Совершенствование контрольно-надзорной деятельности и деятельности по ликвидации последствий и снижению тяжести ДТП\""]
["522 11 00","Областная целевая программа \"Совершенствование медицинской помощи новорожденным, беременным женщинам и матерям в Московской области на период 2008-2011 годов\""]
["522 12 00","Областная целевая программа \"Предупреждение и борьба с заболеваниями социального характера в Московской области на период 2008-2011 годов\""]
["522 12 01","Подпрограмма \"Сахарный диабет\""]
["522 12 02","Подпрограмма \"Неотложные меры борьбы с туберкулезом\""]
["522 12 03","Подпрограмма \"О мерах по предупреждению распространения заболевания, вызываемого вирусом иммунодефицита человека (ВИЧ - инфекции)\""]
["522 12 04","Подпрограмма \"О мерах по развитию онкологической помощи\""]
["522 12 05","Подпрограмма \"О мерах по предупреждению дальнейшего распространения заболеваний, передаваемых половым путем\""]
["522 12 06","Подпрограмма \"Вирусные гепатиты\""]
["522 12 07","Подпрограмма \"Развитие психиатрической помощи\""]
["522 12 08","Подпрограмма \"Вакцинопрофилактика\""]
["522 12 09","Подпрограмма \"Профилактика и лечение артериальной гипертонии\""]
["522 12 10","Подпрограмма \"Общая врачебная практика\""]

{"sheet":"разделы","index":2,"n_rows":143,"n_cols":5,"rows_kept":143,"cut":false,"hidden":true,"merged":[]}
[null,"проект"]
["Код","Наименование раздела и подраздела"]
[null,null,null,"фуккцион","свод"]
["0100","ОБЩЕГОСУДАРСТВЕННЫЕ ВОПРОСЫ",{"$f":"SUM(C5:C18)","v":23580617},{"$f":"C4-'ведом. 2019'!G16","v":23580617},{"$f":"C4-[1]свод!$E$203","v":0}]
["0101","Функционирование Президента Российской Федерации"]
["0102","Функционирование высшего должностного лица субъекта Российской Федерации и муниципального образования",2114,{"$f":"C6-'ведом. 2019'!G17","v":2114}]
["0103","Функционирование законодательных (представительных) органов государственной власти и представительных органов муниципальных образований",{"$f":"8479+797591","v":806070},{"$f":"C7-'ведом. 2019'!#REF!","v":{"$error":"#REF!"}}]
["0104","Функционирование Правительства Российской Федерации, высших исполнительных органов государственной власти субъектов Российской Федерации, местных администраций",902951,{"$f":"C8-'ведом. 2019'!G22","v":902951}]
["0105","Судебная система",1163086,{"$f":"C9-'ведом. 2019'!#REF!","v":{"$error":"#REF!"}}]
["0106","Обеспечение деятельности финансовых, налоговых и таможенных органов и органов финансового (финансово-бюджетного) надзора",{"$f":"5050+2170797+3000+141000","v":2319847},{"$f":"C10-'ведом. 2019'!#REF!","v":{"$error":"#REF!"}}]
["0107","Обеспечение проведения выборов и референдумов",67921,{"$f":"C11-'ведом. 2019'!#REF!","v":{"$error":"#REF!"}}]
["0108","Международные отношения и международное сотрудничество",{"$f":"203700+5800","v":209500},{"$f":"C12-'ведом. 2019'!#REF!","v":{"$error":"#REF!"}}]
["0109","Государственный материальный резерв"]
["0110","Фундаментальные исследования"]
["0111","Обслуживание государственного и муниципального долга",8537000,{"$f":"C15-'ведом. 2019'!G696","v":8537000}]
["0112","Резервные фонды",{"$f":"1500000+55107","v":1555107},{"$f":"C16-'ведом. 2019'!G70","v":1555107}]
["0113","Прикладные научные исследования в области общегосударственных вопросов"]
["0114","Другие общегосударственные вопросы",{"$f":"26190+27274+720000+375064+3754446+10000+3099047-8621+8621+2000+3000","v":8017021},{"$f":"C18-'ведом. 2019'!G82","v":8017021}]
[]
["0200","НАЦИОНАЛЬНАЯ ОБОРОНА",{"$f":"SUM(C21:C29)","v":12972},{"$f":"C20-'ведом. 2019'!G144","v":12972},{"$f":"C20-[1]свод!$E$204","v":0}]
["0201","Вооруженные Силы Российской Федерации"]
["0202","Модернизация Вооруженных Сил Российской Федерации и воинских формирований"]
["0203","Мобилизационная и вневойсковая подготовка"]
["0204","Мобилизационная подготовка экономики",12972,{"$f":"C24-'ведом. 2019'!#REF!","v":{"$error":"#REF!"}}]
["0205","Подготовка и участие в обеспечении коллективной безопасности и миротворческой деятельности;"]
["0206","Ядерно-оружейный комплекс"]
["0207","Реализация международных обязательств в сфере военно-технического сотрудничества"]
["0208","Прикладные научные исследования в области национальной обороны"]
["0209","Другие вопросы в области национальной обороны"]
[]
["0300","НАЦИОНАЛЬНАЯ БЕЗОПАСНОСТЬ И ПРАВООХРАНИТЕЛЬНАЯ ДЕЯТЕЛЬНОСТЬ",{"$f":"SUM(C32:C45)","v":16669168},{"$f":"C31-'ведом. 2019'!G159","v":16669168},{"$f":"C31-[1]свод!$E$205","v":0}]
["0301","Органы прокуратуры"]
["0302","Органы внутренних дел",{"$f":"315585+11659394+26106","v":12001085},{"$f":"C33-'ведом. 2019'!#REF!","v":{"$error":"#REF!"}}]
["0303","Внутренние войска"]
["0304","Органы юстиции"]
["0305","Система исполнения наказаний",177958,{"$f":"C36-'ведом. 2019'!#REF!","v":{"$error":"#REF!"}}]
["0306","Органы безопасности"]
["0307","Органы пограничной службы"]
["0308","Органы по контролю за оборотом наркотических средств и психотропных веществ",67662,{"$f":"C39-'ведом. 2019'!#REF!","v":{"$error":"#REF!"}}]
["0309","Предупреждение и ликвидация последствий чрезвычайных ситуаций природного и техногенного характера, гражданская оборона",996190,{"$f":"C40-'ведом. 2019'!G160","v":996190}]
["0310","Обеспечение пожарной безопасности",{"$f":"46851+3225689+100000+53733","v":3426273},{"$f":"C41-'ведом. 2019'!#REF!","v":{"$error":"#REF!"}}]
["0311","Миграционная политика"]
["0312","Модернизация внутренних войск, войск гражданской обороны, а также правоохранительных и иных органов"]
["0313","Прикладные научные исследования в области национальной безопасности и правоохранительной деятельности"]
["0314","Другие вопросы в области национальной безопасности и правоохранительной деятельности"]
[]
["0400","НАЦИОНАЛЬНАЯ ЭКОНОМИКА",{"$f":"SUM(C48:C59)","v":47268313},{"$f":"C47-'ведом. 2019'!G284","v":47268313},{"$f":"C47-[1]свод!$E$206","v":0}]
["0401","Общеэкономические вопросы",{"$f":"449106+1060+723785","v":1173951},{"$f":"C48-'ведом. 2019'!#REF!","v":{"$error":"#REF!"}}]
["0402","Топливно-энергетический комплекс",{"$f":"139180+153","v":139333},{"$f":"C49-'ведом. 2019'!#REF!","v":{"$error":"#REF!"}}]
["0403","Исследование и использование космического пространства"]
["0404","Воспроизводство минерально-сырьевой базы"]
["0405","Сельское хозяйство и рыболовство",{"$f":"121513+1781175+10276+669+22224","v":1935857},{"$f":"C52-'ведом. 2019'!#REF!","v":{"$error":"#REF!"}}]
["0406","Водные ресурсы",36721,{"$f":"C53-'ведом. 2019'!#REF!","v":{"$error":"#REF!"}}]
["0407","Лесное хозяйство"]
["0408","Транспорт",{"$f":"1712331+442920","v":2155251},{"$f":"C55-'ведом. 2019'!G285","v":2155251}]
["0409","Дорожное хозяйство",35016518,{"$f":"C56-'ведом. 2019'!#REF!","v":{"$error":"#REF!"}}]
["0410","Связь и информатика",{"$f":"391523+82000","v":473523},{"$f":"C57-'ведом. 2019'!#REF!","v":{"$error":"#REF!"}}]
["0411","Прикладные научные исследования в области национальной экономики",{"$f":"101000+19000","v":120000},{"$f":"C58-'ведом. 2019'!#REF!","v":{"$error":"#REF!"}}]
["0412","Другие вопросы в области национальной экономики",{"$f":"10506+256+53397+1278437+377300+3110389+6896+537478+800000+42500","v":6217159},{"$f":"C59-'ведом. 2019'!#REF!","v":{"$error":"#REF!"}}]
[]
["0500","ЖИЛИЩНО-КОММУНАЛЬНОЕ ХОЗЯЙСТВО",{"$f":"SUM(C62:C66)","v":2711709},{"$f":"C61-'ведом. 2019'!#REF!","v":{"$error":"#REF!"}},{"$f":"C61-[1]свод!$E$207","v":0}]
["0501","Жилищное хозяйство",{"$f":"659378+190153","v":849531},{"$f":"C62-'ведом. 2019'!#REF!","v":{"$error":"#REF!"}}]
["0502","Коммунальное хозяйство",{"$f":"371840+283200+143500","v":798540},{"$f":"C63-'ведом. 2019'!#REF!","v":{"$error":"#REF!"}}]
["0503","Благоустройство"]
["0504","Прикладные научные исследования в области жилищно- коммунального хозяйства"]
["0505","Другие вопросы в области жилищно-коммунального хозяйства",{"$f":"500+3969+147910+888459+22800","v":1063638},{"$f":"C66-'ведом. 2019'!#REF!","v":{"$error":"#REF!"}}]
[]
["0600","ОХРАНА ОКРУЖАЮЩЕЙ СРЕДЫ",{"$f":"SUM(C69:C73)","v":487816},{"$f":"C68-'ведом. 2019'!#REF!","v":{"$error":"#REF!"}},{"$f":"C68-[1]свод!$E$208","v":0}]
["0601","Экологический контроль"]
["0602","Сбор, удаление отходов и очистка сточных вод"]
["0603","Охрана объектов растительного и животного мира и среды их обитания",{"$f":"5794-669","v":5125},{"$f":"C71-'ведом. 2019'!#REF!","v":{"$error":"#REF!"}}]
["0604","Прикладные научные исследования в области охраны окружающей среды"]
["0605","Другие вопросы в области охраны окружающей среды",{"$f":"850+190719+291122","v":482691},{"$f":"C73-'ведом. 2019'!#REF!","v":{"$error":"#REF!"}}]
[]
["0700","ОБРАЗОВАНИЕ",{"$f":"SUM(C76:C84)","v":15977562},{"$f":"C75-'ведом. 2019'!G477","v":15977562},{"$f":"C75-[1]свод!$E$209","v":0}]
["0701","Дошкольное образование",45109,{"$f":"C76-'ведом. 2019'!#REF!","v":{"$error":"#REF!"}}]
["0702","Общее образование",{"$f":"16320+1579553+35000-120708","v":1510165},{"$f":"C77-'ведом. 2019'!#REF!","v":{"$error":"#REF!"}}]
["0703","Начальное профессиональное образование",4671918,{"$f":"C78-'ведом. 2019'!#REF!","v":{"$error":"#REF!"}}]
["0704","Среднее профессиональное образование",{"$f":"30220+3196696+9500-18000","v":3218416},{"$f":"C79-'ведом. 2019'!#REF!","v":{"$error":"#REF!"}}]
["0705","Профессиональная подготовка, переподготовка и повышение квалификации",419843,{"$f":"C80-'ведом. 2019'!#REF!","v":{"$error":"#REF!"}}]
["0706","Высшее и послевузовское профессиональное образование",{"$f":"507500+3215131","v":3722631},{"$f":"C81-'ведом. 2019'!#REF!","v":{"$error":"#REF!"}}]
["0707","Молодежная политика и оздоровление детей",{"$f":"73808+458+39313+268054","v":381633},{"$f":"C82-'ведом. 2019'!G502","v":381633}]
["0708","Прикладные научные исследования в области образования",5625,{"$f":"C83-'ведом. 2019'!#REF!","v":{"$error":"#REF!"}}]
["0709","Другие вопросы в области образования",{"$f":"520+80550+787674+1057879+75599","v":2002222},{"$f":"C84-'ведом. 2019'!#REF!","v":{"$error":"#REF!"}}]
[]
["0800","КУЛЬТУРА, КИНЕМАТОГРАФИЯ И СРЕДСТВА МАССОВОЙ ИНФОРМАЦИИ",{"$f":"SUM(C87:C92)","v":4620983},{"$f":"C86-'ведом. 2019'!G533","v":4620983},{"$f":"C86-[1]свод!$E$210","v":0}]
["0801","Культура",{"$f":"2049557+253950+3000","v":2306507},{"$f":"C87-'ведом. 2019'!G534","v":2306507}]
["0802","Кинематография"]
["0803","Телевидение и радиовещание",915009,{"$f":"C89-'ведом. 2019'!#REF!","v":{"$error":"#REF!"}}]
["0804","Периодическая печать и издательства",482232,{"$f":"C90-'ведом. 2019'!#REF!","v":{"$error":"#REF!"}}]
["0805","Прикладные научные исследования в области культуры, кинематографии и средств массовой информации"]
["0806","Другие вопросы в области культуры, кинематографии и средств массовой информации",{"$f":"1210+12189+1700+611492+290644","v":917235},{"$f":"C92-'ведом. 2019'!#REF!","v":{"$error":"#REF!"}}]
[]
["0900","ЗДРАВООХРАНЕНИЕ, ФИЗИЧЕСКАЯ КУЛЬТУРА И СПОРТ",{"$f":"SUM(C95:C104)","v":37148428},{"$f":"C94-'ведом. 2019'!#REF!","v":{"$error":"#REF!"}},{"$f":"C94-[1]свод!$E$211","v":0}]
["0901","Стационарная медицинская помощь",{"$f":"820590+7752658+2890840+2783923","v":14248011},{"$f":"C95-'ведом. 2019'!#REF!","v":{"$error":"#REF!"}}]
["0902","Амбулаторная помощь",662232,{"$f":"C96-'ведом. 2019'!#REF!","v":{"$error":"#REF!"}}]
["0903","Медицинская помощь в дневных стационарах всех типов"]
["0904","Скорая медицинская помощь "]
["0905","Санаторно-оздоровительная помощь",724098,{"$f":"C99-'ведом. 2019'!#REF!","v":{"$error":"#REF!"}}]
["0906","Заготовка, переработка, хранение и обеспечение безопасности донорской крови и её компонентов",377981,{"$f":"C100-'ведом. 2019'!#REF!","v":{"$error":"#REF!"}}]
["0907","Санитарно-эпидемиологическое благополучие"]
["0908","Физическая культура и спорт",{"$f":"7800+1408321+370000+6700","v":1792821},{"$f":"C102-'ведом. 2019'!#REF!","v":{"$error":"#REF!"}}]
["0909","Прикладные научные исследования в области здравоохранения, физической культуры и спорта",269728,{"$f":"C103-'ведом. 2019'!#REF!","v":{"$error":"#REF!"}}]
["0910","Другие вопросы в области здравоохранения, физической культуры и спорта",{"$f":"700+77619-4704+1061358+45000+20330903+21267+285337+40000-2783923","v":19073557},{"$f":"C104-'ведом. 2019'!#REF!","v":{"$error":"#REF!"}}]
[]
["1000","СОЦИАЛЬНАЯ ПОЛИТИКА",{"$f":"SUM(C107:C112)","v":43410314},{"$f":"C106-'ведом. 2019'!G608","v":43410314},{"$f":"C106-[1]свод!$E$212","v":0}]
["1001","Пенсионное обеспечение",142633,{"$f":"C107-'ведом. 2019'!G609","v":142633}]
["1002","Социальное обслуживание населения",{"$f":"6842258-285000+384800","v":6942058},{"$f":"C108-'ведом. 2019'!#REF!","v":{"$error":"#REF!"}}]
["1003","Социальное обеспечение населения",{"$f":"12882130+394827+10076960+5733862+51761+768117+120000-5045+375914+84409+52500+415975","v":30951410},{"$f":"C109-'ведом. 2019'!G615","v":30951410}]
["1004","Охрана семьи и детства",{"$f":"580+2000+2871367","v":2873947},{"$f":"C110-'ведом. 2019'!#REF!","v":{"$error":"#REF!"}}]
["1005","Прикладные научные исследования в области социальной политики"]
["1006","Другие вопросы в области социальной политики",{"$f":"78766+7647+85664+1988045+285000+55144","v":2500266},{"$f":"C112-'ведом. 2019'!#REF!","v":{"$error":"#REF!"}}]
[]
["1100","МЕЖБЮДЖЕТНЫЕ ТРАНСФЕРТЫ",{"$f":"SUM(C115:C119)","v":58232166},{"$f":"C114-'ведом. 2019'!#REF!","v":{"$error":"#REF!"}},{"$f":"C114-[1]свод!$E$213","v":0}]
["1101","Дотации бюджетам субъектов Российской Федерации и муниципальных образований",{"$f":"5289811-576383","v":4713428},{"$f":"C115-'ведом. 2019'!#REF!","v":{"$error":"#REF!"}},{"$f":"C115-[1]свод!$E$215","v":0}]
["1102","Субсидии бюджетам субъектов Российской Федерации и муниципальных образований (межбюджетные субсидии)",{"$f":"45137+1422412-8000+3516363+1120817+115530+4450200+25040+1454659+1115615+610471+973579+151146+160000+297200+281+400000+1000000","v":16850450},{"$f":"C116-'ведом. 2019'!#REF!","v":{"$error":"#REF!"}},{"$f":"C116-[1]свод!$E$222","v":0}]
["1103","Субвенции бюджетам субъектов Российской Федерации и муниципальных образований",{"$f":"4668019+281+70477+805870+159381+90840+27834+1551298+281597+26495709+21661+8000+146682-281+175000+7400+37+2088","v":34511893},{"$f":"C117-'ведом. 2019'!#REF!","v":{"$error":"#REF!"}},{"$f":"C117-[1]свод!$E$261","v":0}]
["1104","Иные межбюджетные трансферты",{"$f":"200000+23893+6013666-141000-21267-7647-3911250","v":2156395},{"$f":"C118-'ведом. 2019'!#REF!","v":{"$error":"#REF!"}},{"$f":"C118-[1]свод!$E$292","v":0}]
["1105","Межбюджетные трансферты бюджетам государственных внебюджетных фондов"]
["ВСЕГО",null,{"$f":"C4+C20+C31+C47+C61+C68+C75+C86+C94+C106+C114","v":250120048},{"$f":"C120-'ведом. 2019'!#REF!","v":{"$error":"#REF!"}},{"$f":"C120-[1]свод!$E$300","v":0}]
[]
[null,"ведомственная",{"$f":"C120-'Ведомственная 2008'!H2619","v":0}]
[null,"функцион",{"$f":"C120-'ведом. 2019'!#REF!","v":{"$error":"#REF!"}}]
[]
[null,"Резерв было всего",6013666,3911250]
[null,null,-141000]
[null,null,-21267]
[null,null,-7647]
[null,"Остаток в Думу",{"$f":"C125+C126+C127+C128","v":5843752}]
[null,"спец продукция, для допуска транспортных средст ГУВД МО",-26106]
[null,"выплата надбавок к денежному довольствию личного состава Гл. упр. региональной безопасности МО   ",-100000]
[null,"замены электропроводки и установки противопожарной сигнализации для Лобненского техникума строительной индустрии и предпринимательства предусмотреть Министерству строительного комплекса ",-9500]
[null,"проведение капитального ремонта комплекса зданий, в котором располагается министерство жилищно-коммунального хозяйства ",-22800]
[null,"открытие пяти отделений на базе государственного учреждения Московской области «Детская юношеская спортивная школа олимпийского резерва по футболу» (Комитет физ-ры)",-15000]
[null,"открытие государственного учреждения дополнительного образования «Детско-юношеская спортивная школа по гандболу» на 500 человек (Комитет физ-ры)",-2000]
[null,"проведение спортивных соревнований на призы Правительства Московской области в рамках международных соревнований мемориала братьев Знаменских (Комитет физ-ры)",-6700]
[null,"Мин. Потребительского рынка",-42500]
[null,"Премия Думы",-8621]
[null,"АПК",-17956]
[]
[]
[null,"Минус с остатка",{"$f":"SUM(C130:C141)","v":-251183}]
[null,"Остаток резерва",{"$f":"C129+C142","v":5592569}]

{"sheet":"Функц. 2019","index":3,"n_rows":1191,"n_cols":26,"rows_kept":1191,"cut":false,"hidden":false,"merged":[[0,3,0,5],[2,3,2,5],[10,3,10,5],[13,0,13,6],[3,3,3,5],[5,3,5,6],[6,3,6,6],[4,3,4,6],[12,3,12,6]]}
[null,null,null,"Приложение 4"]
[null,null,null,"к изменениям и дополнениям"]
[null,null,null,"к  бюджету  города  Лыткарино  на  2019 год"]
[null,null,null,"и  на плановый  период  2020 и  2021  годов"]
[null,null,null,"(Приложение 5"]
[null,null,null,"к  бюджету  города  Лыткарино  на  2019 год"]
[null,null,null,"и  на плановый  период  2020  и  2021  годов)"]
[]
[]
[]
[]
[]
[null,null,null,"и  на плановый  период  2020  и  2021  годов)"]
["Расходы  бюджета  города  Лыткарино  на  2019   год по  разделам, подразделам, целевым  статьям  (муниципальным  программам  города  Лыткарино  и  непрограммным  направлениям  деятельности), \nгруппам и подгруппам  видов  расходов  классификации  расходов  бюджетов "]
[null,null,null,null,null,null,"(тыс.руб.)"]
["Наименования","Рз","ПР","ЦСР","ВР","Сумма  \nна 2019 год\n","В т.ч. Субвенции, субсидии, иные межбюджетные трансферты"]
[1,2,3,4,5,6,7]
["Общегосударственные вопросы","01",null,null,null,{"$f":"F19+F24+F57+F105+F142+F162+F174","v":243717.5},{"$f":"G19+G24+G57+G105+G142+G162+G174","v":4977}]
["Функционирование высшего должностного лица субъекта Российской Федерации и муниципального образования","01","02",null,null,{"$f":"F20","v":2649.9999999999995}]
["Руководство и управление в сфере установленных функций органов местного  самоуправления, избирательных комиссий муниципальных образований ","01","02","95 0 00 00000",null,{"$f":"F21","v":2649.9999999999995}]
["Глава муниципального образования","01","02","95 0 00 01000",null,{"$f":"F22","v":2649.9999999999995}]
["Расходы на выплаты персоналу в целях обеспечения выполнения функций государственными (муниципальными) органами, казенными учреждениями, органами управления государственными внебюджетными фондами ","01","02","95 0 00 01000",100,{"$f":"F23","v":2649.9999999999995}]
["Расходы на выплаты персоналу государственных (муниципальных) органов","01","02","95 0 00 01000",120,{"$f":"'ведом. 2019'!AD21","v":2649.9999999999995}]
["Функционирование законодательных (представительных) органов государственной власти и представительных органов муниципальных образований","01","03",null,null,{"$f":"F38+F25+F31","v":11653}]
["Муниципальная  программа «Муниципальное управление города Лыткарино на 2017-2021 годы»","01","03","01 0 00 00000",null,{"$f":"F26","v":10}]
["Подпрограмма «Развитие системы информирования населения о деятельности органов местного самоуправления города Лыткарино Московской области» ","01","03","01 4 00 00000",null,{"$f":"F27","v":10}]
["Основное мероприятие \"Информирование населения г.Лыткарино об основных событиях социально-экономического развития, общественно-политической жизни, о деятельности органов местного самоуправления города  Лыткарино\" ","01","03","01 4 01 00000",null,{"$f":"F28","v":10}]
["Осуществление взаимодействия органов местного самоуправления с печатными  средствами массовой  информации  в  области  подписки,доставки  и  распространения тиражей печатных изданий","01","03",{"$f":"D29","v":"01 4 01 00020"},null,{"$f":"F29","v":10}]
["Закупка товаров, работ и услуг для обеспечения государственных (муниципальных) нужд","01","03",{"$f":"D30","v":"01 4 01 00020"},200,{"$f":"F30","v":10}]
["Иные закупки товаров, работ и услуг для обеспечения государственных (муниципальных) нужд","01","03","01 4 01 00020",240,{"$f":"'ведом. 2019'!AD710","v":10}]
["Муниципальная  программа  \"Развитие  инженерной инфраструктуры и энергоэффективности  на  территории  города  Лыткарино\"на  2018-2022 годы","01","03"," 06 0 00 00000",null,{"$f":"F32","v":20}]
["Подпрограмма \"Энергосбережение  и  повышение  энергетической  эффективности  на  территории  города Лыткарино\"","01","03","06 2 00 00000",null,20]
["Основное  мероприятие  \"Повышение  энергетической  эффективности  в бюджетной  сфере на  территории  города  Лыткарино\"","01","03","06 2 03 00000",null,20]
["Мероприятия  по  энергосбережению  и  повышению  энергетической  эффективности ","01","03","06 2 03 18000",null,20]
["Замена прибора учета электроэнергии","01","03","06 2 03 18030",null,20]
["Закупка товаров, работ и услуг для обеспечения государственных (муниципальных) нужд","01","03","06 2 03 18030",200,20]
["Иные закупки товаров, работ и услуг для обеспечения государственных (муниципальных) нужд","01","03","06 2 03 18030",240,{"$f":"'ведом. 2019'!AD718","v":20}]
["Руководство и управление в сфере установленных функций органов местного  самоуправления, избирательных комиссий муниципальных образований ","01","03","95 0 00 00000",null,{"$f":"F39+F43+F45","v":11623}]
["Председатель представительного  органа муниципального  образования","01","03","95 0 00 02000",null,{"$f":"F40","v":2248.2000000000003}]
["Расходы на выплаты персоналу в целях обеспечения выполнения функций государственными (муниципальными) органами, казенными учреждениями, органами управления государственными внебюджетными фондами ","01","03","95 0 00 02000",100,{"$f":"F41","v":2248.2000000000003}]
["Расходы на выплаты персоналу государственных (муниципальных) органов","01","03","95 0 00 02000",120,{"$f":"'ведом. 2019'!AD722","v":2248.2000000000003}]
["Депутаты  представительного  органа  местного  самоуправления","01","03","95 0 00 03000",null,{"$f":"F44","v":1798.6000000000001}]
["Расходы на выплаты персоналу в целях обеспечения выполнения функций государственными (муниципальными) органами, казенными учреждениями, органами управления государственными внебюджетными фондами ","01","03","95 0 00 03000",100,{"$f":"F44","v":1798.6000000000001}]
["Расходы на выплаты персоналу государственных (муниципальных) органов","01","03","95 0 00 03000",120,{"$f":"'ведом. 2019'!AD725","v":1798.6000000000001}]
["Центральный аппарат","01","03","95 0 00 04000",null,{"$f":"F46+F51+F54","v":7576.2000000000007}]
["Расходы  на  обеспечение  деятельности  центрального  аппарата","01","03","95 0 00 04010",null,{"$f":"F47+F49","v":2259.1000000000004}]
["Закупка товаров, работ и услуг для обеспечения государственных (муниципальных) нужд","01","03","95 0 00 04010",200,{"$f":"F48","v":2170.3000000000002}]
["Иные закупки товаров, работ и услуг для обеспечения государственных (муниципальных) нужд","01","03","95 0 00 04010",240,{"$f":"'ведом. 2019'!AD729","v":2170.3000000000002}]
["Иные бюджетные ассигнования","01","03","95 0 00 04010",800,{"$f":"F50","v":88.8}]
["Уплата налогов, сборов и иных платежей","01","03","95 0 00 04010",850,{"$f":"'ведом. 2019'!AD731","v":88.8}]
["Расходы  на  содержание  лиц,  замещающих должности, не являющиеся должностями муниципальной  службы","01","03","95 0 00 04020",null,{"$f":"F52","v":3049.7}]
["Расходы на выплаты персоналу в целях обеспечения выполнения функций государственными (муниципальными) органами, казенными учреждениями, органами управления государственными внебюджетными фондами ","01","03","95 0 00 04020",100,{"$f":"F53","v":3049.7}]
["Расходы на выплаты персоналу государственных (муниципальных) органов","01","03","95 0 00 04020",120,{"$f":"'ведом. 2019'!AD734","v":3049.7}]
["Расходы  на  содержание  лиц,  замещающих должности  муниципальной  службы","01","03","95 0 00 04030",null,{"$f":"F55","v":2267.4}]
["Расходы на выплаты персоналу в целях обеспечения выполнения функций государственными (муниципальными) органами, казенными учреждениями, органами управления государственными внебюджетными фондами ","01","03","95 0 00 04030",100,{"$f":"F56","v":2267.4}]
["Расходы на выплаты персоналу государственных (муниципальных) органов","01","03","95 0 00 04030",120,{"$f":"'ведом. 2019'!AD737","v":2267.4}]
["Функционирование Правительства Российской Федерации, высших исполнительных органов государственной власти субъектов Российской Федерации, местных администраций","01","04",null,null,{"$f":"F58+F97","v":64180.5},{"$f":"G58+G97","v":3687}]
["Муниципальная  программа «Муниципальное управление города Лыткарино на 2017-2021 годы»","01","04","01 0 00 00000",null,{"$f":"F59+F80+F88","v":62105.5},{"$f":"G59+G80+G88","v":1612}]
["Обеспечивающая подпрограмма","01","04","01 1 00 00000",null,{"$f":"F61+F75","v":54018.8},{"$f":"G61+G75","v":1612}]
["Основное  мероприятие  \" Обеспечение  деятельности  Администрации  городcкого округа  Лыткарино  и  ее функциональных  органов\" ","01","04","01 1 01 00000",null,{"$f":"F61+F75","v":54018.8},{"$f":"G61+G75","v":1612}]
["Центральный аппарат","01","04","01 1 01 04000",null,{"$f":"F62+F69+F72","v":52406.8}]
["Расходы на обеспечение  деятельности  центрального  аппарата","01","04",{"$f":"D65","v":"01 1 01 04010"},null,{"$f":"F65+F67+F63","v":7467.5}]
["Расходы на выплаты персоналу в целях обеспечения выполнения функций государственными (муниципальными) органами, казенными учреждениями, органами управления государственными внебюджетными фондами ","01","04",{"$f":"D64","v":"01 1 01 04010"},100,{"$f":"F64","v":13.5}]
["Расходы на выплаты персоналу государственных (муниципальных) органов","01","04",{"$f":"D65","v":"01 1 01 04010"},120,{"$f":"'ведом. 2019'!AD29","v":13.5}]
["Закупка товаров, работ и услуг для обеспечения государственных (муниципальных) нужд","01","04",{"$f":"D66","v":"01 1 01 04010"},200,{"$f":"F66","v":7278.8}]
["Иные закупки товаров, работ и услуг для обеспечения государственных (муниципальных) нужд","01","04",{"$f":"D67","v":"01 1 01 04010"},240,{"$f":"'ведом. 2019'!AD31","v":7278.8}]
["Иные бюджетные ассигнования","01","04",{"$f":"D68","v":"01 1 01 04010"},800,{"$f":"F68","v":175.2}]
["Уплата налогов, сборов и иных платежей","01","04","01 1 01 04010",850,{"$f":"'ведом. 2019'!AD33","v":175.2}]
["Расходы  на  содержание  лиц,  замещающих должности, не являющиеся должностями муниципальной  службы","01","04",{"$f":"D70","v":"01 1 01 04020"},null,{"$f":"F71","v":13510.900000000001}]
["Расходы на выплаты персоналу в целях обеспечения выполнения функций государственными (муниципальными) органами, казенными учреждениями, органами управления государственными внебюджетными фондами ","01","04",{"$f":"D71","v":"01 1 01 04020"},100,{"$f":"F71","v":13510.900000000001}]
["Расходы на выплаты персоналу государственных (муниципальных) органов","01","04","01 1 01 04020",120,{"$f":"'ведом. 2019'!AD36","v":13510.900000000001}]
["Расходы  на  содержание  лиц,  замещающих должности  муниципальной  службы","01","04",{"$f":"D73","v":"01 1 01 04030"},null,{"$f":"F73","v":31428.400000000001}]
["Расходы на выплаты персоналу в целях обеспечения выполнения функций государственными (муниципальными) органами, казенными учреждениями, органами управления государственными внебюджетными фондами ","01","04",{"$f":"D74","v":"01 1 01 04030"},100,{"$f":"F74","v":31428.400000000001}]
["Расходы на выплаты персоналу государственных (муниципальных) органов","01","04","01 1 01 04030",120,{"$f":"'ведом. 2019'!AD39","v":31428.400000000001}]
["Расходы  за  счет  средств  субвенции бюджетам муниципальных районов и городских округов Московской области на обеспечение переданных муниципальным районам и городским округам Московской области государственных полномочий по временному хранению, комплектованию, учету и использованию архивных документов, относящихся к собственности Московской области и временно хранящихся в муниципальных архивах","01","04","01 1 01 60690",null,{"$f":"F76+F78","v":1612},{"$f":"G76+G78","v":1612}]
["Расходы на выплаты персоналу в целях обеспечения выполнения функций государственными (муниципальными) органами, казенными учреждениями, органами управления государственными внебюджетными фондами ","01","04","01 1 01 60690",100,{"$f":"F77","v":1575.5},1575.5]
["Расходы на выплаты персоналу государственных (муниципальных) органов","01","04","01 1 01 60690",120,{"$f":"'ведом. 2019'!AD42","v":1575.5},{"$f":"F77","v":1575.5}]
["Закупка товаров, работ и услуг для обеспечения государственных (муниципальных) нужд","01","04","01 1 01  60690",200,{"$f":"F79","v":36.5},{"$f":"G79","v":36.5}]
["Иные закупки товаров, работ и услуг для обеспечения государственных (муниципальных) нужд","01","04","01 1 01  60690",240,{"$f":"'ведом. 2019'!AD44","v":36.5},{"$f":"F79","v":36.5}]
["Подпрограмма «Развитие системы информирования населения о деятельности\n органов местного самоуправления города Лыткарино Московской области» ","01","04","01 4 00 00000",null,{"$f":"F81","v":7531.6}]
["Основное мероприятие \"Информирование населения г.Лыткарино об основных событиях социально-экономического развития, общественно-политической жизни, о деятельности органов местного самоуправления  муниципального  образования Московской области\" ","01","04","01 4 01 00000",null,{"$f":"F82+F85","v":7531.6}]
["Мероприятия  в  области  развития  системы  информирования  населения","01","04",{"$f":"D83","v":"01 4 01 00010"},null,{"$f":"F83","v":7485}]
["Закупка товаров, работ и услуг для обеспечения государственных (муниципальных) нужд","01","04",{"$f":"D84","v":"01 4 01 00010"},200,{"$f":"F84","v":7485}]
["Иные закупки товаров, работ и услуг для обеспечения государственных (муниципальных) нужд","01","04","01 4 01 00010",240,{"$f":"'ведом. 2019'!AD49","v":7485}]
["Осуществление взаимодействия органов местного самоуправления с печатными  средствами массовой  информации  в  области  подписки,доставки  и  распространения тиражей печатных изданий","01","04",{"$f":"D86","v":"01 4 01 00020"},null,{"$f":"F86","v":46.6}]
["Закупка товаров, работ и услуг для обеспечения государственных (муниципальных) нужд","01","04",{"$f":"D87","v":"01 4 01 00020"},200,{"$f":"F87","v":46.6}]
["Иные закупки товаров, работ и услуг для обеспечения государственных (муниципальных) нужд","01","04","01 4 01 00020",240,{"$f":"'ведом. 2019'!AD52","v":46.6}]
["Подпрограмма  \"Развитие  архивного  дела  в  городе  Лыткарино\"","01","04","01 5 00 00000",null,{"$f":"F89+F93","v":555.1}]
["Основное  мероприятие \"Организация  упорядочения  документов  постоянного  хранения  и  по  личному  составу\"","01","04","01 5 01 00000",null,{"$f":"F90","v":482.1}]
["Расходы  для  упорядочения  документов  постоянного  хранения ","01","04","01 5 01 00010",null,{"$f":"F91","v":482.1}]
["Закупка товаров, работ и услуг для обеспечения государственных (муниципальных) нужд","01","04",{"$f":"D92","v":"01 5 01 00010"},200,{"$f":"F92","v":482.1}]
["Иные закупки товаров, работ и услуг для обеспечения государственных (муниципальных) нужд","01","04","01 5 01 00010",240,{"$f":"'ведом. 2019'!AD57","v":482.1},null,9]
["Основное  мероприятие  \"Создание  оптимальных  условий  для  хранения архивных документов\"","01","04","01 5 02 00000",null,{"$f":"F94","v":73}]
["Расходы  на  ремонт  архивохранилища и приобретения материальных запасов","01","04",{"$f":"D95","v":"01 5 02 00020"},null,{"$f":"F95","v":73}]
["Закупка товаров, работ и услуг для обеспечения государственных (муниципальных) нужд","01","04",{"$f":"D96","v":"01 5 02 00020"},200,{"$f":"F96","v":73}]
["Иные закупки товаров, работ и услуг для обеспечения государственных (муниципальных) нужд","01","04","01 5 02 00020",240,{"$f":"'ведом. 2019'!AD61","v":73},null,-9]
["Муниципальная  программа  \"Образование  города  Лыткарино\"  на  2017-2021  годы","01","04","03 0 00 00000",null,{"$f":"F98","v":2075},2075]
["Подпрограмма  \"Общее образование\"","01","04","03 2 00 00000",null,{"$f":"F99","v":2075},2075]
["Основное  мероприятие \"Обеспечение  мер  социальной  поддержки  обучающихся  в  образовательных  организациях\"","01","04","03 2 03 00000",null,2075,2075]
["Обеспечение   переданного государственного полномочия  по  созданию  комиссий  по  делам  несовершеннолетних  и  защите  их  прав  городов и районов","01","04",{"$f":"D101","v":"03 2 03 60680"},null,{"$f":"F101+F103","v":2075},2075]
["Расходы на выплаты персоналу в целях обеспечения выполнения функций государственными (муниципальными) органами, казенными учреждениями, органами управления государственными внебюджетными фондами ","01","04",{"$f":"D102","v":"03 2 03 60680"},100,{"$f":"F102","v":1901.9},1901.9]
["Расходы на выплаты персоналу государственных (муниципальных) органов","01","04",{"$f":"D103","v":"03 2 03 60680"},120,{"$f":"'ведом. 2019'!AD67","v":1901.9},{"$f":"F102","v":1901.9}]
["Закупка товаров, работ и услуг для обеспечения государственных (муниципальных) нужд","01","04",{"$f":"D104","v":"03 2 03 60680"},200,{"$f":"F104","v":173.1},173.1]
["Иные закупки товаров, работ и услуг для обеспечения государственных (муниципальных) нужд","01","04","03 2 03 60680",240,{"$f":"'ведом. 2019'!AD69","v":173.1},{"$f":"F104","v":173.1}]
["Обеспечение  деятельности  финансовых, налоговых  и  таможенных  органов  и  органов  финансового  (финансово-бюджетного)  надзора","01","06",null,null,{"$f":"F106+F126","v":23726}]
["Муниципальная  программа «Муниципальное управление города Лыткарино на 2017-2021 годы»","01","06","01 0 00 00000",null,{"$f":"F107+F121","v":16359.899999999998}]
["Обеспечивающая подпрограмма","01","06","01 1 00 00000",null,{"$f":"F108","v":16344.399999999998}]
["Основное  мероприятие  \" Обеспечение  деятельности  Администрации  городcкого округа  Лыткарино  и  ее функциональных  органов\" ","01","06","01 1 01 00000",null,{"$f":"F109","v":16344.399999999998}]
["Центральный аппарат","01","06","01 1 01 04000",null,{"$f":"F110+F115+F118","v":16344.399999999998}]
["Расходы на обеспечение  деятельности  центрального  аппарата","01","06",{"$f":"D111","v":"01 1 01 04010"},null,{"$f":"F111+F113","v":1540}]
["Закупка товаров, работ и услуг для обеспечения государственных (муниципальных) нужд","01","06",{"$f":"D112","v":"01 1 01 04010"},200,{"$f":"F112","v":1518.5}]
["Иные закупки товаров, работ и услуг для обеспечения государственных (муниципальных) нужд","01","06",{"$f":"D113","v":"01 1 01 04010"},240,{"$f":"'ведом. 2019'!AD762","v":1518.5}]
["Иные бюджетные ассигнования","01","06","01 1 01 04010",800,{"$f":"F114","v":21.5}]
["Уплата налогов, сборов и иных платежей","01","06","01 1 01 04010",850,{"$f":"'ведом. 2019'!AD764","v":21.5}]
["Расходы  на  содержание  лиц,  замещающих должности, не являющиеся должностями муниципальной  службы","01","06",{"$f":"D116","v":"01 1 01 04020"},null,{"$f":"F117","v":8498.9}]
["Расходы на выплаты персоналу в целях обеспечения выполнения функций государственными (муниципальными) органами, казенными учреждениями, органами управления государственными внебюджетными фондами ","01","06",{"$f":"D117","v":"01 1 01 04020"},100,{"$f":"F117","v":8498.9}]
["Расходы на выплаты персоналу государственных (муниципальных) органов","01","06","01 1 01 04020",120,{"$f":"'ведом. 2019'!AD767","v":8498.9}]
["Расходы  на  содержание  лиц,  замещающих должности  муниципальной  службы","01","06",{"$f":"D119","v":"01 1 01 04030"},null,{"$f":"F119","v":6305.4999999999991}]
["Расходы на выплаты персоналу в целях обеспечения выполнения функций государственными (муниципальными) органами, казенными учреждениями, органами управления государственными внебюджетными фондами ","01","06",{"$f":"D120","v":"01 1 01 04030"},100,{"$f":"F120","v":6305.4999999999991}]
["Расходы на выплаты персоналу государственных (муниципальных) органов","01","06","01 1 01 04030",120,{"$f":"'ведом. 2019'!AD770","v":6305.4999999999991}]
["Подпрограмма «Развитие системы информирования населения о деятельности органов местного самоуправления города Лыткарино Московской области» ","01","06","01 4 00 00000",null,{"$f":"F122","v":15.5}]
["Основное мероприятие \"Информирование населения г.Лыткарино об основных событиях социально-экономического развития, общественно-политической жизни, о деятельности органов местного самоуправления города  Лыткарино\" ","01","06","01 4 01 00000",null,{"$f":"F123","v":15.5}]
["Осуществление взаимодействия органов местного самоуправления с печатными  средствами массовой  информации  в  области  подписки,доставки  и  распространения тиражей печатных изданий","01","06",{"$f":"D124","v":"01 4 01 00020"},null,{"$f":"F124","v":15.5}]
["Закупка товаров, работ и услуг для обеспечения государственных (муниципальных) нужд","01","06",{"$f":"D125","v":"01 4 01 00020"},200,{"$f":"F125","v":15.5}]
["Иные закупки товаров, работ и услуг для обеспечения государственных (муниципальных) нужд","01","06","01 4 01 00020",240,{"$f":"'ведом. 2019'!AD775+'ведом. 2019'!AD1371","v":15.5}]
["Руководство и управление в сфере установленных функций органов местного  самоуправления, избирательных комиссий муниципальных образований ","01","06","95 0 00 00000",null,{"$f":"F127+F139","v":7366.1}]
["Центральный аппарат","01","06","95 0 00 04000",null,{"$f":"F128+F136+F133","v":5427.2000000000007}]
["Расходы  за  счет  средств  местного  бюджета  на   обеспечение  деятельности  центрального  аппарата","01","06","95 0 00 04010",null,{"$f":"F129+F131","v":1248.5}]
["Закупка товаров, работ и услуг для обеспечения государственных (муниципальных) нужд","01","06","95 0 00 04010",200,{"$f":"F130","v":1211}]
["Иные закупки товаров, работ и услуг для обеспечения государственных (муниципальных) нужд","01","06","95 0 00 04010",240,{"$f":"'ведом. 2019'!AD1376","v":1211},null,9]
["Иные бюджетные ассигнования","01","06","95 0 00 04010",800,{"$f":"F132","v":37.5}]
["Уплата налогов, сборов и иных платежей","01","06","95 0 00 04010",850,{"$f":"'ведом. 2019'!AD1378","v":37.5},null,5]
["Расходы  на  содержание  лиц,  замещающих должности, не являющиеся должностями муниципальной  службы","01","06","95 0 00 04020",null,{"$f":"F134","v":1039}]
["Расходы на выплаты персоналу в целях обеспечения выполнения функций государственными (муниципальными) органами, казенными учреждениями, органами управления государственными внебюджетными фондами ","01","06","95 0 00 04020",100,{"$f":"F135","v":1039}]
["Расходы на выплаты персоналу государственных (муниципальных) органов","01","06","95 0 00 04020",120,{"$f":"'ведом. 2019'!AD1381","v":1039},null,-14]
["Расходы  за  счет  средств  местного  бюджета  на  содержание  лиц,  замещающих должности  муниципальной  службы","01","06","95 0 00 04030",null,{"$f":"F137","v":3139.7000000000003}]
["Расходы на выплаты персоналу в целях обеспечения выполнения функций государственными (муниципальными) органами, казенными учреждениями, органами управления государственными внебюджетными фондами ","01","06","95 0 00 04030",100,{"$f":"F138","v":3139.7000000000003}]
["Расходы на выплаты персоналу государственных (муниципальных) органов","01","06","95 0 00 04030",120,{"$f":"'ведом. 2019'!AD1384","v":3139.7000000000003}]
["Председатель  контрольно-счетной  палаты  муниципального  образования  и  его  заместитель","01","06","95 0 00 05000",null,{"$f":"F140","v":1938.9}]
["Расходы на выплаты персоналу в целях обеспечения выполнения функций государственными (муниципальными) органами, казенными учреждениями, органами управления государственными внебюджетными фондами ","01","06","95 0 00 05000",100,{"$f":"F141","v":1938.9}]
["Расходы на выплаты персоналу государственных (муниципальных) органов","01","06","95 0 00 05000",120,{"$f":"'ведом. 2019'!AD1387","v":1938.9}]
["Обеспечение проведения выборов и референдумов","01","07",null,null,{"$f":"F149+F143","v":4352.5}]
["Муниципальная  программа «Муниципальное управление города Лыткарино на 2017-2021 годы»","01","07","01 0 00 00000",null,{"$f":"F144","v":1.1000000000000001}]
["Подпрограмма «Развитие системы информирования населения о деятельности органов местного самоуправления города Лыткарино Московской области» ","01","07","01 4 00 00000",null,{"$f":"F145","v":1.1000000000000001}]
["Основное мероприятие \"Информирование населения г.Лыткарино об основных событиях социально-экономического развития, общественно-политической жизни, о деятельности органов местного самоуправления города  Лыткарино\" ","01","07","01 4 01 00000",null,{"$f":"F146","v":1.1000000000000001}]
["Осуществление взаимодействия органов местного самоуправления с печатными  средствами массовой  информации  в  области  подписки,доставки  и  распространения тиражей печатных изданий","01","07",{"$f":"D147","v":"01 4 01 00020"},null,{"$f":"F147","v":1.1000000000000001}]
["Закупка товаров, работ и услуг для обеспечения государственных (муниципальных) нужд","01","07",{"$f":"D148","v":"01 4 01 00020"},200,{"$f":"F148","v":1.1000000000000001}]
["Иные закупки товаров, работ и услуг для обеспечения государственных (муниципальных) нужд","01","07","01 4 01 00020",240,{"$f":"'ведом. 2019'!AD1404","v":1.1000000000000001}]
["Руководство и управление в сфере установленных функций органов местного  самоуправления, избирательных комиссий муниципальных образований ","01","07","95 0 00 00000",null,{"$f":"F150+F159","v":4351.3999999999996}]
["Центральный аппарат","01","07","95 0 00 04000",null,{"$f":"F151+F156","v":2296.1}]
["Расходы  на обеспечение  деятельности  центрального  аппарата","01","07","95 0 00 04010",null,{"$f":"F152+F154","v":495.79999999999995}]
["Закупка товаров, работ и услуг для обеспечения государственных (муниципальных) нужд","01","07","95 0 00 04010",200,{"$f":"F153","v":458.29999999999995}]
["Иные закупки товаров, работ и услуг для обеспечения государственных (муниципальных) нужд","01","07","95 0 00 04010",240,{"$f":"'ведом. 2019'!AD1408","v":458.29999999999995}]
["Иные бюджетные ассигнования","01","07","95 0 00 04010",800,{"$f":"F155","v":37.5}]
["Уплата налогов, сборов и иных платежей","01","07","95 0 00 04010",850,{"$f":"'ведом. 2019'!AD1411","v":37.5}]
["Расходы на содержание  лиц,  замещающих должности, не являющиеся должностями муниципальной  службы","01","07","95 0 00 04020",null,{"$f":"F157","v":1800.3}]
["Расходы на выплаты персоналу в целях обеспечения выполнения функций государственными (муниципальными) органами, казенными учреждениями, органами управления государственными внебюджетными фондами ","01","07","95 0 00 04020",100,{"$f":"F158","v":1800.3}]
["Расходы на выплаты персоналу государственных (муниципальных) органов","01","07","95 0 00 04020",120,{"$f":"'ведом. 2019'!AD1413","v":1800.3}]
["Члены    избирательной  комиссии  муниципального  образования","01","07","95 0 00 06000",null,{"$f":"F160","v":2055.3000000000002}]
["Расходы на выплаты персоналу в целях обеспечения выполнения функций государственными (муниципальными) органами, казенными учреждениями, органами управления государственными внебюджетными фондами ","01","07","95 0 00 06000",100,{"$f":"F161","v":2055.3000000000002}]
["Расходы на выплаты персоналу государственных (муниципальных) органов","01","07","95 0 00 06000",120,{"$f":"'ведом. 2019'!AD1416","v":2055.3000000000002}]
["Резервные фонды","01",11,null,null,{"$f":"F163+F173","v":3251.4000000000015}]
["Муниципальная  программа  \"Безопасность  города  Лыткарино\"  на  2017-2021 годы","01",11,"08 0 00 00000",null,{"$f":"F164","v":2100}]
["Подпрограмма  \"Снижение  рисков  и  смягчение  последствий чрезвычайных  ситуаций  природного  и  техногенного  характера\"","01",11,"08 3 00 00000",null,2100]
["Основное  мероприятие \"Создание резервного  фонда  Администрации  городского  округа Лыткарино  для  ликвидации  чрезвычайных  ситуаций, в том числе террористических актов\"","01",11,"08 3 07 00000",null,{"$f":"F167","v":2100}]
["Мероприятия  в  области  национальной безопасности  и  правоохранительной  деятельности","01",11,"08 3 07 12000",null,{"$f":"F167","v":2100}]
["Создание резервного  фонда  Администрации   городского  округа   Лыткарино  для  ликвидации  чрезвычайных  ситуаций, в том числе террористических актов","01",11,{"$f":"D168","v":"08 3 07 12060"},null,2100]
["Иные бюджетные ассигнования","01",11,{"$f":"D169","v":"08 3 07 12060"},800,2100]
["Резервные  средства","01",11,"08 3 07 12060",870,{"$f":"'ведом. 2019'!AD77","v":2100}]
["Непрограммные расходы бюджета города  Лыткарино","01",11,"99 0 00 00000",null,{"$f":"F171","v":1151.4000000000015}]
["Резервные фонды  местных  администраций  на  непредвиденные  расходы  ","01",11,"99 0 00 00010",null,{"$f":"F172","v":1151.4000000000015}]
["Иные бюджетные ассигнования","01",11,"99 0 00 00010",800,{"$f":"F173","v":1151.4000000000015}]
["Резервные  средства","01",11,"99 0 00 00010",870,{"$f":"'ведом. 2019'!AD81","v":1151.4000000000015}]
["Другие общегосударственные вопросы","01",13,null,null,{"$f":"F175+F271+F261","v":133904.1},{"$f":"G175+G271","v":1290}]
["Муниципальная  программа «Муниципальное управление города Лыткарино на 2017-2021 годы»","01",13,"01 0 00 00000",null,{"$f":"F176+F231+F248+F243","v":121124.7},{"$f":"G176+G231+G248+G243","v":1290}]
["Обеспечивающая подпрограмма","01",13,"01 1 00 00000",null,{"$f":"F177+F203+F212+F227","v":84634.8},{"$f":"G177+G203+G212+G227","v":1290}]
["Основное  мероприятие  \" Обеспечение  деятельности  Администрации  городcкого округа  Лыткарино  и  ее функциональных  органов\" ","01",13,"01 1 01 00000",null,{"$f":"F178+F195+F198","v":18761.099999999999},{"$f":"G178+G195+G198","v":1246}]
["Центральный аппарат","01",13,"01 1 01 04000",null,{"$f":"F179+F184+F187","v":17515.099999999999}]
["Расходы на обеспечение  деятельности  центрального  аппарата","01",13,{"$f":"D180","v":"01 1 01 04010"},null,{"$f":"F180+F182","v":1413}]
["Закупка товаров, работ и услуг для обеспечения государственных (муниципальных) нужд","01",13,{"$f":"D181","v":"01 1 01 04010"},200,{"$f":"F181","v":1315.5}]
["Иные закупки товаров, работ и услуг для обеспечения государственных (муниципальных) нужд","01",13,{"$f":"D182","v":"01 1 01 04010"},240,{"$f":"'ведом. 2019'!AD800","v":1315.5}]
["Иные бюджетные ассигнования","01",13,{"$f":"D183","v":"01 1 01 04010"},800,{"$f":"F183","v":97.5}]
["Уплата налогов, сборов и иных платежей","01",13,"01 1 01 04010",850,{"$f":"'ведом. 2019'!AD802","v":97.5}]
["Расходы на содержание  лиц,  замещающих должности, не являющиеся должностями муниципальной  службы","01",13,{"$f":"D185","v":"01 1 01 04020"},null,{"$f":"F186","v":5749.5999999999995}]
["Расходы на выплаты персоналу в целях обеспечения выполнения функций государственными (муниципальными) органами, казенными учреждениями, органами управления государственными внебюджетными фондами ","01",13,{"$f":"D186","v":"01 1 01 04020"},100,{"$f":"F186","v":5749.5999999999995}]
["Расходы на выплаты персоналу государственных (муниципальных) органов","01",13,"01 1 01 04020",120,{"$f":"'ведом. 2019'!AD805","v":5749.5999999999995}]
["Расходы на содержание  лиц,  замещающих должности  муниципальной  службы","01",13,{"$f":"D188","v":"01 1 01 04030"},null,{"$f":"F189","v":10352.5}]
["Расходы на выплаты персоналу в целях обеспечения выполнения функций государственными (муниципальными) органами, казенными учреждениями, органами управления государственными внебюджетными фондами ","01",13,{"$f":"D189","v":"01 1 01 04030"},100,{"$f":"F189","v":10352.5}]
["Расходы на выплаты персоналу государственных (муниципальных) органов","01",13,"01 1 01 04030",120,{"$f":"'ведом. 2019'!AD808","v":10352.5},null,83]
["Расходы   для осуществления государственных полномочий в соответствии с Законом Московской области №107/2014-ОЗ \"О наделении органов местного самоуправления муниципальных образований Московской области отдельными государственными полномочиями Московской области\" ","01",13,{"$f":"D191","v":"01 1 01 60700"},null,{"$f":"F191+F193","v":{"$error":"#REF!"}},{"$error":"#REF!"}]
["Расходы на выплаты персоналу в целях обеспечения выполнения функций государственными (муниципальными) органами, казенными учреждениями, органами управления государственными внебюджетными фондами ","01",13,{"$f":"D192","v":"01 1 01 60700"},100,{"$f":"F192","v":{"$error":"#REF!"}},{"$error":"#REF!"}]
["Расходы на выплаты персоналу государственных (муниципальных) органов","01",13,{"$f":"D193","v":"01 1 01 60700"},120,{"$f":"'ведом. 2019'!#REF!","v":{"$error":"#REF!"}},{"$f":"F192","v":{"$error":"#REF!"}}]
["Закупка товаров, работ и услуг для обеспечения государственных (муниципальных) нужд","01",13,{"$f":"D194","v":"01 1 01 60700"},200,{"$f":"F194","v":{"$error":"#REF!"}},{"$error":"#REF!"}]
["Иные закупки товаров, работ и услуг для обеспечения государственных (муниципальных) нужд","01",13,"01 1 01 60700",240,{"$f":"'ведом. 2019'!#REF!","v":{"$error":"#REF!"}},{"$f":"F194","v":{"$error":"#REF!"}}]
["Расходы  для  осуществления государственных полномочий в соответствии с Законом Московской области №107/2014-ОЗ «О наделении органов местного самоуправления муниципальных образований Московской области отдельными  государственными полномочиями Московской области»","01",13,"01 1 01 60700",null,{"$f":"F196","v":235},235]
["Закупка товаров, работ и услуг для обеспечения государственных (муниципальных) нужд","01",13,"01 1 01 60700",200,235,235]
["Иные закупки товаров, работ и услуг для обеспечения государственных (муниципальных) нужд","01",13,"01 1 01 60700",240,{"$f":"'ведом. 2019'!AD88","v":235},{"$f":"F197","v":235}]
["Осуществление государственных полномочий Московской области в области земельных отношений","01",13,{"$f":"D199","v":"01 1 01 60830"},null,{"$f":"F199+F201","v":1011},{"$f":"G199+G201","v":1011}]
["Расходы на выплаты персоналу в целях обеспечения выполнения функций государственными (муниципальными) органами, казенными учреждениями, органами управления государственными внебюджетными фондами ","01",13,{"$f":"D200","v":"01 1 01 60830"},100,{"$f":"F200","v":905.4},{"$f":"G200","v":905.4}]
["Расходы на выплаты персоналу государственных (муниципальных) органов","01",13,{"$f":"D201","v":"01 1 01 60830"},120,{"$f":"'ведом. 2019'!AD816","v":905.4},{"$f":"F200","v":905.4}]
["Закупка товаров, работ и услуг для обеспечения государственных (муниципальных) нужд","01",13,{"$f":"D202","v":"01 1 01 60830"},200,{"$f":"F202","v":105.6},{"$f":"G202","v":105.6}]
["Иные закупки товаров, работ и услуг для обеспечения государственных (муниципальных) нужд","01",13,"01 1 01 60830",240,{"$f":"'ведом. 2019'!AD818","v":105.6},{"$f":"F202","v":105.6}]
["Основное  мероприятие \" Прочие  общегосударственные  мероприятия\" ","01",13,"01 1 02 00000",null,{"$f":"F204","v":11113.4}]
["Прочие  общегосударственные  мероприятия ","01",13,"01 1 02 27000",null,{"$f":"F209+F205","v":11113.4}]
["Исполнение  судебных  актов  по  обращениям  и  взыскания  на  средства  бюджета","01",13,{"$f":"D206","v":"01 1 02 27010"},null,{"$f":"F206","v":10980.4}]
["Иные бюджетные ассигнования","01",13,{"$f":"D207","v":"01 1 02 27010"},800,{"$f":"F207+F208","v":10980.4}]
["Исполнение судебных актов","01",13,"01 1 02 27010",830,{"$f":"'ведом. 2019'!AD93+'ведом. 2019'!AD1137+'ведом. 2019'!AD823","v":10467.4}]
["Уплата налогов, сборов и иных платежей","01",13,"01 1 02 27010",850,{"$f":"'ведом. 2019'!AD94","v":513}]
["Расходы  на  уплату  членских  взносов  в  Совет  муниципальных  образований  Московской  области","01",13,{"$f":"D210","v":"01 1 02 27020"},null,{"$f":"F211","v":133}]
["Иные бюджетные ассигнования","01",13,"01 1 02 27020",800,{"$f":"F211","v":133}]
["Уплата налогов, сборов и иных платежей","01",13,"01 1 02 27020",850,{"$f":"'ведом. 2019'!AD97","v":133}]
["Основное мероприятие  \"Обеспечение  деятельности  муниципальных  казенных  учреждений\"","01",13,"01 1 04 00000",null,{"$f":"F213+F220","v":54716.3}]
["Расходы на  содержание  и  обеспечение    деятельности  муниципального  казенного  учреждения \"Комитет по торгам города Лыткарино\"","01",13,{"$f":"D214","v":"01 1 04 13590"},null,{"$f":"F214+F216+F218","v":10867.1}]
["Расходы на выплаты персоналу в целях обеспечения выполнения функций государственными (муниципальными) органами, казенными учреждениями, органами управления государственными внебюджетными фондами ","01",13,{"$f":"D215","v":"01 1 04 13590"},"100",{"$f":"F215","v":9837.7999999999993}]
["Расходы на выплаты персоналу казенных учреждений","01",13,{"$f":"D217","v":"01 1 04 13590"},"110",{"$f":"'ведом. 2019'!AD101","v":9837.7999999999993}]
["Закупка товаров, работ и услуг для обеспечения государственных (муниципальных) нужд","01",13,{"$f":"D217","v":"01 1 04 13590"},"200",{"$f":"F217","v":944.7}]
["Иные закупки товаров, работ и услуг для обеспечения государственных (муниципальных) нужд","01",13,"01 1 04 13590","240",{"$f":"'ведом. 2019'!AD103","v":944.7}]
["Иные бюджетные ассигнования","01",13,{"$f":"D219","v":"01 1 04 13590"},800,{"$f":"F219","v":84.6}]
["Уплата налогов, сборов и иных платежей","01",13,"01 1 04 13590",850,{"$f":"'ведом. 2019'!AD105","v":84.6}]
["Расходы на  содержание  и  обеспечение    деятельности  муниципального  казенного  учреждения \"Управление обеспечения деятельности Администрации города Лыткарино\"","01",13,{"$f":"D221","v":"01 1 04 14590"},null,{"$f":"F221+F223+F225","v":43849.200000000004}]
["Расходы на выплаты персоналу в целях обеспечения выполнения функций государственными (муниципальными) органами, казенными учреждениями, органами управления государственными внебюджетными фондами ","01",13,{"$f":"D222","v":"01 1 04 14590"},"100",{"$f":"F222","v":42935.3}]
["Расходы на выплаты персоналу казенных учреждений","01",13,{"$f":"D223","v":"01 1 04 14590"},"110",{"$f":"'ведом. 2019'!AD108","v":42935.3}]
["Закупка товаров, работ и услуг для обеспечения государственных (муниципальных) нужд","01",13,{"$f":"D224","v":"01 1 04 14590"},"200",{"$f":"F224","v":705.10000000000014}]
["Иные закупки товаров, работ и услуг для обеспечения государственных (муниципальных) нужд","01",13,"01 1 04 14590","240",{"$f":"'ведом. 2019'!AD110","v":705.10000000000014}]
["Иные бюджетные ассигнования","01",13,{"$f":"D226","v":"01 1 04 14590"},800,{"$f":"F226","v":208.8}]
["Уплата налогов, сборов и иных платежей","01",13,"01 1 04 14590",850,{"$f":"'ведом. 2019'!AD112","v":208.8}]
["Основное мероприятие \"Составление  (изменение) списков кандидатов в присяжные заседатели федеральных судов общей юрисдикции  Российской Федерации\"","01",13,"01 1 05 00000",null,{"$f":"F228","v":44},44]
["Составление  (изменение) списков кандидатов в присяжные заседатели федеральных судов общей юрисдикции  Российской Федерации","01",13,"01 1 05 51200",null,44,44]
["Закупка товаров, работ и услуг для обеспечения государственных (муниципальных) нужд","01",13,"01 1 05 51200","200",44,44]
["Иные закупки товаров, работ и услуг для обеспечения государственных (муниципальных) нужд","01",13,"01 1 05 51200","240",{"$f":"'ведом. 2019'!AD116","v":44},{"$f":"'ведом. 2019'!AD116","v":44}]
[" Подпрограмма  «Снижение административных барьеров, повышение качества предоставления государственных  и муниципальных услуг, в том числе на базе Многофункционального  центра предоставления государственных и муниципальных услуг в городе Лыткарино\"","01",13,"01 3 00 00000",null,{"$f":"F232+F236","v":35190.5},{"$f":"G232+G236","v":0}]
["Основное  мероприятие  \"Организация  деятельности    многофункционального  центра\"","01",13,"01 3 02 00000",null,{"$f":"F233","v":34386.6}]
["Расходы  на  обеспечение  деятельности (оказание  услуг (выполнение  работ))  многофункционального  центра","01",13,{"$f":"D234","v":"01 3 02 18590"},null,{"$f":"F234","v":34386.6}]
["Предоставление субсидий бюджетным, автономным учреждениям и иным некоммерческим организациям","01",13,{"$f":"D235","v":"01 3 02 18590"},600,{"$f":"F235","v":34386.6}]
["Субсидии бюджетным учреждениям","01",13,"01 3 02 18590",610,{"$f":"'ведом. 2019'!AD121","v":34386.6}]
["Основное  мероприятие  \"Совершенствование  системы предоставления государственных  и муниципальных услуг по принципу одного окна в многофункциональных  центрах предоставления  государственных и муниципальных услуг\"","01",13,"01 3 03 00000",null,{"$f":"F240+F237","v":803.9}]
["Создание  системы обеспечения информационной безопасности","01",13,{"$f":"D238","v":"01 3 03 00020"},null,{"$f":"F238","v":783.69999999999993}]
["Предоставление субсидий бюджетным, автономным учреждениям и иным некоммерческим организациям","01",13,{"$f":"D239","v":"01 3 03 00020"},600,{"$f":"F239","v":783.69999999999993}]
["Субсидии бюджетным учреждениям","01",13,"01 3 03 00020",610,{"$f":"'ведом. 2019'!AD125","v":783.69999999999993}]
["Открытие  двух  удаленных  рабочих  мест в МФЦ  по адресу:  город Лыткарино, ул.Ухтомского, д.29 ","01",13,{"$f":"D241","v":"01 3 03 00040"},null,{"$f":"F241","v":20.2}]
["Предоставление субсидий бюджетным, автономным учреждениям и иным некоммерческим организациям","01",13,{"$f":"D242","v":"01 3 03 00040"},600,{"$f":"F242","v":20.2}]
["Субсидии бюджетным учреждениям","01",13,"01 3 03 00040",610,{"$f":"'ведом. 2019'!AD128","v":20.2}]
["Подпрограмма «Развитие системы информирования населения о деятельности  органов местного самоуправления города Лыткарино Московской области» ","01",13,"01 4 00 00000",null,{"$f":"F244","v":17.700000000000003}]
["Основное мероприятие \"Информирование населения г.Лыткарино об основных событиях социально-экономического развития, общественно-политической жизни, о деятельности органов местного самоуправления города  Лыткарино\" ","01",13,"01 4 01 00000",null,{"$f":"F245","v":17.700000000000003}]
["Осуществление взаимодействия органов местного самоуправления с печатными  средствами массовой  информации  в  области  подписки,доставки  и  распространения тиражей печатных изданий","01",13,{"$f":"D246","v":"01 4 01 00020"},null,{"$f":"F246","v":17.700000000000003}]
["Закупка товаров, работ и услуг для обеспечения государственных (муниципальных) нужд","01",13,{"$f":"D247","v":"01 4 01 00020"},200,{"$f":"F247","v":17.700000000000003}]
["Иные закупки товаров, работ и услуг для обеспечения государственных (муниципальных) нужд","01",13,"01 4 01 00020",240,{"$f":"'ведом. 2019'!AD133+'ведом. 2019'!AD828","v":17.700000000000003}]
["Подпрограмма «Развитие земельно-имущественного комплекса в городе Лыткарино»","01",13,"01 8 00 00000",null,{"$f":"F249+F253+F257","v":1281.7}]
["Основное  мероприятие \"Государственный  кадастровый  учет  и  государственная  регистрация  прав\"","01",13,"01 8 01 00000",null,{"$f":"F250","v":772}]
["Постановка  на  государственный    кадастровый  учет  и  государственная  регистрация  прав","01",13,{"$f":"D251","v":"01 8 01 00050"},null,{"$f":"F251","v":772}]
["Закупка товаров, работ и услуг для обеспечения государственных (муниципальных) нужд","01",13,{"$f":"D252","v":"01 8 01 00050"},200,{"$f":"F252","v":772}]
["Иные закупки товаров, работ и услуг для обеспечения государственных (муниципальных) нужд","01",13,"01 8 01 00050",240,{"$f":"'ведом. 2019'!AD833","v":772},null,-83]
["Основное  мероприятие  \"Рыночная  оценка  муниципального  имущества   \"","01",13,"01 8 02 00000",null,{"$f":"F254","v":500}]
["Мероприятия  по рыночной   оценке продажи  муниципального  имущества  и  прав  аренды  муниципального  имущества","01",13,{"$f":"D255","v":"01 8 02 00110"},null,{"$f":"F255","v":500}]
["Закупка товаров, работ и услуг для обеспечения государственных (муниципальных) нужд","01",13,{"$f":"D256","v":"01 8 02 00110"},200,{"$f":"F256","v":500}]
["Иные закупки товаров, работ и услуг для обеспечения государственных (муниципальных) нужд","01",13,"01 8 02 00110",240,{"$f":"'ведом. 2019'!AD837","v":500}]
[{"$f":"'ведом. 2019'!X838","v":"Основное  мероприятие \"Содержание  и  обслуживание  муниципальной  казны \""},{"$f":"'ведом. 2019'!Z838","v":"01"},{"$f":"'ведом. 2019'!AA838","v":13},{"$f":"'ведом. 2019'!AB838","v":"01 8 03 00000"},null,{"$f":"'ведом. 2019'!AD838","v":9.6999999999999993}]
[{"$f":"'ведом. 2019'!X839","v":"Содержание  и  обслуживание  казны  муниципального  образования  \"Город  Лыткарино\""},{"$f":"'ведом. 2019'!Z839","v":"01"},{"$f":"'ведом. 2019'!AA839","v":13},{"$f":"'ведом. 2019'!AB839","v":"01 8 03 00120"},null,{"$f":"'ведом. 2019'!AD839","v":9.6999999999999993}]
[{"$f":"'ведом. 2019'!X840","v":"Закупка товаров, работ и услуг для обеспечения государственных (муниципальных) нужд"},{"$f":"'ведом. 2019'!Z840","v":"01"},{"$f":"'ведом. 2019'!AA840","v":13},{"$f":"'ведом. 2019'!AB840","v":"01 8 03 00120"},{"$f":"'ведом. 2019'!AC840","v":200},{"$f":"'ведом. 2019'!AD840","v":9.6999999999999993}]
[{"$f":"'ведом. 2019'!X841","v":"Иные закупки товаров, работ и услуг для обеспечения государственных (муниципальных) нужд"},{"$f":"'ведом. 2019'!Z841","v":"01"},{"$f":"'ведом. 2019'!AA841","v":13},{"$f":"'ведом. 2019'!AB841","v":"01 8 03 00120"},{"$f":"'ведом. 2019'!AC841","v":240},{"$f":"'ведом. 2019'!AD841","v":9.6999999999999993},null,9.6999999999999993]
["Муниципальная  программа «Культура города Лыткарино» на 2017-2021 годы","01",13,"02 0 00 00000",null,{"$f":"F262","v":12079.400000000001}]
["Обеспечивающая  подпрограмма ","01",13,"02 7 00 00000",null,{"$f":"F263","v":12079.400000000001}]
["Основное мероприятие  \"Обеспечение  деятельности  муниципальных  казенных  учреждений\"","01",13,"02 7 01 00000",null,12079.400000000001]
["Обеспечение  деятельности  муниципального  казенного  учреждения \"Комитет  по  делам  культуры, молодежи,спорта  и  туризма  г.Лыткарино\"","01",13,"02 7 01 15590",null,{"$f":"F265+F267+F269","v":12079.400000000001}]
["Расходы на выплаты персоналу в целях обеспечения выполнения функций государственными (муниципальными) органами, казенными учреждениями, органами управления государственными внебюджетными фондами ","01",13,"02 7 01 15590",100,{"$f":"F266","v":11230.900000000001}]
["Расходы на выплаты персоналу казенных учреждений","01",13,"02 7 01 15590",110,{"$f":"'ведом. 2019'!AD139","v":11230.900000000001}]
["Закупка товаров, работ и услуг для обеспечения государственных (муниципальных) нужд","01",13,"02 7 01 15590",200,{"$f":"F268","v":813.5}]
["Иные закупки товаров, работ и услуг для обеспечения государственных (муниципальных) нужд","01",13,"02 7 01 15590",240,{"$f":"'ведом. 2019'!AD141","v":813.5}]
["Иные бюджетные ассигнования","01",13,"02 7 01 15590","800",{"$f":"F270","v":35}]
["Уплата налогов, сборов и иных платежей","01",13,"02 7 01 15590","850",{"$f":"'ведом. 2019'!AD143","v":35}]
["Муниципальная  программа  \"Забота\"  на  2017-2021 годы","01",13,"07 0 00 00000",null,{"$f":"F272","v":700}]
["Подпрограмма  \"Городская  поддержка\"","01",13,"07 2 00 00000",null,700]
["Основное  мероприятие  \"Поддержка  и  социальная  защита  пожилых  граждан  и  инвалидов,  передавших  жилую  площадь  в  муниципальную  собственность  города  Лыткарино  по  договорам  пожизненного  содержания  с  иждивением\"","01",13,"07 2 03 00000",null,700]
["Расходы  на  содержание  имущества,  находящегося  в  муниципальной  собственности ","01",13,"07 2 03 19000",null,700]
["Расходы  на  содержание  имущества,  находящегося  в  муниципальной  собственности  на  основании  заключенных  договоров  пожизненного  содержания  с  иждивением  за  переданное  в  муниципальную  собственность  жильё","01",13,{"$f":"D276","v":"07 2 03 19010"},null,700]
["Закупка товаров, работ и услуг для обеспечения государственных (муниципальных) нужд","01",13,{"$f":"D277","v":"07 2 03 19010"},200,700]
["Иные закупки товаров, работ и услуг для обеспечения государственных (муниципальных) нужд","01",13,"07 2 03 19010",240,{"$f":"'ведом. 2019'!AD848","v":700}]
["Национальная оборона","02",null,null,null,{"$f":"F279+F286","v":3774},3476]
["Мобилизационная  и  вневойсковая  подготовка","02","03",null,null,{"$f":"F280","v":3476},3476]
["Муниципальная  программа «Муниципальное управление города Лыткарино на 2017-2021 годы»","02","03","01 0 00 00000",null,3476,3476]
["Обеспечивающая подпрограмма","02","03","01 1 00 00000",null,{"$f":"F282","v":3476},3476]
["Основное  мероприятие  \" Обеспечение  деятельности  Администрации  городcкого округа  Лыткарино  и  ее функциональных  органов\" ","02","03","01 1 01 00000",null,3476,3476]
["Расходы на осуществление полномочий по первичному воинскому учету на территориях, где отсутствуют военные комиссариаты","02","03",{"$f":"D284","v":"01 1 01 51180"},null,3476,3476]
["Расходы на выплаты персоналу в целях обеспечения выполнения функций государственными (муниципальными) органами, казенными учреждениями, органами управления государственными внебюджетными фондами ","02","03",{"$f":"D285","v":"01 1 01 51180"},100,3476,3476]
["Расходы на выплаты персоналу государственных (муниципальных) органов","02","03","01 1 01 51180",120,{"$f":"'ведом. 2019'!AD151","v":3476},{"$f":"F285","v":3476}]
["Мобилизационная  подготовка  экономики","02","04",null,null,{"$f":"F287","v":298}]
["Муниципальная  программа  \"Муниципальное управление города  Лыткарино\" на 2017-2021годы","02","04","01 0 00 00000",null,298]
["Обеспечивающая подпрограмма","02","04","01 1 00 00000",null,298]
["Основное  мероприятие  \"Обеспечение  мобилизационной готовности  экономики\"","02","04","01 1 03 00000",null,298]
["Мероприятия по обеспечению  мобилизационной готовности экономики","02","04",{"$f":"D291","v":"01 1 03 00080"},null,298]
["Закупка товаров, работ и услуг для обеспечения государственных (муниципальных) нужд","02","04",{"$f":"D292","v":"01 1 03 00080"},200,298]
["Иные закупки товаров, работ и услуг для обеспечения государственных (муниципальных) нужд","02","04","01 1 03 00080",240,{"$f":"'ведом. 2019'!AD158","v":298}]
["Национальная безопасность и правоохранительная деятельность","03",null,null,null,{"$f":"F294+F351","v":34615.100000000006}]
["Защита  населения  и  территории  от  чрезвычайных    ситуаций    природного  и  техногенного    характера, гражданская  оборона","03","09",null,null,{"$f":"F301+F295","v":24684.000000000004}]
["Муниципальная программа \"Муниципальное управление города Лыткарино\" на  2017-2021 годы","03","09","01 0 00 00000",null,{"$f":"F296","v":4.5}]
["Подпрограмма «Развитие системы информирования населения о деятельности  органов местного самоуправления города Лыткарино Московской области» ","03","09","01 4 00 00000",null,{"$f":"F297","v":4.5}]
["Основное мероприятие \"Информирование населения г.Лыткарино об основных событиях социально-экономического развития, общественно-политической жизни, о деятельности органов местного самоуправления города  Лыткарино\" ","03","09","01 4 01 00000",null,{"$f":"F298","v":4.5}]
["Осуществление взаимодействия органов местного самоуправления с печатными  средствами массовой  информации  в  области  подписки,доставки  и  распространения тиражей печатных изданий","03","09",{"$f":"D299","v":"01 4 01 00020"},null,{"$f":"F299","v":4.5}]
["Закупка товаров, работ и услуг для обеспечения государственных (муниципальных) нужд","03","09",{"$f":"D300","v":"01 4 01 00020"},200,{"$f":"F300","v":4.5}]
["Иные закупки товаров, работ и услуг для обеспечения государственных (муниципальных) нужд","03","09","01 4 01 00020",240,{"$f":"'ведом. 2019'!AD166","v":4.5}]
["Муниципальная  программа  \"Безопасность  города  Лыткарино\"  на  2017-2021 годы","03","09","08 0 00 00000",null,{"$f":"'ведом. 2019'!AD167","v":24679.500000000004}]
["Подпрограмма  \"Снижение  рисков  и  смягчение  последствий чрезвычайных  ситуаций  природного  и  техногенного  характера\"","03","09","08 3 00 00000",null,{"$f":"F303+F308","v":970}]
["Основное  мероприятие \"Создание  финансового  резервного  фонда  для  ликвидации  чрезвычайных  ситуаций\"","03","09","08 3 07 00000",null,{"$f":"F304","v":200}]
["Мероприятия  в  области  национальной безопасности  и  правоохранительной  деятельности","03","09","08 3 07 12000",null,{"$f":"F305","v":200}]
["Создание  резерва материальных  ресурсов для  ликвидации  чрезвычайных  ситуаций, в том числе  террористических  актов","03","09",{"$f":"D306","v":"08 3 07 12110"},null,{"$f":"F306","v":200}]
["Закупка товаров, работ и услуг для обеспечения государственных (муниципальных) нужд","03","09",{"$f":"D307","v":"08 3 07 12110"},"200",{"$f":"F307","v":200}]
["Иные закупки товаров, работ и услуг для обеспечения государственных (муниципальных) нужд","03","09","08 3 07 12110","240",{"$f":"'ведом. 2019'!AD173","v":200}]
["Основное  мероприятие\" Обеспечение  безопасности  на  водных  объектах\"","03","09","08 3 08 00000",null,{"$f":"F309","v":770}]
["Мероприятия  в  области  национальной безопасности  и  правоохранительной  деятельности","03","09","08 3 08 12000",null,{"$f":"F310","v":770}]
["Мероприятия  по  спасению  людей  на  водных  объектах","03","09",{"$f":"D311","v":"08 3 08 12050"},null,{"$f":"F311+F313","v":770}]
["Закупка товаров, работ и услуг для обеспечения государственных (муниципальных) нужд","03","09",{"$f":"D312","v":"08 3 08 12050"},"200",{"$f":"F312","v":70}]
["Иные закупки товаров, работ и услуг для обеспечения государственных (муниципальных) нужд","03","09","08 3 08 12050","240",{"$f":"'ведом. 2019'!AD178","v":70}]
["Предоставление субсидий бюджетным, автономным учреждениям и иным некоммерческим организациям","03","09",{"$f":"D314","v":"08 3 08 12050"},"600",{"$f":"F314","v":700}]
["Субсидии бюджетным учреждениям","03","09","08 3 08 12050","610",{"$f":"'ведом. 2019'!AD180","v":700}]
["Подпрограмма  \"Развитие  и  совершенствование  системы  оповещения  и  информирования  населения\"","03","09","08 4 00 00000",null,{"$f":"F316","v":758}]
["Основное  мероприятие  \"Развитие,совершенствование  и  обслуживание  всех  элементов  системы  оповещения  и  информирования  населения  города  Лыткарино\"","03","09","08 4 01 00000",null,{"$f":"F317+F320","v":758}]
["Содержание,  техническое  обслуживание  и  поддержание в  состоянии  постоянной  готовности систем  оповещения муниципального  казенного  учреждения \"Единая  дежурно-диспетчерская служба г.Лыткарино\"","03","09","08 4 01 00590",null,{"$f":"F318","v":133}]
["Закупка товаров, работ и услуг для обеспечения государственных (муниципальных) нужд","03","09","08 4 01 00590",200,{"$f":"F319","v":133}]
["Иные закупки товаров, работ и услуг для обеспечения государственных (муниципальных) нужд","03","09","08 4 01 00590",240,{"$f":"'ведом. 2019'!AD185","v":133}]
["Мероприятия  в  области  национальной безопасности  и  правоохранительной  деятельности","03","09","08 4 01 12000",null,{"$f":"F321","v":625}]
["Мероприятия  по  созданию, техническому  обслуживанию  систем  оповещения  и  информирования  населения","03","09",{"$f":"D322","v":"08 4 01 12070"},null,625]
["Закупка товаров, работ и услуг для обеспечения государственных (муниципальных) нужд","03","09",{"$f":"D323","v":"08 4 01 12070"},200,625]
["Иные закупки товаров, работ и услуг для обеспечения государственных (муниципальных) нужд","03","09","08 4 01 12070",240,{"$f":"'ведом. 2019'!AD189","v":625}]
["Подпрограмма  \"Обеспечение  мероприятий  гражданской  обороны\"","03","09","08 6 00 00000",null,{"$f":"F325+F337+F333","v":775}]
["Основное  мероприятие \"Обеспечение  мероприятий  гражданской  обороны\"","03","09","08 6 01 00000",null,{"$f":"F326+F329","v":355}]
["Обучение  специалистов  по  гражданской  обороне, операторов  и  диспетчеров  системы  обеспечения  вызова  экстренных  служб муниципального  казенного  учреждения \"Единая  дежурно-диспетчерская служба г.Лыткарино\"","03","09",{"$f":"D327","v":"08 6 01 00590"},null,{"$f":"F327","v":40}]
["Закупка товаров, работ и услуг для обеспечения государственных (муниципальных) нужд","03","09",{"$f":"D328","v":"08 6 01 00590"},"200",{"$f":"F328","v":40}]
["Иные закупки товаров, работ и услуг для обеспечения государственных (муниципальных) нужд","03","09","08 6 01 00590","240",{"$f":"'ведом. 2019'!AD194","v":40}]
["Мероприятия  в  области  национальной безопасности  и  правоохранительной  деятельности","03","09","08 6 01 12000",null,{"$f":"F330","v":315}]
["Мероприятия  по  гражданской  обороне  и  защите  населения  на  территории  города  Лыткарино","03","09",{"$f":"D331","v":"08 6 01 12090"},null,{"$f":"F331","v":315}]
["Закупка товаров, работ и услуг для обеспечения государственных (муниципальных) нужд","03","09",{"$f":"D332","v":"08 6 01 12090"},"200",{"$f":"F332","v":315}]
["Иные закупки товаров, работ и услуг для обеспечения государственных (муниципальных) нужд","03","09","08 6 01 12090","240",{"$f":"'ведом. 2019'!AD198","v":315}]
["Основное  мероприятие \"\"Создание запасов материально-технических,продовольственных, медицинских и иных средств для целей гражданской обороны\"","03","09","08 6 02 00000",null,{"$f":"F334","v":20}]
["Мероприятия  по  гражданской  обороне  и  защите  населения  на  территории  города  Лыткарино","03","09",{"$f":"D335","v":"08 6 02 12090"},null,{"$f":"F335","v":20}]
["Закупка товаров, работ и услуг для обеспечения государственных (муниципальных) нужд","03","09",{"$f":"D336","v":"08 6 02 12090"},"200",{"$f":"F336","v":20}]
["Иные закупки товаров, работ и услуг для обеспечения государственных (муниципальных) нужд","03","09","08 6 02 12090","240",{"$f":"'ведом. 2019'!AD202","v":20}]
["Основное  мероприятие \"Повышение  готовности  защитных  сооружений  гражданской  обороны  к  приему  укрываемого  населения\"","03","09","08 6 03 00000",null,{"$f":"F338","v":400}]
["Мероприятия  в  области  национальной безопасности  и  правоохранительной  деятельности","03","09","08 6 03 12000",null,{"$f":"F339","v":400}]
["Мероприятия  по  гражданской  обороне  и  защите  населения  на  территории  города  Лыткарино","03","09",{"$f":"D340","v":"08 6 03 12090"},null,{"$f":"F340","v":400}]
["Закупка товаров, работ и услуг для обеспечения государственных (муниципальных) нужд","03","09",{"$f":"D341","v":"08 6 03 12090"},"200",{"$f":"F341","v":400}]
["Иные закупки товаров, работ и услуг для обеспечения государственных (муниципальных) нужд","03","09","08 6 03 12090","240",{"$f":"'ведом. 2019'!AD207","v":400}]
["Обеспечивающая подпрограмма","03","09","08 7 00 00000",null,{"$f":"F343","v":22176.500000000004}]
["Основное  мероприятие \"Обеспечение  деятельности  муниципального  казенного  учреждения \"Единая  дежурно-диспетчерская служба г.Лыткарино\", являющегося  органом  повседневного  управления Лыткаринского  городского  звена  Московской  областной  системы  предупреждения  и  ликвидации  чрезвычайных  ситуаций\"","03","09","08 7 01 00000",null,{"$f":"F344","v":22176.500000000004}]
["Расходы  на  обеспечение  деятельности  муниципального  казенного  учреждения \"Единая  дежурно-диспетчерская служба г.Лыткарино\"","03","09","08 7 01 00590",null,{"$f":"F345+F347+F349","v":22176.500000000004}]
["Расходы на выплаты персоналу в целях обеспечения выполнения функций государственными (муниципальными) органами, казенными учреждениями, органами управления государственными внебюджетными фондами\n","03","09","08 7 01 00590",100,{"$f":"F346","v":17032.300000000003}]
["Расходы на выплаты персоналу казенных учреждений","03","09","08 7 01 00590",110,{"$f":"'ведом. 2019'!AD212","v":17032.300000000003}]
["Закупка товаров, работ и услуг для обеспечения государственных (муниципальных) нужд","03","09","08 7 01 00590",200,{"$f":"F348","v":5006.7}]
["Иные закупки товаров, работ и услуг для обеспечения государственных (муниципальных) нужд","03","09","08 7 01 00590",240,{"$f":"'ведом. 2019'!AD214","v":5006.7}]
["Иные бюджетные ассигнования","03","09",{"$f":"D350","v":"08 7 01 00590"},800,{"$f":"F350","v":137.5}]
["Уплата налогов, сборов и иных платежей","03","09","08 7 01 00590",850,{"$f":"'ведом. 2019'!AD216","v":137.5}]
[" Другие  вопросы  в  области  национальной  безопасности  и  правоохранительной  деятельности","03",14,null,null,{"$f":"F352","v":9931.0999999999985}]
["Муниципальная  программа  \"Безопасность  города  Лыткарино\"  на  2017-2021 годы","03",14,"08 0 00 00000",null,{"$f":"F353+F365+F371+F390","v":9931.0999999999985}]
["Подпрограмма \"Профилактика  преступлений  и  иных  правонарушений\"","03",14,"08 1 00 00000",null,{"$f":"F354","v":707}]
["Основное  мероприятие \"Профилактика  и  предупреждение  преступлений  и   иных  правонарушений  в  том  числе  экстремистской  (террористической)  направленности\"","03",14,"08 1 02 00000",null,{"$f":"F355","v":707}]
["Мероприятия  в  области  национальной безопасности  и  правоохранительной  деятельности","03",14,"08 1 02 12000",null,{"$f":"F356+F359+F362","v":707}]
["Приобретение  наглядной  агитации  и проведение  мероприятий  по  вопросам противодействия  экстремизму и  терроризму  ","03",14,{"$f":"D357","v":"08 1 02 12010"},null,{"$f":"F357","v":40}]
["Закупка товаров, работ и услуг для обеспечения государственных (муниципальных) нужд","03",14,{"$f":"D358","v":"08 1 02 12010"},200,{"$f":"F358","v":40}]
["Иные закупки товаров, работ и услуг для обеспечения государственных (муниципальных) нужд","03",14,"08 1 02 12010",240,{"$f":"'ведом. 2019'!AD224","v":40}]
["Разработка,установка и пусконаладочные  работы  систем  контроля  и  управления  доступом ","03",14,{"$f":"D360","v":"08 1 02 12020"},null,{"$f":"F360","v":400}]
["Предоставление субсидий бюджетным, автономным учреждениям и иным некоммерческим организациям","03",14,{"$f":"D361","v":"08 1 02 12020"},600,{"$f":"F361","v":400}]
["Субсидии бюджетным учреждениям","03",14,"08 1 02 12020",610,{"$f":"'ведом. 2019'!AD227","v":400}]
["Обеспечение создания необходимых условий для организации деятельности народных дружин города Лыткарино","03",14,"08 1 02 12090",null,{"$f":"F363","v":267}]
["Закупка товаров, работ и услуг для обеспечения государственных (муниципальных) нужд","03",14,"08 1 02 12090",200,{"$f":"F364","v":267}]
["Иные закупки товаров, работ и услуг для обеспечения государственных (муниципальных) нужд","03",14,"08 1 02 12090",240,{"$f":"'ведом. 2019'!AD230","v":267}]
["Подпрограмма  \"Видеонаблюдение\"","03",14,"08 2 00 00000",null,{"$f":"F366","v":6784.4}]
["Основное  мероприятие \"Приобретение  необходимого  оборудования  и  материалов,  оплата  работ  и  услуг  для  развития  и  содержания  городской  автоматизированой  системы  видеонаблюдения, как  сегмента  АПК  \"Безопасный  город\", в том  числе  проектирование,создание  и  переоборудование  существующих, объектовых  систем  видеонаблюдения для  работы  в  единой  городской  автоматизированной  системе  видеонаблюдения\"","03",14,"08 2 01 00000",null,6784.4]
["Мероприятия  в  области  национальной безопасности  и  правоохранительной  деятельности","03",14,"08 2 01 12000",null,6784.4]
["Мероприятия  по  развитию  и  содержанию  автоматизированной  системы  видеонаблюдения  \"Безопасный  город\"","03",14,{"$f":"D369","v":"08 2 01 12030"},null,6784.4]
["Закупка товаров, работ и услуг для обеспечения государственных (муниципальных) нужд","03",14,{"$f":"D370","v":"08 2 01 12030"},200,6784.4]
["Иные закупки товаров, работ и услуг для обеспечения государственных (муниципальных) нужд","03",14,"08 2 01 12030",240,{"$f":"'ведом. 2019'!AD236","v":6784.4}]
["Подпрограмма  \"Снижение  рисков  и  смягчение  последствий чрезвычайных  ситуаций  природного  и  техногенного  характера\"","03","14","08 3 00 00000",null,{"$f":"F372+F380+F385","v":1109.8}]
["Основное  мероприятие \"Снижение  рисков  и  смягчение последствий  чрезвычайных  ситуаций  природного  и  техногенного  характера\"","03","14","08 3 01 00000",null,{"$f":"F373","v":529.79999999999995}]
["Мероприятия  в  области  национальной безопасности  и  правоохранительной  деятельности","03","14","08 3 01 12000",null,{"$f":"F374+F377","v":529.79999999999995}]
["Создание  защитных  противопожарных  полос на  границе  с  лесным  массивом  и  опашка  полей  на  территории  города  Лыткарино","03","14",{"$f":"D375","v":"08 3 01 12040"},null,229.8]
["Закупка товаров, работ и услуг для обеспечения государственных (муниципальных) нужд","03","14",{"$f":"D376","v":"08 3 01 12040"},200,229.8]
["Иные закупки товаров, работ и услуг для обеспечения государственных (муниципальных) нужд","03","14","08 3 01 12040",240,{"$f":"'ведом. 2019'!AD242","v":229.8}]
[" Организация проведения предварительного отбора поставщиков товаров, работ и услуг в целях ликвидации последствий чрезвычайных ситуаций","03","14",{"$f":"D378","v":"08 3 01 12130"},null,{"$f":"F378","v":300}]
["Закупка товаров, работ и услуг для обеспечения государственных (муниципальных) нужд","03","14",{"$f":"D379","v":"08 3 01 12130"},200,{"$f":"F379","v":300}]
["Иные закупки товаров, работ и услуг для обеспечения государственных (муниципальных) нужд","03","14","08 3 01 12130",240,{"$f":"'ведом. 2019'!AD255","v":300}]
["Основное  мероприятие \"Приобретение  специальной техники  и  содержание  имущества  для  увеличения  степени  готовности  для  ликвидации  чрезвычайных  ситуаций  природного  и  техногенного  характера  на  территории  города  Лыткарино\"","03","14","08 3 02 00000",null,{"$f":"F381","v":400}]
["Мероприятия  в  области  национальной безопасности  и  правоохранительной  деятельности","03","14","08 3 02 12000",null,{"$f":"F382","v":400}]
["Приобретение  пунктов  обогрева  и  горячего  питания","03","14",{"$f":"D383","v":"08 3 02 12050"},null,{"$f":"F383","v":400}]
["Закупка товаров, работ и услуг для обеспечения государственных (муниципальных) нужд","03","14",{"$f":"D384","v":"08 3 02 12050"},200,{"$f":"F384","v":400}]
["Иные закупки товаров, работ и услуг для обеспечения государственных (муниципальных) нужд","03","14","08 3 02 12050",240,{"$f":"'ведом. 2019'!AD260","v":400}]
["Основное  мероприятие \"Организация  подготовки  и  обучение  населения, руководящего  состава  и  специалистов  Лыткаринского  звена  ТП МОСЧС\"","03","14","08 3 03 00000",null,{"$f":"F386","v":180}]
["Мероприятия  в  области  национальной безопасности  и  правоохранительной  деятельности","03","14","08 3 03 12000",null,{"$f":"F387","v":180}]
["Подготовка  и  обучение  на  курсах  гражданской  обороны","03","14",{"$f":"D388","v":"08 3 03 12120"},null,{"$f":"F388","v":180}]
["Закупка товаров, работ и услуг для обеспечения государственных (муниципальных) нужд","03","14",{"$f":"D389","v":"08 3 03 12120"},200,{"$f":"F389","v":180}]
["Иные закупки товаров, работ и услуг для обеспечения государственных (муниципальных) нужд","03","14","08 3 03 12120",240,{"$f":"'ведом. 2019'!AD265","v":180}]
["Подпрограмма  \"Обеспечение  пожарной  безопасности\"","03","14","08 5 00 00000",null,{"$f":"F391+F396+F403","v":1329.9}]
["Основное  мероприятие \"Организация  профилактики  и  ликвидации пожаров  на  территории  города  Лыткарино\"","03","14","08 5 01 00000",null,{"$f":"F392","v":57.4}]
["Мероприятия  в  области  национальной безопасности  и  правоохранительной  деятельности","03","14","08 5 01 12000",null,{"$f":"F393","v":57.4}]
["Мероприятия  по обеспечению пожарной  безопасности","03","14",{"$f":"D394","v":"08 5 01 12080"},null,{"$f":"F394","v":57.4}]
["Закупка товаров, работ и услуг для обеспечения государственных (муниципальных) нужд","03","14",{"$f":"D395","v":"08 5 01 12080"},"200",{"$f":"F395","v":57.4}]
["Иные закупки товаров, работ и услуг для обеспечения государственных (муниципальных) нужд","03","14","08 5 01 12080","240",{"$f":"'ведом. 2019'!AD270","v":57.4}]
["Основное  мероприятие \"Обеспечение мероприятий, направленных  на  снижение уровня травматизма и смертности на пожарах\"","03","14","08 5 02 00000",null,{"$f":"F397","v":1119}]
["Мероприятия  в  области  национальной безопасности  и  правоохранительной  деятельности","03","14","08 5 02 12000",null,{"$f":"F398","v":1119}]
["Мероприятия  по обеспечению пожарной  безопасности","03","14",{"$f":"D401","v":"08 5 02 12080"},null,{"$f":"F401+F399","v":1119}]
["Закупка товаров, работ и услуг для обеспечения государственных (муниципальных) нужд","03","14","08 5 02 12080","200",{"$f":"F400","v":275}]
["Иные закупки товаров, работ и услуг для обеспечения государственных (муниципальных) нужд","03","14",{"$f":"D401","v":"08 5 02 12080"},"240",{"$f":"'ведом. 2019'!AD276","v":275}]
["Предоставление субсидий бюджетным, автономным учреждениям и иным некоммерческим организациям","03","14","08 5 02 12080","600",{"$f":"F402","v":844}]
["Субсидии бюджетным учреждениям","03","14","08 5 02 12080","610",{"$f":"'ведом. 2019'!AD278","v":844}]
["Основное  мероприятие \"Установка  и  содержание  пожарных  извещателей  в  жилых  помещениях, занимаемых  малообеспеченными  гражданами, малообеспеченными  или  многодетными  семьями  в  городе  Лыткарино\"","03","14","08 5 03 00000",null,{"$f":"F404","v":153.5}]
["Мероприятия  в  области  национальной безопасности  и  правоохранительной  деятельности","03","14","08 5 03 12000",null,{"$f":"F405","v":153.5}]
["Мероприятия  по обеспечению пожарной  безопасности","03","14",{"$f":"D406","v":"08 5 03 12080"},null,{"$f":"F406","v":153.5}]
["Закупка товаров, работ и услуг для обеспечения государственных (муниципальных) нужд","03","14",{"$f":"D407","v":"08 5 03 12080"},"200",{"$f":"F407","v":153.5}]
["Иные закупки товаров, работ и услуг для обеспечения государственных (муниципальных) нужд","03","14","08 5 03 12080","240",{"$f":"'ведом. 2019'!AD283","v":153.5}]
["Национальная экономика","04",null,null,null,{"$f":"F416+F506+F432+F482+F409","v":105272.09999999999},{"$f":"G416+G506+G432+G482+G409","v":22938.7}]
["Сельское хозяйство и рыболовство","04","05",null,null,{"$f":"F410","v":846},846]
["Муниципальная программа «Формирование современной городской среды города Лыткарино» на 2018-2024 годы","04","05","10 0 00 00000",null,846,846]
["Подпрограмма  \"Благоустройство дворовых и общественных территорий города Лыткарино\"","04","05","10 1 00 00000",null,846,846]
["Основное мероприятие \"Благоустройство дворовых и общественных территорий\"","04","05","10 1 01 00000",null,846,846]
["Благоустройство территорий города в части защиты  от неблагоприятного воздействия безнадзорных животных","04","05",{"$f":"D414","v":"10 1 01 60870"},null,{"$f":"F414","v":846},846]
["Закупка товаров, работ и услуг для обеспечения государственных (муниципальных) нужд","04","05",{"$f":"D415","v":"10 1 01 60870"},200,846,846]
["Иные закупки товаров, работ и услуг для обеспечения государственных (муниципальных) нужд","04","05","10 1 01 60870",240,{"$f":"'ведом. 2019'!AD1145","v":846},{"$f":"F415","v":846}]
["Транспорт","04","08",null,null,{"$f":"F417","v":21295.199999999997}]
["Муниципальная  программа «Развитие и функционирование дорожно-транспортного комплекса города Лыткарино» на 2017-2021 годы","04","08","12 0 00 00000",null,{"$f":"F418+F427","v":21295.199999999997}]
["Подпрограмма  \"Пассажирский транспорт общего пользования\"","04","08","12 1 00 00000",null,{"$f":"F419","v":185.6}]
["Основное  мероприятие\" Обеспечение  перевозок  пассажиров  транспортом общего  пользования\"","04","08","12 1 01 00000",null,{"$f":"F420","v":185.6}]
["Обеспечение перевозок пассажиров транспортом общего пользования","04","08","12 1 01 00090",null,{"$f":"F424+F421","v":185.6}]
["Обеспечение  перевозок  пассажиров  по  муниципальным  маршрутам №1 и №2 регулярных  перевозок  по  регулируемым  тарифам","04","08","12 1 01 00091",null,{"$f":"F422","v":70.699999999999989}]
["Закупка товаров, работ и услуг для обеспечения государственных (муниципальных) нужд","04","08","12 1 01 00091",200,{"$f":"F423","v":70.699999999999989}]
["Иные закупки товаров, работ и услуг для обеспечения государственных (муниципальных) нужд","04","08","12 1 01 00091",240,{"$f":"'ведом. 2019'!AD292","v":70.699999999999989}]
["Транспортное  обеспечение  официальных  мероприятий","04","08","12 1 01 00092",null,{"$f":"F425","v":114.9}]
["Закупка товаров, работ и услуг для обеспечения государственных (муниципальных) нужд","04","08","12 1 01 00092",200,{"$f":"F426","v":114.9}]
["Иные закупки товаров, работ и услуг для обеспечения государственных (муниципальных) нужд","04","08","12 1 01 00092",240,{"$f":"'ведом. 2019'!AD295","v":114.9}]
["Подпрограмма  \"Транспортное  обслуживание\"","04","08","12 4 00 00000",null,{"$f":"F428","v":21109.599999999999}]
["Основное  мероприятие \"Автотранспортное  обслуживание \"","04","08","12 4 01 00000",null,{"$f":"F429","v":21109.599999999999}]
["Предоставление субсидии  на  выполнение муниципального  задания    на  автотранспортное  обслуживание","04","08","12 4 01 17590",null,{"$f":"F430","v":21109.599999999999}]
["Предоставление субсидий бюджетным, автономным учреждениям и иным некоммерческим организациям","04","08","12 4 01 17590",600,{"$f":"F431","v":21109.599999999999}]
["Субсидии бюджетным учреждениям","04","08","12 4 01 17590",610,{"$f":"'ведом. 2019'!AD300","v":21109.599999999999},null,200]
["Дорожное  хозяйство  (дорожные  фонды)  ","04","09",null,null,{"$f":"F443+F454+F433","v":73329},{"$f":"G443+G454+G433","v":20802.7}]
["Муниципальная  программа «Муниципальное управление города Лыткарино на 2017-2021 годы»","04","09","01 0 00 00000",null,{"$f":"F434","v":5500}]
["Подпрограмма  \"Архитектура  и  градостроительство  города Лыткарино\"","04","09","01 7 00 00000",null,{"$f":"F439+F435","v":5500}]
["Основное  мероприятие \"Разработка проектной документации для строительства линейного объекта капитального строительства - дороги к Индустриальному парку \"Лыткарино\"","04","09","01 7 09 00000",null,{"$f":"F436","v":4500}]
["Мероприятия  в  области  строительства,архитектуры  и  градостроительства","04","09","01 7 09 00100",null,{"$f":"F437","v":4500}]
["Закупка товаров, работ и услуг для обеспечения государственных (муниципальных) нужд","04","09","01 7 09 00100",200,{"$f":"F438","v":4500}]
["Иные закупки товаров, работ и услуг для обеспечения государственных (муниципальных) нужд","04","09","01 7 09 00100",240,{"$f":"'ведом. 2019'!AD307","v":4500}]
["Основное  мероприятие \"Выполнение работ по отсыпке щебнем линейных объектов транспортной инфраструктуры, расположенных в границах указанной территории\"","04","09","01 7 10 00000",null,{"$f":"F440","v":1000}]
["Мероприятия  в  области  строительства,архитектуры  и  градостроительства","04","09",{"$f":"D441","v":"01 7 10 00100"},null,1000]
["Закупка товаров, работ и услуг для обеспечения государственных (муниципальных) нужд","04","09",{"$f":"D442","v":"01 7 10 00100"},200,1000]
["Иные закупки товаров, работ и услуг для обеспечения государственных (муниципальных) нужд","04","09","01 7 10 00100",240,{"$f":"'ведом. 2019'!AD1152","v":1000}]
["Муниципальная программа «Формирование современной городской среды города Лыткарино» на 2018-2024 годы","04","09","10 0 00 00000",null,{"$f":"F444","v":11567.2},5463.7]
["Подпрограмма  \"Благоустройство дворовых и общественных территорий города Лыткарино\"","04","09","10 1 00 00000",null,{"$f":"F445+F451","v":11567.2},{"$f":"G445+G451","v":5463.7}]
["Основное мероприятие \"Ремонт внутриквартальных  дорог  и  дворовых территорий  за счет средств дорожных  фондов\"","04","09","10 1 02 00000",null,4589.3]
["Ремонт, содержание   дорог ","04","09","10 1 02 16000",null,4589.3]
["Ремонт, содержание  дорог  общего  пользования и  внутриквартальных дорог  и   дворовых  территорий  за  счет  средств  дорожного  фонда города Лыткарино","04","09","10 1 02 16020",null,4589.3]
["Закупка товаров, работ и услуг для обеспечения государственных (муниципальных) нужд","04","09","10 1 02 16020",200,4589.3]
["Иные закупки товаров, работ и услуг для обеспечения государственных (муниципальных) нужд","04","09","10 1 02 16020",240,{"$f":"'ведом. 2019'!AD1159","v":4589.3}]
["Основное мероприятие \"Федеральный проект \"Формирование комфортной городской среды\"","04","09","10 1 F2 00000",null,{"$f":"F451","v":6977.9000000000005},5463.7]
["Ремонт дворовых территорий","04","09","10 1 F2 S2740",null,6977.9000000000005,5463.7]
["Закупка товаров, работ и услуг для обеспечения государственных (муниципальных) нужд","04","09","10 1 F2 S2740",200,6977.9000000000005,5463.7]
["Иные закупки товаров, работ и услуг для обеспечения государственных (муниципальных) нужд","04","09","10 1 F2 S2740",240,{"$f":"'ведом. 2019'!AD1163","v":6977.9000000000005},{"$f":"5727.7-264","v":5463.7}]
["Муниципальная  программа «Развитие и функционирование дорожно-транспортного комплекса города Лыткарино» на 2017-2021 годы","04","09","12 0 00 00000",null,{"$f":"F455+F470","v":56261.8},{"$f":"G455+G470","v":15339}]
["Подпрограмма  \"Дороги города  Лыткарино\"","04","09","12 2 00 00000",null,{"$f":"F456+F466","v":54301.8},{"$f":"G456","v":15339}]
["Основное  мероприятие \"Ремонт, содержание  дорог  общего  пользования,  внутриквартальных дорог  и   дворовых  территорий\"","04","09","12 2 01 00000",null,{"$f":"F457+F463","v":52217.8},{"$f":"G457+G463","v":15339}]
["Ремонт, содержание   дорог ","04","09","12 2 01 16000",null,{"$f":"F458","v":36069.800000000003}]
["Ремонт, содержание  дорог  общего  пользования и  внутриквартальных дорог  и   дворовых  территорий","04","09","12 2 01 16010",null,{"$f":"F459+F461","v":36069.800000000003}]
["Закупка товаров, работ и услуг для обеспечения государственных (муниципальных) нужд","04","09","12 2 01 16010",200,{"$f":"F460","v":4453.8999999999996}]
["Иные закупки товаров, работ и услуг для обеспечения государственных (муниципальных) нужд","04","09","12 2 01 16010",240,{"$f":"'ведом. 2019'!AD1170","v":4453.8999999999996}]
["Предоставление субсидий бюджетным, автономным учреждениям и иным некоммерческим организациям","04","09","12 2 01 16010",600,{"$f":"F462","v":31615.9}]
["Субсидии бюджетным учреждениям","04","09","12 2 01 16010",610,{"$f":"'ведом. 2019'!AD314","v":31615.9},null,62.5]
["Расходы  на  капитальный ремонт и ремонт автомобильных дорог общего пользования города Лыткарино","04","09","12 2 01 S0240",null,{"$f":"F464","v":16148},{"$f":"G464","v":15339}]
["Закупка товаров, работ и услуг для обеспечения государственных (муниципальных) нужд","04","09","12 2 01 S0240",200,{"$f":"F465","v":16148},{"$f":"G465","v":15339}]
["Иные закупки товаров, работ и услуг для обеспечения государственных (муниципальных) нужд","04","09","12 2 01 S0240",240,{"$f":"'ведом. 2019'!AD1173","v":16148},{"$f":"13000+2339","v":15339}]
["Основное  мероприятие \"Ремонт, содержание  дорог  общего  пользования,  внутриквартальных дорог  и   дворовых  территорий за счет средств дорожных фондов\"","04","09","12 2 02 00000",null,{"$f":"F467","v":2084}]
["Ремонт, содержание  дорог  общего  пользования и  внутриквартальных дорог  и   дворовых  территорий  за  счет  средств  дорожного  фонда города Лыткарино","04","09","12 2 02 16020",null,{"$f":"F468","v":2084}]
["Закупка товаров, работ и услуг для обеспечения государственных (муниципальных) нужд","04","09","12 2 02 16020",200,{"$f":"F469","v":2084}]
["Иные закупки товаров, работ и услуг для обеспечения государственных (муниципальных) нужд","04","09","12 2 02 16020",240,{"$f":"'ведом. 2019'!AD1177","v":2084}]
["Подпрограмма  \"Безопасность  дорожного  движения\"","04","09","12 3 00 00000",null,{"$f":"F471","v":1960}]
["Основное  мероприятие  \"Обеспечение  безопасности  дорожного  движения\"","04","09","12 3 01 00000",null,{"$f":"F472","v":1960}]
["Мероприятия  по обеспечению безопасности  дорожного  движения","04","09","12 3 01 17000",null,{"$f":"F473+F479+F476","v":1960}]
["Организация  изготовления  социальной  рекламы  по  пропаганде  безопасности  дорожного  движения","04","09","12 3 01 17010",null,{"$f":"F474","v":60}]
["Закупка товаров, работ и услуг для обеспечения государственных (муниципальных) нужд","04","09","12 3 01 17010",200,{"$f":"F475","v":60}]
["Иные закупки товаров, работ и услуг для обеспечения государственных (муниципальных) нужд","04","09","12 3 01 17010",240,{"$f":"'ведом. 2019'!AD1183","v":60}]
["Организация  вывоза  брошенных  автотранспортных  средств","04","09","12 3 01 17020",null,{"$f":"F477","v":100}]
["Закупка товаров, работ и услуг для обеспечения государственных (муниципальных) нужд","04","09","12 3 01 17020",200,{"$f":"F478","v":100}]
["Иные закупки товаров, работ и услуг для обеспечения государственных (муниципальных) нужд","04","09","12 3 01 17020",240,{"$f":"'ведом. 2019'!AD1186","v":100}]
["Устройство дорожной разметки, установка пешеходных ограждений перильного типа,обустройство нерегулируемых пешеходных переходов дополнительными источниками освещения","04","09","12 3 01 17060",null,{"$f":"F480","v":1800}]
["Закупка товаров, работ и услуг для обеспечения государственных (муниципальных) нужд","04","09","12 3 01 17060",200,{"$f":"F481","v":1800}]
["Иные закупки товаров, работ и услуг для обеспечения государственных (муниципальных) нужд","04","09","12 3 01 17060",240,{"$f":"'ведом. 2019'!AD1189","v":1800}]
["Связь и информатика","04",10,null,null,{"$f":"F483","v":8651.2999999999993},{"$f":"G483","v":1054}]
["Муниципальная программа  «Развитие информационно-коммуникационных технологий для повышения эффективности процессов управления и создания благоприятных условий жизни и ведения бизнеса в городе  Лыткарино Московской области» на 2017-2021годы","04",10,"13 0 00 00000",null,{"$f":"F484+F491+F495+F488+F502","v":8651.2999999999993},{"$f":"G484+G491+G495+G488","v":1054}]
["Основное мероприятие \"Федеральный проект \"Информационная инфраструктура\"","04",10,"13 0 D2 00000",null,{"$f":"F485","v":3811.8}]
["Мероприятия  в  области  информационно-коммуникационных  технологий","04",10,"13 0 D2 00010",null,{"$f":"F486","v":3811.8}]
["Закупка товаров, работ и услуг для обеспечения государственных (муниципальных) нужд","04",10,"13 0 D2 00010",200,{"$f":"F487","v":3811.8}]
["Иные закупки товаров, работ и услуг для обеспечения государственных (муниципальных) нужд","04",10,"13 0 D2 00010",240,{"$f":"'ведом. 2019'!AD320+'ведом. 2019'!AD855","v":3811.8}]
["Расходы  для обеспечения организаций  дошкольного, начального общего, основного общего и среднего общего образования, находящихся в ведении органов местного самоуправления муниципальных образований Московской области, доступом в сеть Интернет","04",10,{"$f":"D489","v":"13 0 D2 S0600"},null,{"$f":"F489","v":969},{"$f":"G489","v":249}]
["Предоставление субсидий бюджетным, автономным учреждениям и иным некоммерческим организациям","04",10,{"$f":"D490","v":"13 0 D2 S0600"},600,{"$f":"F490","v":969},{"$f":"G490","v":249}]
["Субсидии бюджетным учреждениям","04",10,"13 0 D2 S0600",610,{"$f":"'ведом. 2019'!AD885","v":969},249]
["Основное мероприятие \"Федеральный проект \"Информационная безопасность\"","04",10,"13 0 D4 00000",null,{"$f":"F492","v":59.100000000000009}]
["Мероприятия  в  области  информационно-коммуникационных  технологий","04",10,"13 0  D4 00010",null,{"$f":"F493","v":59.100000000000009}]
["Закупка товаров, работ и услуг для обеспечения государственных (муниципальных) нужд","04",10,"13 0  D4 00010",200,{"$f":"F494","v":59.100000000000009}]
["Иные закупки товаров, работ и услуг для обеспечения государственных (муниципальных) нужд","04",10,"13 0  D4 00010",240,{"$f":"'ведом. 2019'!AD324","v":59.100000000000009}]
["Основное мероприятие \"Федеральный проект \"Цифровое государственное управление\"","04",10,"13 0  D6 00000",null,{"$f":"F496+F499","v":3701.9},{"$f":"G496+G499","v":805}]
["Мероприятия  в  области  информационно-коммуникационных  технологий","04",10,"13 0  D6 00010",null,{"$f":"F497","v":2672.9}]
["Закупка товаров, работ и услуг для обеспечения государственных (муниципальных) нужд","04",10,"13 0  D6 00010",200,{"$f":"F498","v":2672.9}]
["Иные закупки товаров, работ и услуг для обеспечения государственных (муниципальных) нужд","04",10,"13 0  D6 00010",240,{"$f":"'ведом. 2019'!AD328+'ведом. 2019'!AD782+'ведом. 2019'!AD1195","v":2672.9}]
["Расходы  на предоставление доступа к электронным сервисам цифровой инфраструктуры в сфере жилищно-коммунального хозяйства","04",10,"13 0 D6 S0940",null,{"$f":"F500","v":1029},{"$f":"G500","v":805}]
["Закупка товаров, работ и услуг для обеспечения государственных (муниципальных) нужд","04",10,"13 0 D6 S0940",200,{"$f":"F501","v":1029},{"$f":"G501","v":805}]
["Иные закупки товаров, работ и услуг для обеспечения государственных (муниципальных) нужд","04",10,"13 0 D6 S0940",240,{"$f":"'ведом. 2019'!AD334","v":1029},805]
["Основное мероприятие \"Федеральный проект \"Цифровая образовательная среда\"","04",10,"13 0 Е4 00000",null,{"$f":"F503","v":109.5}]
["Внедрение информационных технологий  для подключения к сети ФИС ФРДО  муниципальных  общеобразовательных учреждений","04",10,"13 0 Е4 00020",null,{"$f":"F504","v":109.5}]
["Предоставление субсидий бюджетным, автономным учреждениям и иным некоммерческим организациям","04",10,{"$f":"D505","v":"13 0 Е4 00020"},600,{"$f":"F505","v":109.5}]
["Субсидии бюджетным учреждениям","04",10,"13 0 Е4 00020",610,{"$f":"'ведом. 2019'!AD889","v":109.5}]
["Другие вопросы в области национальной экономики","04",12,null,null,{"$f":"F507+F513+F525","v":1150.5999999999999},{"$f":"G507+G513+G525","v":236}]
["Муниципальная  программа «Муниципальное управление города Лыткарино на 2017-2021 годы»","04",12,"01 0 00 00000",null,{"$f":"F508","v":100}]
["Подпрограмма  \"Архитектура  и  градостроительство  города Лыткарино\"","04",12,"01 7 00 00000",null,100]
["Основное  мероприятие  \"Предупреждение  и  пресечение  случаев  самовольного  строительства  на  территории  города Лыткарино\"","04",12,"01 7 06 00000",null,100]
["Мероприятия  в  области  строительства, архитектуры  и  градостроительства","04",12,{"$f":"D511","v":"01 7 06 00100"},null,100]
["Закупка товаров, работ и услуг для обеспечения государственных (муниципальных) нужд","04",12,{"$f":"D512","v":"01 7 06 00100"},200,100]
["Иные закупки товаров, работ и услуг для обеспечения государственных (муниципальных) нужд","04",12,"01 7 06 00100",240,{"$f":"'ведом. 2019'!AD341","v":100}]
["Муниципальная  программа «Предпринимательство города Лыткарино» на 2017-2021 годы","04",12,"04 0 00 00000",null,{"$f":"F520+F514","v":814.6}]
["Подпрограмма  \"Развитие  потребительского  рынка  и  услуг\"","04",12,"04 1 00 00000",null,{"$f":"F515","v":214.6}]
["Основное  мероприятие \"Приведение  кладбищ  города  Лыткарино  в  соответствие  с  Порядком  деятельности  общественных кладбищ  и крематориев  на территории  города Лыткарино\"","04",12,"04 1 05 00000",null,{"$f":"F516","v":214.6}]
["Другие мероприятия   в области национальной экономики","04",12,"04 1 05 28000",null,{"$f":"'ведом. 2019'!AD348","v":214.6}]
["Транспортировка  в  морг  с  места  обнаружения  или  происшествия умерших, не  имеющих  супруга, близких  родственников,иных  родственников либо  законного  представителя  умершего,а  также  иных  умерших  для  производства  судебно-медицинской  экспертизы и оказание  услуг, предоставляемых  согласно гарантированному  перечню  услуг  по  погребению на безвозмездной  основе","04",12,{"$f":"D518","v":"04 1 05 28010"},null,{"$f":"F518","v":214.6}]
["Закупка товаров, работ и услуг для обеспечения государственных (муниципальных) нужд","04",12,{"$f":"D519","v":"04 1 05 28010"},200,{"$f":"F519","v":214.6}]
["Иные закупки товаров, работ и услуг для обеспечения государственных (муниципальных) нужд","04",12,"04 1 05 28010",240,{"$f":"'ведом. 2019'!AD348","v":214.6}]
["Подпрограмма  \"Развитие субъектов малого и среднего предпринимательства\n в городе Лыткарино\"","04",12,"04 2 00 00000",null,{"$f":"F521","v":600}]
["Основное  мероприятие \"Поддержка  субъектов  малого  и  среднего  предпринимательства, реализующих  программы  модернизации  производства\"","04",12,"04 2 01 00000",null,{"$f":"F522","v":600}]
["Мероприятия  по  поддержке  субъектов  малого  и  среднего  предпринимательства","04",12,{"$f":"D523","v":"04 2 01 00010"},null,{"$f":"F523","v":600}]
["Иные бюджетные ассигнования","04",12,{"$f":"D524","v":"04 2 01 00010"},800,{"$f":"F524","v":600}]
["Субсидии юридическим лицам (кроме некоммерческих организаций), индивидуальным предпринимателям, физическим лицам - производителям товаров, работ, услуг","04",12,"04 2 01 00010",810,{"$f":"'ведом. 2019'!AD353","v":600}]
["Муниципальная    программа  \"Жилище  города Лыткарино\"  на 2014-2024 годы","04",12,"09 0 00 00000",null,{"$f":"F526","v":236},236]
["Подпрограмма \"Комплексное освоение земельных участков в целях жилищного строительства и развитие застроенных территорий\" ","04",12,"09 5 00 00000",null,236,236]
["Основное мероприятие \"Финансовое обеспечение выполнения отдельных государственных полномочий в сфере жилищной политики,переданных органам местного самоуправления муниципальных образований Московской области\" ","04",12,"09 5 01 00000",null,236,236]
["Расходы на осуществление отдельных государственных полномочий в части подготовки и направления уведомлений о соответствии (несоответствии) указанных в уведомлении о планируемом строительстве параметров объекта индивидуального жилищного строительства или садового дома установленным параметрам и допустимости размещения объекта индивидульного жилищного строительства или садового дома на земельном участке, уведомлений о соответствии (несоответствии) построенных или реконструированных объектов индивидуального жилищного строительства или садового дома требованиям законодательства о градостроительной деятельности ","04",12,"09 5 01 60710",null,236,236]
["Расходы на выплаты персоналу в целях обеспечения выполнения функций государственными (муниципальными) органами, казенными учреждениями, органами управления государственными внебюджетными фондами ","04",12,"09 5 01 60710",100,236,236]
["Расходы на выплаты персоналу государственных (муниципальных) органов","04",12,"09 5 01 60710",120,236,{"$f":"F530","v":236}]
["Жилищно-коммунальное хозяйство","05",null,null,null,{"$f":"F532+F569+F640+F551","v":274337.09999999998},{"$f":"G532+G569+G640+G551","v":81428.299999999988}]
[" Жилищное хозяйство","05","01",null,null,{"$f":"F533+F539","v":27111.4},{"$f":"G533+G539","v":9693.4000000000015}]
["Муниципальная  программа «Муниципальное управление города Лыткарино на 2017-2021 годы»","05","01","01 0 00 00000",null,{"$f":"F534","v":15687.9}]
["Подпрограмма «Развитие земельно-имущественного комплекса в городе Лыткарино»","05","01","01 8 00 00000",null,{"$f":"F535","v":15687.9}]
["Основное  мероприятие  \"Перечисление  региональному  оператору  взносов  на  капитальный  ремонт  в  части  муниципального  имущества ( жилой  и  нежилой  фонд)\"","05","01","01 8 04 00000",null,{"$f":"F536","v":15687.9}]
["Перечисление   региональному  оператору  взносов  на  капитальный  ремонт  в  части  муниципального  имущества","05","01",{"$f":"D537","v":"01 8 04 00060"},null,{"$f":"F537","v":15687.9}]
["Иные бюджетные ассигнования","05","01",{"$f":"D538","v":"01 8 04 00060"},800,{"$f":"F538","v":15687.9}]
["Уплата налогов, сборов и иных платежей","05","01","01 8 04 00060",850,{"$f":"'ведом. 2019'!AD367","v":15687.9}]
["Муниципальная программа «Формирование современной городской среды города Лыткарино» на 2018-2024 годы","05","01","10 0 00 00000",null,{"$f":"F540","v":11423.5},9693.4000000000015]
["Подпрограмма  \"Создание условий для обеспечения комфортного  проживания  жителей  в  многоквартирных  домах\"","05","01","10 2 00 00000",null,{"$f":"F541","v":11423.5},9693.4000000000015]
["Основное мероприятие \"Капитальный  ремонт  многоквартирных  жилых  домов\"","05","01","10 2 01 00000",null,{"$f":"F542+F548","v":11423.5},{"$f":"G542+G548","v":9693.4000000000015}]
["Комплекс работ по капитальному ремонту жилых помещений в многоквартирных домах, предоставленных по договорам социального найма","05","01","10 2 01 21000",null,494.5]
["Закупка товаров, работ и услуг для обеспечения государственных (муниципальных) нужд","05","01",{"$f":"D544","v":"10 2 01 21060"},"200",494.5]
["Иные закупки товаров, работ и услуг для обеспечения государственных (муниципальных) нужд","05","01",{"$f":"D545","v":"10 2 01 21060"},"240",{"$f":"'ведом. 2019'!AD1204","v":494.5}]
["Субсидия на возмещение затрат юридических лиц, связанных с выполнением работ по ремонту подъездов многоквартирных домов в рамках софинансирования","05","01","10 2 01 21060",null,{"$f":"F546","v":{"$error":"#REF!"}}]
["Иные бюджетные ассигнования","05","01",{"$f":"D547","v":"10 1 02 S0950"},"800",{"$f":"F547","v":{"$error":"#REF!"}}]
["Субсидии юридическим лицам (кроме некоммерческих организаций), индивидуальным предпринимателям, физическим лицам - производителям товаров, работ, услуг","05","01","10 1 02 S0950","810",{"$f":"'ведом. 2019'!#REF!","v":{"$error":"#REF!"}}]
["Расходы  на  ремонт подъездов в многоквартирных домах","05","01",{"$f":"D549","v":"10 2 01 S0950"},null,{"$f":"F549","v":10929},{"$f":"G549","v":9693.4000000000015}]
["Иные бюджетные ассигнования","05","01",{"$f":"D550","v":"10 2 01 S0950"},"800",{"$f":"F550","v":10929},{"$f":"G550","v":9693.4000000000015}]
["Субсидии юридическим лицам (кроме некоммерческих организаций), индивидуальным предпринимателям, физическим лицам - производителям товаров, работ, услуг","05","01","10 2 01 S0950","810",{"$f":"'ведом. 2019'!AD376","v":10929},{"$f":"2879.2+3311.4+3502.8","v":9693.4000000000015}]
["Коммунальное  хозяйство","05","02",null,null,{"$f":"F552+F562","v":35700}]
["Муниципальная  программа  \"Развитие  инженерной инфраструктуры и энергоэффективности  на  территории  города  Лыткарино\"на  2018-2022 годы","05","02","06 0 00 00000",null,{"$f":"F553","v":13400}]
["Подпрограмма \"Содержание и развитие инженерной инфраструктуры на территории города Лыткарино\"  ","05","02","06 1 00 00000",null,{"$f":"F554+F558","v":13400}]
["Основное  мероприятие \"Строительство,реконструкция,капитальный ремонт, приобретение, монтаж и ввод в эксплуатацию объектов коммунальной инфраструктуры на территории города Лыткарино\" ","05","02","06 1 04 00000",null,{"$f":"F555","v":13200}]
["Предоставление  субсидии МП \"Лыткаринская теплосеть\" в целях возмещения затрат на реконструкцию тепловой магистрали сети от ТК-227 до ЦТП-1А, включая работы ЦТП -1А (от ТК-227а до ЦТП -1А), в связи с оказанием услуг по теплоснабжению в городе Лыткарино","05","02","06 1 04 00030",null,13200]
["Иные бюджетные ассигнования","05","02","06 1 04 00030","800",13200]
["Субсидии юридическим лицам (кроме некоммерческих организаций), индивидуальным предпринимателям, физическим лицам - производителям товаров, работ, услуг","05","02","06 1 04 00030","810",{"$f":"'ведом. 2019'!AD383","v":13200}]
["Основное мероприятие \"Чистая вода\"","05","02","06 1 05 00000",null,{"$f":"F559","v":200}]
["Проект прокладки водовода от ул.Трудкоммуны городского округа Дзержинский до водораспределительного узла, ВЗУ-2, ВЗУ-3, ВЗУ-4 городского округа Лыткарино  ","05","02",{"$f":"D560","v":"06 1 05 00010"},null,{"$f":"F560","v":200}]
["Капитальные вложения в объекты государственной(муниципальной) собственности","05","02",{"$f":"D561","v":"06 1 05 00010"},"400",{"$f":"F561","v":200}]
["Бюджетные инвестиции ","05","02","06 1 05 00010","410",{"$f":"'ведом. 2019'!AD1211","v":200}]
["Непрограммные расходы бюджета города  Лыткарино","05","02","99 0 00 00000",null,{"$f":"F563+F566","v":22300}]
["Предоставление субсидии МП «Лыткаринская теплосеть»  на возмещение недополученных доходов в связи с применением в расчетах с управляющими организациями нормативов расхода тепловой энергии, используемой на подогрев холодной воды для предоставления коммунальной услуги по горячему водоснабжению для населения на территории муниципального образования.","05","02","99 0 00 00700",null,{"$f":"F564","v":16300}]
["Иные бюджетные ассигнования","05","02","99 0 00 00700","800",{"$f":"F565","v":16300}]
["Субсидии юридическим лицам (кроме некоммерческих организаций), индивидуальным предпринимателям, физическим лицам - производителям товаров, работ, услуг","05","02","99 0 00 00700","810",{"$f":"'ведом. 2019'!AD387","v":16300}]
[{"$f":"'ведом. 2019'!X388","v":"Предоставление  субсидии МП \"Лыткаринская теплосеть\" в целях восстановления платёжеспособности и недопущения банкротства"},"05","02","99 0 00 00900",null,{"$f":"F567","v":6000}]
[{"$f":"'ведом. 2019'!X389","v":"Иные бюджетные ассигнования"},"05","02","99 0 00 00900","800",{"$f":"F568","v":6000}]
[{"$f":"'ведом. 2019'!X390","v":"Субсидии юридическим лицам (кроме некоммерческих организаций), индивидуальным предпринимателям, физическим лицам - производителям товаров, работ, услуг"},"05","02","99 0 00 00900","810",{"$f":"'ведом. 2019'!AD390","v":6000}]
["Благоустройство","05","03",null,null,{"$f":"F593+F578+F570","v":187764.40000000002},{"$f":"G593+G578+G570","v":69136.899999999994}]
["Муниципальная  программа «Муниципальное управление города Лыткарино на 2017-2021 годы»","05","03","01 0 00 00000",null,{"$f":"F571","v":949.2}]
["Подпрограмма «Развитие системы информирования населения о деятельности органов местного самоуправления города Лыткарино Московской области» ","05","03","01 4 00 00000",null,{"$f":"F572","v":949.2}]
["Основное мероприятие  \"Информирование населения муниципального образования посредством наружной рекламы\" ","05","03","01 4 02 00000",null,{"$f":"F573","v":949.2}]
["Мероприятия  в  области  развития  системы  информирования  населения","05","03",{"$f":"D574","v":"01 4 02 00010"},null,{"$f":"F574+F576","v":949.2}]
["Закупка товаров, работ и услуг для обеспечения государственных (муниципальных) нужд","05","03",{"$f":"D575","v":"01 4 02 00010"},200,{"$f":"F575","v":946.2}]
["Иные закупки товаров, работ и услуг для обеспечения государственных (муниципальных) нужд","05","03","01 4 02 00010",240,{"$f":"'ведом. 2019'!AD397","v":946.2}]
["Иные бюджетные ассигнования","05","03",{"$f":"D577","v":"01 4 02 00010"},800,{"$f":"F577","v":3}]
["Уплата налогов, сборов и иных платежей","05","03","01 4 02 00010",850,{"$f":"'ведом. 2019'!AD399","v":3}]
["Муниципальная  программа «Предпринимательство города Лыткарино» на 2017-2021 годы","05","03","04 0 00 00000",null,{"$f":"F579","v":13648.099999999999}]
["Подпрограмма  \"Развитие  потребительского  рынка  и  услуг\"","05","03","04 1 00 00000",null,{"$f":"F580+F585","v":13648.099999999999}]
["Основное  мероприятие \"Приведение  кладбищ  города  Лыткарино  в  соответствие  с  Порядком  деятельности  общественных кладбищ  и крематориев  на территории  города Лыткарино\"","05","03","04 1 05 00000",null,{"$f":"F581","v":8542}]
["Мероприятия  по  благоустройству","05","03","04 1 05 15000",null,8542]
["Содержание  мест  захоронения","05","03",{"$f":"D583","v":"04 1 05 15040"},null,8542]
["Закупка товаров, работ и услуг для обеспечения государственных (муниципальных) нужд","05","03",{"$f":"D584","v":"04 1 05 15040"},"200",8542]
["Иные закупки товаров, работ и услуг для обеспечения государственных (муниципальных) нужд","05","03","04 1 05 15040","240",{"$f":"'ведом. 2019'!AD406+'ведом. 2019'!AD1219","v":8542}]
["Основное  мероприятие  \"Обеспечение  деятельности  муниципального  казенного  учреждения  \"Ритуал-Сервис Лыткарино\"","05","03","04 1 06 00000",null,{"$f":"F586","v":5106.0999999999995}]
[" Обеспечение  деятельности  муниципального  казенного  учреждения \"Ритуал-Сервис  Лыткарино\"","05","03","04 1 06 16590",null,{"$f":"F587+F589+F591","v":5106.0999999999995}]
["Расходы на выплаты персоналу в целях обеспечения выполнения функций государственными (муниципальными) органами, казенными учреждениями, органами управления государственными внебюджетными фондами ","05","03",{"$f":"D588","v":"04 1 06 16590"},"100",{"$f":"F588","v":4373.8999999999996}]
["Расходы на выплаты персоналу казенных учреждений","05","03",{"$f":"D589","v":"04 1 06 16590"},"110",{"$f":"'ведом. 2019'!AD410","v":4373.8999999999996}]
["Закупка товаров, работ и услуг для обеспечения государственных (муниципальных) нужд","05","03",{"$f":"D590","v":"04 1 06 16590"},"200",{"$f":"F590","v":666.9}]
["Иные закупки товаров, работ и услуг для обеспечения государственных (муниципальных) нужд","05","03","04 1 06 16590","240",{"$f":"'ведом. 2019'!AD412","v":666.9}]
["Иные бюджетные ассигнования","05","03",{"$f":"D592","v":"04 1 06 16590"},"800",{"$f":"F592","v":65.3}]
["Уплата налогов, сборов и иных платежей","05","03","04 1 06 16590","850",{"$f":"'ведом. 2019'!AD414","v":65.3}]
["Муниципальная программа «Формирование современной городской среды города Лыткарино» на 2018-2024 годы","05","03","10 0 00 00000",null,{"$f":"F594","v":173167.1},{"$f":"G594","v":69136.899999999994}]
["Подпрограмма  \"Благоустройство дворовых и общественных территорий города Лыткарино\"","05","03","10 1 00 00000",null,{"$f":"F595+F606+F612+F620+F627","v":173167.1},{"$f":"G595+G606+G612+G620+G627","v":69136.899999999994}]
["Основное мероприятие \"Благоустройство дворовых и общественных территорий\"","05","03","10 1 01 00000",null,{"$f":"F596","v":35814.600000000006}]
["Мероприятия  по  благоустройству","05","03","10 1 01 15000",null,{"$f":"F597+F600+F603","v":35814.600000000006}]
["Мероприятия  по  озеленению","05","03","10 1 01 15010",null,{"$f":"F598","v":2635}]
["Закупка товаров, работ и услуг для обеспечения государственных (муниципальных) нужд","05","03","10 1 01 15010",200,{"$f":"F599","v":2635}]
["Иные закупки товаров, работ и услуг для обеспечения государственных (муниципальных) нужд","05","03","10 1 01 15010",240,{"$f":"'ведом. 2019'!AD1226","v":2635}]
["Прочие  мероприятия   по  благоустройству  города","05","03","10 1 01 15030",null,{"$f":"F601","v":33029.600000000006}]
["Закупка товаров, работ и услуг для обеспечения государственных (муниципальных) нужд","05","03",{"$f":"D602","v":"10 1 01 15030"},200,{"$f":"F602","v":33029.600000000006}]
["Иные закупки товаров, работ и услуг для обеспечения государственных (муниципальных) нужд","05","03","10 1 01 15030",240,{"$f":"'ведом. 2019'!AD1229","v":33029.600000000006},null,-120]
["Проведение эколого-патриотической акции \"Лес Победы\"","05","03","10 1 01 15040",null,{"$f":"F604","v":150}]
["Предоставление субсидий бюджетным, автономным учреждениям и иным некоммерческим организациям","05","03","10 1 01 15040",600,{"$f":"F605","v":150}]
["Субсидии бюджетным учреждениям","05","03","10 1 01 15040",610,{"$f":"'ведом. 2019'!AD421","v":150}]
["Основное мероприятие \"Формирование комфортной городской световой среды\"","05","03","10 1 03 00000",null,{"$f":"F607","v":12732.899999999998}]
["Мероприятия  по  организации  уличного  освещения","05","03","10 1 03 15020",null,{"$f":"F608+F610","v":12732.899999999998}]
["Закупка товаров, работ и услуг для обеспечения государственных (муниципальных) нужд","05","03","10 1 03 15020",200,{"$f":"F609","v":12728.499999999998}]
["Иные закупки товаров, работ и услуг для обеспечения государственных (муниципальных) нужд","05","03",{"$f":"D607","v":"10 1 03 15020"},240,{"$f":"'ведом. 2019'!AD1233+'ведом. 2019'!AD425","v":12728.499999999998}]
["Иные бюджетные ассигнования","05","03","10 1 03 15020",800,{"$f":"F611","v":4.4000000000000004}]
["Уплата налогов, сборов и иных платежей","05","03",{"$f":"D609","v":"10 1 03 15020"},850,{"$f":"'ведом. 2019'!AD1235","v":4.4000000000000004}]
["Основное  мероприятие \" Охрана  окружающей  среды\"","05","03","10 1 04 00000",null,{"$f":"F613+F616","v":7831.7}]
["Организация  проведения  работ по благоустройству и санитарной очистке озелененных территорий","05","03",{"$f":"D614","v":"10 1 04 03590"},null,{"$f":"F614","v":7511.7}]
["Предоставление субсидий бюджетным, автономным учреждениям и иным некоммерческим организациям","05","03",{"$f":"D615","v":"10 1 04 03590"},600,{"$f":"F615","v":7511.7}]
["Субсидии бюджетным учреждениям","05","03","10 1 04 03590",610,{"$f":"'ведом. 2019'!AD429","v":7511.7}]
["Мероприятия  по  благоустройству","05","03","10 1 04 15000",null,{"$f":"F617","v":320}]
["Прочие  мероприятия   по  благоустройству  города","05","03",{"$f":"D618","v":"10 1 04 15030"},null,{"$f":"F618","v":320}]
["Закупка товаров, работ и услуг для обеспечения государственных (муниципальных) нужд","05","03",{"$f":"D619","v":"10 1 04 15030"},200,{"$f":"F619","v":320}]
["Иные закупки товаров, работ и услуг для обеспечения государственных (муниципальных) нужд","05","03","10 1 04 15030",240,{"$f":"'ведом. 2019'!AD1240","v":320}]
["Основное мероприятие  \"Благоустройство центральных улиц и скверов\"","05","03","10 1 06 00000",null,{"$f":"F621","v":11530}]
["Мероприятия  по  благоустройству","05","03","10 1 06 15000",null,{"$f":"F622","v":11530}]
["Прочие  мероприятия   по  благоустройству  города","05","03",{"$f":"D623","v":"10 1 06 15030"},null,{"$f":"F623+F625","v":11530}]
["Закупка товаров, работ и услуг для обеспечения государственных (муниципальных) нужд","05","03",{"$f":"D624","v":"10 1 06 15030"},200,{"$f":"F624","v":2790}]
["Иные закупки товаров, работ и услуг для обеспечения государственных (муниципальных) нужд","05","03","10 1 06 15030",240,{"$f":"'ведом. 2019'!AD434","v":2790}]
["Предоставление субсидий бюджетным, автономным учреждениям и иным некоммерческим организациям","05","03",{"$f":"D626","v":"10 1 06 15030"},600,{"$f":"F626","v":8740}]
["Субсидии бюджетным учреждениям","05","03","10 1 06 15030",610,{"$f":"'ведом. 2019'!AD436","v":8740}]
["Основное мероприятие \"Федеральный проект \"Формирование комфортной городской среды\"","05","03","10 1 F2 00000",null,{"$f":"F628+F637+F634+F631","v":105257.90000000001},{"$f":"G628+G637+G634+G631","v":69136.899999999994}]
["Реализация программ формирования современной городской среды в части благоустройства общественных территорий- город Лыткарино, ул.Спортивная","05","03","10 1 F2 55551",null,{"$f":"F629","v":80000},62640]
["Закупка товаров, работ и услуг для обеспечения государственных (муниципальных) нужд","05","03","10 1 F2 55551",200,80000,62640]
["Иные закупки товаров, работ и услуг для обеспечения государственных (муниципальных) нужд","05","03","10 1 F2 55551",240,{"$f":"'ведом. 2019'!AD1244","v":80000},62640]
["Комплексное обустройство территории муниципальных образований Московской области","05","03","10 1 F2 S1350",null,{"$f":"F632","v":79.099999999999994},{"$f":"G632","v":61.9}]
["Закупка товаров, работ и услуг для обеспечения государственных (муниципальных) нужд","05","03","10 1 F2 S1350",200,{"$f":"F633","v":79.099999999999994},{"$f":"G633","v":61.9}]
["Иные закупки товаров, работ и услуг для обеспечения государственных (муниципальных) нужд","05","03","10 1 F2 S1350",240,{"$f":"'ведом. 2019'!AD1247","v":79.099999999999994},61.9]
["Обустройство и установка детских игровых площадок на территории муниципальных образований Московской области","05","03","10 1 F2 S1580",null,{"$f":"F635","v":6500},{"$f":"G635","v":6435}]
["Закупка товаров, работ и услуг для обеспечения государственных (муниципальных) нужд","05","03","10 1 F2 S1580",200,{"$f":"F636","v":6500},{"$f":"G636","v":6435}]
["Иные закупки товаров, работ и услуг для обеспечения государственных (муниципальных) нужд","05","03","10 1 F2 S1580",240,{"$f":"'ведом. 2019'!AD1250","v":6500},6435]
["Дополнительные  расходы на реализацию программ формирования современной городской среды в части благоустройства общественных территорий- город Лыткарино, ул.Спортивная","05","03","10 1 F2 Д5551",null,{"$f":"F638","v":18678.8}]
["Закупка товаров, работ и услуг для обеспечения государственных (муниципальных) нужд","05","03","10 1 F2 Д5551",200,{"$f":"F639","v":18678.8}]
["Иные закупки товаров, работ и услуг для обеспечения государственных (муниципальных) нужд","05","03","10 1 F2 Д5551",240,{"$f":"'ведом. 2019'!AD440+'ведом. 2019'!AD1253","v":18678.8}]
["Другие вопросы в области жилищно-коммунального хозяйства","05","05",null,null,{"$f":"F681+F641+F661+F669","v":23761.3},{"$f":"G681+G641+G661","v":2598}]
["Муниципальная  программа «Муниципальное управление города Лыткарино на 2017-2021 годы»","05","05","01 0 00 00000",null,{"$f":"F642+F656","v":9093.5999999999985}]
["Обеспечивающая подпрограмма","05","05","01 1 00 00000",null,{"$f":"F643","v":9091.0999999999985}]
["Основное  мероприятие  \" Обеспечение  деятельности  Администрации  городcкого округа  Лыткарино  и  ее функциональных  органов\" ","05","05","01 1 01 00000",null,{"$f":"F644","v":9091.0999999999985}]
["Центральный аппарат","05","05","01 1 01 04000",null,{"$f":"F645+F650+F653","v":9091.0999999999985}]
["Расходы на обеспечение  деятельности  центрального  аппарата","05","05",{"$f":"D646","v":"01 1 01 04010"},null,{"$f":"F646+F648","v":969.9}]
["Закупка товаров, работ и услуг для обеспечения государственных (муниципальных) нужд","05","05",{"$f":"D647","v":"01 1 01 04010"},200,{"$f":"F647","v":932.1}]
["Иные закупки товаров, работ и услуг для обеспечения государственных (муниципальных) нужд","05","05",{"$f":"D648","v":"01 1 01 04010"},240,{"$f":"'ведом. 2019'!AD448","v":932.1},null,9.5]
["Иные бюджетные ассигнования","05","05",{"$f":"D649","v":"01 1 01 04010"},800,{"$f":"F649","v":37.799999999999997}]
["Уплата налогов, сборов и иных платежей","05","05","01 1 01 04010",850,{"$f":"'ведом. 2019'!AD450","v":37.799999999999997}]
["Расходы на содержание  лиц,  замещающих должности, не являющиеся должностями муниципальной  службы","05","05",{"$f":"D651","v":"01 1 01 04020"},null,{"$f":"F651","v":4306.7}]
["Расходы на выплаты персоналу в целях обеспечения выполнения функций государственными (муниципальными) органами, казенными учреждениями, органами управления государственными внебюджетными фондами ","05","05",{"$f":"D652","v":"01 1 01 04020"},100,{"$f":"F652","v":4306.7}]
["Расходы на выплаты персоналу государственных (муниципальных) органов","05","05","01 1 01 04020",120,{"$f":"'ведом. 2019'!AD453","v":4306.7}]
["Расходы на содержание  лиц,  замещающих должности  муниципальной  службы","05","05",{"$f":"D654","v":"01 1 01 04030"},null,{"$f":"F654","v":3814.5}]
["Расходы на выплаты персоналу в целях обеспечения выполнения функций государственными (муниципальными) органами, казенными учреждениями, органами управления государственными внебюджетными фондами ","05","05",{"$f":"D655","v":"01 1 01 04030"},100,{"$f":"F655","v":3814.5}]
["Расходы на выплаты персоналу государственных (муниципальных) органов","05","05","01 1 01 04030",120,{"$f":"'ведом. 2019'!AD456","v":3814.5}]
["Подпрограмма «Развитие системы информирования населения о деятельности органов местного самоуправления города Лыткарино Московской области» ","05","05","01 4 00 00000",null,{"$f":"F657","v":2.5},null,null,null,null,null,null,null,null,null,null,null,null,null,"Подпрограмма «Развитие системы информирования населения о деятельности органов местного самоуправления города Лыткарино Московской области» ","902","05","05","01 4 00 00000",null,{"$f":"Z657","v":2.5}]
["Основное мероприятие \"Информирование населения г.Лыткарино об основных событиях социально-экономического развития, общественно-политической жизни, о деятельности органов местного самоуправления города  Лыткарино\" ","05","05","01 4 01 00000",null,{"$f":"F658","v":2.5},null,null,null,null,null,null,null,null,null,null,null,null,null,"Основное  мероприятие  \"Информирование  населения  города  Лыткарино  об  основных  событиях  социально-экономического  развития,  общественно-политической  жизни, о  деятельности  органов  местного  самоуправления\"","902","05","05","01 4 02 00000",null,{"$f":"Z658","v":2.5}]
["Осуществление взаимодействия органов местного самоуправления с печатными  средствами массовой  информации  в  области  подписки,доставки  и  распространения тиражей печатных изданий","05","05",{"$f":"D659","v":"01 4 01 00020"},null,{"$f":"F659","v":2.5},null,null,null,null,null,null,null,null,null,null,null,null,null,"Осуществление взаимодействия органов местного самоуправления с печатными  средствами массовой  информации  в  области  подписки,доставки  и  распространения тиражей печатных изданий","902","05","05",{"$f":"X659","v":"01 4 02 00020"},null,{"$f":"Z659","v":2.5}]
["Закупка товаров, работ и услуг для обеспечения государственных (муниципальных) нужд","05","05",{"$f":"D660","v":"01 4 01 00020"},200,{"$f":"F660","v":2.5},null,null,null,null,null,null,null,null,null,null,null,null,null,"Закупка товаров, работ и услуг для обеспечения государственных (муниципальных) нужд","902","05","05",{"$f":"X660","v":"01 4 02 00020"},200,{"$f":"Z660","v":2.5}]
["Иные закупки товаров, работ и услуг для обеспечения государственных (муниципальных) нужд","05","05","01 4 01 00020",240,{"$f":"'ведом. 2019'!AD1260","v":2.5},null,null,null,null,null,null,null,null,null,null,null,null,null,"Иные закупки товаров, работ и услуг для обеспечения государственных (муниципальных) нужд","902","05","05","01 4 02 00020",240,2.5]
["Муниципальная  программа  \"Развитие  инженерной инфраструктуры и энергоэффективности  на  территории  города  Лыткарино\"на  2018-2022 годы","05","05","06 0 00 00000",null,{"$f":"F662","v":612},612]
["Обеспечивающая подпрограмма","05","05","06 3 00 00000",null,612,612]
["Основное  мероприятие \"Обеспечение  деятельности  управления\"","05","05","06 3 01 00000",null,612,612]
["Создание административных комиссий, уполномоченных рассматривать дела об административных правонарушениях в сфере благоустройства","05","05","06 3 01 62670",null,{"$f":"F665+F667","v":612},{"$f":"G665+G667","v":612}]
["Расходы на выплаты персоналу в целях обеспечения выполнения функций государственными (муниципальными) органами, казенными учреждениями, органами управления государственными внебюджетными фондами ","05","05","06 3 01 62670",100,{"$f":"F666","v":540},{"$f":"G666","v":540}]
["Расходы на выплаты персоналу государственных (муниципальных) органов","05","05","06 3 01 62670",120,{"$f":"'ведом. 2019'!AD1266","v":540},{"$f":"F666","v":540}]
["Закупка товаров, работ и услуг для обеспечения государственных (муниципальных) нужд","05","05","06 3 01 62670",200,{"$f":"F668","v":72},{"$f":"F667","v":72}]
["Иные закупки товаров, работ и услуг для обеспечения государственных (муниципальных) нужд","05","05","06 3 01 62670",240,{"$f":"'ведом. 2019'!AD1270","v":72},72]
["Муниципальная  программа  \"Безопасность  города  Лыткарино\"  на  2017-2021 годы","05","05","08 0 00 00000",null,{"$f":"F670","v":43.899999999999991}]
["Подпрограмма  \"Обеспечение  пожарной  безопасности\"","05","05","08 5 00 00000",null,{"$f":"F676+F671","v":43.899999999999991}]
[{"$f":"'ведом. 2019'!X459","v":"Основное  мероприятие \"Организация  профилактики  и  ликвидации пожаров  на  территории  города  Лыткарино\""},{"$f":"'ведом. 2019'!Z459","v":"05"},{"$f":"'ведом. 2019'!AA459","v":"05"},{"$f":"'ведом. 2019'!AB459","v":"08 5 01 00000"},null,{"$f":"'ведом. 2019'!AD459","v":3.8}]
[{"$f":"'ведом. 2019'!X460","v":"Мероприятия  в  области  национальной безопасности  и  правоохранительной  деятельности"},{"$f":"'ведом. 2019'!Z460","v":"05"},{"$f":"'ведом. 2019'!AA460","v":"05"},{"$f":"'ведом. 2019'!AB460","v":"08 5 01 12000"},null,{"$f":"'ведом. 2019'!AD460","v":3.8}]
[{"$f":"'ведом. 2019'!X461","v":"Мероприятия  по обеспечению пожарной  безопасности"},{"$f":"'ведом. 2019'!Z461","v":"05"},{"$f":"'ведом. 2019'!AA461","v":"05"},{"$f":"'ведом. 2019'!AB461","v":"08 5 01 12080"},null,{"$f":"'ведом. 2019'!AD461","v":3.8}]
[{"$f":"'ведом. 2019'!X462","v":"Закупка товаров, работ и услуг для обеспечения государственных (муниципальных) нужд"},{"$f":"'ведом. 2019'!Z462","v":"05"},{"$f":"'ведом. 2019'!AA462","v":"05"},{"$f":"'ведом. 2019'!AB462","v":"08 5 01 12080"},{"$f":"'ведом. 2019'!AC462","v":"200"},{"$f":"'ведом. 2019'!AD462","v":3.8}]
[{"$f":"'ведом. 2019'!X463","v":"Иные закупки товаров, работ и услуг для обеспечения государственных (муниципальных) нужд"},{"$f":"'ведом. 2019'!Z463","v":"05"},{"$f":"'ведом. 2019'!AA463","v":"05"},{"$f":"'ведом. 2019'!AB463","v":"08 5 01 12080"},{"$f":"'ведом. 2019'!AC463","v":"240"},{"$f":"'ведом. 2019'!AD463","v":3.8},null,3.8]
["Основное  мероприятие \"Обеспечение мероприятий, направленных  на  снижение уровня травматизма и смертности на пожарах\"","05","05","08 5 02 00000",null,40.099999999999994]
["Мероприятия  в  области  национальной безопасности  и  правоохранительной  деятельности","05","05","08 5 02 12000",null,40.099999999999994]
["Мероприятия  по обеспечению пожарной  безопасности","05","05","08 5 02 12080",null,40.099999999999994]
["Закупка товаров, работ и услуг для обеспечения государственных (муниципальных) нужд","05","05","08 5 02 12080",200,40.099999999999994]
["Иные закупки товаров, работ и услуг для обеспечения государственных (муниципальных) нужд","05","05","08 5 02 12080",240,{"$f":"'ведом. 2019'!AD468","v":40.099999999999994},null," -3,8-9,5=-13,3"]
["Муниципальная программа «Формирование современной городской среды города Лыткарино» на 2018-2024 годы","05","05","10 0 00 00000",null,{"$f":"F684+F697","v":14011.8},{"$f":"G684+G697","v":1986}]
["Обеспечивающая подпрограмма","05","05","10 3 00 00000",null,{"$f":"F683+F696","v":14011.8},{"$f":"G683+G696","v":1986}]
["Основное  мероприятие \" Обеспечение  деятельности  управления \"","05","05","10 3 01 00000",null,{"$f":"F684","v":12025.8}]
["Центральный аппарат","05","05","10 3 01 04000",null,{"$f":"F685+F690+F693","v":12025.8}]
["Расходы  на обеспечение  деятельности  центрального  аппарата","05","05",{"$f":"D686","v":"10 3 01 04010"},null,{"$f":"F686+F688","v":2341.5}]
["Закупка товаров, работ и услуг для обеспечения государственных (муниципальных) нужд","05","05",{"$f":"D687","v":"10 3 01 04010"},200,{"$f":"F687","v":1865.1000000000001}]
["Иные закупки товаров, работ и услуг для обеспечения государственных (муниципальных) нужд","05","05",{"$f":"D688","v":"10 3 01 04010"},240,{"$f":"'ведом. 2019'!AD1277","v":1865.1000000000001}]
["Иные бюджетные ассигнования","05","05",{"$f":"D689","v":"10 3 01 04010"},800,{"$f":"F689","v":476.40000000000003}]
["Уплата налогов, сборов и иных платежей","05","05","10 3 01 04010",850,{"$f":"'ведом. 2019'!AD1279","v":476.40000000000003}]
["Расходы  на  содержание  лиц,  замещающих должности, не являющиеся должностями муниципальной  службы","05","05",{"$f":"D691","v":"10 3 01 04020"},null,{"$f":"F691","v":4492.5999999999995}]
["Расходы на выплаты персоналу в целях обеспечения выполнения функций государственными (муниципальными) органами, казенными учреждениями, органами управления государственными внебюджетными фондами ","05","05",{"$f":"D692","v":"10 3 01 04020"},100,{"$f":"F692","v":4492.5999999999995}]
["Расходы на выплаты персоналу государственных (муниципальных) органов","05","05","10 3 01 04020",120,{"$f":"'ведом. 2019'!AD1282","v":4492.5999999999995}]
["Расходы  на  содержание  лиц,  замещающих должности  муниципальной  службы","05","05",{"$f":"D694","v":"10 3 01 04030"},null,{"$f":"F694","v":5191.6999999999989}]
["Расходы на выплаты персоналу в целях обеспечения выполнения функций государственными (муниципальными) органами, казенными учреждениями, органами управления государственными внебюджетными фондами ","05","05",{"$f":"D695","v":"10 3 01 04030"},100,{"$f":"F695","v":5191.6999999999989}]
["Расходы на выплаты персоналу государственных (муниципальных) органов","05","05","10 3 01 04030",120,{"$f":"'ведом. 2019'!AD1285","v":5191.6999999999989}]
["Основное  мероприятие \"Обеспечение  предоставления  гражданам  субсидий  на  оплату  жилого  помещения  и  коммунальных  услуг\"","05","05","10 3 02 00000",null,{"$f":"F697","v":1986},1986]
["Обеспечение  предоставления гражданам субсидий на оплату жилого помещения и коммунальных услуг","05","05",{"$f":"D698","v":"10 3 02 61420"},null,{"$f":"F698+F700","v":1986},1986]
["Расходы на выплаты персоналу в целях обеспечения выполнения функций государственными (муниципальными) органами, казенными учреждениями, органами управления государственными внебюджетными фондами ","05","05",{"$f":"D699","v":"10 3 02 61420"},100,{"$f":"F699","v":1815},1815]
["Расходы на выплаты персоналу государственных (муниципальных) органов","05","05",{"$f":"D700","v":"10 3 02 61420"},120,{"$f":"'ведом. 2019'!AD1289","v":1815},{"$f":"F699","v":1815}]
["Закупка товаров, работ и услуг для обеспечения государственных (муниципальных) нужд","05","05",{"$f":"D701","v":"10 3 02 61420"},200,{"$f":"F701","v":171},171]
["Иные закупки товаров, работ и услуг для обеспечения государственных (муниципальных) нужд","05","05","10 3 02 61420",240,{"$f":"'ведом. 2019'!AD1291","v":171},{"$f":"F701","v":171}]
[" \"Охрана окружающей среды\"","06",null,null,null,{"$f":"F710+F703","v":1221569},{"$f":"G710+G703","v":1209359.8999999999}]
["Сбор, удаление отходов и очистка сточных вод","06","02",null,null,{"$f":"F704","v":1220903.8},1208694.7]
["Муниципальная  программа  \"Развитие  инженерной инфраструктуры и энергоэффективности  на  территории  города  Лыткарино\"на  2018-2022 годы","06","02","06 0 00 00000",null,1220903.8,1208694.7]
[" ","06","02","06 1 00 00000",null,1220903.8,1208694.7]
["Основное  мероприятие \"Федеральный проект \"Оздоровление Волги\"","06","02","06 1 G6 00000",null,1220903.8,1208694.7]
["Строительство и реконструкция объектов очистки сточных вод в целях сохранения и предотвращения загрязнения реки Волги - строительство городских канализационных очистных сооружений г.Лыткарино производительностью 30 000 м.куб. в сутки","06","02","06 1 G6 50130",null,1220903.8,1208694.7]
["Капитальные вложения в объекты государственной(муниципальной) собственности","06","02","06 1 G6 50130","400",1220903.8,1208694.7]
["Бюджетные инвестиции ","06","02","06 1 G6 50130","410",{"$f":"'ведом. 2019'!AD1299","v":1220903.8},{"$f":"1898202.7-689508","v":1208694.7}]
["Другие вопросы в области охраны окружающей среды ","06","05",null,null,{"$f":"F711","v":665.2},665.2]
["Муниципальная программа «Формирование современной городской среды города Лыткарино» на 2018-2024 годы","06","05","10 0 00 00000",null,665.2,665.2]
["Подпрограмма  \"Благоустройство дворовых и общественных территорий города Лыткарино\"","06","05","10 1 00 00000",null,665.2,665.2]
["Основное  мероприятие \" Охрана  окружающей  среды\"","06","05","10 1 04 00000",null,665.2,665.2]
["Расходы  на погашение кредиторской задолженности за выполненные работы  по ликвидации несанкционированных свалок и навалов мусора","06","05","10 1 04 61610",null,665.2,665.2]
["Иные бюджетные ассигнования","06","05","10 1 04 61610",800,665.2,665.2]
["Субсидии юридическим лицам (кроме некоммерческих организаций), индивидуальным предпринимателям, физическим лицам - производителям товаров, работ, услуг","06","05","10 1 04 61610",810,{"$f":"'ведом. 2019'!AD476","v":665.2},{"$f":"F716","v":665.2}]
["Образование","07",null,null,null,{"$f":"F718+F767+F852+F901+F921","v":1072975.3999999999},{"$f":"G718+G767+G852+G901+G921","v":707795}]
["Дошкольное образование","07","01",null,null,{"$f":"F719+F754+F761","v":444858.1},{"$f":"G719+G754","v":300341}]
["Муниципальная  программа  \"Образование  города  Лыткарино\"  на  2017-2021  годы","07","01","03 0 00 00000",null,{"$f":"F720","v":443961.3},300341]
["Подпрограмма  \"Дошкольное  образование\"","07","01","03 1 00 00000",null,{"$f":"F734+F750+F721","v":443961.3},{"$f":"G734+G750+G721","v":300341}]
[" Основное мероприятие «Создание и развитие объектов дошкольного образования (включая капитальный ремонт, реконструкцию со строительством пристроек и благоустройство территории)»","07","01","03 1 01 00000",null,{"$f":"F728+F722+F725+F731","v":28595.599999999999},{"$f":"G728+G722+G725+G731","v":22249}]
["Благоустройство территорий дошкольных образовательных учреждений","07","01","03 1 01 00050",null,{"$f":"F723","v":445.6}]
["Предоставление субсидий бюджетным, автономным учреждениям и иным некоммерческим организациям","07","01",{"$f":"D724","v":"03 1 01 00050"},600,{"$f":"F724","v":445.6}]
["Субсидии бюджетным учреждениям","07","01","03 1 01 00050",610,{"$f":"'ведом. 2019'!AD897","v":445.6}]
["Мероприятия по проведению технического обследования муниципальных дошкольных образовательных учреждений ","07","01",{"$f":"D726","v":"03 1 01 00070"},null,{"$f":"F726","v":150}]
["Предоставление субсидий бюджетным, автономным учреждениям и иным некоммерческим организациям","07","01",{"$f":"D727","v":"03 1 01 00070"},600,{"$f":"F727","v":150}]
["Субсидии бюджетным учреждениям","07","01","03 1 01 00070",610,{"$f":"'ведом. 2019'!AD900","v":150}]
["Расходы на реализацию дополнительных мероприятий по развитию дошкольных образовательных организаций","07","01","03 1 01 04400",null,{"$f":"F729","v":1500},{"$f":"G729","v":1500}]
["Предоставление субсидий бюджетным, автономным учреждениям и иным некоммерческим организациям","07","01","03 1 01 04400",600,{"$f":"F730","v":1500},{"$f":"G730","v":1500}]
["Субсидии бюджетным учреждениям","07","01","03 1 01 04400",610,{"$f":"'ведом. 2019'!AD903","v":1500},{"$f":"F730","v":1500}]
["Мероприятия по проведению капитального ремонта в муниципальных дошкольных образовательных организациях","07","01","03 1 01 S2590",null,{"$f":"F732","v":26500},{"$f":"G732","v":20749}]
["Предоставление субсидий бюджетным, автономным учреждениям и иным некоммерческим организациям","07","01","03 1 01 S2590",600,{"$f":"F733","v":26500},{"$f":"G733","v":20749}]
["Субсидии бюджетным учреждениям","07","01","03 1 01 S2590",610,{"$f":"'ведом. 2019'!AD906","v":26500},{"$f":"20749+165-165","v":20749}," м.б.-46 обл.б-т -165"]
["Основное  мероприятие \"Финансовое  обеспечение  реализации  прав  граждан  на  получение  общедоступного  и  бесплатного  дошкольного  образования\"","07","01","03 1 02 00000",null,{"$f":"F738+F741+F744+F747+F735","v":415205.7},{"$f":"G738+G741+G744+G747+G735","v":278092}]
["Капитальный  и текущий ремонт пищеблоков, прачечных, кровли, лестничных маршей, групповых помещений, музыкальных залов, коридоров и замена оконных конструкций, фасадов, цоколей, отмостков, вытяжной вентиляции  фундаментов дошкольных образовательных учреждений","07","01",{"$f":"D736","v":"03 1 02 00010"},null,{"$f":"F736","v":582.70000000000005}]
["Предоставление субсидий бюджетным, автономным учреждениям и иным некоммерческим организациям","07","01",{"$f":"D737","v":"03 1 02 00010"},600,{"$f":"F737","v":582.70000000000005}]
["Субсидии бюджетным учреждениям","07","01","03 1 02 00010",610,{"$f":"'ведом. 2019'!AD910","v":582.70000000000005}]
["Снос  (обрезка) аварийных  деревьев  на  территории  дошкольных   образовательных  учреждений","07","01",{"$f":"D739","v":"03 1 02 00030"},null,{"$f":"F739","v":202.8}]
["Предоставление субсидий бюджетным, автономным учреждениям и иным некоммерческим организациям","07","01",{"$f":"D740","v":"03 1 02 00030"},600,{"$f":"F740","v":202.8}]
["Субсидии бюджетным учреждениям","07","01","03 1 02 00030",610,{"$f":"'ведом. 2019'!AD913","v":202.8}]
["Субсидия  на  компенсацию  выпадающих  доходов  в  части  родительской  платы  за  присмотр  и  уход  отдельных  категорий  детей","07","01","03 1 02 00080",null,{"$f":"F742","v":1343.8}]
["Предоставление субсидий бюджетным, автономным учреждениям и иным некоммерческим организациям","07","01","03 1 02 00080",600,{"$f":"F743","v":1343.8}]
["Субсидии бюджетным учреждениям","07","01","03 1 02 00080",610,{"$f":"'ведом. 2019'!AD916","v":1343.8}]
["Расходы  на  обеспечение  деятельности (оказание  услуг ( выполнение  работ))    учреждений    дошкольного  образования ","07","01",{"$f":"D745","v":"03 1 02 04590"},null,{"$f":"F745","v":134984.4}]
["Предоставление субсидий бюджетным, автономным учреждениям и иным некоммерческим организациям","07","01",{"$f":"D746","v":"03 1 02 04590"},600,{"$f":"F746","v":134984.4}]
["Субсидии бюджетным учреждениям","07","01","03 1 02 04590",610,{"$f":"'ведом. 2019'!AD919","v":134984.4}]
["Обеспечение государственных гарантий реализации прав граждан на получение общедоступного и бесплатного дошкольного образования в муниципальных дошкольных образовательных организациях в Московской области, включая расходы на оплату труда, приобретение учебников и учебных пособий, средств обучения, игр, игрушек (за исключением расходов на содержание зданий и оплату коммунальных услуг)","07","01",{"$f":"D748","v":"03 1 02 62110"},null,{"$f":"F748","v":278092},278092]
["Предоставление субсидий бюджетным, автономным учреждениям и иным некоммерческим организациям","07","01",{"$f":"D749","v":"03 1 02 62110"},600,278092,278092]
["Субсидии бюджетным учреждениям","07","01","03 1 02 62110",610,{"$f":"'ведом. 2019'!AD922","v":278092},{"$f":"F749","v":278092}]
["Основное  мероприятие \"Финансовое  обеспечение   прочих  мероприятий  в  сфере дошкольного образования\"","07","01","03 1 03 00000",null,{"$f":"F751","v":160}]
["Прочие  мероприятия  в  сфере  образования","07","01",{"$f":"D752","v":"03 1 03 07000"},null,{"$f":"F752","v":160}]
["Предоставление субсидий бюджетным, автономным учреждениям и иным некоммерческим организациям","07","01",{"$f":"D753","v":"03 1 03 07000"},600,{"$f":"F753","v":160}]
["Субсидии бюджетным учреждениям","07","01","03 1 03 07000",610,{"$f":"'ведом. 2019'!AD926","v":160}]
["Муниципальная  программа  \"Развитие  инженерной инфраструктуры и энергоэффективности  на  территории  города  Лыткарино\"на  2018-2022 годы","07","01"," 06 0 00 00000",null,{"$f":"F755","v":620}]
["Подпрограмма \"Энергосбережение  и  повышение  энергетической  эффективности  на  территории  города Лыткарино\"","07","01","06 2 00 00000",null,620]
["Основное  мероприятие  \"Повышение  энергетической  эффективности  в бюджетной  сфере на  территории  города  Лыткарино\"","07","01","06 2 03 00000",null,620]
["Мероприятия  по  энергосбережению  и  повышению  энергетической  эффективности ","07","01","06 2 03 18000",null,620]
["Установка  (модернизация) ИТП  с установкой теплообменника  отопления и аппаратуры управления отоплением","07","01",{"$f":"D759","v":"06 2 03 18010"},null,620]
["Предоставление субсидий бюджетным, автономным учреждениям и иным некоммерческим организациям","07","01",{"$f":"D760","v":"06 2 03 18010"},600,620]
["Субсидии бюджетным учреждениям","07","01","06 2 03 18010",610,{"$f":"'ведом. 2019'!AD933","v":620}]
["Муниципальная  программа  \"Безопасность  города  Лыткарино\"  на  2017-2021 годы","07","01","08 0 00 00000",null,{"$f":"F762","v":276.8}]
["Основное  мероприятие \"Организация  профилактики  и  ликвидации пожаров  на  территории  города  Лыткарино\"","07","01","08 5 01 00000",null,{"$f":"F763","v":276.8}]
["Мероприятия  в  области  национальной безопасности  и  правоохранительной  деятельности","07","01","08 5 01 12000",null,{"$f":"F764","v":276.8}]
["Мероприятия  по обеспечению пожарной  безопасности","07","01",{"$f":"D765","v":"08 5 01 12080"},null,{"$f":"F765","v":276.8}]
["Закупка товаров, работ и услуг для обеспечения государственных (муниципальных) нужд","07","01",{"$f":"D766","v":"08 5 01 12080"},"600",{"$f":"F766","v":276.8}]
["Иные закупки товаров, работ и услуг для обеспечения государственных (муниципальных) нужд","07","01","08 5 01 12080","610",{"$f":"'ведом. 2019'!AD940","v":276.8}]
["Общее образование","07","02",null,null,{"$f":"F768+F837+F849+F831","v":484787.89999999997},{"$f":"G768","v":403925}]
["Муниципальная  программа  \"Образование  города  Лыткарино\"  на  2017-2021  годы","07","02","03 0 00 00000",null,{"$f":"F769","v":483249},403925]
["Подпрограмма  \"Общее образование\"","07","02","03 2 00 00000",null,{"$f":"F770+F815+F822+F795+F827","v":483249},{"$f":"G770+G815+G822+G795+G827","v":403925}]
["Основное  мероприятие \" Финансовое  обеспечение  деятельности  образовательных  организаций\"","07","02","03 2 01 00000",null,{"$f":"F771+F789+F792+F783+F777+F780+F774+F786","v":442631.5},{"$f":"G771+G789+G792+G783+G777+G780+G774+G786","v":367955}]
["Мероприятия  по  организации  питьевого режима  в образовательных  учреждениях","07","02","03 2 01 00010",null,{"$f":"F772","v":20}]
["Предоставление субсидий бюджетным, автономным учреждениям и иным некоммерческим организациям","07","02",{"$f":"D773","v":"03 2 01 00010"},600,{"$f":"F773","v":20}]
["Субсидии бюджетным учреждениям","07","02","03 2 01 00010",610,{"$f":"'ведом. 2019'!AD947","v":20}]
["Приобретение расходных материалов для проведения единого государственного экзамена","07","02",{"$f":"D775","v":"03 2 01 00020"},null,{"$f":"F775","v":94.5}]
["Предоставление субсидий бюджетным, автономным учреждениям и иным некоммерческим организациям","07","02",{"$f":"D776","v":"03 2 01 00020"},600,{"$f":"F776","v":94.5}]
["Субсидии бюджетным учреждениям","07","02","03 2 01 00020",610,{"$f":"'ведом. 2019'!AD950","v":94.5}]
["Текущий ремонт столовых и пищеблоков","07","02",{"$f":"D778","v":"03 2 01 00040"},null,{"$f":"F778","v":1650}]
["Предоставление субсидий бюджетным, автономным учреждениям и иным некоммерческим организациям","07","02",{"$f":"D779","v":"03 2 01 00040"},600,{"$f":"F779","v":1650}]
["Субсидии бюджетным учреждениям","07","02","03 2 01 00040",610,{"$f":"'ведом. 2019'!AD953","v":1650}]
["Приобретение оборудования и техническое сопровождение региональной системы видеотрансляции и видеопротоколирования ППЭ","07","02",{"$f":"D781","v":"03 2 01 00050"},null,{"$f":"F781","v":928}]
["Предоставление субсидий бюджетным, автономным учреждениям и иным некоммерческим организациям","07","02",{"$f":"D782","v":"03 2 01 00050"},600,{"$f":"F782","v":928}]
["Субсидии бюджетным учреждениям","07","02","03 2 01 00050",610,{"$f":"'ведом. 2019'!AD956","v":928}]
["Расходы  на  замену  фильтров  на  воду  пищеблоков  в    образовательных  учреждениях","07","02","03 2 01 00060",null,{"$f":"F784","v":30}]
["Предоставление субсидий бюджетным, автономным учреждениям и иным некоммерческим организациям","07","02",{"$f":"D783","v":"03 2 01 00060"},600,{"$f":"F785","v":30}]
["Субсидии бюджетным учреждениям","07","02",{"$f":"D784","v":"03 2 01 00060"},610,{"$f":"'ведом. 2019'!AD959","v":30}]
["Расходы  на  приобретение  оборудования  для пищеблоков  в общеобразовательных учреждениях","07","02",{"$f":"D787","v":"03 2 01 00080"},null,{"$f":"F787","v":160}]
["Предоставление субсидий бюджетным, автономным учреждениям и иным некоммерческим организациям","07","02",{"$f":"D788","v":"03 2 01 00080"},600,{"$f":"F788","v":160}]
["Субсидии бюджетным учреждениям","07","02","03 2 01 00080",610,{"$f":"'ведом. 2019'!AD962","v":160}]
["Расходы  на  обеспечение  деятельности  (оказание  услуг (выполнение  работ)) муниципальных  учреждений  школ-детских  садов, школ начальных, неполных средних  и  средних","07","02",{"$f":"D790","v":"03 2 01 05590"},null,{"$f":"F790","v":71793.999999999985}]
["Предоставление субсидий бюджетным, автономным учреждениям и иным некоммерческим организациям","07","02",{"$f":"D791","v":"03 2 01 05590"},600,{"$f":"F791","v":71793.999999999985}]
["Субсидии бюджетным учреждениям","07","02","03 2 01 05590",610,{"$f":"'ведом. 2019'!AD965","v":71793.999999999985}]
["Обеспечение государственных гарантий реализации прав граждан на получение общедоступного и бесплатного дошкольного, начального общего, основного общего, среднего общего образования в муниципальных общеобразовательных организациях в Московской области, обеспечение дополнительного образования в муниципальных общеобразовательных организациях в Московской области, включая расходы на оплату труда, приобретение учебников и учебных пособий, средств обучения, игр, игрушек (за исключением расходов на содержание зданий и оплату коммунальных услуг)","07","02",{"$f":"D793","v":"03 2 01 62200"},null,{"$f":"F793","v":367955},367955]
["Предоставление субсидий бюджетным, автономным учреждениям и иным некоммерческим организациям","07","02",{"$f":"D794","v":"03 2 01 62200"},600,367955,367955]
["Субсидии бюджетным учреждениям","07","02","03 2 01 62200",610,{"$f":"'ведом. 2019'!AD966","v":367955},{"$f":"F794","v":367955}]
["Основное мероприятие \"Обеспечение  развития  инновационной  инфраструктуры  общего  образования\"","07","02","03 2 02 00000",null,{"$f":"F809+F805+F796+F799+F802","v":1790.8},{"$f":"G809+G805+G796","v":0}]
["Проектирование сноса здания на территории земельного участка предназначенного для МС(К)ОУ специальной (коррекционной) общеобразовательной школы N 8 ","07","02","03 2 02 00010",null,{"$f":"F797","v":200}]
["Закупка товаров, работ и услуг для обеспечения государственных (муниципальных) нужд","07","02","03 2 02 00010",200,{"$f":"F798","v":200}]
["Иные закупки товаров, работ и услуг для обеспечения государственных (муниципальных) нужд","07","02","03 2 02 00010",240,{"$f":"'ведом. 2019'!AD484","v":200}]
["Проведение  технического обследования здания МОУ гимназия №1","07","02",{"$f":"D800","v":"03 2 02 00020"},null,{"$f":"F800","v":150}]
["Предоставление субсидий бюджетным, автономным учреждениям и иным некоммерческим организациям","07","02",{"$f":"D801","v":"03 2 02 00020"},600,{"$f":"F801","v":150}]
["Субсидии бюджетным учреждениям","07","02","03 2 02 00020",610,{"$f":"'ведом. 2019'!AD972","v":150}]
["Расходы на проведение капитального ремонта,ремонта кровель, замену оконных конструкций,выполнение противопожарных мероприятий в общеобразовательных организациях","07","02",{"$f":"D803","v":"03 2 02 00030"},null,{"$f":"F803","v":1380}]
["Предоставление субсидий бюджетным, автономным учреждениям и иным некоммерческим организациям","07","02",{"$f":"D804","v":"03 2 02 00030"},600,{"$f":"F804","v":1380}]
["Субсидии бюджетным учреждениям","07","02","03 2 02 00030",610,{"$f":"'ведом. 2019'!AD975","v":1380}]
["Бюджетные инвестиции в  объекты  капитального  строительства  муниципальной  собственности","07","02","03 2 02 22000",null,{"$f":"F806+F812","v":60.8}]
["Капитальные вложения  в общеобразовательные организации -Пир и строительство пристройки на 245 мест к МОУ СОШ №5( городской округ Лыткарино,ул.Комсомольская д.34) ","07","02",{"$f":"D807","v":"03 2 02 22010"},null,{"$f":"F807","v":0}]
[" Капитальные вложения в объекты государственной(муниципальной) собственности","07","02",{"$f":"D808","v":"03 2 02 22010"},400,{"$f":"F808","v":0}]
["Бюджетные инвестиции ","07","02","03 2 02 22010",410,{"$f":"'ведом. 2019'!AD1308","v":0},null,-14532.1]
["Капитальные вложения в общеобразовательные организации в целях обеспечения односменного режима обучения - реконструкция здания МС(К)ОУ специальной (коррекционной) общеобразовательной школы №8 для детей с ОВЗ на 216 мест, г.о.Лыткарино, ул.Пионерская, д.12б (ПИР и строительство)","07","02",{"$f":"D810","v":"03 2 02 64480"},null,{"$f":"F810","v":0},{"$f":"G810","v":0}]
[" Капитальные вложения в объекты государственной(муниципальной) собственности","07","02",{"$f":"D811","v":"03 2 02 64480"},400,{"$f":"F811","v":0},{"$f":"G811","v":0}]
["Бюджетные инвестиции ","07","02","03 2 02 64480",410,{"$f":"'ведом. 2019'!AD1311","v":0},{"$f":"F811","v":0}]
["Реконструкция здания МС(К)ОУ специальной (коррекционной) общеобразовательной школы N 8 для детей с ОВЗ на 216  мест, г.о. Лыткарино, ул. Пионерская, д. 12б (ПИР и строительство) в части лабораторно-инструментальных исследований и экспертизы данных исследований в отношении земельного участка для размещения школы","07","02",{"$f":"D813","v":"03 2 02 22020"},null,{"$f":"F813","v":60.8}]
[" Капитальные вложения в объекты государственной(муниципальной) собственности","07","02",{"$f":"D814","v":"03 2 02 22020"},400,{"$f":"F814","v":60.8}]
["Бюджетные инвестиции ","07","02","03 2 02 22020",410,{"$f":"'ведом. 2019'!AD1314","v":60.8}]
["Основное  мероприятие \"Обеспечение  мер  социальной  поддержки  обучающихся  в  образовательных  организациях\"","07","02","03 2 03 00000",null,{"$f":"F816+F819","v":24969},24969]
["Частичная компенсация стоимости питания отдельным категориям обучающихся в муниципальных общеобразовательных организациях в Московской области и в частных общеобразовательных организациях в Московской области, осуществляющих образовательную деятельность по имеющим государственную аккредитацию основным общеобразовательным программам","07","02",{"$f":"D817","v":"03 2 03 62220"},null,{"$f":"F817","v":24902},24902]
["Предоставление субсидий бюджетным, автономным учреждениям и иным некоммерческим организациям","07","02",{"$f":"D818","v":"03 2 03 62220"},600,24902,24902]
["Субсидии бюджетным учреждениям","07","02","03 2 03 62220",610,{"$f":"'ведом. 2019'!AD979","v":24902},{"$f":"F818","v":24902}]
["Оплата расходов, связанных с компенсацией проезда к месту учебы и обратно отдельным категориям обучающихся по  очной  форме  обучения муниципальных образовательных организаций в  Московской области","07","02",{"$f":"D820","v":"03 2 03 62230"},null,{"$f":"F820","v":67},67]
["Предоставление субсидий бюджетным, автономным учреждениям и иным некоммерческим организациям","07","02",{"$f":"D821","v":"03 2 03 62230"},600,67,67]
["Субсидии бюджетным учреждениям","07","02","03 2 03 62230",610,{"$f":"'ведом. 2019'!AD982","v":67},{"$f":"F821","v":67}]
["Основное  мероприятие \"Прочие  мероприятия  в  сфере общего образования\"","07","02","03 2 05 00000",null,{"$f":"F825+F823","v":2277.6999999999998}]
["Социальное обеспечение и иные выплаты населению","07","02","03 2 05 07000",300,{"$f":"F824","v":470}]
["Стипендии","07","02","03 2 05 07000",340,{"$f":"'ведом. 2019'!AD986","v":470}]
["Предоставление субсидий бюджетным, автономным учреждениям и иным некоммерческим организациям","07","02",{"$f":"D826","v":"03 2 05 07000"},600,{"$f":"F826","v":1807.6999999999998}]
["Субсидии бюджетным учреждениям","07","02","03 2 05 07000",610,{"$f":"'ведом. 2019'!AD988","v":1807.6999999999998}]
["Основное мероприятие \"Федеральный проект \"Современная  школа\" ","07","02","03 2 E1 00000",null,{"$f":"F828","v":11580},11001]
["Реконструкция здания МС(К)ОУ специальной (коррекционной) общеобразовательной школы N 8 для детей с ОВЗ на 216  мест, г.о. Лыткарино, ул. Пионерская, д. 12б (ПИР и строительство)","07","02",{"$f":"D829","v":"03 2 E1 S4480"},null,11580,11001]
[" Капитальные вложения в объекты государственной(муниципальной) собственности","07","02",{"$f":"D830","v":"03 2 E1 S4480"},400,11580,11001]
["Бюджетные инвестиции ","07","02","03 2 E1 S4480",410,{"$f":"'ведом. 2019'!AD1318","v":11580},{"$f":"95000-83999","v":11001}]
["Муниципальная  программа  \"Забота\"  на  2017-2021 годы","07","02","07 0 00 00000",null,{"$f":"F832","v":772.1}]
["Подпрограмма  \"Доступная  среда  города  Лыткарино\"","07","02","07 1 00 00000",null,{"$f":"F833","v":772.1}]
["Основное  мероприятие\"Организация  безбарьерной  среды  на  объектах  социальной  инфраструктуры\"","07","02","07 1 02 00000",null,{"$f":"F834","v":772.1}]
["Расходы  на  оснащение  объектов  социальной  инфраструктуры  для  организации безбарьерного  доступа","07","02",{"$f":"D835","v":"07 1 02 00010"},null,{"$f":"F835","v":772.1}]
["Предоставление субсидий бюджетным, автономным учреждениям и иным некоммерческим организациям","07","02",{"$f":"D836","v":"07 1 02 00010"},600,{"$f":"F836","v":772.1}]
["Субсидии бюджетным учреждениям","07","02","07 1 02 00010",610,{"$f":"'ведом. 2019'!AD994","v":772.1}]
["Муниципальная  программа  \"Безопасность  города  Лыткарино\"  на  2017-2021 годы","07",{"$f":"C844","v":"02"},"08 0 00 00000",null,{"$f":"F838+F844","v":606.70000000000005}]
["Подпрограмма \"Профилактика  преступлений  и  иных  правонарушений\"","07",{"$f":"C845","v":"02"}," 08 1 00 00000",null,{"$f":"F839","v":218.7}]
["Основное  мероприятие \"Профилактика  и  предупреждение  преступлений  и   иных  правонарушений  в  том  числе  экстремистской  (террористической)  направленности\"","07","02","08 1 02 00000",null,{"$f":"F840","v":218.7}]
["Мероприятия  в  области  национальной безопасности  и  правоохранительной  деятельности","07","02","08 1 02 12000",null,{"$f":"F841","v":218.7}]
["Разработка,установка и пусконаладочные  работы  систем  контроля  и  управления  доступом ","07","02",{"$f":"D842","v":"08 1 02 12020"},null,{"$f":"F842","v":218.7}]
["Предоставление субсидий бюджетным, автономным учреждениям и иным некоммерческим организациям","07",{"$f":"C843","v":"02"},{"$f":"D843","v":"08 1 02 12020"},600,{"$f":"F843","v":218.7}]
["Субсидии бюджетным учреждениям","07",{"$f":"C844","v":"02"},"08 1 02 12020",610,{"$f":"'ведом. 2019'!AD1001","v":218.7}]
["Основное  мероприятие \"Организация  профилактики  и  ликвидации пожаров  на  территории  города  Лыткарино\"","07",{"$f":"C845","v":"02"},"08 5 01 00000",null,{"$f":"F845","v":388}]
["Мероприятия  в  области  национальной безопасности  и  правоохранительной  деятельности","07",{"$f":"C846","v":"02"},"08 5 01 12000",null,{"$f":"F846","v":388}]
["Мероприятия  по обеспечению пожарной  безопасности","07",{"$f":"C847","v":"02"},{"$f":"D847","v":"08 5 01 12080"},null,{"$f":"F847","v":388}]
["Предоставление субсидий бюджетным, автономным учреждениям и иным некоммерческим организациям","07","02",{"$f":"D848","v":"08 5 01 12080"},"600",{"$f":"F848","v":388}]
["Субсидии бюджетным учреждениям","07","02","08 5 01 12080","610",{"$f":"'ведом. 2019'!AD1007","v":388}]
["Возврат  средстств субвенции на обеспечение государственных гарантий реализации прав граждан на получение общедоступного и бесплатного дошкольного, начального общего, основного общего, среднего общего образования в муниципальных общеобразовательных организациях в Московской области, обеспечение дополнительного образования в муниципальных общеобразовательных организациях в Московской области, включая расходы на оплату труда, приобретение учебников и учебных пособий, средств обучения, игр, игрушек (за исключением расходов на содержание зданий и оплату коммунальных услуг)","07","02","99 0 00 00800",null,{"$f":"F850","v":160.1}]
["Иные бюджетные ассигнования","07","02","99 0 00 00800","800",{"$f":"F851","v":160.1}]
["Уплата налогов, сборов и иных платежей","07","02","99 0 00 00800","850",{"$f":"'ведом. 2019'!AD1011","v":160.1}]
["Дополнительное образование детей","07","03",null,null,{"$f":"F853+F869+F889+F896","v":101597.59999999999}]
["Муниципальная  программа «Культура города Лыткарино» на 2017-2021 годы","07","03","02 0 00 00000",null,{"$f":"F854+F864+F859","v":37181}]
["Подпрограмма  «Организация досуга, предоставление услуг в сфере культуры и доступа к музейным фондам, развитие образования в сфере культуры и искусства в городе Лыткарино» ","07","03","02 2 00 00000",null,{"$f":"F855","v":36166}]
["Основное  мероприятие  \"Выделение  средств  субсидии  на  выполнение  муниципального  задания\"","07","03","02 2 01 00000",null,{"$f":"F856","v":36166}]
["Расходы  на  обеспечение  деятельности  (оказание  услуг (выполнение  работ)) муниципальных  учреждений  по  внешкольной  работе  с  детьми (музыкальная  школа)","07","03",{"$f":"D857","v":"02 2 01 06590"},null,{"$f":"F857","v":36166}]
["Предоставление субсидий бюджетным, автономным учреждениям и иным некоммерческим организациям","07","03",{"$f":"D858","v":"02 2 01 06590"},600,{"$f":"F858","v":36166}]
["Субсидии бюджетным учреждениям","07","03","02 2 01 06590",610,{"$f":"'ведом. 2019'!AD491","v":36166}]
["Подпрограмма  «Укрепление материально-технической базы и благоустройство территории муниципальных учреждений в сфере культуры города Лыткарино\"","07","03","02 3 00 00000",null,{"$f":"F860","v":1000}]
["Основное  мероприятие  «Укрепление материально-технической базы муниципальных учреждений в сфере культуры города Лыткарино\"","07","03","02 3 01 00000",null,{"$f":"F861","v":1000}]
["Укрепление  материльно-технической базы МУ \"Детская музыкальная  школа\"","07","03","02 3 01 00070",null,{"$f":"F862","v":1000}]
["Предоставление субсидий бюджетным, автономным учреждениям и иным некоммерческим организациям","07","03","02 3 01 00070",600,{"$f":"F863","v":1000}]
["Субсидии бюджетным учреждениям","07","03","02 3 01 00070",610,{"$f":"'ведом. 2019'!AD496","v":1000}]
["Подпрограмма  \"Истоки\"","07","03","02 5 00 00000",null,{"$f":"F865","v":15}]
["Основное  мероприятие \"Проведение  мероприятий  по  подпрограмме  \"Истоки\"\"","07","03","02 5 01 00000",null,{"$f":"F866","v":15}]
["Мероприятия  в  сфере  образования","07","03",{"$f":"D867","v":"02 5 01 07000"},null,{"$f":"F867","v":15}]
["Предоставление субсидий бюджетным, автономным учреждениям и иным некоммерческим организациям","07","03",{"$f":"D868","v":"02 5 01 07000"},600,{"$f":"F868","v":15}]
["Субсидии бюджетным учреждениям","07","03","02 5 01 07000",610,{"$f":"'ведом. 2019'!AD501","v":15}]
["Муниципальная  программа  \"Образование  города  Лыткарино\"  на  2017-2021  годы","07","03","03 0 00 00000",null,{"$f":"F870","v":64156.7}]
["Подпрограмма  \"Дополнительное  образование  и  воспитание  детей\"","07","03","03 3 00 00000",null,{"$f":"F871+F881+F885","v":64156.7}]
["Основное  мероприятие \"Реализация  комплекса  мер, обеспечивающих  развитие  системы  дополнительного  образования  детей,  в  том  числе  направленных  на  совершенствование организационно-экономических  механизмов  обеспечения  доступности  услуг  дополнительного  образования  и  психологического  сопровождения  обучающихся\"","07","03","03 3 01 00000",null,{"$f":"F878+F872+F875","v":54326.899999999994}]
["Расходы на текущий ремонт в муниципальных учреждениях дополнительного образования","07","03","03 3 01 00010",null,{"$f":"F873","v":2463.5}]
["Предоставление субсидий бюджетным, автономным учреждениям и иным некоммерческим организациям","07","03","03 3 01 00010",600,{"$f":"F874","v":2463.5}]
["Субсидии бюджетным учреждениям","07","03","03 3 01 00010",610,{"$f":"'ведом. 2019'!AD1018","v":2463.5}]
["Укрепление  материально-технической базы учреждений дополнительного  образования","07","03",{"$f":"D876","v":"03 3 01 00020"},null,{"$f":"F876","v":99.2}]
["Предоставление субсидий бюджетным, автономным учреждениям и иным некоммерческим организациям","07","03",{"$f":"D877","v":"03 3 01 00020"},600,{"$f":"F877","v":99.2}]
["Субсидии бюджетным учреждениям","07","03","03 3 01 00020",610,{"$f":"'ведом. 2019'!AD1021","v":99.2}]
["Расходы  на  обеспечение  деятельности  (оказание  услуг  (выполнение  работ)) муниципальных  учреждений  по  внешкольной  работе  с  детьми","07","03",{"$f":"D879","v":"03 3 01 06590"},null,{"$f":"F879","v":51764.2}]
["Предоставление субсидий бюджетным, автономным учреждениям и иным некоммерческим организациям","07","03",{"$f":"D880","v":"03 3 01 06590"},600,{"$f":"F880","v":51764.2}]
["Субсидии бюджетным учреждениям","07","03","03 3 01 06590",610,{"$f":"'ведом. 2019'!AD1024","v":51764.2},null,-9632]
["Основное  мероприятие \"Прочие  мероприятия  в  сфере дополнительного образования\"","07","03","03 3 03 00000",null,{"$f":"F882","v":197.8}]
["Прочие  мероприятия  в  сфере  образования","07","03",{"$f":"D883","v":"03 3 03 07000"},null,{"$f":"F883","v":197.8}]
["Предоставление субсидий бюджетным, автономным учреждениям и иным некоммерческим организациям","07","03",{"$f":"D884","v":"03 3 03 07000"},600,{"$f":"F884","v":197.8}]
["Субсидии бюджетным учреждениям","07","03","03 3 03 07000",610,{"$f":"'ведом. 2019'!AD1033","v":197.8}]
[{"$f":"'ведом. 2019'!X1034","v":"Основное мероприятие \"Обеспечение функционирования модели персонифицированного финансирования дополнительного образования детей\" "},{"$f":"'ведом. 2019'!Z1034","v":"07"},{"$f":"'ведом. 2019'!AA1034","v":"03"},{"$f":"'ведом. 2019'!AB1034","v":"03 3 04 00000"},{"$f":"'ведом. 2019'!AC1034","v":0},{"$f":"'ведом. 2019'!AD1034","v":9632}]
[{"$f":"'ведом. 2019'!X1035","v":"Внедрение и обеспечение функционирования модели персонифицированного финансирования дополнительного образования детей"},{"$f":"'ведом. 2019'!Z1035","v":"07"},{"$f":"'ведом. 2019'!AA1035","v":"03"},{"$f":"'ведом. 2019'!AB1035","v":"03 3 04 00010"},{"$f":"'ведом. 2019'!AC1035","v":0},{"$f":"'ведом. 2019'!AD1035","v":9632}]
[{"$f":"'ведом. 2019'!X1036","v":"Предоставление субсидий бюджетным, автономным учреждениям и иным некоммерческим организациям"},{"$f":"'ведом. 2019'!Z1036","v":"07"},{"$f":"'ведом. 2019'!AA1036","v":"03"},{"$f":"'ведом. 2019'!AB1036","v":"03 3 04 00010"},{"$f":"'ведом. 2019'!AC1036","v":600},{"$f":"'ведом. 2019'!AD1036","v":9632}]
[{"$f":"'ведом. 2019'!X1037","v":"Субсидии бюджетным учреждениям"},{"$f":"'ведом. 2019'!Z1037","v":"07"},{"$f":"'ведом. 2019'!AA1037","v":"03"},{"$f":"'ведом. 2019'!AB1037","v":"03 3 04 00010"},{"$f":"'ведом. 2019'!AC1037","v":610},{"$f":"'ведом. 2019'!AD1037","v":9632},null,9632]
["Муниципальная  программа  \"Безопасность  города  Лыткарино\"  на  2017-2021 годы","07","03","08 0 00 00000",null,{"$f":"F890","v":98.9}]
["Подпрограмма \"Профилактика  преступлений  и  иных  правонарушений\"","07","03"," 08 1 00 00000",null,98.9]
["Основное  мероприятие \"Профилактика  и  предупреждение  преступлений  и   иных  правонарушений  в  том  числе  экстремистской  (террористической)  направленности\"","07","03","08 1 02 00000",null,98.9]
["Мероприятия  в  области  национальной безопасности  и  правоохранительной  деятельности","07","03","08 1 02 12000",null,98.9]
["Разработка,установка и пусконаладочные  работы  систем  контроля  и  управления  доступом ","07","03",{"$f":"D894","v":"08 1 02 12020"},null,98.9]
["Предоставление субсидий бюджетным, автономным учреждениям и иным некоммерческим организациям","07","03",{"$f":"D895","v":"08 1 02 12020"},600,98.9]
["Субсидии бюджетным учреждениям","07","03","08 1 02 12020",610,98.9]
["Муниципальная программа  «Развитие информационно-коммуникационных технологий для повышения эффективности процессов управления и создания благоприятных условий жизни и ведения бизнеса в городе  Лыткарино Московской области» на 2017-2021годы","07","03","13 0 00 00000",null,{"$f":"F897","v":161}]
["Основное мероприятие \"Федеральный проект \"Цифровая образовательная среда\"","07","03","13 0 Е4 00000",null,{"$f":"F898","v":161}]
["Обеспечение  современными аппаратно-программными комплексами со средствами криптозащиты информации для муниципальных организаций Московской области","07","03",{"$f":"D899","v":"13 0 Е4 00030"},null,{"$f":"F899","v":161}]
["Предоставление субсидий бюджетным, автономным учреждениям и иным некоммерческим организациям","07","03",{"$f":"D900","v":"13 0 Е4 00030"},600,{"$f":"F900","v":161}]
["Субсидии бюджетным учреждениям","07","03","13 0 Е4 00030",610,{"$f":"'ведом. 2019'!AD1049","v":161}]
["Молодежная политика ","07","07",null,null,{"$f":"F902+F908","v":1747.9}]
["Муниципальная  программа  \"Безопасность  города  Лыткарино\"  на  2017-2021 годы","07","07","08 0 00 00000",null,{"$f":"F903","v":355.5}]
["Подпрограмма \"Профилактика  преступлений  и  иных  правонарушений\"","07","07","08 1 00 00000",null,355.5]
["Основное  мероприятие\" Профилактика  и  предупреждение  молодежной (подростковой)  преступности\"","07","07","08 1 01 00000",null,355.5]
["Мероприятия  в  сфере  молодежной  политики","07","07","08 1 01 10000",null,{"$f":"F906","v":355.5}]
["Закупка товаров, работ и услуг для обеспечения государственных (муниципальных) нужд","07","07","08 1 01 10000",200,355.5]
["Иные закупки товаров, работ и услуг для обеспечения государственных (муниципальных) нужд","07","07","08 1 01 10000",240,{"$f":"'ведом. 2019'!AD508","v":355.5}]
["Муниципальная  программа «Молодое поколение города Лыткарино» на 2017 - 2021 годы","07","07","11 0 00 00000",null,{"$f":"F909","v":1392.4}]
["Подпрограмма  \"Мероприятия  для  подростков  и  молодежи  города  Лыткарино\"","07","07","11 1 00 00000",null,{"$f":"F910+F917","v":1392.4}]
["Основное  мероприятие \" Проведение  мероприятий в соответствии с планом  мероприятий  для  подростков и  молодежи  города  Лыткарино\"","07","07","11 1 01 00000",null,{"$f":"F911","v":902.4}]
["Мероприятия  в  сфере  молодежной  политики","07","07","11 1 01 10000",null,{"$f":"F912+F914","v":902.4}]
["Закупка товаров, работ и услуг для обеспечения государственных (муниципальных) нужд","07","07","11 1 01 10000",200,{"$f":"F913","v":765.8}]
["Иные закупки товаров, работ и услуг для обеспечения государственных (муниципальных) нужд","07","07","11 1 01 10000",240,{"$f":"'ведом. 2019'!AD514","v":765.8}]
["Предоставление субсидий бюджетным, автономным учреждениям и иным некоммерческим организациям","07","07","11 1 01 10000",600,{"$f":"F915","v":136.6}]
["Субсидии бюджетным учреждениям","07","07","11 1 01 10000",610,{"$f":"'ведом. 2019'!AD516","v":136.6}]
["Подпрограмма  «Развитие системы отдыха и оздоровления детей и организация трудовой занятости подростков города Лыткарино в период школьных каникул»","07","07","11 2 00 00000",null,{"$f":"F917","v":490}]
["Основное мероприятие \"Организация временного  трудоустройства  подростков  в период  летних  школьных каникул","07","07","11 1 03 00000",null,{"$f":"F918","v":490}]
["Мероприятия  в  сфере  молодежной  политики","07","07","11 1 03 10000",null,{"$f":"F919","v":490}]
["Предоставление субсидий бюджетным, автономным учреждениям и иным некоммерческим организациям","07","07","11 1 03 10000",600,{"$f":"F920","v":490}]
["Субсидии бюджетным учреждениям","07","07","11 1 03 10000",610,{"$f":"'ведом. 2019'!AD1056","v":490}]
[" Другие вопросы в области образования","07","09",null,null,{"$f":"F928+F922+F957","v":39983.9},{"$f":"G928+G922+G957","v":3529}]
["Муниципальная  программа «Муниципальное управление города Лыткарино на 2017-2021 годы»","07","09","01 0 00 00000",null,{"$f":"F923","v":4.5}]
["Подпрограмма «Развитие системы информирования населения о деятельности органов местного самоуправления города Лыткарино Московской области» ","07","09","01 4 00 00000",null,{"$f":"F924","v":4.5}]
["Основное мероприятие \"Информирование населения г.Лыткарино об основных событиях социально-экономического развития, общественно-политической жизни, о деятельности органов местного самоуправления города  Лыткарино\" ","07","09","01 4 01 00000",null,{"$f":"F925","v":4.5}]
["Осуществление взаимодействия органов местного самоуправления с печатными  средствами массовой  информации  в  области  подписки,доставки  и  распространения тиражей печатных изданий","07","09",{"$f":"D926","v":"01 4 01 00020"},null,{"$f":"F926","v":4.5}]
["Закупка товаров, работ и услуг для обеспечения государственных (муниципальных) нужд","07","09",{"$f":"D927","v":"01 4 01 00020"},200,{"$f":"F927","v":4.5}]
["Иные закупки товаров, работ и услуг для обеспечения государственных (муниципальных) нужд","07","09","01 4 01 00020",240,{"$f":"'ведом. 2019'!AD1063","v":4.5}]
["Муниципальная  программа  \"Образование  города  Лыткарино\"  на  2017-2021  годы","07","09","03 0 00 00000",null,{"$f":"F929+F934","v":35169.4},802]
["Подпрограмма  \"Дошкольное  образование\"","07","09","03 1 00 00000",null,{"$f":"F930","v":802},802]
["Основное  мероприятие \"Финансовое  обеспечение  реализации  прав  граждан  на  получение  общедоступного  и  бесплатного  дошкольного  образования\"","07","09","03 1 02 00000",null,802,802]
["Выплата компенсации  родительской платы за присмотр  и  уход  за  детьми,  осваивающими  образовательные  программы  дошкольного  образования  в  организациях  Московской  области,  осуществляющих  образовательную  деятельность","07","09",{"$f":"D932","v":"03 1 02 62140"},null,{"$f":"F932","v":802},802]
["Предоставление субсидий бюджетным, автономным учреждениям и иным некоммерческим организациям","07","09",{"$f":"D933","v":"03 1 02 62140"},600,802,802]
["Субсидии бюджетным учреждениям","07","09","03 1 02 62140",610,{"$f":"'ведом. 2019'!AD1069","v":802},{"$f":"F933","v":802}]
["Обеспечивающая подпрограмма","07","09","03 4 00 00000",null,{"$f":"F935+F949+F953","v":34367.4}]
["Основное  мероприятие \"Обеспечение  деятельности  управления\"","07","09","03 4 01 00000",null,{"$f":"F936","v":17159.300000000003}]
["Расходы  на  содержание  и обеспечение  деятельности  центрального  аппарата","07","09","03 4 01 04000",null,{"$f":"F937+F943+F946","v":17159.300000000003}]
["Расходы  на   обеспечение  деятельности  центрального  аппарата","07","09",{"$f":"D938","v":"03 4 01 04010"},null,{"$f":"F938+F940","v":1476.1000000000001}]
["Закупка товаров, работ и услуг для обеспечения государственных (муниципальных) нужд","07","09",{"$f":"D939","v":"03 4 01 04010"},200,{"$f":"F939","v":1407.2}]
["Иные закупки товаров, работ и услуг для обеспечения государственных (муниципальных) нужд","07","09",{"$f":"D940","v":"03 4 01 04010"},240,{"$f":"'ведом. 2019'!AD1075","v":1407.2}]
["Иные бюджетные ассигнования","07","09",{"$f":"D942","v":"03 4 01 04010"},800,{"$f":"F942+F941","v":68.900000000000006}]
[{"$f":"'ведом. 2019'!X1077","v":"Исполнение судебных актов"},{"$f":"'ведом. 2019'!Z1077","v":"07"},{"$f":"'ведом. 2019'!AA1077","v":"09"},{"$f":"'ведом. 2019'!AB1077","v":"03 4 01 04010"},{"$f":"'ведом. 2019'!AC1077","v":830},{"$f":"'ведом. 2019'!AD1077","v":12.9},null,12.9]
["Уплата налогов, сборов и иных платежей","07","09","03 4 01 04010",850,{"$f":"'ведом. 2019'!AD1078","v":56.000000000000007},null,-12.9]
["Расходы  на  содержание  лиц,  замещающих должности, не являющиеся должностями муниципальной  службы","07","09",{"$f":"D944","v":"03 4 01 04020"},null,{"$f":"F944","v":5387.8}]
["Расходы на выплаты персоналу в целях обеспечения выполнения функций государственными (муниципальными) органами, казенными учреждениями, органами управления государственными внебюджетными фондами ","07","09",{"$f":"D945","v":"03 4 01 04020"},100,{"$f":"F945","v":5387.8}]
["Расходы на выплаты персоналу государственных (муниципальных) органов","07","09","03 4 01 04020",120,{"$f":"'ведом. 2019'!AD1081","v":5387.8}]
["Расходы  на  содержание  лиц,  замещающих должности  муниципальной  службы","07","09","03 4 01 04030",null,{"$f":"F947","v":10295.400000000001}]
["Расходы на выплаты персоналу в целях обеспечения выполнения функций государственными (муниципальными) органами, казенными учреждениями, органами управления государственными внебюджетными фондами ","07","09","03 4 01 04030",100,{"$f":"F948","v":10295.400000000001}]
["Расходы на выплаты персоналу государственных (муниципальных) органов","07","09","03 4 01 04030",120,{"$f":"'ведом. 2019'!AD1084","v":10295.400000000001}]
["Основное  мероприятие \"Прочие  мероприятия  в  сфере  образования\"","07","09","03 4 02 00000",null,{"$f":"F950","v":244.6}]
["Мероприятия  в  сфере  образования","07","09",{"$f":"D951","v":"03 4 02 07000"},null,{"$f":"F951","v":244.6}]
["Закупка товаров, работ и услуг для обеспечения государственных (муниципальных) нужд","07","09",{"$f":"D952","v":"03 4 02 07000"},200,{"$f":"F952","v":244.6}]
["Иные закупки товаров, работ и услуг для обеспечения государственных (муниципальных) нужд","07","09","03 4 02 07000",240,{"$f":"'ведом. 2019'!AD1088","v":244.6}]
["Основное  мероприятие \"Обеспечение  деятельности  централизованной  бухгалтерии\"  ","07","09","03 4 03 00000",null,{"$f":"F954","v":16963.5}]
["Расходы  на  обеспечение  деятельности  (оказание  услуг (выполнение  работ))  централизованных  бухгалтерий","07","09",{"$f":"D955","v":"03 4 03 07590"},null,{"$f":"F955","v":16963.5}]
["Предоставление субсидий бюджетным, автономным учреждениям и иным некоммерческим организациям","07","09",{"$f":"D956","v":"03 4 03 07590"},600,{"$f":"F956","v":16963.5}]
["Субсидии бюджетным учреждениям","07","09","03 4 03 07590",610,{"$f":"'ведом. 2019'!AD1092","v":16963.5}]
["Муниципальная  программа «Молодое поколение города Лыткарино» на 2017 - 2021 годы","07","09","11 0 00 00000",null,{"$f":"F958","v":4810},{"$f":"G958","v":2727}]
["Подпрограмма  «Развитие системы отдыха и оздоровления детей и организация трудовой занятости подростков города Лыткарино в период школьных каникул»","07","09","11 2 00 00000",null,{"$f":"F959+F974","v":4810},{"$f":"G959+G974","v":2727}]
["Основное  мероприятие \"Организация  отдыха  детей  и  подростков граждан  Российской  Федерации,   имеющих  место  жительства  в  городе  Лыткарино, в  санаторно-курортных  учреждениях  и  загородных  оздоровительных  лагерях\"","07","09","11 2 01 00000",null,{"$f":"F965+F960","v":3392.4},{"$f":"G965+G960","v":2189.4}]
["Мероприятия по организации отдыха детей в каникулярное время ","07","09","11 2 01 62190",null,{"$f":"F961+F963","v":0}]
["Закупка товаров, работ и услуг для обеспечения государственных (муниципальных) нужд","07","09","11 2 01 62190",200,{"$f":"F962","v":0}]
["Иные закупки товаров, работ и услуг для обеспечения государственных (муниципальных) нужд","07","09","11 2 01 62190",240]
["Социальное обеспечение и иные выплаты населению","07","09","11 2 01 62190",300,{"$f":"F964","v":0}]
["Социальные выплаты гражданам, кроме публичных нормативных социальных выплат","07","09","11 2 01 62190",320,{"$f":"'ведом. 2019'!AD525","v":0}]
["Организация  отдыха  детей  и  подростков    в  санаторно-курортных  учреждениях  и  загородных  оздоровительных  лагерях","07","09",{"$f":"D968","v":"11 2 01 S2190"},null,{"$f":"F966+F968+F972","v":3392.4},{"$f":"G966+G968+G972","v":2189.4}]
["Закупка товаров, работ и услуг для обеспечения государственных (муниципальных) нужд","07","09",{"$f":"D967","v":"11 2 01 S2190"},200,{"$f":"F967","v":1693.7},{"$f":"G967","v":1608.7}]
["Иные закупки товаров, работ и услуг для обеспечения государственных (муниципальных) нужд","07","09","11 2 01 S2190",240,{"$f":"'ведом. 2019'!AD528","v":1693.7},{"$f":"2037-425-3.3","v":1608.7}]
["Социальное обеспечение и иные выплаты населению","07","09",{"$f":"D969","v":"11 2 01 S2190"},300,{"$f":"F969","v":952.29999999999984},{"$f":"G969","v":10.7}]
["Социальные выплаты гражданам, кроме публичных нормативных социальных выплат","07","09","11 2 01 S2190",320,{"$f":"'ведом. 2019'!AD530+'ведом. 2019'!AD744+'ведом. 2019'!AD862","v":952.29999999999984},{"$f":"3.3+7.4","v":10.7}]
["Предоставление субсидий бюджетным, автономным учреждениям и иным некоммерческим организациям","07","09",{"$f":"D971","v":"11 2 01 S2190"},600,{"$f":"F971","v":{"$error":"#REF!"}}]
["Субсидии бюджетным учреждениям","07","09","11 2 01 S2190",610,{"$f":"'ведом. 2019'!#REF!","v":{"$error":"#REF!"}}]
["Предоставление субсидий бюджетным, автономным учреждениям и иным некоммерческим организациям","07","09","11 2 01 S2190",600,{"$f":"F973","v":746.4},{"$f":"G973","v":570}]
["Субсидии бюджетным учреждениям","07","09","11 2 01 S2190",610,{"$f":"'ведом. 2019'!AD1098+'ведом. 2019'!AD532","v":746.4},{"$f":"140+425+5","v":570}]
["Основное  мероприятие  \"Организация  отдыха  детей  и  подростков  в   лагерях  с  дневным  пребыванием  на  базе  школ  города\"","07","09","11 2 02 00000",null,{"$f":"F975","v":1417.6},537.6]
["Организация  отдыха  детей  и  подростков  в   лагерях  с  дневным  пребыванием ","07","09",{"$f":"D976","v":"11 2 02 S2190"},null,1417.6,537.6]
["Предоставление субсидий бюджетным, автономным учреждениям и иным некоммерческим организациям","07","09",{"$f":"D977","v":"11 2 02 S2190"},600,1417.6,537.6]
["Субсидии бюджетным учреждениям","07","09","11 2 02 S2190",610,{"$f":"'ведом. 2019'!AD1102","v":1417.6},{"$f":"550-5-7.4","v":537.6}]
["Культура,  кинематография","08",null,null,null,{"$f":"F979","v":106633.9},{"$f":"G979","v":500}]
["Культура ","08","01",null,null,{"$f":"F980+F1019","v":106633.9},{"$f":"G980+G1019","v":500}]
["Муниципальная  программа «Культура города Лыткарино» на 2017-2021 годы","08","01","02 0 00 00000",null,{"$f":"F981+F1007+F1012+F996","v":105194.79999999999},{"$f":"G981+G1007+G1012+G996","v":500}]
["Подпрограмма  «Организация досуга, предоставление услуг в сфере культуры и доступа к музейным фондам, развитие образования в сфере культуры и искусства в городе Лыткарино» ","08","01","02 2 00 00000",null,{"$f":"F982","v":95288.699999999983}]
["Основное  мероприятие  \"Выделение  средств  субсидии  на  выполнение  муниципального  задания\"","08","01","02 2 01 00000",null,{"$f":"F983+F991+F994","v":95288.699999999983}]
["Расходы на  содержание  и  обеспечение    деятельности  дворцов  и домов  культуры (оказание  муниципальных  услуг  (выполнение  работ))","08","01","02 2 01 08590",null,{"$f":"F984+F987","v":51683.399999999994}]
["Предоставление субсидии на  выполнение  муниципального  задания МУ ДК \"Мир\"","08","01","02 2 01 08591",null,{"$f":"F985","v":29049}]
["Предоставление субсидий бюджетным, автономным учреждениям и иным некоммерческим организациям","08","01","02 2 01 08591",600,{"$f":"F986","v":29049}]
["Субсидии бюджетным учреждениям","08","01","02 2 01 08591",610,{"$f":"'ведом. 2019'!AD547","v":29049}]
["Предоставление субсидии на  выполнение  муниципального  задания МУ ДК \"Центр молодежи\"","08","01",{"$f":"D988","v":"02 2 01 08592"},null,{"$f":"F988","v":22634.399999999998}]
["Предоставление субсидий бюджетным, автономным учреждениям и иным некоммерческим организациям","08","01","02 2 01 08592",600,{"$f":"F989","v":22634.399999999998}]
["Субсидии бюджетным учреждениям","08","01","02 2 01 08592",610,{"$f":"'ведом. 2019'!AD550","v":22634.399999999998}]
["Расходы  на содержание  и  обеспечение  деятельности  музеев и постоянных выставок","08","01","02 2 01 09590",null,{"$f":"F991","v":17629.7}]
["Предоставление субсидий бюджетным, автономным учреждениям и иным некоммерческим организациям","08","01",{"$f":"D992","v":"02 2 01 09590"},600,{"$f":"F992","v":17629.7}]
["Субсидии бюджетным учреждениям","08","01","02 2 01 09590",610,{"$f":"'ведом. 2019'!AD553","v":17629.7}]
["Расходы  на  содержание  и  обеспечение  деятельности  библиотек ","08","01",{"$f":"D994","v":"02 2 01 10590"},null,{"$f":"F994","v":25975.599999999999}]
["Предоставление субсидий бюджетным, автономным учреждениям и иным некоммерческим организациям","08","01","02 2 01 10590",600,{"$f":"F995","v":25975.599999999999}]
["Субсидии бюджетным учреждениям","08","01","02 2 01 10590",610,{"$f":"'ведом. 2019'!AD556","v":25975.599999999999}]
["Подпрограмма  «Укрепление материально-технической базы и благоустройство территории муниципальных учреждений в сфере культуры города Лыткарино\"","08","01","02 3 00 00000",null,{"$f":"F997","v":1965.6},{"$f":"G997","v":500}]
["Основное  мероприятие  «Укрепление материально-технической базы муниципальных учреждений в сфере культуры города Лыткарино\"","08","01","02 3 01 00000",null,{"$f":"F998+F1001+F1004","v":1965.6},{"$f":"G998+G1001+G1004","v":500}]
["Укрепление  материльно-технической базы МУ \"Дом культуры \"Центр молодежи\"","08","01","02 3 01 00040",null,{"$f":"F999","v":1030}]
["Предоставление субсидий бюджетным, автономным учреждениям и иным некоммерческим организациям","08","01","02 3 01 00040",600,{"$f":"F1000","v":1030}]
["Субсидии бюджетным учреждениям","08","01","02 3 01 00040",610,{"$f":"'ведом. 2019'!AD561","v":1030}]
["Укрепление  материльно-технической базы МУ \"Лыткаринский историко-краеведческий музей\"","08","01","02 3 01 00060",null,{"$f":"F1002","v":435.6}]
["Предоставление субсидий бюджетным, автономным учреждениям и иным некоммерческим организациям","08","01","02 3 01 00060",600,{"$f":"F1003","v":435.6}]
["Субсидии бюджетным учреждениям","08","01","02 3 01 00060",610,{"$f":"'ведом. 2019'!AD564","v":435.6}]
["Приобретение технического оборудования (компьютеры, мониторы, МФУ, проекторы) и программного обеспечения для МУ \"Централизованная библиотечная система\"","08","01","02 3 01 04400",null,{"$f":"F1005","v":500},{"$f":"G1005","v":500}]
["Предоставление субсидий бюджетным, автономным учреждениям и иным некоммерческим организациям","08","01","02 3 01 04400",600,{"$f":"F1006","v":500},{"$f":"G1006","v":500}]
["Субсидии бюджетным учреждениям","08","01","02 3 01 04400",610,{"$f":"'ведом. 2019'!AD567","v":500},{"$f":"F1006","v":500}]
["Подпрограмма \"Истоки\"","08","01","02 5 00 00000",null,{"$f":"F1008","v":498.1}]
["Основное  мероприятие \"Проведение  мероприятий  по  подпрограмме  \"Истоки\"\"","08","01","02 5 01 00000",null,{"$f":"F1009","v":498.1}]
["Мероприятия в  сфере  культуры  и  кинематографии","08","01",{"$f":"D1010","v":"02 5 01 08000"},null,{"$f":"F1010","v":498.1}]
["Предоставление субсидий бюджетным, автономным учреждениям и иным некоммерческим организациям","08","01",{"$f":"D1011","v":"02 5 01 08000"},600,{"$f":"F1011","v":498.1}]
["Субсидии бюджетным учреждениям","08","01","02 5 01 08000",610,{"$f":"'ведом. 2019'!AD572","v":498.1}]
["Подпрограмма  \" Проведение  культурно-массовых  и  праздничных  мероприятий  в  сфере  культуры  в  городе  Лыткарино\"","08","01","02 6 00 00000",null,{"$f":"F1013","v":7442.4}]
["Основное  мероприятие \"Проведение  культурно-массовых  и  праздничных  мероприятий  в  сфере  культуры  в городе Лыткарино\"","08","01","02 6 01 00000",null,{"$f":"F1014","v":7442.4}]
["Мероприятия в  сфере  культуры  и  кинематографии","08","01",{"$f":"D1015","v":"02 6 01 08000"},null,{"$f":"F1015+F1017","v":7442.4}]
["Закупка товаров, работ и услуг для обеспечения государственных (муниципальных) нужд","08","01",{"$f":"D1016","v":"02 6 01 08000"},200,{"$f":"F1016","v":767.4}]
["Иные закупки товаров, работ и услуг для обеспечения государственных (муниципальных) нужд","08","01","02 6 01 08000",240,{"$f":"'ведом. 2019'!AD577","v":767.4},null,50]
["Предоставление субсидий бюджетным, автономным учреждениям и иным некоммерческим организациям","08","01",{"$f":"D1018","v":"02 6 01 08000"},600,{"$f":"F1018","v":6675}]
["Субсидии бюджетным учреждениям","08","01","02 6 01 08000",610,{"$f":"'ведом. 2019'!AD579+'ведом. 2019'!AD1110","v":6675}]
["Муниципальная  программа  \"Безопасность  города  Лыткарино\"  на  2017-2021 годы","08","01","08 0 00 00000",null,{"$f":"F1020","v":1439.1}]
["Подпрограмма  \"Обеспечение  пожарной  безопасности\"","08","01","08 5 00 00000",null,{"$f":"F1026+F1021","v":1439.1}]
["Основное  мероприятие \"Организация  профилактики  и  ликвидации пожаров  на  территории  города  Лыткарино\"","08","01","08 5 01 00000",null,{"$f":"F1022","v":354.1}]
["Мероприятия  в  области  национальной безопасности  и  правоохранительной  деятельности","08","01","08 5 01 12000",null,{"$f":"F1023","v":354.1}]
["Мероприятия  по обеспечению пожарной  безопасности","08","01",{"$f":"D1024","v":"08 5 01 12080"},null,{"$f":"F1024","v":354.1}]
["Предоставление субсидий бюджетным, автономным учреждениям и иным некоммерческим организациям","08","01",{"$f":"D1025","v":"08 5 01 12080"},"600",{"$f":"F1025","v":354.1}]
["Субсидии бюджетным учреждениям","08","01","08 5 01 12080","610",{"$f":"'ведом. 2019'!AD586","v":354.1}]
["Основное  мероприятие \"Обеспечение мероприятий, направленных  на  снижение уровня травматизма и смертности на пожарах\"","08","01","08 5 02 00000",null,1085]
["Мероприятия  в  области  национальной безопасности  и  правоохранительной  деятельности","08","01","08 5 02 12000",null,1085]
["Мероприятия  по обеспечению пожарной  безопасности","08","01","08 5 02 12080",null,{"$f":"F1029","v":1085}]
["Предоставление субсидий бюджетным, автономным учреждениям и иным некоммерческим организациям","08","01","08 5 02 12080",600,1085]
["Субсидии бюджетным учреждениям","08","01","08 5 02 12080",610,{"$f":"'ведом. 2019'!AD591","v":1085}]
["Здравоохранение","09",null,null,null,{"$f":"F1032","v":15130},12850]
["Другие вопросы в области здравоохранения","09","09",null,null,15130,12850]
["Муниципальная  программа «Муниципальное управление города Лыткарино на 2017-2021 годы»","09","09","01 0 00 00000",null,15130,12850]
["Подпрограмма  \"Создание  условий  для  оказания  медицинской  помощи  на  территории  города  Лыткарино\"","09","09","01 2 00 00000",null,{"$f":"F1036+F1043+F1039","v":15130},{"$f":"G1036+G1043","v":12850}]
["Основное  мероприятие  \"Предоставление  целевой  субсидии  на  компенсацию  расходов  на  оплату  жилых  помещений\"","09","09","01 2 01 00000",null,{"$f":"F1036","v":2132}]
["Расходы  на  предоставление целевой субсидии на компенсацию расходов\n на оплату жилых помещений","09","09",{"$f":"D1037","v":"01 2 01 00010"},null,{"$f":"F1037","v":2132}]
["Социальное обеспечение и иные выплаты населению","09","09",{"$f":"D1038","v":"01 2 01 00010"},300,{"$f":"F1038","v":2132}]
["Социальные выплаты гражданам, кроме публичных нормативных социальных выплат","09","09","01 2 01 00010",320,{"$f":"'ведом. 2019'!AD599","v":2132},null,500]
["Основное  мероприятие\" Частичная  компенсация  расходов на  проезд  общественным  транспортом к  месту  работы  и  обратно  отдельным  категориям медицинских  работников\"","09","09","01 2 02 00000",null,{"$f":"F1040","v":148}]
["Расходы  на  частичную  компенсацию расходов  на  проезд общественным  транспортом к  месту  работы  и  обратно  отдельным  категориям медицинских  работников ","09","09",{"$f":"D1041","v":"01 2 02 00010"},null,{"$f":"F1041","v":148}]
["Социальное обеспечение и иные выплаты населению","09","09",{"$f":"D1042","v":"01 2 02 00010"},300,{"$f":"F1042","v":148}]
["Социальные выплаты гражданам, кроме публичных нормативных социальных выплат","09","09","01 2 02 00010",320,{"$f":"'ведом. 2019'!AD603","v":148}]
["Основное  мероприятие  \"Обеспечение  полноценным  питанием  беременных  женщин,  кормящих  матерей, а  также  детей  в  возрасте  до  трех  лет\"","09","09","01 2 04 00000",null,{"$f":"F1044","v":12850},12850]
["Обеспечение полноценным питанием беременных женщин, кормящих матерей, а также детей в возрасте до трех лет в Московской области  ","09","09",{"$f":"D1045","v":"01 2 04 62080"},null,{"$f":"F1045","v":12850},12850]
["Закупка товаров, работ и услуг для обеспечения государственных (муниципальных) нужд","09","09",{"$f":"D1046","v":"01 2 04 62080"},200,12850,12850]
["Иные закупки товаров, работ и услуг для обеспечения государственных (муниципальных) нужд","09","09","01 2 04 62080",240,{"$f":"'ведом. 2019'!AD607","v":12850},{"$f":"F1046","v":12850}]
["Социальная политика","10",null,null,null,{"$f":"F1048+F1055+F1117+F1097","v":96069.4},{"$f":"G1048+G1055+G1117+G1097","v":74117.7}]
["Пенсионное обеспечение",10,"01",null,null,{"$f":"F1049","v":6264.1}]
["Муниципальная  программа «Муниципальное управление города Лыткарино на 2017-2021 годы»",10,"01","01 0 00 00000",null,{"$f":"F1050","v":6264.1}]
["Подпрограмма  «Развитие муниципальной службы» ",10,"01","01 6 00 00000",null,{"$f":"F1053","v":6264.1}]
["Основное  мероприятие \"Повышение  мотивации  к  исполнению  должностных  обязанностей  муниципальных  служащих\"",10,"01","01 6 02 00000",null,{"$f":"F1052","v":6264.1}]
["Пенсия за выслугу лет лицам, замещавшим муниципальные должности или должности муниципальной службы в органах местного самоуправления и избирательных комиссиях муниципального образования \"Город Лыткарино Московской области\"",10,"01",{"$f":"D1053","v":"01 6 02 00020"},null,{"$f":"F1053","v":6264.1}]
["Социальное обеспечение и иные выплаты населению",10,"01",{"$f":"D1054","v":"01 6 02 00020"},300,{"$f":"F1054","v":6264.1}]
["Социальные выплаты гражданам, кроме публичных нормативных социальных выплат",10,"01","01 6 02 00020",320,{"$f":"'ведом. 2019'!AD615+'ведом. 2019'!AD752+'ведом. 2019'!AD790+'ведом. 2019'!AD870+'ведом. 2019'!AD1118+'ведом. 2019'!AD1326+'ведом. 2019'!AD1395","v":6264.1},null,54]
["Социальное обеспечение населения",10,"03",null,null,{"$f":"F1056+F1083+F1089","v":28850.6},{"$f":"G1056+G1083+G1089","v":23413}]
["Муниципальная  программа  \"Забота\"  на  2017-2021 годы",10,"03","07 0 00 00000",null,{"$f":"F1057","v":5437.6}]
["Подпрограмма  \"Городская  поддержка\"",10,"03","07 2 00 00000",null,{"$f":"F1058+F1063+F1073+F1078","v":5437.6}]
["Основное мероприятие «Выплаты гражданам, имеющим звания: «Почётный гражданин г. Лыткарино», «Почётный работник здравоохранения г. Лыткарино», «Почётный учитель г. Лыткарино», «Почётный работник культуры г. Лыткарино»",10,"03","07 2 02 00000",null,{"$f":"F1059","v":482}]
["Мероприятия  в  сфере  социальной  политики",10,"03","07 2 02 20000",null,{"$f":"F1060","v":482}]
[" «Выплаты гражданам, имеющим звания: «Почётный гражданин г. Лыткарино», «Почётный работник здравоохранения г. Лыткарино», «Почётный учитель г.Лыткарино»,«Почётный работник культуры г. Лыткарино»",10,"03",{"$f":"D1061","v":"07 2 02 20020"},null,{"$f":"F1061","v":482}]
["Социальное обеспечение и иные выплаты населению",10,"03",{"$f":"D1062","v":"07 2 02 20020"},300,{"$f":"F1062","v":482}]
["Публичные нормативные социальные выплаты гражданам",10,"03","07 2 02 20020",310,{"$f":"'ведом. 2019'!AD623","v":482}]
["Основное  мероприятие  \"Поддержка  и  социальная  защита  пожилых  граждан  и  инвалидов,  передавших  жилую  площадь  в  муниципальную  собственность  города  Лыткарино  по  договорам  пожизненного  содержания  с  иждевением\"",10,"03","07 2 03 00000",null,{"$f":"F1064","v":2812}]
["Мероприятия  в  сфере  социальной  политики",10,"03","07 2 03 20000",null,{"$f":"F1065+F1068","v":2812}]
["Выплаты  денежной  компенсации  гражданам  за  переданное  в  муниципальную собственность  жилье ",10,"03",{"$f":"D1066","v":"07 2 03 20030"},null,{"$f":"F1066","v":2583.9}]
["Социальное обеспечение и иные выплаты населению",10,"03",{"$f":"D1067","v":"07 2 03 20030"},300,{"$f":"F1067","v":2583.9}]
["Публичные нормативные социальные выплаты гражданам",10,"03","07 2 03 20030",310,{"$f":"'ведом. 2019'!AD627","v":2583.9},null,230]
["Расходы  на  социальные  услуги  по  договорам  пожизненного  содержания  с  иждивением  за  переданное  в  муниципальную  собственность  жильё  и  на  поздравления  с  днём  рождения",10,"03",{"$f":"D1069","v":"07 2 03 20040"},null,{"$f":"F1069+F1071","v":228.10000000000002}]
["Закупка товаров, работ и услуг для обеспечения государственных (муниципальных) нужд",10,"03",{"$f":"D1070","v":"07 2 03 20040"},200,{"$f":"F1070","v":91.3}]
["Иные закупки товаров, работ и услуг для обеспечения государственных (муниципальных) нужд",10,"03",{"$f":"D1071","v":"07 2 03 20040"},240,{"$f":"'ведом. 2019'!AD630","v":91.3}]
["Социальное обеспечение и иные выплаты населению",10,"03",{"$f":"D1072","v":"07 2 03 20040"},300,{"$f":"F1072","v":136.80000000000001}]
["Публичные нормативные социальные выплаты гражданам",10,"03","07 2 03 20040",310,{"$f":"'ведом. 2019'!AD632","v":136.80000000000001}]
["Основное  мероприятие \"Расходы  на  поддержку отдельных категорий граждан города Лыткарино в виде организации и предоставления транспорта для проезда в г. Жуковский Московской области на освидетельствование МСЭ\"",10,"03","07 2 05 00000",null,{"$f":"F1074","v":1104}]
["Мероприятия  в  сфере  социальной  политики",10,"03","07 2 05 20000",null,{"$f":"F1075","v":1104}]
["Расходы  на  поддержку отдельных категорий граждан города Лыткарино в виде организации и предоставления транспорта для проезда в г. Жуковский Московской области на освидетельствование МСЭ",10,"03",{"$f":"D1076","v":"07 2 05 20060"},null,{"$f":"F1076","v":1104}]
["Предоставление субсидий бюджетным, автономным учреждениям и иным некоммерческим организациям",10,"03",{"$f":"D1077","v":"07 2 05 20060"},600,{"$f":"F1077","v":1104}]
["Субсидии бюджетным учреждениям",10,"03","07 2 05 20060",610,{"$f":"'ведом. 2019'!AD637","v":1104}]
["Основное мероприятие \"Меры социальной поддержки отдельных категорий граждан на посещение спортивных объектов города Лыткарино\"",10,"03","07 2 06 00000",null,{"$f":"F1079","v":1039.5999999999999}]
["Мероприятия  в  сфере  социальной  политики",10,"03","07 2 06 20000",null,{"$f":"F1080","v":1039.5999999999999}]
["Меры социальной поддержки граждан пенсионного возраста, инвалидов, детей  из многодетных семей в виде предоставления льготы в размере 50% от стоимости полного входного билета  на посещение МАУ \"ЛСК Лыткарино\" ",10,"03","07 2 06 20070",null,{"$f":"F1081","v":1039.5999999999999}]
["Предоставление субсидий бюджетным, автономным учреждениям и иным некоммерческим организациям",10,"03","07 2 06 20070",600,{"$f":"F1082","v":1039.5999999999999}]
["Субсидии  автономным  учреждениям",10,"03","07 2 06 20070",620,{"$f":"'ведом. 2019'!AD642","v":1039.5999999999999}]
["Муниципальная    программа  \"Жилище  города Лыткарино\"  на 2014-2024 годы",10,"03","09 0 00 00000",null,{"$f":"F1084","v":1102},{"$f":"G1084","v":1102}]
["Подпрограмма  «Обеспечение жильем отдельных категорий граждан, установленных федеральным законодательством»",10,"03","09 2 00 00000",null,{"$f":"F1085","v":1102},1102]
["Основное  мероприятие \"Оказание государственной  поддержки  по  обеспечению  жильем отдельных  категорий  граждан,установленных  федеральными  законами  от 12  января  1995 года №5-ФЗ \"О  ветеранах\" от 24 ноября  1995  года  №181-ФЗ  \"О  социальной  защите  инвалидов  в  Российской  Федерации\"",10,"03","09 2 01 00000",null,1102,1102]
["Осуществление  полномочий  по  обеспечению  жильем  отдельных  категорий  граждан,установленных  федеральными  законами  от 12  января  1995 года №5-ФЗ \"О  ветеранах\" от 24 ноября  1995  года  №181-ФЗ  \"О  социальной  защите  инвалидов  в  Российской  Федерации\"",10,"03",{"$f":"D1087","v":"09 2 01 51350"},null,1102,1102]
["Социальное обеспечение и иные выплаты населению",10,"03",{"$f":"D1088","v":"09 2 01 51350"},300,1102,1102]
["Социальные выплаты гражданам, кроме публичных  нормативных  социальных  выплат",10,"03","09 2 01 51350",320,{"$f":"'ведом. 2019'!AD1333","v":1102},{"$f":"F1088","v":1102}]
["Муниципальная программа «Формирование современной городской среды города Лыткарино» на 2018-2024 годы",10,"03","10 0 00 00000",null,{"$f":"F1090","v":22311},22311]
["Обеспечивающая подпрограмма",10,"03","10 3 00 00000",null,{"$f":"F1092","v":22311},22311]
["Основное  мероприятие \" Предоставление  гражданам  субсидий  на  оплату  жилого  помещения  и  коммунальных  услуг\"",10,"03","10 3 03 00000",null,{"$f":"F1092","v":22311},22311]
["Предоставление гражданам субсидий на оплату жилого помещения и коммунальных услуг",10,"03",{"$f":"D1093","v":"10 3 03 61410"},null,{"$f":"F1095+F1093","v":22311},22311]
["Закупка товаров, работ и услуг для обеспечения государственных (муниципальных) нужд",10,"03",{"$f":"D1094","v":"10 3 03 61410"},200,{"$f":"F1094","v":195},195]
["Иные закупки товаров, работ и услуг для обеспечения государственных (муниципальных) нужд",10,"03",{"$f":"D1095","v":"10 3 03 61410"},240,{"$f":"'ведом. 2019'!AD1339","v":195},{"$f":"F1094","v":195}]
["Социальное обеспечение и иные выплаты населению",10,"03",{"$f":"D1096","v":"10 3 03 61410"},300,{"$f":"F1096","v":22116},22116]
["Публичные нормативные социальные выплаты гражданам",10,"03","10 3 03 61410",310,{"$f":"'ведом. 2019'!AD1341","v":22116},{"$f":"F1096","v":22116}]
["Охрана семьи и детства",10,"04",null,null,{"$f":"F1098+F1106","v":57418.7},50548.7]
["Муниципальная  программа  \"Образование  города  Лыткарино\"  на  2017-2021  годы",10,"04","03 0 00 00000",null,{"$f":"F1099","v":19830},19830]
["Подпрограмма  \"Дошкольное  образование\"",10,"04","03 1 00 00000",null,{"$f":"F1100","v":19830},19830]
["Основное  мероприятие \"Финансовое  обеспечение  реализации  прав  граждан  на  получение  общедоступного  и  бесплатного  дошкольного  образования\"",10,"04","03 1 02 00000",null,19830,19830]
["Выплата компенсации  родительской платы за присмотр  и  уход  за  детьми,  осваивающими  образовательные  программы  дошкольного  образования  в  организациях  Московской  области,  осуществляющих  образовательную  деятельность",10,"04",{"$f":"D1102","v":"03 1 02 62140"},null,{"$f":"F1102+F1104","v":19830},19830]
["Закупка товаров, работ и услуг для обеспечения государственных (муниципальных) нужд",10,"04",{"$f":"D1103","v":"03 1 02 62140"},200,{"$f":"F1103","v":196},196]
["Иные закупки товаров, работ и услуг для обеспечения государственных (муниципальных) нужд",10,"04",{"$f":"D1104","v":"03 1 02 62140"},240,{"$f":"'ведом. 2019'!AD1125","v":196},{"$f":"F1103","v":196}]
["Социальное обеспечение и иные выплаты населению",10,"04",{"$f":"D1105","v":"03 1 02 62140"},300,{"$f":"F1105","v":19634},19634]
["Публичные нормативные социальные выплаты гражданам",10,"04","03 1 02 62140",310,{"$f":"'ведом. 2019'!AD1127","v":19634},{"$f":"F1105","v":19634}]
["Муниципальная    программа  \"Жилище  города Лыткарино\"  на 2014-2024 годы",10,"04","09 0 00 00000",null,{"$f":"F1112+F1107","v":37588.699999999997},{"$f":"G1112+G1107","v":30718.7}]
["Подпрограмма \"Обеспечение  жильем  молодых  семей\"  на  2014-2021  годы",10,"04","09 1 00 00000",null,{"$f":"F1108","v":15481.7},{"$f":"G1108","v":8611.7000000000007}]
["Основное  мероприятие \"Оказание  государственной  поддержки  молодым  семьям  в  виде  социальных  выплат  на  приобретение  жилого  помещения  или  строительство  индивидуального  жилого  дома\"",10,"04","09 1 01 00000",null,15481.7,{"$f":"G1109","v":8611.7000000000007}]
["Расходы  на  оказание  государственной  поддержки  молодым  семьям  на  приобретение  жилья ",10,"04",{"$f":"D1110","v":"09 1 01 L4970"},null,{"$f":"F1110","v":15481.7},{"$f":"G1110","v":8611.7000000000007}]
["Социальное обеспечение и иные выплаты населению",10,"04",{"$f":"D1111","v":"09 1 01 L4970"},300,{"$f":"F1111","v":15481.7},{"$f":"G1111","v":8611.7000000000007}]
["Социальные выплаты гражданам, кроме публичных  нормативных  социальных  выплат",10,"04","09 1 01 L4970",320,{"$f":"'ведом. 2019'!AD1348","v":15481.7},8611.7000000000007]
["Подпрограмма  «Обеспечение жильем детей-сирот и детей, оставшихся без попечения родителей, а также лиц из их числа» на 2015-2021 годы",10,"04","09 3 00 00000",null,{"$f":"F1114","v":22107},22107]
["Основное  мероприятие  \"Оказание  государственной  поддержки  в  решении  жилищной  проблемы  детей-сирот и детей, оставшихся без попечения  родителей, лиц из числа детей-сирот и детей,оставшихся без попечения родителей\"",10,"04","09 3 01 00000",null,{"$f":"F1114","v":22107},22107]
["Предоставление жилых помещений детям-сиротам и детям, оставшимся без попечения родителей, лицам из их числа по договорам найма специализированных жилых помещений",10,"04","09 3 01 60820",null,{"$f":"F1115","v":22107},22107]
["Капитальные вложения в объекты  государственной (муниципальной) собственности",10,"04","09 3 01 60820",400,22107,22107]
["Бюджетные инвестиции ",10,"04","09 3 01 60820",410,{"$f":"'ведом. 2019'!AD877","v":22107},{"$f":"F1116","v":22107}]
["Другие  вопросы  в  области  социальной  политики  ",10,"06",null,null,{"$f":"F1118","v":3536},{"$f":"G1118","v":156}]
["Муниципальная  программа  \"Забота\"  на  2017-2021 годы",10,"06","07 0 00 00000",null,3536,156]
["Подпрограмма \"Развитие  и поддержка социально ориентированных  некоммерческих  организаций на территории городского округа Лыткарино\"",10,"06","07 3 00 00000",null,{"$f":"F1120","v":3536},156]
["Основное  мероприятие  \"Осуществление  финансовой поддержки социально ориентированных  некоммерческих  организаций\"",10,"06","07 3 01 00000",null,{"$f":"F1121","v":3536},156]
["Мероприятия  в  сфере  социальной  политики",10,"06","07 3 01 20000",null,{"$f":"F1122+F1125","v":3536},156]
["Предоставление субсидий  социально ориентированным  некоммерческим  организациям,  осуществляющим  свою  деятельность  на  территории  города  Лыткарино",10,"06",{"$f":"D1123","v":"07 3 01 20010"},null,2886,156]
["Предоставление субсидий бюджетным, автономным учреждениям и иным некоммерческим организациям",10,"06",{"$f":"D1124","v":"07 3 01 20010"},600,2886,156]
["Субсидии некоммерческим организациям (за исключением государственных (муниципальных) учреждений)",10,"06","07 3 01 20010",630,{"$f":"'ведом. 2019'!AD650","v":2886},156,156]
["Расходы на  проведение  обучения  родителей  в  замещающих  семьях",10,"06","07 3 01 20020",null,{"$f":"F1126","v":650}]
["Предоставление субсидий бюджетным, автономным учреждениям и иным некоммерческим организациям",10,"06",{"$f":"D1127","v":"07 3 01 20020"},600,{"$f":"F1127","v":650}]
["Субсидии некоммерческим организациям (за исключением государственных (муниципальных) учреждений)",10,"06","07 3 01 20020",630,{"$f":"'ведом. 2019'!AD653","v":650},null,450]
["Физическая  культура  и  спорт",11,null,null,null,{"$f":"F1140+F1129","v":99446.7},{"$f":"G1140+G1129","v":3915}]
["Физическая культура",11,"01",null,null,{"$f":"F1130","v":29771.200000000001}]
["Муниципальная  программа  \"Физическая  культура  и  спорт  города  Лыткарино\"  на  2017-2021 годы",11,"01","05 0 00 00000",null,{"$f":"F1131","v":29771.200000000001}]
["Подпрограмма \"Развитие  физической  культуры  и  спорта  в  городе  Лыткарино\"",11,"01","05 2 00 00000",null,{"$f":"F1132+F1136","v":29771.200000000001}]
["Основное  мероприятие  \"Предоставление   субсидии  на  выполнение  муниципального  задания  МАУ \"ЛСК Лыткарино\"",11,"01","05 2 04 00000",null,{"$f":"F1133","v":29721.200000000001}]
["Предоставление   субсидии  на  выполнение  муниципального  задания  спортивных комплексов",11,"01",{"$f":"D1134","v":"05 2 04 12590"},null,29721.200000000001]
["Предоставление субсидий бюджетным, автономным учреждениям и иным некоммерческим организациям",11,"01",{"$f":"D1135","v":"05 2 04 12590"},600,29721.200000000001]
["Субсидии  автономным  учреждениям",11,"01","05 2 04 12590",620,{"$f":"'ведом. 2019'!AD661","v":29721.200000000001}]
["Основное  мероприятие  \"Укрепление материально-технической базы муниципальных  учреждений  физической культуры  и  спорта\"  ",11,"01","05 2 05 00000",null,{"$f":"F1137","v":50}]
["Укрепление материально-технической базы МАУ  \"ЛСК  Лыткарино\"",11,"01",{"$f":"D1138","v":"05 2 05 00020"},null,{"$f":"F1138","v":50}]
["Предоставление субсидий бюджетным, автономным учреждениям и иным некоммерческим организациям",11,"01",{"$f":"D1139","v":"05 2 05 00020"},600,{"$f":"F1139","v":50}]
["Субсидии  автономным  учреждениям",11,"01","05 2 05 00020",620,{"$f":"'ведом. 2019'!AD665","v":50}]
["Массовый  спорт",11,"02",null,null,{"$f":"F1141","v":69675.5},{"$f":"G1141","v":3915}]
["Муниципальная  программа  \"Физическая  культура  и  спорт  города  Лыткарино\"  на  2017-2021 годы",11,"02","05 0 00 00000",null,{"$f":"F1162+F1142","v":69675.5},{"$f":"G1162+G1142","v":3915}]
["Подпрограмма  \"Строительство, реконструкция, модернизация  и  благоустройство  территории  объектов  физической  культуры  и  спорта  города  Лыткарино\"    ",11,"02","05 1 00 00000",null,{"$f":"F1143+F1153+F1158+F1148","v":11933.5},{"$f":"G1143+G1153+G1158+G1148","v":3915}]
["Основное  мероприятие \"Организация  благоустройства  спортивных  кортов  города\"",11,"02","05 1 01 00000",null,{"$f":"F1144","v":300}]
["Мероприятия  в  сфере  физкультуры  и  спорта",11,"02","05 1 01 09000",null,{"$f":"F1145","v":300}]
["Организация  благоустройства спортивных  кортов города",11,"02","05 1 01 09010",null,{"$f":"F1146","v":300}]
["Закупка товаров, работ и услуг для обеспечения государственных (муниципальных) нужд",11,"02","05 1 01 09010",200,{"$f":"F1147","v":300}]
["Иные закупки товаров, работ и услуг для обеспечения государственных (муниципальных) нужд",11,"02","05 1 01 09010",240,{"$f":"'ведом. 2019'!AD673","v":300}]
["Основное  мероприятие \"Реконструкция стадиона \"Полёт\"",11,"02","05 1 03 00000",null,{"$f":"F1149","v":200}]
["Бюджетные инвестиции в  объекты  капитального  строительства  муниципальной  собственности",11,"02","05 1 03 22000",null,{"$f":"F1150","v":200}]
["Проектно-изыскательские работы в целях реконструкции стадиона \"Полёт\", расположенного по адресу: г.Лыткарино, ул.Парковая",11,"02","05 1 03 22030",null,{"$f":"F1151","v":200}]
[" Капитальные вложения в объекты государственной(муниципальной) собственности",11,"02","05 1 03 22030",400,{"$f":"F1152","v":200}]
["Бюджетные инвестиции ",11,"02","05 1 03 22030",410,200]
["Основное мероприятие \"Капитальный  ремонт нежилых помещений МБУ \"Спортивная школа Лыткарино\" по адресу: г.Лыткарино,улица Шестакова В.А.,стр.2 (Спортивный комплекс \"Кристалл\")\"",11,"02","05 1 04 00000",null,{"$f":"F1154","v":6433.5}]
["Капитальный  ремонт ",11,"02","05 1 04 21000",null,{"$f":"F1156","v":6433.5}]
["Капитальный  ремонт нежилых помещений МБУ Спортивная школа Лыткарино\" по адресу: г.Лыткарино,улица Шестакова В.А.,стр.2 (Спортивный комплекс \"Кристалл\")\"",11,"02","05 1 04 21010",null,{"$f":"F1156","v":6433.5}]
["Закупка товаров, работ и услуг для обеспечения государственных (муниципальных) нужд",11,"02","05 1 04 21010",200,{"$f":"F1157","v":6433.5}]
["Иные закупки товаров, работ и услуг для обеспечения государственных (муниципальных) нужд",11,"02","05 1 04 21010",240,{"$f":"'ведом. 2019'!AD1362","v":6433.5}]
["Основное мероприятие «Федеральный проект \"Спорт-норма жизни\"",11,"02","05 1 P5 00000",null,{"$f":"F1159","v":5000},3915]
["Расходы  для  подготовки  основания, приобретение и установка скейт-парка",11,"02","05 1 P5 S1140",null,5000,3915]
["Предоставление субсидий бюджетным, автономным учреждениям и иным некоммерческим организациям",11,"02","05 1 P5 S1140",600,5000,3915]
["Субсидии бюджетным учреждениям",11,"02","05 1 P5 S1140",610,{"$f":"'ведом. 2019'!AD677","v":5000},3915]
["Подпрограмма \"Развитие  физической  культуры  и  спорта  в  городе  Лыткарино\"",11,"02","05 2 00 00000",null,{"$f":"F1163+F1172","v":57742}]
["Основное  мероприятие \"Календарный  план  спортивно-массовых  мероприятий  города  Лыткарино\"",11,"02","05 2 01 00000",null,{"$f":"F1164","v":2628.8}]
["Мероприятия  в  сфере  физкультуры  и  спорта",11,"02","05 2 01 09000",null,{"$f":"F1165","v":2628.8}]
["Организация  спортивно-массовых  мероприятий",11,"02","05 2 01 09010",null,{"$f":"F1166+F1170+F1168","v":2628.8}]
["Закупка товаров, работ и услуг для обеспечения государственных (муниципальных) нужд",11,"02","05 2 01 09010",200,{"$f":"F1167","v":2358.8000000000002}]
["Иные закупки товаров, работ и услуг для обеспечения государственных (муниципальных) нужд",11,"02","05 2 01 09010",240,{"$f":"'ведом. 2019'!AD683","v":2358.8000000000002}]
["Предоставление субсидий бюджетным, автономным учреждениям и иным некоммерческим организациям",11,"02","05 2 01 09010",600,{"$f":"F1169","v":80}]
["Субсидии бюджетным учреждениям",11,"02","05 2 01 09010",610,{"$f":"'ведом. 2019'!AD685","v":80}]
["Предоставление субсидий бюджетным, автономным учреждениям и иным некоммерческим организациям",11,"02","05 2 01 09010",600,{"$f":"F1171","v":190}]
["Субсидии  автономным  учреждениям",11,"02","05 2 01 09010",620,{"$f":"'ведом. 2019'!AD686","v":190}]
["Основное  мероприятие  \"Обеспечение  деятельности муниципальных  учреждений\"",11,"02","05 2 03 00000",null,{"$f":"F1173","v":55113.2}]
["Расходы  на  обеспечение  деятельности  спортивных  школ",11,"02","05 2 03 06590",null,{"$f":"F1174+F1177","v":55113.2}]
["Предоставление  средств  субсидии  на  выполнение   муниципального  задания   МБУ  \"СШ  Лыткарино\"",11,"02","05 2 03 06591",null,{"$f":"F1175","v":34886.199999999997}]
["Предоставление субсидий бюджетным, автономным учреждениям и иным некоммерческим организациям",11,"02","05 2 03 06591",600,34886.199999999997]
["Субсидии бюджетным учреждениям",11,"02","05 2 03 06591",610,{"$f":"'ведом. 2019'!AD691","v":34886.199999999997}]
["Предоставление  средств  субсидии  на  выполнение   муниципального  задания   МБУ  \"СШОР  Лыткарино\"",11,"02","05 2 03 06592",null,{"$f":"F1178","v":20227}]
["Предоставление субсидий бюджетным, автономным учреждениям и иным некоммерческим организациям",11,"02","05 2 03 06592",600,{"$f":"F1179","v":20227}]
["Субсидии бюджетным учреждениям",11,"02","05 2 03 06592",610,{"$f":"'ведом. 2019'!AD694","v":20227}]
["Обслуживание  государственного  и  муниципального  долга",13,null,null,null,{"$f":"F1181","v":25520.6}]
["Обслуживание  государственного  внутреннего  и  муниципального  долга",13,"01",null,null,{"$f":"F1185","v":25520.6}]
["Муниципальная  программа «Муниципальное управление города Лыткарино на 2017-2021 годы»",13,"01","01 0 00 00000",null,{"$f":"F1185","v":25520.6}]
["Подпрограмма  \"Управление  муниципальными  финансами города  Лыткарино\"",13,"01","01 9 00 00000",null,{"$f":"F1184","v":25520.6}]
["Основное  мероприятие \"Обеспечение своевременности и полноты исполнения долговых обязательств в части расходов на обслуживание муниципального долга\"",13,"01","01 9 01 00000",null,{"$f":"F1185","v":25520.6}]
["Процентные платежи по долговым обязательствам",13,"01",{"$f":"D1186","v":"01 9 01 00010"},null,{"$f":"F1186","v":25520.6}]
["Обслуживание государственного (муниципального) долга",13,"01",{"$f":"D1187","v":"01 9 01 00010"},700,{"$f":"F1187","v":25520.6}]
["Обслуживание    муниципального  долга",13,"01","01 9 01 00010",730,{"$f":"'ведом. 2019'!AD702","v":25520.6}]
["ВСЕГО",null,null,null,null,{"$f":"F1180+F1128+F1047+F1031+F717+F531+F408+F293+F278+F18+F979+F702","v":3299060.8},{"$f":"G1180+G1128+G1047+G1031+G717+G531+G408+G293+G278+G18+G979+G702","v":2121357.5999999996}]
[]
[]
[null,null,null,null,null,{"$f":"F1105+F1096+F1072+F1067+F1062","v":44952.700000000004}]

{"sheet":"Целевые 2019","index":4,"n_rows":901,"n_cols":5,"rows_kept":901,"cut":false,"hidden":false,"merged":[[0,1,0,3],[2,1,2,3],[3,1,3,3],[10,6,10,9],[11,6,11,9],[12,6,12,9],[16,6,16,8],[18,6,18,9],[5,1,5,4],[6,1,6,4],[7,1,7,4],[9,0,9,3]]}
[null,"Приложение 8"]
[null,"к изменениям и дополнениям"]
[null,"к  бюджету  города  Лыткарино  на  2019 год"]
[null,"и  на плановый  период  2020 и  2021  годов"]
[]
[null,"(Приложение 9"]
[null,"к  бюджету  города  Лыткарино  на  2019 год"]
[null,"и  на плановый  период  2020  и  2021  годов)"]
[]
["Расходы бюджета города  Лыткарино \nпо целевым статьям (муниципальным программам города Лыткарино  \nи непрограммным направлениям деятельности), группам и подгруппам видов расходов \nклассификации расходов бюджетов  на  2019 год "]
[null,null,null,"(тыс.руб.)"]
[]
["Наименования","ЦСР","ВР","Сумма  \nна 2019 год"]
[1,2,3,4]
["Муниципальная  программа «Муниципальное управление города Лыткарино на 2017-2021 годы»","01 0 00 00000",null,{"$f":"D16+D85+D98+D110+D124+D133+D138+D168+D151","v":281629.59999999998}]
["Обеспечивающая подпрограмма","01 1 00 00000",null,{"$f":"D17+D53+D62+D66+D81","v":167863.09999999998}]
["Основное  мероприятие  \" Обеспечение  деятельности  Администрации  городcкого округа  Лыткарино  и  ее функциональных  органов\" ","01 1 01 00000",null,{"$f":"D18+D32+D43+D40+D35+D48","v":101691.4}]
["Центральный аппарат","01 1 01 04000",null,{"$f":"D19+D26+D29","v":95357.4}]
["Расходы  на обеспечение  деятельности  центрального  аппарата","01 1 01 04010",null,{"$f":"D22+D24+D20","v":11390.4}]
["Расходы на выплаты персоналу в целях обеспечения выполнения функций государственными (муниципальными) органами, казенными учреждениями, органами управления государственными внебюджетными фондами ","01 1 01 04010",100,{"$f":"D21","v":13.5}]
["Расходы на выплаты персоналу государственных (муниципальных) органов","01 1 01 04010",120,{"$f":"'Функц. 2019'!F64","v":13.5}]
["Закупка товаров, работ и услуг для обеспечения государственных (муниципальных) нужд","01 1 01 04010",200,{"$f":"D23","v":11044.9}]
["Иные закупки товаров, работ и услуг для обеспечения государственных (муниципальных) нужд","01 1 01 04010",240,{"$f":"'Функц. 2019'!F66+'Функц. 2019'!F112+'Функц. 2019'!F181+'Функц. 2019'!F647","v":11044.9},9.5]
["Иные бюджетные ассигнования",{"$f":"B25","v":"01 1 01 04010"},800,{"$f":"D25","v":332}]
["Уплата налогов, сборов и иных платежей","01 1 01 04010",850,{"$f":"'Функц. 2019'!F68+'Функц. 2019'!F114+'Функц. 2019'!F183+'Функц. 2019'!F649","v":332}]
["Расходы на содержание  лиц,  замещающих должности, не являющиеся должностями муниципальной  службы","01 1 01 04020",null,{"$f":"D28","v":32066.1}]
["Расходы на выплаты персоналу в целях обеспечения выполнения функций государственными (муниципальными) органами, казенными учреждениями, органами управления государственными внебюджетными фондами ",{"$f":"B28","v":"01 1 01 04020"},100,{"$f":"D28","v":32066.1}]
["Расходы на выплаты персоналу государственных (муниципальных) органов","01 1 01 04020",120,{"$f":"'Функц. 2019'!F652+'Функц. 2019'!F186+'Функц. 2019'!F117+'Функц. 2019'!F71","v":32066.1}]
["Расходы на содержание  лиц,  замещающих должности  муниципальной  службы",{"$f":"B30","v":"01 1 01 04030"},null,{"$f":"D30","v":51900.9}]
["Расходы на выплаты персоналу в целях обеспечения выполнения функций государственными (муниципальными) органами, казенными учреждениями, органами управления государственными внебюджетными фондами ",{"$f":"B31","v":"01 1 01 04030"},100,51900.9]
["Расходы на выплаты персоналу государственных (муниципальных) органов","01 1 01 04030",120,{"$f":"'Функц. 2019'!F655+'Функц. 2019'!F189+'Функц. 2019'!F120+'Функц. 2019'!F74","v":51900.9}]
["Расходы на осуществление полномочий по первичному воинскому учету на территориях, где отсутствуют военные комиссариаты",{"$f":"B33","v":"01 1 01 51180"},null,{"$f":"D33","v":3476}]
["Расходы на выплаты персоналу в целях обеспечения выполнения функций государственными (муниципальными) органами, казенными учреждениями, органами управления государственными внебюджетными фондами ",{"$f":"B34","v":"01 1 01 51180"},100,3476]
["Расходы на выплаты персоналу государственных (муниципальных) органов","01 1 01 51180",120,{"$f":"'Функц. 2019'!F285","v":3476}]
["Обеспечение переданных муниципальным районам и городским округам Московской области государственных полномочий по временному хранению, комплектованию, учету и использованию архивных документов, относящихся к собственности Московской области и временно хранящихся в муниципальных архивах","01 1 01 60690",null,{"$f":"D36+D38","v":1612}]
["Расходы на выплаты персоналу в целях обеспечения выполнения функций государственными (муниципальными) органами, казенными учреждениями, органами управления государственными внебюджетными фондами ","01 1 01 60690",100,{"$f":"D37","v":1575.5}]
["Расходы на выплаты персоналу государственных (муниципальных) органов","01 1 01 60690",120,{"$f":"'Функц. 2019'!F77","v":1575.5}]
["Закупка товаров, работ и услуг для обеспечения государственных (муниципальных) нужд","01 1 01 60690",200,{"$f":"D39","v":36.5}]
["Иные закупки товаров, работ и услуг для обеспечения государственных (муниципальных) нужд","01 1 01 60690",240,{"$f":"'Функц. 2019'!F79","v":36.5}]
["Расходы  для  осуществления государственных полномочий в соответствии с Законом Московской области №107/2014-ОЗ «О наделении органов местного самоуправления муниципальных образований Московской области отдельными  государственными полномочиями Московской области» ","01 1 01 60700",null,{"$f":"D41","v":235}]
["Закупка товаров, работ и услуг для обеспечения государственных (муниципальных) нужд","01 1 01 60700",200,235]
["Иные закупки товаров, работ и услуг для обеспечения государственных (муниципальных) нужд","01 1 01 60700",240,{"$f":"'Функц. 2019'!F197","v":235}]
["Расходы  для осуществления государственных полномочий в соответствии с Законом Московской области №107/2014-ОЗ \"О наделении органов местного самоуправления муниципальных образований Московской области отдельными государственными полномочиями Московской области\" ",{"$f":"B44","v":"01 1 01 60700"},null,{"$f":"D44+D46","v":0}]
["Расходы на выплаты персоналу в целях обеспечения выполнения функций государственными (муниципальными) органами, казенными учреждениями, органами управления государственными внебюджетными фондами ",{"$f":"B45","v":"01 1 01 60700"},100,{"$f":"D45","v":0}]
["Расходы на выплаты персоналу государственных (муниципальных) органов",{"$f":"B46","v":"01 1 01 60700"},120]
["Закупка товаров, работ и услуг для обеспечения государственных (муниципальных) нужд",{"$f":"B47","v":"01 1 01 60700"},200,{"$f":"D47","v":0}]
["Иные закупки товаров, работ и услуг для обеспечения государственных (муниципальных) нужд","01 1 01 60700",240]
["Осуществление государственных полномочий Московской области в области земельных отношений",{"$f":"B49","v":"01 1 01 60830"},null,{"$f":"D49+D51","v":1011}]
["Расходы на выплаты персоналу в целях обеспечения выполнения функций государственными (муниципальными) органами, казенными учреждениями, органами управления государственными внебюджетными фондами ",{"$f":"B50","v":"01 1 01 60830"},100,{"$f":"D50","v":905.4}]
["Расходы на выплаты персоналу государственных (муниципальных) органов",{"$f":"B51","v":"01 1 01 60830"},120,{"$f":"'Функц. 2019'!F200","v":905.4}]
["Закупка товаров, работ и услуг для обеспечения государственных (муниципальных) нужд",{"$f":"B52","v":"01 1 01 60830"},200,{"$f":"D52","v":105.6}]
["Иные закупки товаров, работ и услуг для обеспечения государственных (муниципальных) нужд","01 1 01 60830",240,{"$f":"'Функц. 2019'!F202","v":105.6}]
["Основное  мероприятие \" Прочие  общегосударственные  мероприятия\" ","01 1 02 00000",null,{"$f":"D54","v":11113.4}]
["Прочие  общегосударственные  мероприятия ","01 1 02 27000",null,{"$f":"D55+D59","v":11113.4}]
["Исполнение  судебных  актов  по  обращениям  и  взыскания  на  средства  бюджета",{"$f":"B56","v":"01 1 02 27010"},null,{"$f":"D56","v":10980.4}]
["Иные бюджетные ассигнования",{"$f":"B57","v":"01 1 02 27010"},800,{"$f":"D57+D58","v":10980.4}]
["Исполнение судебных актов","01 1 02 27010",830,{"$f":"'Функц. 2019'!F207","v":10467.4}]
["Уплата налогов, сборов и иных платежей","01 1 02 27010",850,{"$f":"'Функц. 2019'!F208","v":513}]
["Расходы  на  уплату  членских  взносов  в  Совет  муниципальных  образований  Московской  области",{"$f":"B60","v":"01 1 02 27020"},null,{"$f":"D61","v":133}]
["Иные бюджетные ассигнования",{"$f":"B61","v":"01 1 02 27020"},800,{"$f":"D61","v":133}]
["Уплата налогов, сборов и иных платежей","01 1 02 27020",850,{"$f":"'Функц. 2019'!F211","v":133}]
["Основное  мероприятие  \"Обеспечение  мобилизационной готовности  экономики\"","01 1 03 00000",null,{"$f":"D63","v":298}]
["Мероприятия по обеспечению  мобилизационной готовности экономики",{"$f":"B64","v":"01 1 03 00080"},null,298]
["Закупка товаров, работ и услуг для обеспечения государственных (муниципальных) нужд","01 1 03 00080",200,298]
["Иные закупки товаров, работ и услуг для обеспечения государственных (муниципальных) нужд","01 1 03 00080",240,{"$f":"'Функц. 2019'!F292","v":298}]
["Основное мероприятие  \"Обеспечение  деятельности  муниципальных  казенных  учреждений\"","01 1 04 00000",null,{"$f":"D67+D74","v":54716.3}]
["Расходы на  содержание  и  обеспечение    деятельности  муниципального  казенного  учреждения \"Комитет по торгам города Лыткарино\"",{"$f":"B68","v":"01 1 04 13590"},null,{"$f":"D68+D70+D72","v":10867.1}]
["Расходы на выплаты персоналу в целях обеспечения выполнения функций государственными (муниципальными) органами, казенными учреждениями, органами управления государственными внебюджетными фондами ",{"$f":"B69","v":"01 1 04 13590"},"100",{"$f":"D69","v":9837.7999999999993}]
["Расходы на выплаты персоналу казенных учреждений",{"$f":"B70","v":"01 1 04 13590"},"110",{"$f":"'Функц. 2019'!F215","v":9837.7999999999993}]
["Закупка товаров, работ и услуг для обеспечения государственных (муниципальных) нужд",{"$f":"B71","v":"01 1 04 13590"},"200",{"$f":"D71","v":944.7}]
["Иные закупки товаров, работ и услуг для обеспечения государственных (муниципальных) нужд","01 1 04 13590","240",{"$f":"'Функц. 2019'!F217","v":944.7}]
["Иные бюджетные ассигнования",{"$f":"B73","v":"01 1 04 13590"},800,{"$f":"D73","v":84.6}]
["Уплата налогов, сборов и иных платежей","01 1 04 13590",850,{"$f":"'Функц. 2019'!F219","v":84.6}]
["Расходы на  содержание  и  обеспечение    деятельности  муниципального  казенного  учреждения \"Управление обеспечения деятельности Администрации города Лыткарино\"",{"$f":"B75","v":"01 1 04 14590"},null,{"$f":"D75+D77+D79","v":43849.200000000004}]
["Расходы на выплаты персоналу в целях обеспечения выполнения функций государственными (муниципальными) органами, казенными учреждениями, органами управления государственными внебюджетными фондами ",{"$f":"B76","v":"01 1 04 14590"},"100",{"$f":"D76","v":42935.3}]
["Расходы на выплаты персоналу казенных учреждений",{"$f":"B77","v":"01 1 04 14590"},"110",{"$f":"'Функц. 2019'!F222","v":42935.3}]
["Закупка товаров, работ и услуг для обеспечения государственных (муниципальных) нужд",{"$f":"B78","v":"01 1 04 14590"},"200",{"$f":"D78","v":705.10000000000014}]
["Иные закупки товаров, работ и услуг для обеспечения государственных (муниципальных) нужд","01 1 04 14590","240",{"$f":"'Функц. 2019'!F224","v":705.10000000000014}]
["Иные бюджетные ассигнования",{"$f":"B80","v":"01 1 04 14590"},800,{"$f":"D80","v":208.8}]
["Уплата налогов, сборов и иных платежей","01 1 04 14590",850,{"$f":"'Функц. 2019'!F226","v":208.8}]
["Основное мероприятие \"Составление  (изменение) списков кандидатов в присяжные заседатели федеральных судов общей юрисдикции  Российской Федерации\"","01 1 05 00000",null,{"$f":"D82","v":44}]
["Составление  (изменение) списков кандидатов в присяжные заседатели федеральных судов общей юрисдикции  Российской Федерации","01 1 05 51200",null,{"$f":"D83","v":44}]
["Закупка товаров, работ и услуг для обеспечения государственных (муниципальных) нужд","01 1 05 51200","200",{"$f":"D84","v":44}]
["Иные закупки товаров, работ и услуг для обеспечения государственных (муниципальных) нужд","01 1 05 51200","240",{"$f":"'ведом. 2019'!AD116","v":44}]
["Подпрограмма  \"Создание  условий  для  оказания  медицинской  помощи  на  территории  города  Лыткарино\"","01 2 00 00000",null,{"$f":"D86+D94+D90","v":15130}]
["Основное  мероприятие  \"Предоставление  целевой  субсидии  на  компенсацию  расходов  на  оплату  жилых  помещений\"","01 2 01 00000",null,{"$f":"D87","v":2132}]
["Расходы  на  предоставление целевой субсидии на компенсацию расходов на оплату жилых помещений","01 2 01 00010",null,2132]
["Социальное обеспечение и иные выплаты населению","01 2 01 00010",300,2132]
["Социальные выплаты гражданам, кроме публичных нормативных социальных выплат","01 2 01 00010",320,{"$f":"'Функц. 2019'!F1038","v":2132},500]
["Основное  мероприятие \"Частичная  компенсация  расходов на  проезд  общественным  транспортом к  месту  работы  и  обратно  отдельным  категориям медицинских  работников\"","01 2 02 00000",null,{"$f":"D91","v":148}]
["Расходы  на  частичную  компенсацию расходов  на  проезд общественным  транспортом к  месту  работы  и  обратно  отдельным  категориям медицинских  работников ",{"$f":"B92","v":"01 2 02 00010"},null,148]
["Социальное обеспечение и иные выплаты населению",{"$f":"B93","v":"01 2 02 00010"},300,148]
["Социальные выплаты гражданам, кроме публичных нормативных социальных выплат","01 2 02 00010",320,{"$f":"'Функц. 2019'!F1042","v":148}]
["Основное  мероприятие  \"Обеспечение  полноценным  питанием  беременных  женщин,  кормящих  матерей, а  также  детей  в  возрасте  до  трех  лет\"","01 2 04 00000",null,{"$f":"D95","v":12850}]
["Обеспечение полноценным питанием беременных женщин, кормящих матерей, а также детей в возрасте до трех лет в Московской области  ",{"$f":"B96","v":"01 2 04 62080"},null,12850]
["Закупка товаров, работ и услуг для обеспечения государственных (муниципальных) нужд",{"$f":"B97","v":"01 2 04 62080"},200,12850]
["Иные закупки товаров, работ и услуг для обеспечения государственных (муниципальных) нужд","01 2 04 62080",240,{"$f":"'Функц. 2019'!F1046","v":12850}]
["Подпрограмма  «Снижение административных барьеров, повышение качества предоставления государственных  и муниципальных услуг, в том числе на базе Многофункционального  центра предоставления государственных и муниципальных услуг в городе Лыткарино\"","01 3 00 00000",null,{"$f":"D99","v":35190.5}]
["Основное  мероприятие  \"Организация  деятельности    многофункционального  центра\"","01 3 02 00000",null,{"$f":"D100+D103","v":35190.5}]
["Расходы  на  обеспечение  деятельности (оказание  услуг (выполнение  работ))  многофункционального  центра",{"$f":"B101","v":"01 3 02 18590"},null,{"$f":"D101","v":34386.6}]
["Предоставление субсидий бюджетным, автономным учреждениям и иным некоммерческим организациям",{"$f":"B102","v":"01 3 02 18590"},600,34386.6]
["Субсидии бюджетным учреждениям","01 3 02 18590",610,{"$f":"'Функц. 2019'!F235","v":34386.6}]
["Основное  мероприятие  \"Совершенствование  системы предоставления государственных  и муниципальных услуг по принципу одного окна в многофункциональных  центрах предоставления  государственных и муниципальных услуг\"","01 3 03 00000",null,{"$f":"D104+D107","v":803.9}]
["Создание  системы обеспечения информационной безопасности",{"$f":"B105","v":"01 3 03 00020"},null,{"$f":"D105","v":783.69999999999993}]
["Предоставление субсидий бюджетным, автономным учреждениям и иным некоммерческим организациям",{"$f":"B106","v":"01 3 03 00020"},600,{"$f":"D106","v":783.69999999999993}]
["Субсидии бюджетным учреждениям","01 3 03 00020",610,{"$f":"'Функц. 2019'!F239","v":783.69999999999993}]
["Открытие  двух  удаленных  рабочих  мест в МФЦ  по адресу:  город Лыткарино, ул.Ухтомского, д.29 ",{"$f":"B108","v":"01 3 03 00040"},null,{"$f":"D108","v":20.2}]
["Предоставление субсидий бюджетным, автономным учреждениям и иным некоммерческим организациям",{"$f":"B109","v":"01 3 03 00040"},600,{"$f":"D109","v":20.2}]
["Субсидии бюджетным учреждениям","01 3 03 00040",610,{"$f":"'Функц. 2019'!F242","v":20.2}]
["Подпрограмма «Развитие системы информирования населения о деятельности\n органов местного самоуправления города Лыткарино Московской области» ","01 4 00 00000",null,{"$f":"D111+D118","v":8536.6}]
["Основное мероприятие \"Информирование населения г.Лыткарино об основных событиях социально-экономического развития, общественно-политической жизни, о деятельности органов местного самоуправления  муниципального  образования Московской области\" ","01 4 01 00000",null,{"$f":"D112+D115","v":7587.4}]
["Мероприятия  в  области  развития  системы  информирования  населения",{"$f":"B113","v":"01 4 01 00010"},null,{"$f":"D113","v":7485}]
["Закупка товаров, работ и услуг для обеспечения государственных (муниципальных) нужд",{"$f":"B114","v":"01 4 01 00010"},200,7485]
["Иные закупки товаров, работ и услуг для обеспечения государственных (муниципальных) нужд","01 4 01 00010",240,{"$f":"'Функц. 2019'!F84","v":7485}]
["Осуществление взаимодействия органов местного самоуправления с печатными  средствами массовой  информации  в  области  подписки,доставки  и  распространения тиражей печатных изданий",{"$f":"B116","v":"01 4 01 00020"},null,{"$f":"D116","v":102.4}]
["Закупка товаров, работ и услуг для обеспечения государственных (муниципальных) нужд",{"$f":"B117","v":"01 4 01 00020"},200,102.4]
["Иные закупки товаров, работ и услуг для обеспечения государственных (муниципальных) нужд","01 4 01 00020",240,{"$f":"'ведом. 2019'!AD52+'ведом. 2019'!AD133+'ведом. 2019'!AD166+'ведом. 2019'!AD711+'ведом. 2019'!AD775+'ведом. 2019'!AD1063+'ведом. 2019'!AD1260+'ведом. 2019'!AD1371+'ведом. 2019'!AD1404+'ведом. 2019'!AD828","v":102.4}]
["Основное мероприятие  \"Информирование населения муниципального образования посредством наружной рекламы\" ","01 4 02 00000",null,{"$f":"D119","v":949.2}]
["Мероприятия  в  области  развития  системы  информирования  населения",{"$f":"B120","v":"01 4 02 00010"},null,{"$f":"D120+D122","v":949.2}]
["Закупка товаров, работ и услуг для обеспечения государственных (муниципальных) нужд",{"$f":"B121","v":"01 4 02 00010"},200,{"$f":"D121","v":946.2}]
["Иные закупки товаров, работ и услуг для обеспечения государственных (муниципальных) нужд","01 4 02 00010",240,{"$f":"'Функц. 2019'!F575","v":946.2}]
["Иные бюджетные ассигнования",{"$f":"B123","v":"01 4 02 00010"},800,{"$f":"D123","v":3}]
["Уплата налогов, сборов и иных платежей","01 4 02 00010",850,{"$f":"'Функц. 2019'!F577","v":3}]
["Подпрограмма  \"Развитие  архивного  дела  в  городе  Лыткарино\"","01 5 00 00000",null,{"$f":"D125+D129","v":555.1}]
["Основное  мероприятие \"Организация  упорядочения  документов  постоянного  хранения  и  по  личному  составу\"","01 5 01 00000",null,{"$f":"D126","v":482.1}]
["Расходы  для  упорядочения  документов  постоянного  хранения ",{"$f":"B127","v":"01 5 01 00010"},null,482.1]
["Закупка товаров, работ и услуг для обеспечения государственных (муниципальных) нужд",{"$f":"B128","v":"01 5 01 00010"},200,482.1]
["Иные закупки товаров, работ и услуг для обеспечения государственных (муниципальных) нужд","01 5 01 00010",240,{"$f":"'Функц. 2019'!F92","v":482.1},9]
["Основное  мероприятие  \"Создание  оптимальных  условий  для  хранения архивных документов\"","01 5 02 00000",null,{"$f":"D130","v":73}]
["Расходы  на  ремонт  архивохранилища и приобретения материальных запасов",{"$f":"B131","v":"01 5 02 00020"},null,{"$f":"D131","v":73}]
["Закупка товаров, работ и услуг для обеспечения государственных (муниципальных) нужд",{"$f":"B132","v":"01 5 02 00020"},200,{"$f":"D132","v":73}]
["Иные закупки товаров, работ и услуг для обеспечения государственных (муниципальных) нужд","01 5 02 00020",240,{"$f":"'Функц. 2019'!F96","v":73},-9]
["Подпрограмма  «Развитие муниципальной службы» ","01 6 00 00000",null,{"$f":"D135","v":6264.1}]
["Основное  мероприятие \"Повышение  мотивации  к  исполнению  должностных  обязанностей  муниципальных  служащих\"","01 6 02 00000",null,{"$f":"D135","v":6264.1}]
["Пенсия за выслугу лет лицам, замещавшим муниципальные должности или должности муниципальной службы в органах местного самоуправления и избирательных комиссиях муниципального образования \"Город Лыткарино Московской области\"",{"$f":"B136","v":"01 6 02 00020"},null,6264.1]
["Социальное обеспечение и иные выплаты населению",{"$f":"B137","v":"01 6 02 00020"},300,6264.1]
["Социальные выплаты гражданам, кроме публичных нормативных социальных выплат","01 6 02 00020",320,{"$f":"'Функц. 2019'!F1054","v":6264.1},54]
["Подпрограмма  \"Архитектура  и  градостроительство  города Лыткарино\"","01 7 00 00000",null,{"$f":"D139+D147+D143","v":5600}]
["Основное  мероприятие  \"Предупреждение  и  пресечение  случаев  самовольного  строительства  на  территории  города Лыткарино\"","01 7 06 00000",null,{"$f":"D140","v":100}]
["Мероприятия  в  области  строительства, архитектуры  и  градостроительства",{"$f":"B141","v":"01 7 06 00100"},null,100]
["Закупка товаров, работ и услуг для обеспечения государственных (муниципальных) нужд",{"$f":"B142","v":"01 7 06 00100"},200,100]
["Иные закупки товаров, работ и услуг для обеспечения государственных (муниципальных) нужд","01 7 06 00100",240,{"$f":"'Функц. 2019'!F512","v":100}]
["Основное  мероприятие \"Разработка проектной документации для строительства линейного объекта капитального строительства - дороги к Индустриальному парку \"Лыткарино\"","01 7 09 00000",null,{"$f":"D144","v":4500}]
["Мероприятия  в  области  строительства,архитектуры  и  градостроительства","01 7 09 00100",null,{"$f":"D145","v":4500}]
["Закупка товаров, работ и услуг для обеспечения государственных (муниципальных) нужд","01 7 09 00100",200,{"$f":"D146","v":4500}]
["Иные закупки товаров, работ и услуг для обеспечения государственных (муниципальных) нужд","01 7 09 00100",240,{"$f":"'Функц. 2019'!F438","v":4500}]
["Основное  мероприятие \"Выполнение работ по отсыпке щебнем линейных объектов транспортной инфраструктуры, расположенных в границах указанной территории\"","01 7 10 00000",null,{"$f":"D148","v":1000}]
["Мероприятия  в  области  строительства,архитектуры  и  градостроительства",{"$f":"B149","v":"01 7 10 00100"},null,{"$f":"D149","v":1000}]
["Закупка товаров, работ и услуг для обеспечения государственных (муниципальных) нужд",{"$f":"B150","v":"01 7 10 00100"},200,{"$f":"D150","v":1000}]
["Иные закупки товаров, работ и услуг для обеспечения государственных (муниципальных) нужд","01 7 10 00100",240,{"$f":"'Функц. 2019'!F442","v":1000}]
["Подпрограмма «Развитие земельно-имущественного комплекса в городе Лыткарино»","01 8 00 00000",null,{"$f":"D152+D156+D164+D160","v":16969.600000000002}]
["Основное  мероприятие \"Государственный  кадастровый  учет  и  государственная  регистрация  прав\"","01 8 01 00000",null,{"$f":"D153","v":772}]
["Постановка  на  государственный    кадастровый  учет  и  государственная  регистрация  прав",{"$f":"B154","v":"01 8 01 00050"},null,772]
["Закупка товаров, работ и услуг для обеспечения государственных (муниципальных) нужд",{"$f":"B155","v":"01 8 01 00050"},200,772]
["Иные закупки товаров, работ и услуг для обеспечения государственных (муниципальных) нужд","01 8 01 00050",240,{"$f":"'Функц. 2019'!F252","v":772},-83]
["Основное  мероприятие  \"Рыночная  оценка  муниципального  имущества   \"","01 8 02 00000",null,{"$f":"D157","v":500}]
["Мероприятия  по рыночной   оценке продажи  муниципального  имущества  и  прав  аренды  муниципального  имущества",{"$f":"B158","v":"01 8 02 00110"},null,{"$f":"D159","v":500}]
["Закупка товаров, работ и услуг для обеспечения государственных (муниципальных) нужд",{"$f":"B159","v":"01 8 02 00110"},200,{"$f":"D159","v":500}]
["Иные закупки товаров, работ и услуг для обеспечения государственных (муниципальных) нужд","01 8 02 00110",240,{"$f":"'Функц. 2019'!F256","v":500}]
[{"$f":"'Функц. 2019'!A257","v":"Основное  мероприятие \"Содержание  и  обслуживание  муниципальной  казны \""},{"$f":"'Функц. 2019'!D257","v":"01 8 03 00000"},null,{"$f":"'Функц. 2019'!F257","v":9.6999999999999993}]
[{"$f":"'Функц. 2019'!A258","v":"Содержание  и  обслуживание  казны  муниципального  образования  \"Город  Лыткарино\""},{"$f":"'Функц. 2019'!D258","v":"01 8 03 00120"},null,{"$f":"'Функц. 2019'!F258","v":9.6999999999999993}]
[{"$f":"'Функц. 2019'!A259","v":"Закупка товаров, работ и услуг для обеспечения государственных (муниципальных) нужд"},{"$f":"'Функц. 2019'!D259","v":"01 8 03 00120"},{"$f":"'Функц. 2019'!E259","v":200},{"$f":"'Функц. 2019'!F259","v":9.6999999999999993}]
[{"$f":"'Функц. 2019'!A260","v":"Иные закупки товаров, работ и услуг для обеспечения государственных (муниципальных) нужд"},{"$f":"'Функц. 2019'!D260","v":"01 8 03 00120"},{"$f":"'Функц. 2019'!E260","v":240},{"$f":"'Функц. 2019'!F260","v":9.6999999999999993},9.6999999999999993]
["Основное  мероприятие  \"Перечисление  региональному  оператору  взносов  на  капитальный  ремонт  в  части  муниципального  имущества ( жилой  и  нежилой  фонд)\"","01 8 04 00000",null,{"$f":"D165","v":15687.9}]
["Перечисление   региональному  оператору  взносов  на  капитальный  ремонт  в  части  муниципального  имущества",{"$f":"B166","v":"01 8 04 00060"},null,15687.9]
["Иные бюджетные ассигнования",{"$f":"B167","v":"01 8 04 00060"},800,15687.9]
["Уплата налогов, сборов и иных платежей","01 8 04 00060",850,{"$f":"'Функц. 2019'!F538","v":15687.9}]
["Подпрограмма  \"Управление  муниципальными  финансами города  Лыткарино\"","01 9 00 00000",null,{"$f":"D169","v":25520.6}]
["Основное  мероприятие \"Обеспечение своевременности и полноты исполнения долговых обязательств в части расходов на обслуживание муниципального долга\"","01 9 01 00000",null,25520.6]
["Процентные платежи по долговым обязательствам",{"$f":"B171","v":"01 9 01 00010"},null,{"$f":"D171","v":25520.6}]
["Обслуживание государственного (муниципального) долга",{"$f":"B172","v":"01 9 01 00010"},700,25520.6]
["Обслуживание    муниципального  долга","01 9 01 00010",730,{"$f":"'Функц. 2019'!F1187","v":25520.6}]
["Муниципальная  программа «Культура города Лыткарино» на 2017-2021 годы","02 0 00 00000",null,{"$f":"D174+D206+D214+D221+D192","v":154455.19999999998}]
["Подпрограмма  «Организация досуга, предоставление услуг в сфере культуры и доступа к музейным фондам, развитие образования в сфере культуры и искусства в городе Лыткарино» ","02 2 00 00000",null,{"$f":"D175","v":131454.69999999998}]
["Основное  мероприятие  \"Выделение  средств  субсидии  на  выполнение  муниципального  задания\"","02 2 01 00000",null,{"$f":"D176+D179+D186+D189","v":131454.69999999998}]
["Расходы  на  обеспечение  деятельности  (оказание  услуг (выполнение  работ)) муниципальных  учреждений  по  внешкольной  работе  с  детьми (музыкальная  школа)",{"$f":"B177","v":"02 2 01 06590"},null,{"$f":"D177","v":36166}]
["Предоставление субсидий бюджетным, автономным учреждениям и иным некоммерческим организациям",{"$f":"B178","v":"02 2 01 06590"},600,36166]
["Субсидии бюджетным учреждениям","02 2 01 06590",610,{"$f":"'Функц. 2019'!F858","v":36166}]
["Расходы на  содержание  и  обеспечение    деятельности  дворцов  и домов  культуры (оказание  муниципальных  услуг  (выполнение  работ))","02 2 01 08590",null,{"$f":"D180+D183","v":51683.399999999994}]
["Предоставление субсидии на  выполнение  муниципального  задания МУ ДК \"Мир\"","02 2 01 08591",null,{"$f":"D181","v":29049}]
["Предоставление субсидий бюджетным, автономным учреждениям и иным некоммерческим организациям","02 2 01 08591",600,{"$f":"D182","v":29049}]
["Субсидии бюджетным учреждениям","02 2 01 08591",610,{"$f":"'Функц. 2019'!F986","v":29049}]
["Предоставление субсидии на  выполнение  муниципального  задания МУ ДК \"Центр молодежи\"",{"$f":"B184","v":"02 2 01 08592"},null,{"$f":"D184","v":22634.399999999998}]
["Предоставление субсидий бюджетным, автономным учреждениям и иным некоммерческим организациям","02 2 01 08592",600,{"$f":"D185","v":22634.399999999998}]
["Субсидии бюджетным учреждениям","02 2 01 08592",610,{"$f":"'Функц. 2019'!F989","v":22634.399999999998}]
["Расходы  на содержание  и  обеспечение  деятельности  музеев и постоянных выставок",{"$f":"B187","v":"02 2 01 09590"},null,{"$f":"D187","v":17629.7}]
["Предоставление субсидий бюджетным, автономным учреждениям и иным некоммерческим организациям",{"$f":"B188","v":"02 2 01 09590"},600,{"$f":"D188","v":17629.7}]
["Субсидии бюджетным учреждениям","02 2 01 09590",610,{"$f":"'Функц. 2019'!F992","v":17629.7}]
["Расходы  на  содержание  и  обеспечение  деятельности  библиотек ",{"$f":"B190","v":"02 2 01 10590"},null,{"$f":"D190","v":25975.599999999999}]
["Предоставление субсидий бюджетным, автономным учреждениям и иным некоммерческим организациям","02 2 01 10590",600,{"$f":"D191","v":25975.599999999999}]
["Субсидии бюджетным учреждениям","02 2 01 10590",610,{"$f":"'Функц. 2019'!F995","v":25975.599999999999}]
["Подпрограмма  «Укрепление материально-технической базы и благоустройство территории муниципальных учреждений в сфере культуры города Лыткарино\"","02 3 00 00000",null,{"$f":"D193","v":2965.6}]
["Основное  мероприятие  «Укрепление материально-технической базы муниципальных учреждений в сфере культуры города Лыткарино\"","02 3 01 00000",null,{"$f":"D194+D197+D200+D203","v":2965.6}]
["Укрепление  материльно-технической базы МУ \"Дом культуры \"Центр молодежи\"","02 3 01 00040",null,{"$f":"D195","v":1030}]
["Предоставление субсидий бюджетным, автономным учреждениям и иным некоммерческим организациям","02 3 01 00040",600,{"$f":"D196","v":1030}]
["Субсидии бюджетным учреждениям","02 3 01 00040",610,{"$f":"'Функц. 2019'!F1000","v":1030}]
["Укрепление  материльно-технической базы МУ \"Лыткаринский историко-краеведческий музей\"","02 3 01 00060",null,{"$f":"D198","v":435.6}]
["Предоставление субсидий бюджетным, автономным учреждениям и иным некоммерческим организациям","02 3 01 00060",600,{"$f":"D199","v":435.6}]
["Субсидии бюджетным учреждениям","02 3 01 00060",610,{"$f":"'Функц. 2019'!F1003","v":435.6}]
["Укрепление  материльно-технической базы МУ \"Детская музыкальная  школа\"","02 3 01 00070",null,{"$f":"D201","v":1000}]
["Предоставление субсидий бюджетным, автономным учреждениям и иным некоммерческим организациям","02 3 01 00070",600,{"$f":"D202","v":1000}]
["Субсидии бюджетным учреждениям","02 3 01 00070",610,{"$f":"'Функц. 2019'!F863","v":1000}]
["Приобретение технического оборудования (компьютеры, мониторы, МФУ, проекторы) и программного обеспечения для МУ \"Централизованная библиотечная система\"","02 3 01 04400",null,{"$f":"D204","v":500}]
["Предоставление субсидий бюджетным, автономным учреждениям и иным некоммерческим организациям","02 3 01 04400",600,{"$f":"D205","v":500}]
["Субсидии бюджетным учреждениям","02 3 01 04400",610,{"$f":"'Функц. 2019'!F1006","v":500}]
["Подпрограмма \"Истоки\"","02 5 00 00000",null,{"$f":"D212+D208","v":513.1}]
["Основное  мероприятие \"Проведение  мероприятий  по  подпрограмме  \"Истоки\"\"","02 5 01 00000",null,{"$f":"D208+D211","v":513.1}]
["Мероприятия  в  сфере  образования",{"$f":"B209","v":"02 5 01 07000"},null,{"$f":"D209","v":15}]
["Предоставление субсидий бюджетным, автономным учреждениям и иным некоммерческим организациям",{"$f":"B210","v":"02 5 01 07000"},600,15]
["Субсидии бюджетным учреждениям","02 5 01 07000",610,{"$f":"'Функц. 2019'!F868","v":15}]
["Мероприятия в  сфере  культуры  и  кинематографии",{"$f":"B212","v":"02 5 01 08000"},null,{"$f":"D212","v":498.1}]
["Предоставление субсидий бюджетным, автономным учреждениям и иным некоммерческим организациям",{"$f":"B213","v":"02 5 01 08000"},600,498.1]
["Субсидии бюджетным учреждениям","02 5 01 08000",610,{"$f":"'Функц. 2019'!F1011","v":498.1}]
["Подпрограмма  \" Проведение  культурно-массовых  и  праздничных  мероприятий  в  сфере  культуры  в  городе  Лыткарино\"","02 6 00 00000",null,{"$f":"D215","v":7442.4}]
["Основное  мероприятие \"Проведение  культурно-массовых  и  праздничных  мероприятий  в  сфере  культуры  в городе Лыткарино\"","02 6 01 00000",null,7442.4]
["Мероприятия в  сфере  культуры  и  кинематографии",{"$f":"B217","v":"02 6 01 08000"},null,{"$f":"D217+D219","v":7442.4}]
["Закупка товаров, работ и услуг для обеспечения государственных (муниципальных) нужд",{"$f":"B218","v":"02 6 01 08000"},200,{"$f":"D218","v":767.4}]
["Иные закупки товаров, работ и услуг для обеспечения государственных (муниципальных) нужд","02 6 01 08000",240,{"$f":"'Функц. 2019'!F1016","v":767.4},50]
["Предоставление субсидий бюджетным, автономным учреждениям и иным некоммерческим организациям",{"$f":"B220","v":"02 6 01 08000"},600,{"$f":"D220","v":6675}]
["Субсидии бюджетным учреждениям","02 6 01 08000",610,{"$f":"'Функц. 2019'!F1018","v":6675}]
["Обеспечивающая  подпрограмма ","02 7 00 00000",null,{"$f":"D222","v":12079.400000000001}]
["Основное мероприятие  \"Обеспечение  деятельности  муниципальных  казенных  учреждений\"","02 7 01 00000",null,12079.400000000001]
["Обеспечение  деятельности  муниципального  казенного  учреждения \"Комитет  по  делам  культуры, молодежи,спорта  и  туризма  г.Лыткарино\"","02 7 01 15590",null,{"$f":"D224+D226+D228","v":12079.400000000001}]
["Расходы на выплаты персоналу в целях обеспечения выполнения функций государственными (муниципальными) органами, казенными учреждениями, органами управления государственными внебюджетными фондами ","02 7 01 15590",100,{"$f":"D225","v":11230.900000000001}]
["Расходы на выплаты персоналу казенных учреждений","02 7 01 15590",110,{"$f":"'Функц. 2019'!F266","v":11230.900000000001}]
["Закупка товаров, работ и услуг для обеспечения государственных (муниципальных) нужд","02 7 01 15590",200,{"$f":"D227","v":813.5}]
["Иные закупки товаров, работ и услуг для обеспечения государственных (муниципальных) нужд","02 7 01 15590",240,{"$f":"'Функц. 2019'!F268","v":813.5}]
["Иные бюджетные ассигнования","02 7 01 15590","800",{"$f":"D229","v":35}]
["Уплата налогов, сборов и иных платежей","02 7 01 15590","850",{"$f":"'Функц. 2019'!F270","v":35}]
["Муниципальная  программа \"Образование города Лыткарино\" на 2017-2021  годы","03 0 00 00000",null,{"$f":"D231+D272+D340+D359","v":1048441.4}]
["Подпрограмма  \"Дошкольное  образование\"","03 1 00 00000",null,{"$f":"D245+D268+D232","v":464593.3}]
[" Основное мероприятие «Создание и развитие объектов дошкольного образования (включая капитальный ремонт, реконструкцию со строительством пристроек и благоустройство территории)»","03 1 01 00000",null,{"$f":"D233+D242+D236+D239","v":28595.599999999999}]
["Благоустройство территорий дошкольных образовательных учреждений","03 1 01 00050",null,{"$f":"D234","v":445.6}]
["Предоставление субсидий бюджетным, автономным учреждениям и иным некоммерческим организациям",{"$f":"B235","v":"03 1 01 00050"},600,445.6]
["Субсидии бюджетным учреждениям","03 1 01 00050",610,{"$f":"'Функц. 2019'!F724","v":445.6}]
["Мероприятия по проведению технического обследования муниципальных дошкольных образовательных учреждений ",{"$f":"B237","v":"03 1 01 00070"},null,{"$f":"D237","v":150}]
["Предоставление субсидий бюджетным, автономным учреждениям и иным некоммерческим организациям",{"$f":"B238","v":"03 1 01 00070"},600,{"$f":"D238","v":150}]
["Субсидии бюджетным учреждениям","03 1 01 00070",610,{"$f":"'Функц. 2019'!F727","v":150}]
["Расходы на реализацию дополнительных мероприятий по развитию дошкольных образовательных организаций","03 1 01 04400",null,{"$f":"D240","v":1500}]
["Предоставление субсидий бюджетным, автономным учреждениям и иным некоммерческим организациям","03 1 01 04400",600,{"$f":"D241","v":1500}]
["Субсидии бюджетным учреждениям","03 1 01 04400",610,{"$f":"'Функц. 2019'!F730","v":1500}]
["Мероприятия по проведению капитального ремонта в муниципальных дошкольных образовательных организациях","03 1 01 S2590",null,{"$f":"D243","v":26500}]
["Предоставление субсидий бюджетным, автономным учреждениям и иным некоммерческим организациям","03 1 01 S2590",600,{"$f":"D244","v":26500}]
["Субсидии бюджетным учреждениям","03 1 01 S2590",610,{"$f":"'Функц. 2019'!F733","v":26500}," -165-46=-211"]
["Основное  мероприятие \"Финансовое  обеспечение  реализации  прав  граждан  на  получение  общедоступного  и  бесплатного  дошкольного  образования\"","03 1 02 00000",null,{"$f":"D249+D252+D255+D258+D261+D246","v":435837.7}]
["Капитальный  и текущий ремонт пищеблоков, прачечных, кровли, лестничных маршей, групповых помещений, музыкальных залов, коридоров и замена оконных конструкций, фасадов, цоколей, отмостков, вытяжной вентиляции  фундаментов дошкольных образовательных учреждений",{"$f":"B247","v":"03 1 02 00010"},null,{"$f":"D247","v":582.70000000000005}]
["Предоставление субсидий бюджетным, автономным учреждениям и иным некоммерческим организациям",{"$f":"B248","v":"03 1 02 00010"},600,{"$f":"D248","v":582.70000000000005}]
["Субсидии бюджетным учреждениям","03 1 02 00010",610,{"$f":"'Функц. 2019'!F737","v":582.70000000000005}]
["Снос  (обрезка) аварийных  деревьев  на  территории  дошкольных   образовательных  учреждений","03 1 02 00030",null,{"$f":"D250","v":202.8}]
["Предоставление субсидий бюджетным, автономным учреждениям и иным некоммерческим организациям","03 1 02 00030",600,202.8]
["Субсидии бюджетным учреждениям","03 1 02 00030",610,{"$f":"'Функц. 2019'!F740","v":202.8}]
["Субсидия  на  компенсацию  выпадающих  доходов  в  части  родительской  платы  за  присмотр  и  уход  отдельных  категорий  детей","03 1 02 00080",null,{"$f":"D253","v":1343.8}]
["Предоставление субсидий бюджетным, автономным учреждениям и иным некоммерческим организациям","03 1 02 00080",600,1343.8]
["Субсидии бюджетным учреждениям","03 1 02 00080",610,{"$f":"'Функц. 2019'!F743","v":1343.8}]
["Расходы  на  обеспечение  деятельности  (оказание  услуг (выполнение  работ))  учреждений    дошкольного  образования ",{"$f":"B256","v":"03 1 02 04590"},null,{"$f":"D256","v":134984.4}]
["Предоставление субсидий бюджетным, автономным учреждениям и иным некоммерческим организациям",{"$f":"B257","v":"03 1 02 04590"},600,134984.4]
["Субсидии бюджетным учреждениям","03 1 02 04590",610,{"$f":"'Функц. 2019'!F746","v":134984.4}]
["Обеспечение государственных гарантий реализации прав граждан на получение общедоступного и бесплатного дошкольного образования в муниципальных дошкольных образовательных организациях в Московской области, включая расходы на оплату труда, приобретение учебников и учебных пособий, средств обучения, игр, игрушек (за исключением расходов на содержание зданий и оплату коммунальных услуг)","03 1 02 62110",null,{"$f":"D259","v":278092}]
["Предоставление субсидий бюджетным, автономным учреждениям и иным некоммерческим организациям","03 1 02 62110",600,278092]
["Субсидии бюджетным учреждениям","03 1 02 62110",610,{"$f":"'Функц. 2019'!F749","v":278092}]
["Выплата компенсации  родительской платы за присмотр  и  уход  за  детьми,  осваивающими  образовательные  программы  дошкольного  образования  в  организациях  Московской  области,  осуществляющих  образовательную  деятельность",{"$f":"B262","v":"03 1 02 62140"},null,{"$f":"D262+D264+D266","v":20632}]
["Закупка товаров, работ и услуг для обеспечения государственных (муниципальных) нужд","03 1 02 62140",200,{"$f":"D263","v":196}]
["Иные закупки товаров, работ и услуг для обеспечения государственных (муниципальных) нужд","03 1 02 62140",240,{"$f":"'Функц. 2019'!F1103","v":196}]
["Социальное обеспечение и иные выплаты населению","03 1 02 62140",300,{"$f":"D265","v":19634}]
["Публичные нормативные социальные выплаты гражданам",{"$f":"B266","v":"03 1 02 62140"},310,{"$f":"'Функц. 2019'!F1105","v":19634}]
["Предоставление субсидий бюджетным, автономным учреждениям и иным некоммерческим организациям","03 1 02 62140",600,{"$f":"D267","v":802}]
["Субсидии бюджетным учреждениям","03 1 02 62140",610,{"$f":"'Функц. 2019'!F933","v":802}]
["Основное  мероприятие \"Финансовое  обеспечение   прочих  мероприятий  в  сфере дошкольного образования\"","03 1 03 00000",null,{"$f":"D269","v":160}]
["Прочие  мероприятия  в  сфере  образования",{"$f":"B270","v":"03 1 03 07000"},null,160]
["Предоставление субсидий бюджетным, автономным учреждениям и иным некоммерческим организациям",{"$f":"B271","v":"03 1 03 07000"},600,160]
["Субсидии бюджетным учреждениям","03 1 03 07000",610,{"$f":"'Функц. 2019'!F753","v":160}]
["Подпрограмма  \"Общее образование\"","03 2 00 00000",null,{"$f":"D273+D318+D330+D298+D336","v":485324}]
["Основное  мероприятие \" Финансовое  обеспечение  деятельности  образовательных  организаций\"","03 2 01 00000",null,{"$f":"D274+D292+D295+D286+D280+D283+D277+D289","v":442631.5}]
["Мероприятия  по  организации  питьевого режима  в образовательных  учреждениях",{"$f":"B275","v":"03 2 01 00010"},null,{"$f":"D275","v":20}]
["Предоставление субсидий бюджетным, автономным учреждениям и иным некоммерческим организациям",{"$f":"B276","v":"03 2 01 00010"},600,20]
["Субсидии бюджетным учреждениям","03 2 01 00010",610,{"$f":"'Функц. 2019'!F773","v":20}]
["Приобретение расходных материалов для проведения единого государственного экзамена",{"$f":"B278","v":"03 2 01 00020"},null,{"$f":"D278","v":94.5}]
["Предоставление субсидий бюджетным, автономным учреждениям и иным некоммерческим организациям",{"$f":"B279","v":"03 2 01 00020"},600,{"$f":"D279","v":94.5}]
["Субсидии бюджетным учреждениям","03 2 01 00020",610,{"$f":"'Функц. 2019'!F776","v":94.5}]
["Текущий ремонт столовых и пищеблоков",{"$f":"B281","v":"03 2 01 00040"},null,{"$f":"D281","v":1650}]
["Предоставление субсидий бюджетным, автономным учреждениям и иным некоммерческим организациям",{"$f":"B282","v":"03 2 01 00040"},600,{"$f":"D282","v":1650}]
["Субсидии бюджетным учреждениям","03 2 01 00040",610,{"$f":"'Функц. 2019'!F779","v":1650}]
["Приобретение оборудования и техническое сопровождение региональной системы видеотрансляции и видеопротоколирования ППЭ",{"$f":"B284","v":"03 2 01 00050"},null,{"$f":"D284","v":928}]
["Предоставление субсидий бюджетным, автономным учреждениям и иным некоммерческим организациям",{"$f":"B285","v":"03 2 01 00050"},600,{"$f":"D285","v":928}]
["Субсидии бюджетным учреждениям","03 2 01 00050",610,{"$f":"'Функц. 2019'!F782","v":928}]
["Расходы  на  замену  фильтров  на  воду  пищеблоков  в    образовательных  учреждениях","03 2 01 00060",null,{"$f":"D287","v":30}]
["Предоставление субсидий бюджетным, автономным учреждениям и иным некоммерческим организациям",{"$f":"B286","v":"03 2 01 00060"},600,{"$f":"D288","v":30}]
["Субсидии бюджетным учреждениям",{"$f":"B287","v":"03 2 01 00060"},610,{"$f":"'Функц. 2019'!F785","v":30}]
["Расходы  на  приобретение  оборудования  для пищеблоков  в общеобразовательных учреждениях",{"$f":"B290","v":"03 2 01 00080"},null,{"$f":"D290","v":160}]
["Предоставление субсидий бюджетным, автономным учреждениям и иным некоммерческим организациям",{"$f":"B291","v":"03 2 01 00080"},600,{"$f":"D291","v":160}]
["Субсидии бюджетным учреждениям","03 2 01 00080",610,{"$f":"'Функц. 2019'!F788","v":160}]
["Расходы  на  обеспечение  деятельности  (оказание  услуг (выполнение  работ)) муниципальных  учреждений  школ-детских  садов, школ начальных, неполных средних  и  средних",{"$f":"B293","v":"03 2 01 05590"},null,{"$f":"D293","v":71793.999999999985}]
["Предоставление субсидий бюджетным, автономным учреждениям и иным некоммерческим организациям",{"$f":"B294","v":"03 2 01 05590"},600,71793.999999999985]
["Субсидии бюджетным учреждениям","03 2 01 05590",610,{"$f":"'Функц. 2019'!F791","v":71793.999999999985}]
["Обеспечение государственных гарантий реализации прав граждан на получение общедоступного и бесплатного дошкольного, начального общего, основного общего, среднего общего образования в муниципальных общеобразовательных организациях в Московской области, обеспечение дополнительного образования в муниципальных общеобразовательных организациях в Московской области, включая расходы на оплату труда, приобретение учебников и учебных пособий, средств обучения, игр, игрушек (за исключением расходов на содержание зданий и оплату коммунальных услуг)",{"$f":"B296","v":"03 2 01 62200"},null,{"$f":"D296","v":367955}]
["Предоставление субсидий бюджетным, автономным учреждениям и иным некоммерческим организациям",{"$f":"B297","v":"03 2 01 62200"},600,367955]
["Субсидии бюджетным учреждениям","03 2 01 62200",610,{"$f":"'Функц. 2019'!F794","v":367955}]
["Основное мероприятие \"Обеспечение  развития  инновационной  инфраструктуры  общего  образования\"","03 2 02 00000",null,{"$f":"D312+D308+D299+D302+D305","v":1790.8}]
["Проектирование сноса здания на территории земельного участка предназначенного для МС(К)ОУ специальной (коррекционной) общеобразовательной школы N 8 ","03 2 02 00010",null,{"$f":"D300","v":200}]
["Закупка товаров, работ и услуг для обеспечения государственных (муниципальных) нужд","03 2 02 00010",200,{"$f":"D301","v":200}]
["Иные закупки товаров, работ и услуг для обеспечения государственных (муниципальных) нужд","03 2 02 00010",240,{"$f":"'Функц. 2019'!F798","v":200}]
["Проведение  технического обследования здания МОУ гимназия №1",{"$f":"B303","v":"03 2 02 00020"},null,{"$f":"D303","v":150}]
["Предоставление субсидий бюджетным, автономным учреждениям и иным некоммерческим организациям",{"$f":"B304","v":"03 2 02 00020"},600,{"$f":"D304","v":150}]
["Субсидии бюджетным учреждениям","03 2 02 00020",610,{"$f":"'[2]Функц. 2019'!F778","v":150}]
["Расходы на проведение капитального ремонта,ремонта кровель, замену оконных конструкций,выполнение противопожарных мероприятий в общеобразовательных организациях",{"$f":"B306","v":"03 2 02 00030"},null,{"$f":"D306","v":1380}]
["Предоставление субсидий бюджетным, автономным учреждениям и иным некоммерческим организациям",{"$f":"B307","v":"03 2 02 00030"},600,{"$f":"D307","v":1380}]
["Субсидии бюджетным учреждениям","03 2 02 00030",610,{"$f":"'Функц. 2019'!F804","v":1380}]
["Бюджетные инвестиции в  объекты  капитального  строительства  муниципальной  собственности","03 2 02 22000",null,{"$f":"D309+D315","v":60.8}]
["Капитальные вложения  в общеобразовательные организации -Пир и строительство пристройки на 245 мест к МОУ СОШ №5( городской округ Лыткарино,ул.Комсомольская д.34) ",{"$f":"B310","v":"03 2 02 22010"},null,{"$f":"D310","v":0}]
[" Капитальные вложения в объекты государственной(муниципальной) собственности",{"$f":"B311","v":"03 2 02 22010"},400,{"$f":"D311","v":0}]
["Бюджетные инвестиции ","03 2 02 22010",410,{"$f":"'Функц. 2019'!F808","v":0},-14532.1]
["Капитальные вложения в общеобразовательные организации в целях обеспечения односменного режима обучения - реконструкция здания МС(К)ОУ специальной (коррекционной) общеобразовательной школы №8 для детей с ОВЗ на 216 мест, г.о.Лыткарино, ул.Пионерская, д.12б (ПИР и строительство)",{"$f":"B313","v":"03 2 02 64480"},null,{"$f":"D313","v":0}]
[" Капитальные вложения в объекты государственной(муниципальной) собственности",{"$f":"B314","v":"03 2 02 64480"},400,{"$f":"D314","v":0}]
["Бюджетные инвестиции ","03 2 02 64480",410,{"$f":"'Функц. 2019'!F811","v":0}]
["Реконструкция здания МС(К)ОУ специальной (коррекционной) общеобразовательной школы N 8 для детей с ОВЗ на 216  мест, г.о. Лыткарино, ул. Пионерская, д. 12б (ПИР и строительство) в части лабораторно-инструментальных исследований и экспертизы данных исследований в отношении земельного участка для размещения школы",{"$f":"B316","v":"03 2 02 22020"},null,{"$f":"D316","v":60.8}]
[" Капитальные вложения в объекты государственной(муниципальной) собственности",{"$f":"B317","v":"03 2 02 22020"},400,{"$f":"D317","v":60.8}]
["Бюджетные инвестиции ","03 2 02 22020",410,{"$f":"'Функц. 2019'!F814","v":60.8}]
["Основное  мероприятие \"Обеспечение  мер  социальной  поддержки  обучающихся  в  образовательных  организациях\"","03 2 03 00000",null,{"$f":"D319+D324+D327","v":27044}]
["Обеспечение   переданного государственного полномочия  по  созданию  комиссий  по  делам  несовершеннолетних  и  защите  их  прав  городов и районов",{"$f":"B320","v":"03 2 03 60680"},null,{"$f":"D320+D322","v":2075}]
["Расходы на выплаты персоналу в целях обеспечения выполнения функций государственными (муниципальными) органами, казенными учреждениями, органами управления государственными внебюджетными фондами ",{"$f":"B321","v":"03 2 03 60680"},100,{"$f":"D321","v":1901.9}]
["Расходы на выплаты персоналу государственных (муниципальных) органов",{"$f":"B322","v":"03 2 03 60680"},120,{"$f":"'Функц. 2019'!F102","v":1901.9}]
["Закупка товаров, работ и услуг для обеспечения государственных (муниципальных) нужд",{"$f":"B323","v":"03 2 03 60680"},200,{"$f":"D323","v":173.1}]
["Иные закупки товаров, работ и услуг для обеспечения государственных (муниципальных) нужд","03 2 03 60680",240,{"$f":"'Функц. 2019'!F104","v":173.1}]
["Частичная компенсация стоимости питания отдельным категориям обучающихся в муниципальных общеобразовательных организациях в Московской области и в частных общеобразовательных организациях в Московской области, осуществляющих образовательную деятельность по имеющим государственную аккредитацию основным общеобразовательным программам",{"$f":"B325","v":"03 2 03 62220"},null,{"$f":"D325","v":24902}]
["Предоставление субсидий бюджетным, автономным учреждениям и иным некоммерческим организациям",{"$f":"B326","v":"03 2 03 62220"},600,24902]
["Субсидии бюджетным учреждениям","03 2 03 62220",610,{"$f":"'Функц. 2019'!F818","v":24902}]
["Оплата расходов, связанных с компенсацией проезда к месту учебы и обратно отдельным категориям обучающихся по  очной  форме  обучения муниципальных образовательных организаций в  Московской области",{"$f":"B328","v":"03 2 03 62230"},null,{"$f":"D328","v":67}]
["Предоставление субсидий бюджетным, автономным учреждениям и иным некоммерческим организациям",{"$f":"B329","v":"03 2 03 62230"},600,67]
["Субсидии бюджетным учреждениям","03 2 03 62230",610,{"$f":"'Функц. 2019'!G821","v":67}]
["Основное  мероприятие \"Прочие  мероприятия  в  сфере  образования\"","03 2 05 00000",null,{"$f":"D331","v":2277.6999999999998}]
["Прочие  мероприятия  в  сфере общего образования","03 2 05 07000",null,{"$f":"D334+D332","v":2277.6999999999998}]
["Социальное обеспечение и иные выплаты населению","03 2 05 07000",300,{"$f":"D333","v":470}]
["Стипендии","03 2 05 07000",340,{"$f":"'Функц. 2019'!F824","v":470}]
["Предоставление субсидий бюджетным, автономным учреждениям и иным некоммерческим организациям",{"$f":"B331","v":"03 2 05 07000"},600,1807.6999999999998]
["Субсидии бюджетным учреждениям",{"$f":"B334","v":"03 2 05 07000"},610,{"$f":"'Функц. 2019'!F826","v":1807.6999999999998}]
["Основное мероприятие \"Федеральный проект \"Современная  школа\" ","03 2 E1 00000",null,{"$f":"D337","v":11580}]
["Реконструкция здания МС(К)ОУ специальной (коррекционной) общеобразовательной школы N 8 для детей с ОВЗ на 216  мест, г.о. Лыткарино, ул. Пионерская, д. 12б (ПИР и строительство)",{"$f":"B338","v":"03 2 E1 S4480"},null,{"$f":"D338","v":11580}]
[" Капитальные вложения в объекты государственной(муниципальной) собственности",{"$f":"B339","v":"03 2 E1 S4480"},400,{"$f":"D339","v":11580}]
["Бюджетные инвестиции ","03 2 E1 S4480",410,{"$f":"'Функц. 2019'!F830","v":11580}]
["Подпрограмма  \"Дополнительное  образование  и  воспитание  детей\"","03 3 00 00000",null,{"$f":"D341+D351+D355","v":64156.7}]
["Основное  мероприятие \"Реализация  комплекса  мер, обеспечивающих  развитие  системы  дополнительного  образования  детей,  в  том  числе  направленных  на  совершенствование организационно-экономических  механизмов  обеспечения  доступности  услуг  дополнительного  образования  и  психологического  сопровождения  обучающихся\"","03 3 01 00000",null,{"$f":"D348+D342+D345","v":54326.899999999994}]
["Расходы на текущий ремонт в муниципальных учреждениях дополнительного образования","03 3 01 00010",null,{"$f":"D343","v":2463.5}]
["Предоставление субсидий бюджетным, автономным учреждениям и иным некоммерческим организациям","03 3 01 00010",600,{"$f":"D344","v":2463.5}]
["Субсидии бюджетным учреждениям","03 3 01 00010",610,{"$f":"'Функц. 2019'!F874","v":2463.5}]
["Укрепление  материально-технической базы учреждений дополнительного  образования",{"$f":"B346","v":"03 3 01 00020"},null,{"$f":"D346","v":99.2}]
["Предоставление субсидий бюджетным, автономным учреждениям и иным некоммерческим организациям",{"$f":"B347","v":"03 3 01 00020"},600,{"$f":"D347","v":99.2}]
["Субсидии бюджетным учреждениям","03 3 01 00020",610,{"$f":"'Функц. 2019'!F877","v":99.2}]
["Расходы  на  обеспечение  деятельности  (оказание  услуг (выполнение  работ)) муниципальных  учреждений  по  внешкольной  работе  с  детьми",{"$f":"B349","v":"03 3 01 06590"},null,{"$f":"D349","v":51764.2}]
["Предоставление субсидий бюджетным, автономным учреждениям и иным некоммерческим организациям",{"$f":"B350","v":"03 3 01 06590"},600,51764.2]
["Субсидии бюджетным учреждениям","03 3 01 06590",610,{"$f":"'Функц. 2019'!F880","v":51764.2},-9632]
["Основное  мероприятие \"Прочие  мероприятия  в  сфере дополнительного образования\"","03 3 03 00000",null,{"$f":"D352","v":197.8}]
["Прочие  мероприятия  в  сфере  образования",{"$f":"B353","v":"03 3 03 07000"},null,197.8]
["Предоставление субсидий бюджетным, автономным учреждениям и иным некоммерческим организациям",{"$f":"B354","v":"03 3 03 07000"},600,197.8]
["Субсидии бюджетным учреждениям","03 3 03 07000",610,{"$f":"'Функц. 2019'!F884","v":197.8}]
[{"$f":"'Функц. 2019'!A885","v":"Основное мероприятие \"Обеспечение функционирования модели персонифицированного финансирования дополнительного образования детей\" "},{"$f":"'Функц. 2019'!D885","v":"03 3 04 00000"},null,{"$f":"'Функц. 2019'!F885","v":9632}]
[{"$f":"'Функц. 2019'!A886","v":"Внедрение и обеспечение функционирования модели персонифицированного финансирования дополнительного образования детей"},{"$f":"'Функц. 2019'!D886","v":"03 3 04 00010"},null,{"$f":"'Функц. 2019'!F886","v":9632}]
[{"$f":"'Функц. 2019'!A887","v":"Предоставление субсидий бюджетным, автономным учреждениям и иным некоммерческим организациям"},{"$f":"'Функц. 2019'!D887","v":"03 3 04 00010"},{"$f":"'Функц. 2019'!E887","v":600},{"$f":"'Функц. 2019'!F887","v":9632}]
[{"$f":"'Функц. 2019'!A888","v":"Субсидии бюджетным учреждениям"},{"$f":"'Функц. 2019'!D888","v":"03 3 04 00010"},{"$f":"'Функц. 2019'!E888","v":610},{"$f":"'Функц. 2019'!F888","v":9632},9632]
["Обеспечивающая подпрограмма","03 4 00 00000",null,{"$f":"D360+D374+D378","v":34367.4}]
["Основное  мероприятие \"Обеспечение  деятельности  управления\"","03 4 01 00000",null,{"$f":"D361","v":17159.300000000003}]
["Расходы  содержание и обеспечение  деятельности  центрального  аппарата","03 4 01 04000",null,{"$f":"D362+D368+D371","v":17159.300000000003}]
["Расходы  на  обеспечение  деятельности  центрального  аппарата",{"$f":"B363","v":"03 4 01 04010"},null,{"$f":"D363+D365","v":1476.1000000000001}]
["Закупка товаров, работ и услуг для обеспечения государственных (муниципальных) нужд",{"$f":"B364","v":"03 4 01 04010"},200,{"$f":"D364","v":1407.2}]
["Иные закупки товаров, работ и услуг для обеспечения государственных (муниципальных) нужд",{"$f":"B365","v":"03 4 01 04010"},240,{"$f":"'Функц. 2019'!F939","v":1407.2}]
["Иные бюджетные ассигнования",{"$f":"B367","v":"03 4 01 04010"},800,{"$f":"D367+D366","v":68.900000000000006}]
[{"$f":"'Функц. 2019'!A941","v":"Исполнение судебных актов"},{"$f":"'Функц. 2019'!D941","v":"03 4 01 04010"},{"$f":"'Функц. 2019'!E941","v":830},{"$f":"'Функц. 2019'!F941","v":12.9},12.9]
["Уплата налогов, сборов и иных платежей","03 4 01 04010",850,{"$f":"'Функц. 2019'!F942","v":56.000000000000007},-12.9]
["Расходы на содержание  лиц,  замещающих должности, не являющиеся должностями муниципальной  службы",{"$f":"B369","v":"03 4 01 04020"},null,{"$f":"D369","v":5387.8}]
["Расходы на выплаты персоналу в целях обеспечения выполнения функций государственными (муниципальными) органами, казенными учреждениями, органами управления государственными внебюджетными фондами ",{"$f":"B370","v":"03 4 01 04020"},100,5387.8]
["Расходы на выплаты персоналу государственных (муниципальных) органов","03 4 01 04020",120,{"$f":"'Функц. 2019'!F945","v":5387.8}]
["Расходы на содержание  лиц,  замещающих должности  муниципальной  службы","03 4 01 04030",null,{"$f":"D372","v":10295.400000000001}]
["Расходы на выплаты персоналу в целях обеспечения выполнения функций государственными (муниципальными) органами, казенными учреждениями, органами управления государственными внебюджетными фондами ","03 4 01 04030",100,10295.400000000001]
["Расходы на выплаты персоналу государственных (муниципальных) органов","03 4 01 04030",120,{"$f":"'Функц. 2019'!F948","v":10295.400000000001}]
["Основное  мероприятие \"Прочие  мероприятия  в  сфере  образования\"","03 4 02 00000",null,{"$f":"D375","v":244.6}]
["Мероприятия  в  сфере  образования",{"$f":"B376","v":"03 4 02 07000"},null,244.6]
["Закупка товаров, работ и услуг для обеспечения государственных (муниципальных) нужд",{"$f":"B377","v":"03 4 02 07000"},200,244.6]
["Иные закупки товаров, работ и услуг для обеспечения государственных (муниципальных) нужд","03 4 02 07000",240,{"$f":"'Функц. 2019'!F952","v":244.6}]
["Основное  мероприятие \"Обеспечение  деятельности  централизованной  бухгалтерии\"  ","03 4 03 00000",null,{"$f":"D379","v":16963.5}]
["Расходы  на  обеспечение  деятельности  (оказание  услуг (выполнение  работ))  централизованных  бухгалтерий",{"$f":"B380","v":"03 4 03 07590"},null,16963.5]
["Предоставление субсидий бюджетным, автономным учреждениям и иным некоммерческим организациям",{"$f":"B381","v":"03 4 03 07590"},600,16963.5]
["Субсидии бюджетным учреждениям","03 4 03 07590",610,{"$f":"'Функц. 2019'!F956","v":16963.5}]
["Муниципальная  программа «Предпринимательство города Лыткарино» на 2017-2021 годы","04 0 00 00000",null,{"$f":"D383+D401","v":14462.7}]
["Подпрограмма  \"Развитие  потребительского  рынка  и  услуг\"","04 1 00 00000",null,{"$f":"D384+D393","v":13862.7}]
["Основное  мероприятие \"Приведение  кладбищ  города  Лыткарино  в  соответствие  с  Порядком  деятельности  общественных кладбищ  и крематориев  на территории  города Лыткарино\"","04 1 05 00000",null,{"$f":"D385+D389","v":8756.6}]
["Мероприятия  по  благоустройству","04 1 05 15000",null,{"$f":"D386","v":8542}]
["Содержание  мест  захоронения",{"$f":"B387","v":"04 1 05 15040"},null,8542]
["Закупка товаров, работ и услуг для обеспечения государственных (муниципальных) нужд",{"$f":"B388","v":"04 1 05 15040"},"200",8542]
["Иные закупки товаров, работ и услуг для обеспечения государственных (муниципальных) нужд","04 1 05 15040","240",{"$f":"'Функц. 2019'!F584","v":8542}]
["Другие мероприятия   в области национальной экономики","04 1 05 28000",null,{"$f":"D390","v":214.6}]
["Транспортировка  в  морг  с  места  обнаружения  или  происшествия умерших, не  имеющих  супруга, близких  родственников,иных  родственников либо  законного  представителя  умершего,а  также  иных  умерших  для  производства  судебно-медицинской  экспертизы и оказание  услуг, предоставляемых  согласно гарантированному  перечню  услуг  по  погребению на безвозмездной  основе",{"$f":"B391","v":"04 1 05 28010"},null,214.6]
["Закупка товаров, работ и услуг для обеспечения государственных (муниципальных) нужд",{"$f":"B392","v":"04 1 05 28010"},200,214.6]
["Иные закупки товаров, работ и услуг для обеспечения государственных (муниципальных) нужд","04 1 05 28010",240,{"$f":"'Функц. 2019'!F519","v":214.6}]
["Основное  мероприятие  \"Обеспечение  деятельности  муниципального  казенного  учреждения  \"Ритуал-Сервис Лыткарино\"","04 1 06 00000",null,{"$f":"D394","v":5106.0999999999995}]
["Обеспечение  деятельности  муниципального  казенного  учреждения \"Ритуал-Сервис  Лыткарино\"","04 1 06 16590",null,{"$f":"D395+D397+D399","v":5106.0999999999995}]
["Расходы на выплаты персоналу в целях обеспечения выполнения функций государственными (муниципальными) органами, казенными учреждениями, органами управления государственными внебюджетными фондами ",{"$f":"B396","v":"04 1 06 16590"},"100",{"$f":"D396","v":4373.8999999999996}]
["Расходы на выплаты персоналу казенных учреждений",{"$f":"B397","v":"04 1 06 16590"},"110",{"$f":"'Функц. 2019'!F588","v":4373.8999999999996}]
["Закупка товаров, работ и услуг для обеспечения государственных (муниципальных) нужд",{"$f":"B398","v":"04 1 06 16590"},"200",{"$f":"D398","v":666.9}]
["Иные закупки товаров, работ и услуг для обеспечения государственных (муниципальных) нужд","04 1 06 16590","240",{"$f":"'Функц. 2019'!F590","v":666.9}]
["Иные бюджетные ассигнования",{"$f":"B400","v":"04 1 06 16590"},"800",{"$f":"D400","v":65.3}]
["Уплата налогов, сборов и иных платежей","04 1 06 16590","850",{"$f":"'Функц. 2019'!F592","v":65.3}]
["Подпрограмма  \"Развитие субъектов малого и среднего предпринимательства в городе Лыткарино\"","04 2 00 00000",null,{"$f":"D402","v":600}]
["Основное  мероприятие \"Поддержка  субъектов  малого  и  среднего  предпринимательства, реализующих  программы  модернизации  производства\"","04 2 01 00000",null,600]
["Мероприятия  по  поддержке  субъектов  малого  и  среднего  предпринимательства",{"$f":"B404","v":"04 2 01 00010"},null,{"$f":"D404","v":600}]
["Иные бюджетные ассигнования",{"$f":"B405","v":"04 2 01 00010"},800,600]
["Субсидии юридическим лицам (кроме некоммерческих организаций), индивидуальным предпринимателям, физическим лицам - производителям товаров, работ, услуг","04 2 01 00010",810,{"$f":"'Функц. 2019'!F524","v":600}]
["Муниципальная  программа  \"Физическая  культура  и  спорт  города  Лыткарино\"  \nна  2017-2021 годы","05 0 00 00000",null,{"$f":"D427+D407","v":99446.7}]
["Подпрограмма  \"Строительство, реконструкция, модернизация  и  благоустройство  территории  объектов  физической  культуры  и  спорта  города  Лыткарино\"    ","05 1 00 00000",null,{"$f":"D408+D418+D423+D413","v":11933.5}]
["Основное  мероприятие \"Организация  благоустройства  спортивных  кортов  города\"","05 1 01 00000",null,{"$f":"D409","v":300}]
["Мероприятия  в  сфере  физкультуры  и  спорта","05 1 01 09000",null,{"$f":"D410","v":300}]
["Организация  благоустройства спортивных  кортов города","05 1 01 09010",null,300]
["Закупка товаров, работ и услуг для обеспечения государственных (муниципальных) нужд","05 1 01 09010",200,300]
["Иные закупки товаров, работ и услуг для обеспечения государственных (муниципальных) нужд","05 1 01 09010",240,{"$f":"'Функц. 2019'!F1147","v":300}]
["Основное  мероприятие \"Реконструкция стадиона \"Полёт\"","05 1 03 00000",null,{"$f":"D414","v":200}]
["Бюджетные инвестиции в  объекты  капитального  строительства  муниципальной  собственности","05 1 03 22000",null,{"$f":"D415","v":200}]
["Проектно-изыскательские работы в целях реконструкции стадиона \"Полёт\", расположенного по адресу: г.Лыткарино, ул.Парковая","05 1 03 22030",null,{"$f":"D416","v":200}]
["Капитальные вложения в объекты государственной(муниципальной) собственности","05 1 03 22030",400,{"$f":"D417","v":200}]
["Бюджетные инвестиции ","05 1 03 22030",410,{"$f":"'Функц. 2019'!F1152","v":200}]
["Основное мероприятие \"Капитальный  ремонт нежилых помещений МБУ \"Спортивная школа Лыткарино\" по адресу: г.Лыткарино,улица Шестакова В.А.,стр.2 (Спортивный комплекс \"Кристалл\")\"","05 1 04 00000",null,{"$f":"D419","v":6433.5}]
["Капитальный  ремонт ","05 1 04 21000",null,{"$f":"D420","v":6433.5}]
["Капитальный  ремонт нежилых помещений МБУ Спортивная школа Лыткарино\" по адресу: г.Лыткарино,улица Шестакова В.А.,стр.2 (Спортивный комплекс \"Кристалл\")\"","05 1 04 21010",null,{"$f":"D421","v":6433.5}]
["Закупка товаров, работ и услуг для обеспечения государственных (муниципальных) нужд","05 1 04 21010",200,{"$f":"D422","v":6433.5}]
["Иные закупки товаров, работ и услуг для обеспечения государственных (муниципальных) нужд","05 1 04 21010",240,{"$f":"'Функц. 2019'!F1157","v":6433.5}]
["Основное мероприятие «Федеральный проект \"Спорт-норма жизни\"","05 1 P5 00000",null,{"$f":"D424","v":5000}]
["Расходы  для  подготовки  основания, приобретение и установка скейт-парка","05 1 P5 S1140",null,{"$f":"D425","v":5000}]
["Предоставление субсидий бюджетным, автономным учреждениям и иным некоммерческим организациям","05 1 P5 S1140",600,{"$f":"D426","v":5000}]
["Субсидии бюджетным учреждениям","05 1 P5 S1140",610,{"$f":"'Функц. 2019'!F1161","v":5000}]
["Подпрограмма \"Развитие  физической  культуры  и  спорта  в  городе  Лыткарино\"","05 2 00 00000",null,{"$f":"D428+D436+D444+D448","v":87513.2}]
["Основное  мероприятие \"Календарный  план  спортивно-массовых  мероприятий  города  Лыткарино\"","05 2 01 00000",null,{"$f":"D429","v":2628.8}]
["Мероприятия  в  сфере  физкультуры  и  спорта","05 2 01 09000",null,2628.8]
["Организация  спортивно-массовых  мероприятий","05 2 01 09010",null,{"$f":"D431+D433","v":2628.8}]
["Закупка товаров, работ и услуг для обеспечения государственных (муниципальных) нужд","05 2 01 09010",200,{"$f":"D432","v":2358.8000000000002}]
["Иные закупки товаров, работ и услуг для обеспечения государственных (муниципальных) нужд","05 2 01 09010",240,{"$f":"'Функц. 2019'!F1167","v":2358.8000000000002}]
["Предоставление субсидий бюджетным, автономным учреждениям и иным некоммерческим организациям","05 2 01 09010",600,{"$f":"D434+D435","v":270}]
["Субсидии бюджетным учреждениям","05 2 01 09010",610,{"$f":"'Функц. 2019'!F1169","v":80}]
["Субсидии  автономным  учреждениям","05 2 01 09010",620,{"$f":"'Функц. 2019'!F1171","v":190}]
["Основное  мероприятие  \"Обеспечение  деятельности муниципальных  учреждений\"","05 2 03 00000",null,{"$f":"D437","v":55113.2}]
["Расходы  на  обеспечение  деятельности  спортивных  школ","05 2 03 06590",null,{"$f":"D438+D441","v":55113.2}]
["Предоставление  средств  субсидии  на  выполнение   муниципального  задания   МБУ  \"СШ  Лыткарино\"","05 2 03 06591",null,{"$f":"D439","v":34886.199999999997}]
["Предоставление субсидий бюджетным, автономным учреждениям и иным некоммерческим организациям","05 2 03 06591",600,{"$f":"D440","v":34886.199999999997}]
["Субсидии бюджетным учреждениям","05 2 03 06591",610,{"$f":"'Функц. 2019'!F1176","v":34886.199999999997}]
["Предоставление  средств  субсидии  на  выполнение   муниципального  задания   МБУ  \"СШОР  Лыткарино\"","05 2 03 06592",null,{"$f":"D442","v":20227}]
["Предоставление субсидий бюджетным, автономным учреждениям и иным некоммерческим организациям","05 2 03 06592",600,{"$f":"D443","v":20227}]
["Субсидии бюджетным учреждениям","05 2 03 06592",610,{"$f":"'Функц. 2019'!F1179","v":20227}]
["Основное  мероприятие  \"Предоставление   субсидии  на  выполнение  муниципального  задания  МАУ \"ЛСК Лыткарино\"","05 2 04 00000",null,{"$f":"D445","v":29721.200000000001}]
["Предоставление   субсидии  на  выполнение  муниципального  задания  спортивных комплексов",{"$f":"B446","v":"05 2 04 12590"},null,29721.200000000001]
["Предоставление субсидий бюджетным, автономным учреждениям и иным некоммерческим организациям",{"$f":"B447","v":"05 2 04 12590"},600,29721.200000000001]
["Субсидии  автономным  учреждениям","05 2 04 12590",620,{"$f":"'Функц. 2019'!F1135","v":29721.200000000001}]
["Основное  мероприятие  \"Укрепление материально-технической базы муниципальных  учреждений  физической культуры  и  спорта\"  ","05 2 05 00000",null,{"$f":"D449","v":50}]
["Укрепление материально-технической базы МАУ  \"ЛСК  Лыткарино\"",{"$f":"B450","v":"05 2 05 00020"},null,{"$f":"D450","v":50}]
["Предоставление субсидий бюджетным, автономным учреждениям и иным некоммерческим организациям",{"$f":"B451","v":"05 2 05 00020"},600,{"$f":"D451","v":50}]
["Субсидии  автономным  учреждениям","05 2 05 00020",620,{"$f":"'Функц. 2019'!F1139","v":50}]
["Муниципальная  программа  \"Развитие  инженерной инфраструктуры и энергоэффективности  на  территории  города  Лыткарино\"на  2018-2022 годы","06 0 00 00000","  ",{"$f":"D475+D466+D453","v":1235555.8}]
["Подпрограмма \"Содержание и развитие инженерной инфраструктуры на территории города Лыткарино\"  ","06 1 00 00000",null,{"$f":"D454+D462+D458","v":1234303.8}]
["Основное  мероприятие \"Строительство,реконструкция,капитальный ремонт, приобретение, монтаж и ввод в эксплуатацию объектов коммунальной инфраструктуры на территории города Лыткарино\" ","06 1 04 00000",null,{"$f":"D455","v":13200}]
["Предоставление  субсидии МП \"Лыткаринская теплосеть\" в целях возмещения затрат на реконструкцию тепловой магистрали сети от ТК-227 до ЦТП-1А, включая работы ЦТП -1А (от ТК-227а до ЦТП -1А), в связи с оказанием услуг по теплоснабжению в городе Лыткарино","06 1 04 00030",null,{"$f":"D457","v":13200}]
[{"$f":"'ведом. 2019'!X382","v":"Иные бюджетные ассигнования"},"06 1 04 00030","800",{"$f":"D457","v":13200}]
["Субсидии юридическим лицам (кроме некоммерческих организаций), индивидуальным предпринимателям, физическим лицам - производителям товаров, работ, услуг","06 1 04 00030","810",{"$f":"'Функц. 2019'!F557","v":13200}]
["Основное мероприятие \"Чистая вода\"","06 1 05 00000",null,{"$f":"D459","v":200}]
["Проект прокладки водовода от ул.Трудкоммуны городского округа Дзержинский до водораспределительного узла, ВЗУ-2, ВЗУ-3, ВЗУ-4 городского округа Лыткарино  ",{"$f":"B460","v":"06 1 05 00010"},null,{"$f":"D460","v":200}]
["Капитальные вложения в объекты государственной(муниципальной) собственности",{"$f":"B461","v":"06 1 05 00010"},"400",{"$f":"D461","v":200}]
["Бюджетные инвестиции ","06 1 05 00010","410",{"$f":"'Функц. 2019'!F561","v":200}]
["Основное  мероприятие \"Федеральный проект \"Оздоровление Волги\"","06 1 G6 00000",null,{"$f":"D463","v":1220903.8}]
["Строительство и реконструкция объектов очистки сточных вод в целях сохранения и предотвращения загрязнения реки Волги - строительство городских канализационных очистных сооружений г.Лыткарино производительностью 30 000 м.куб. в сутки","06 1 G6 50130",null,{"$f":"D464","v":1220903.8}]
["Капитальные вложения в объекты государственной(муниципальной) собственности","06 1 G6 50130","400",{"$f":"D465","v":1220903.8}]
["Бюджетные инвестиции ","06 1 G6 50130","410",{"$f":"'Функц. 2019'!F709","v":1220903.8}]
["Подпрограмма \"Энергосбережение  и  повышение  энергетической  эффективности  на  территории  города Лыткарино\"","06 2 00 00000",null,{"$f":"D467","v":640}]
["Основное  мероприятие  \"Повышение  энергетической  эффективности  в бюджетной  сфере на  территории  города  Лыткарино\"","06 2 03 00000",null,{"$f":"D468","v":640}]
["Мероприятия  по  энергосбережению  и  повышению  энергетической  эффективности ","06 2 03 18000",null,{"$f":"D469+D472","v":640}]
["Установка  (модернизация) ИТП  с установкой теплообменника  отопления и аппаратуры управления отоплением",{"$f":"B470","v":"06 2 03 18010"},null,{"$f":"D470","v":620}]
["Предоставление субсидий бюджетным, автономным учреждениям и иным некоммерческим организациям",{"$f":"B471","v":"06 2 03 18010"},600,{"$f":"D471","v":620}]
["Субсидии бюджетным учреждениям","06 2 03 18010",610,{"$f":"'Функц. 2019'!F760","v":620}]
["Замена прибора учета электроэнергии","06 2 03 18030",null,{"$f":"D473","v":20}]
["Закупка товаров, работ и услуг для обеспечения государственных (муниципальных) нужд","06 2 03 18030",200,{"$f":"D474","v":20}]
["Иные закупки товаров, работ и услуг для обеспечения государственных (муниципальных) нужд","06 2 03 18030",240,{"$f":"'Функц. 2019'!F37","v":20}]
["Обеспечивающая подпрограмма","06 3 00 00000",null,{"$f":"D476","v":612}]
["Основное  мероприятие \"Обеспечение  деятельности  управления\"","06 3 01 00000",null,612]
["Создание административных комиссий, уполномоченных рассматривать дела об административных правонарушениях в сфере благоустройства","06 3 01 62670",null,{"$f":"D478+D480","v":612}]
["Расходы на выплаты персоналу в целях обеспечения выполнения функций государственными (муниципальными) органами, казенными учреждениями, органами управления государственными внебюджетными фондами ","06 3 01 62670",100,{"$f":"D479","v":540}]
["Расходы на выплаты персоналу государственных (муниципальных) органов","06 3 01 62670",120,{"$f":"'Функц. 2019'!F666","v":540}]
["Закупка товаров, работ и услуг для обеспечения государственных (муниципальных) нужд","06 3 01 62670",200,{"$f":"D481","v":72}]
["Иные закупки товаров, работ и услуг для обеспечения государственных (муниципальных) нужд","06 3 01 62670",240,{"$f":"'Функц. 2019'!F668","v":72}]
["Муниципальная  программа  \"Забота\"  на  2017-2021 годы","07 0 00 00000",null,{"$f":"D483+D488+D518","v":10445.700000000001}]
["Подпрограмма  \"Доступная  среда  города  Лыткарино\"","07 1 00 00000",null,{"$f":"D484","v":772.1}]
["Основное  мероприятие\"Организация  безбарьерной  среды  на  объектах  социальной  инфраструктуры\"","07 1 02 00000",null,{"$f":"D485","v":772.1}]
["Расходы  на  оснащение  объектов  социальной  инфраструктуры  для  организации безбарьерного  доступа",{"$f":"B486","v":"07 1 02 00010"},null,772.1]
["Предоставление субсидий бюджетным, автономным учреждениям и иным некоммерческим организациям",{"$f":"B487","v":"07 1 02 00010"},"600",772.1]
["Субсидии бюджетным учреждениям","07 1 02 00010","610",{"$f":"'Функц. 2019'!F836","v":772.1}]
["Подпрограмма  \"Городская  поддержка\"","07 2 00 00000",null,{"$f":"D489+D494+D508+D513","v":6137.6}]
["Основное мероприятие «Выплаты гражданам, имеющим звания: «Почётный гражданин г. Лыткарино», «Почётный работник здравоохранения  г. Лыткарино», «Почётный учитель г. Лыткарино», «Почётный работник культуры г. Лыткарино»","07 2 02 00000",null,{"$f":"D490","v":482}]
["Мероприятия  в  сфере  социальной  политики","07 2 02 20000",null,482]
[" «Выплаты гражданам, имеющим звания: «Почётный гражданин г. Лыткарино», «Почётный работник здравоохранения г. Лыткарино», «Почётный учитель г.Лыткарино»,«Почётный работник культуры г. Лыткарино»",{"$f":"B492","v":"07 2 02 20020"},null,482]
["Социальное обеспечение и иные выплаты населению",{"$f":"B493","v":"07 2 02 20020"},300,482]
["Публичные нормативные социальные выплаты гражданам","07 2 02 20020",310,{"$f":"'Функц. 2019'!F1062","v":482}]
["Основное  мероприятие  \"Поддержка  и  социальная  защита  пожилых  граждан  и  инвалидов,  передавших  жилую  площадь  в  муниципальную  собственность  города  Лыткарино  по  договорам  пожизненного  содержания  с  иждивением\"","07 2 03 00000",null,{"$f":"D495+D499","v":3512}]
["Расходы  на  содержание  имущества,  находящегося  в  муниципальной  собственности ","07 2 03 19000",null,{"$f":"D496","v":700}]
["Расходы  на  содержание  имущества,  находящегося  в  муниципальной  собственности  на  основании  заключенных  договоров  пожизненного  содержания  с  иждивением  за  переданное  в  муниципальную  собственность  жильё",{"$f":"B497","v":"07 2 03 19010"},null,700]
["Закупка товаров, работ и услуг для обеспечения государственных (муниципальных) нужд",{"$f":"B498","v":"07 2 03 19010"},200,700]
["Иные закупки товаров, работ и услуг для обеспечения государственных (муниципальных) нужд","07 2 03 19010",240,{"$f":"'Функц. 2019'!F277","v":700}]
["Мероприятия  в  сфере  социальной  политики","07 2 03 20000",null,{"$f":"D500+D503","v":2812}]
["Выплаты  денежной  компенсации  гражданам  за  переданное  в  муниципальную собственность  жилье ",{"$f":"B501","v":"07 2 03 20030"},null,{"$f":"D501","v":2583.9}]
["Социальное обеспечение и иные выплаты населению",{"$f":"B502","v":"07 2 03 20030"},300,2583.9]
["Публичные нормативные социальные выплаты гражданам","07 2 03 20030",310,{"$f":"'Функц. 2019'!F1067","v":2583.9},230]
["Расходы на социальные услуги по договорам пожизненного содержания с иждивением за переданное в муниципальную собственность жильё и на поздравления с днём рождения",{"$f":"B504","v":"07 2 03 20040"},null,{"$f":"D504+D506","v":228.10000000000002}]
["Закупка товаров, работ и услуг для обеспечения государственных (муниципальных) нужд",{"$f":"B505","v":"07 2 03 20040"},200,{"$f":"D505","v":91.3}]
["Иные закупки товаров, работ и услуг для обеспечения государственных (муниципальных) нужд",{"$f":"B506","v":"07 2 03 20040"},240,{"$f":"'Функц. 2019'!F1070","v":91.3}]
["Социальное обеспечение и иные выплаты населению",{"$f":"B507","v":"07 2 03 20040"},300,{"$f":"D507","v":136.80000000000001}]
["Публичные нормативные социальные выплаты гражданам","07 2 03 20040",310,{"$f":"'Функц. 2019'!F1072","v":136.80000000000001}]
["Основное  мероприятие \"Расходы  на  поддержку инвалидов города Лыткарино в виде организации и предоставления транспорта для проезда в г. Жуковский Московской области на освидетельствование МСЭ\"","07 2 05 00000",null,{"$f":"D509","v":1104}]
["Мероприятия  в  сфере  социальной  политики","07 2 05 20000",null,1104]
["Расходы  на  поддержку отдельных категорий граждан города Лыткарино в виде организации и предоставления транспорта для проезда в г. Жуковский Московской области на освидетельствование МСЭ",{"$f":"B511","v":"07 2 05 20060"},null,1104]
["Предоставление субсидий бюджетным, автономным учреждениям и иным некоммерческим организациям",{"$f":"B512","v":"07 2 05 20060"},600,1104]
["Субсидии бюджетным учреждениям","07 2 05 20060",610,{"$f":"'Функц. 2019'!F1077","v":1104}]
["Основное мероприятие \"Меры социальной поддержки отдельных категорий граждан на посещение спортивных объектов города Лыткарино\"","07 2 06 00000",null,{"$f":"D514","v":1039.5999999999999}]
["Мероприятия  в  сфере  социальной  политики","07 2 06 20000",null,{"$f":"D515","v":1039.5999999999999}]
["Меры социальной поддержки граждан пенсионного возраста, инвалидов, детей  из многодетных семей в виде предоставления льготы в размере 50% от стоимости полного входного билета  на посещение МАУ \"ЛСК Лыткарино\" ","07 2 06 20070",null,{"$f":"D516","v":1039.5999999999999}]
["Предоставление субсидий бюджетным, автономным учреждениям и иным некоммерческим организациям","07 2 06 20070",600,{"$f":"D517","v":1039.5999999999999}]
["Субсидии  автономным  учреждениям","07 2 06 20070",620,{"$f":"'Функц. 2019'!F1082","v":1039.5999999999999}]
["Подпрограмма \"Развитие  и поддержка социально ориентированных  некоммерческих  организаций на территории городского округа Лыткарино\"","07 3 00 00000",null,{"$f":"D519","v":3536}]
["Основное  мероприятие  \"Осуществление  финансовой поддержки социально ориентированных  некоммерческих  организаций\"","07 3 01 00000",null,{"$f":"D520","v":3536}]
["Мероприятия  в  сфере  социальной  политики","07 3 01 20000",null,{"$f":"D521+D524","v":3536}]
["Предоставление субсидий  социально ориентированным  некоммерческим  организациям,  осуществляющим  свою  деятельность  на  территории  города  Лыткарино",{"$f":"B522","v":"07 3 01 20010"},null,{"$f":"D522","v":2886}]
["Предоставление субсидий бюджетным, автономным учреждениям и иным некоммерческим организациям",{"$f":"B523","v":"07 3 01 20010"},600,{"$f":"D523","v":2886}]
["Субсидии некоммерческим организациям (за исключением государственных (муниципальных) учреждений)","07 3 01 20010",630,{"$f":"'Функц. 2019'!F1124","v":2886},156]
["Расходы на  проведение  обучения  родителей  в  замещающих  семьях","07 3 01 20020",null,{"$f":"D525","v":650}]
["Предоставление субсидий бюджетным, автономным учреждениям и иным некоммерческим организациям",{"$f":"B526","v":"07 3 01 20020"},600,{"$f":"D526","v":650}]
["Субсидии некоммерческим организациям (за исключением государственных (муниципальных) учреждений)","07 3 01 20020",630,{"$f":"'Функц. 2019'!F1127","v":650},450]
["Муниципальная  программа \"Безопасность города Лыткарино\" на 2017-2021 годы","08 0 00 00000",null,{"$f":"D528+D544+D550+D584+D593+D613+D631","v":39531.5}]
["Подпрограмма \"Профилактика  преступлений  и  иных  правонарушений\"","08 1 00 00000",null,{"$f":"D529+D533","v":1380.1}]
["Основное  мероприятие\" Профилактика  и  предупреждение  молодежной (подростковой)  преступности\"","08 1 01 00000",null,{"$f":"D530","v":355.5}]
["Мероприятия  в  сфере  молодежной  политики","08 1 01 10000",null,355.5]
["Закупка товаров, работ и услуг для обеспечения государственных (муниципальных) нужд","08 1 01 10000",200,355.5]
["Иные закупки товаров, работ и услуг для обеспечения государственных (муниципальных) нужд","08 1 01 10000",240,{"$f":"'Функц. 2019'!F907","v":355.5}]
["Основное  мероприятие \"Профилактика  и  предупреждение  преступлений  и   иных  правонарушений  в  том  числе  экстремистской  (террористической)  направленности\"","08 1 02 00000",null,{"$f":"D534","v":1024.5999999999999}]
["Мероприятия  в  области  национальной безопасности  и  правоохранительной  деятельности","08 1 02 12000",null,{"$f":"D535+D538+D541","v":1024.5999999999999}]
["Приобретение  наглядной  агитации  и проведение  мероприятий  по  вопросам противодействия  экстремизму и  терроризму  ",{"$f":"B536","v":"08 1 02 12010"},null,40]
["Закупка товаров, работ и услуг для обеспечения государственных (муниципальных) нужд",{"$f":"B537","v":"08 1 02 12010"},200,40]
["Иные закупки товаров, работ и услуг для обеспечения государственных (муниципальных) нужд","08 1 02 12010",240,{"$f":"'Функц. 2019'!F358","v":40}]
["Разработка,установка и пусконаладочные  работы  систем  контроля  и  управления  доступом ",{"$f":"B539","v":"08 1 02 12020"},null,{"$f":"D539","v":717.6}]
["Предоставление субсидий бюджетным, автономным учреждениям и иным некоммерческим организациям",{"$f":"B540","v":"08 1 02 12020"},600,{"$f":"D540","v":717.6}]
["Субсидии бюджетным учреждениям","08 1 02 12020",610,{"$f":"'Функц. 2019'!F361+'Функц. 2019'!F843+'Функц. 2019'!F895","v":717.6}]
["Обеспечение создания необходимых условий для организации деятельности народных дружин города Лыткарино","08 1 02 12090",null,{"$f":"D542","v":267}]
["Закупка товаров, работ и услуг для обеспечения государственных (муниципальных) нужд","08 1 02 12090",200,{"$f":"D543","v":267}]
["Иные закупки товаров, работ и услуг для обеспечения государственных (муниципальных) нужд","08 1 02 12090",240,{"$f":"'Функц. 2019'!F364","v":267}]
["Подпрограмма  \"Видеонаблюдение\"","08 2 00 00000",null,{"$f":"D545","v":6784.4}]
["Основное  мероприятие \"Приобретение  необходимого  оборудования  и  материалов,  оплата  работ  и  услуг  для  развития  и  содержания  городской  автоматизированой  системы  видеонаблюдения,  как  сегмента  АПК  \"Безопасный  город\", в том  числе  проектирование,создание  и  переоборудование  существующих, объектовых  систем  видеонаблюдения для  работы  в  единой  городской  автоматизированной  системе  видеонаблюдения\"","08 2 01 00000",null,6784.4]
["Мероприятия  в  области  национальной безопасности  и  правоохранительной  деятельности","08 2 01 12000",null,6784.4]
["Мероприятия  по  развитию  и  содержанию  автоматизированной  системы  видеонаблюдения  \"Безопасный  город\"",{"$f":"B548","v":"08 2 01 12030"},null,{"$f":"D548","v":6784.4}]
["Закупка товаров, работ и услуг для обеспечения государственных (муниципальных) нужд",{"$f":"B549","v":"08 2 01 12030"},200,6784.4]
["Иные закупки товаров, работ и услуг для обеспечения государственных (муниципальных) нужд","08 2 01 12030",240,{"$f":"'Функц. 2019'!F370","v":6784.4}]
["Подпрограмма  \"Снижение  рисков  и  смягчение  последствий чрезвычайных  ситуаций  природного  и  техногенного  характера\"","08 3 00 00000",null,{"$f":"D551+D559+D564+D569+D577","v":4179.8}]
["Основное  мероприятие \"Снижение  рисков  и  смягчение последствий  чрезвычайных  ситуаций  природного  и  техногенного  характера\"","08 3 01 00000",null,{"$f":"D552","v":529.79999999999995}]
["Мероприятия  в  области  национальной безопасности  и  правоохранительной  деятельности","08 3 01 12000",null,{"$f":"D553+D556","v":529.79999999999995}]
["Создание  защитных  противопожарных  полос на  границе  с  лесным  массивом  и  опашка  полей  на  территории  города  Лыткарино",{"$f":"B554","v":"08 3 01 12040"},null,{"$f":"D554","v":229.8}]
["Закупка товаров, работ и услуг для обеспечения государственных (муниципальных) нужд",{"$f":"B555","v":"08 3 01 12040"},200,229.8]
["Иные закупки товаров, работ и услуг для обеспечения государственных (муниципальных) нужд","08 3 01 12040",240,{"$f":"'Функц. 2019'!F376","v":229.8}]
[" Организация проведения предварительного отбора поставщиков товаров, работ и услуг в целях ликвидации последствий чрезвычайных ситуаций",{"$f":"B557","v":"08 3 01 12130"},null,{"$f":"D557","v":300}]
["Закупка товаров, работ и услуг для обеспечения государственных (муниципальных) нужд",{"$f":"B558","v":"08 3 01 12130"},200,{"$f":"D558","v":300}]
["Иные закупки товаров, работ и услуг для обеспечения государственных (муниципальных) нужд","08 3 01 12130",240,{"$f":"'Функц. 2019'!F379","v":300}]
["Основное  мероприятие \"Приобретение  специальной техники  и  содержание  имущества  для  увеличения  степени  готовности  для  ликвидации  чрезвычайных  ситуаций  природного  и  техногенного  характера  на  территории  города  Лыткарино\"","08 3 02 00000",null,{"$f":"D560","v":400}]
["Мероприятия  в  области  национальной безопасности  и  правоохранительной  деятельности","08 3 02 12000",null,{"$f":"D561","v":400}]
["Приобретение  пунктов  обогрева  и  горячего  питания",{"$f":"B562","v":"08 3 02 12050"},null,{"$f":"D562","v":400}]
["Закупка товаров, работ и услуг для обеспечения государственных (муниципальных) нужд",{"$f":"B563","v":"08 3 02 12050"},200,{"$f":"D563","v":400}]
["Иные закупки товаров, работ и услуг для обеспечения государственных (муниципальных) нужд","08 3 02 12050",240,{"$f":"'Функц. 2019'!F384","v":400}]
["Основное  мероприятие \"Организация  подготовки  и  обучение  населения, руководящего  состава  и  специалистов  Лыткаринского  звена  ТП МОСЧС\"","08 3 03 00000",null,{"$f":"D565","v":180}]
["Мероприятия  в  области  национальной безопасности  и  правоохранительной  деятельности","08 3 03 12000",null,{"$f":"D566","v":180}]
["Подготовка  и  обучение  на  курсах  гражданской  обороны",{"$f":"B567","v":"08 3 03 12120"},null,{"$f":"D567","v":180}]
["Закупка товаров, работ и услуг для обеспечения государственных (муниципальных) нужд",{"$f":"B568","v":"08 3 03 12120"},200,{"$f":"D568","v":180}]
["Иные закупки товаров, работ и услуг для обеспечения государственных (муниципальных) нужд","08 3 03 12120",240,{"$f":"'Функц. 2019'!F389","v":180}]
["Основное  мероприятие \"Создание резервного  фонда  Администрации    городского  округа   Лыткарино  для  ликвидации  чрезвычайных  ситуаций, в том числе террористических актов\"","08 3 07 00000",null,{"$f":"D570","v":2300}]
["Мероприятия  в  области  национальной безопасности  и  правоохранительной  деятельности","08 3 07 12000",null,{"$f":"D571+D574","v":2300}]
["Создание резервного  фонда  Администрации   городского  округа   Лыткарино  для  ликвидации  чрезвычайных  ситуаций, в том числе террористических актов",{"$f":"B572","v":"08 3 07 12060"},null,{"$f":"D572","v":2100}]
["Иные бюджетные ассигнования",{"$f":"B573","v":"08 3 07 12060"},800,2100]
["Резервные  средства","08 3 07 12060",870,{"$f":"'Функц. 2019'!F169","v":2100}]
["Создание  резерва материальных  ресурсов для  ликвидации  чрезвычайных  ситуаций, в том числе  террористических  актов",{"$f":"B575","v":"08 3 07 12110"},null,{"$f":"D575","v":200}]
["Закупка товаров, работ и услуг для обеспечения государственных (муниципальных) нужд",{"$f":"B576","v":"08 3 07 12110"},"200",{"$f":"D576","v":200}]
["Иные закупки товаров, работ и услуг для обеспечения государственных (муниципальных) нужд","08 3 07 12110","240",{"$f":"'Функц. 2019'!F307","v":200}]
["Основное  мероприятие  \"Обеспечение  безопасности  на  водных  объектах\"","08 3 08 00000",null,{"$f":"D578","v":770}]
["Мероприятия  в  области  национальной безопасности  и  правоохранительной  деятельности","08 3 08 12000",null,{"$f":"D579","v":770}]
["Мероприятия  по  спасению  людей  на  водных  объектах",{"$f":"B580","v":"08 3 08 12050"},null,{"$f":"D580+D582","v":770}]
["Закупка товаров, работ и услуг для обеспечения государственных (муниципальных) нужд",{"$f":"B581","v":"08 3 08 12050"},"200",{"$f":"D581","v":70}]
["Иные закупки товаров, работ и услуг для обеспечения государственных (муниципальных) нужд","08 3 08 12050","240",{"$f":"'Функц. 2019'!F312","v":70}]
["Предоставление субсидий бюджетным, автономным учреждениям и иным некоммерческим организациям",{"$f":"B583","v":"08 3 08 12050"},"600",{"$f":"D583","v":700}]
["Субсидии бюджетным учреждениям","08 3 08 12050","610",{"$f":"'Функц. 2019'!F314","v":700}]
["Подпрограмма  \"Развитие  и  совершенствование  системы  оповещения  и  информирования  населения\"","08 4 00 00000",null,{"$f":"D585","v":758}]
["Основное  мероприятие  \"Развитие,совершенствование  и  обслуживание  всех  элементов  системы  оповещения  и  информирования  населения  города  Лыткарино\"","08 4 01 00000",null,{"$f":"D586+D589","v":758}]
["Приобретение , содержание,техническое  обслуживание  и  поддержание в  состоянии  постоянной  готовности систем  оповещения муниципального  казенного  учреждения \"Единая  дежурно-диспетчерская служба г.Лыткарино\"","08 4 01 00590",null,{"$f":"D587","v":133}]
["Закупка товаров, работ и услуг для обеспечения государственных (муниципальных) нужд","08 4 01 00590",200,133]
["Иные закупки товаров, работ и услуг для обеспечения государственных (муниципальных) нужд","08 4 01 00590",240,{"$f":"'Функц. 2019'!F319","v":133}]
["Мероприятия  в  области  национальной безопасности  и  правоохранительной  деятельности","08 4 01 12000",null,{"$f":"D590","v":625}]
["Мероприятия  по  созданию, техническому  обслуживанию  систем  оповещения  и  информирования  населения",{"$f":"B591","v":"08 4 01 12070"},null,625]
["Закупка товаров, работ и услуг для обеспечения государственных (муниципальных) нужд",{"$f":"B592","v":"08 4 01 12070"},200,625]
["Иные закупки товаров, работ и услуг для обеспечения государственных (муниципальных) нужд","08 4 01 12070",240,{"$f":"'Функц. 2019'!F323","v":625}]
["Подпрограмма  \"Обеспечение  пожарной  безопасности\"","08 5 00 00000",null,{"$f":"D601+D594+D608","v":3477.7},-9.5]
["Основное  мероприятие \"Организация  профилактики  и  ликвидации пожаров  на  территории  города  Лыткарино\"","08 5 01 00000",null,{"$f":"D595","v":1080.1000000000001}]
["Мероприятия  в  области  национальной безопасности  и  правоохранительной  деятельности","08 5 01 12000",null,{"$f":"D596","v":1080.1000000000001}]
["Мероприятия  по обеспечению пожарной  безопасности",{"$f":"B597","v":"08 5 01 12080"},null,{"$f":"D597+D599","v":1080.1000000000001}]
["Закупка товаров, работ и услуг для обеспечения государственных (муниципальных) нужд",{"$f":"B598","v":"08 5 01 12080"},"200",{"$f":"D598","v":61.199999999999996}]
["Иные закупки товаров, работ и услуг для обеспечения государственных (муниципальных) нужд","08 5 01 12080","240",{"$f":"'Функц. 2019'!F395+'Функц. 2019'!F675","v":61.199999999999996},3.8]
["Предоставление субсидий бюджетным, автономным учреждениям и иным некоммерческим организациям",{"$f":"B600","v":"08 5 01 12080"},"600",{"$f":"D600","v":1018.9000000000001}]
["Субсидии бюджетным учреждениям","08 5 01 12080","610",{"$f":"'Функц. 2019'!F1025+'Функц. 2019'!F766+'Функц. 2019'!F848","v":1018.9000000000001}]
["Основное  мероприятие \"Обеспечение мероприятий, направленных  на  снижение уровня травматизма и смертности на пожарах\"","08 5 02 00000",null,{"$f":"D602","v":2244.1}]
["Мероприятия  в  области  национальной безопасности  и  правоохранительной  деятельности","08 5 02 12000",null,2244.1]
["Мероприятия  по обеспечению пожарной  безопасности","08 5 02 12080",null,{"$f":"D606+D604","v":2244.1}]
["Закупка товаров, работ и услуг для обеспечения государственных (муниципальных) нужд",{"$f":"B605","v":"08 5 02 12080"},"200",{"$f":"D605","v":315.10000000000002}]
["Иные закупки товаров, работ и услуг для обеспечения государственных (муниципальных) нужд","08 5 02 12080","240",{"$f":"'Функц. 2019'!F400+'Функц. 2019'!F680","v":315.10000000000002},"  -3,8-9,5= -13,3"]
["Предоставление субсидий бюджетным, автономным учреждениям и иным некоммерческим организациям",{"$f":"B607","v":"08 5 02 12080"},"600",{"$f":"D607","v":1929}]
["Субсидии бюджетным учреждениям","08 5 02 12080","610",{"$f":"'Функц. 2019'!F402+'Функц. 2019'!F1030","v":1929}]
["Основное  мероприятие \"Установка  и  содержание  пожарных  извещателей  в  жилых  помещениях, занимаемых  малообеспеченными  гражданами, малообеспеченными  или  многодетными  семьями  в  городе  Лыткарино\"","08 5 03 00000",null,{"$f":"D609","v":153.5}]
["Мероприятия  в  области  национальной безопасности  и  правоохранительной  деятельности","08 5 03 12000",null,{"$f":"D610","v":153.5}]
["Мероприятия  по обеспечению пожарной  безопасности",{"$f":"B611","v":"08 5 03 12080"},null,{"$f":"D611","v":153.5}]
["Закупка товаров, работ и услуг для обеспечения государственных (муниципальных) нужд",{"$f":"B612","v":"08 5 03 12080"},"200",{"$f":"D612","v":153.5}]
["Иные закупки товаров, работ и услуг для обеспечения государственных (муниципальных) нужд","08 5 03 12080","240",{"$f":"'Функц. 2019'!F407","v":153.5}]
["Подпрограмма  \"Обеспечение  мероприятий  гражданской  обороны\"","08 6 00 00000",null,{"$f":"D614+D626+D622","v":775}]
["Основное  мероприятие \"Обеспечение  мероприятий  гражданской  обороны\"","08 6 01 00000",null,{"$f":"D615+D618","v":355}]
["Обучение  специалистов  по  гражданской  обороне, операторов  и  диспетчеров  системы  обеспечения  вызова  экстренных  служб муниципального  казенного  учреждения \"Единая  дежурно-диспетчерская служба г.Лыткарино\"",{"$f":"B616","v":"08 6 01 00590"},null,{"$f":"D616","v":40}]
["Закупка товаров, работ и услуг для обеспечения государственных (муниципальных) нужд",{"$f":"B617","v":"08 6 01 00590"},"200",40]
["Иные закупки товаров, работ и услуг для обеспечения государственных (муниципальных) нужд","08 6 01 00590","240",{"$f":"'Функц. 2019'!F328","v":40}]
["Мероприятия  в  области  национальной безопасности  и  правоохранительной  деятельности","08 6 01 12000",null,{"$f":"D619","v":315}]
["Мероприятия  по  гражданской  обороне  и  защите  населения  на  территории  города  Лыткарино",{"$f":"B620","v":"08 6 01 12090"},null,315]
["Закупка товаров, работ и услуг для обеспечения государственных (муниципальных) нужд",{"$f":"B621","v":"08 6 01 12090"},"200",315]
["Иные закупки товаров, работ и услуг для обеспечения государственных (муниципальных) нужд","08 6 01 12090","240",{"$f":"'Функц. 2019'!F332","v":315}]
["Основное  мероприятие \"\"Создание запасов материально-технических,продовольственных, медицинских и иных средств для целей гражданской обороны\"","08 6 02 00000",null,{"$f":"D623","v":20}]
["Мероприятия  по  гражданской  обороне  и  защите  населения  на  территории  города  Лыткарино",{"$f":"B624","v":"08 6 02 12090"},null,{"$f":"D624","v":20}]
["Закупка товаров, работ и услуг для обеспечения государственных (муниципальных) нужд",{"$f":"B625","v":"08 6 02 12090"},"200",{"$f":"D625","v":20}]
["Иные закупки товаров, работ и услуг для обеспечения государственных (муниципальных) нужд","08 6 02 12090","240",{"$f":"'Функц. 2019'!F336","v":20}]
["Основное  мероприятие \"Повышение  готовности  защитных  сооружений  гражданской  обороны  к  приему  укрываемого  населения\"","08 6 03 00000",null,{"$f":"D627","v":400}]
["Мероприятия  в  области  национальной безопасности  и  правоохранительной  деятельности","08 6 03 12000",null,{"$f":"D628","v":400}]
["Мероприятия  по  гражданской  обороне  и  защите  населения  на  территории  города  Лыткарино",{"$f":"B629","v":"08 6 03 12090"},null,{"$f":"D629","v":400}]
["Закупка товаров, работ и услуг для обеспечения государственных (муниципальных) нужд",{"$f":"B630","v":"08 6 03 12090"},"200",{"$f":"D630","v":400}]
["Иные закупки товаров, работ и услуг для обеспечения государственных (муниципальных) нужд","08 6 03 12090","240",{"$f":"'Функц. 2019'!F341","v":400}]
["Обеспечивающая подпрограмма","08 7 00 00000",null,{"$f":"D632","v":22176.500000000004}]
["Основное  мероприятие \"Обеспечение  деятельности  муниципального  казенного  учреждения \"Единая  дежурно-диспетчерская служба г.Лыткарино\", являющегося  органом  повседневного  управления Лыткаринского  городского  звена  Московской  областной  системы  предупреждения  и  ликвидации  чрезвычайных  ситуаций\"","08 7 01 00000",null,22176.500000000004]
["Расходы  на  обеспечение  деятельности  муниципального  казенного  учреждения \"Единая  дежурно-диспетчерская служба г.Лыткарино\"","08 7 01 00590",null,{"$f":"D634+D636+D638","v":22176.500000000004}]
["Расходы на выплаты персоналу в целях обеспечения выполнения функций государственными (муниципальными) органами, казенными учреждениями, органами управления государственными внебюджетными фондами ",{"$f":"B635","v":"08 7 01 00590"},100,{"$f":"D635","v":17032.300000000003}]
["Расходы на выплаты персоналу казенных учреждений",{"$f":"B636","v":"08 7 01 00590"},110,{"$f":"'Функц. 2019'!F346","v":17032.300000000003}]
["Закупка товаров, работ и услуг для обеспечения государственных (муниципальных) нужд",{"$f":"B637","v":"08 7 01 00590"},200,{"$f":"D637","v":5006.7}]
["Иные закупки товаров, работ и услуг для обеспечения государственных (муниципальных) нужд","08 7 01 00590",240,{"$f":"'Функц. 2019'!F348","v":5006.7}]
["Иные бюджетные ассигнования",{"$f":"B639","v":"08 7 01 00590"},800,{"$f":"D639","v":137.5}]
["Уплата налогов, сборов и иных платежей","08 7 01 00590",850,{"$f":"'Функц. 2019'!F350","v":137.5}]
["Муниципальная    программа  \"Жилище  города Лыткарино\"  на 2014-2024 годы","09 0 00 00000",null,{"$f":"D641+D651+D646+D656","v":38926.699999999997}]
["Подпрограмма \"Обеспечение  жильем  молодых  семей\"  на  2014-2021  годы","09 1 00 00000",null,{"$f":"D642","v":15481.7}]
["Основное  мероприятие \"Оказание  государственной  поддержки  молодым  семьям  в  виде  социальных  выплат  на  приобретение  жилого  помещения  или  строительство  индивидуального  жилого  дома\"","09 1 01 00000",null,{"$f":"D643","v":15481.7}]
["Расходы  на  оказание  государственной  поддержки  молодым  семьям  на  приобретение  жилья ",{"$f":"B644","v":"09 1 01 L4970"},null,{"$f":"D644","v":15481.7}]
["Социальное обеспечение и иные выплаты населению",{"$f":"B645","v":"09 1 01 L4970"},300,15481.7]
["Социальные выплаты гражданам, кроме публичных  нормативных  социальных  выплат","09 1 01 L4970",320,{"$f":"'Функц. 2019'!F1111","v":15481.7}]
["Подпрограмма  «Обеспечение жильем отдельных категорий граждан, установленных федеральным законодательством»","09 2 00 00000",null,{"$f":"D647","v":1102}]
["Основное  мероприятие \"Оказание государственной  поддержки  по  обеспечению  жильем отдельных  категорий  граждан,установленных  федеральными  законами  от 12  января  1995 года №5-ФЗ \"О  ветеранах\" от 24 ноября  1995  года  №181-ФЗ  \"О  социальной  защите  инвалидов  в  Российской  Федерации\"","09 2 01 00000",null,{"$f":"D648","v":1102}]
["Осуществление  полномочий  по  обеспечению  жильем  отдельных  категорий  граждан,установленных  федеральными  законами  от 12  января  1995 года №5-ФЗ \"О  ветеранах\" от 24 ноября  1995  года  №181-ФЗ  \"О  социальной  защите  инвалидов  в  Российской  Федерации\"",{"$f":"B649","v":"09 2 01 51350"},null,{"$f":"D649","v":1102}]
["Социальное обеспечение и иные выплаты населению",{"$f":"B650","v":"09 2 01 51350"},300,{"$f":"D650","v":1102}]
["Социальные выплаты гражданам, кроме публичных  нормативных  социальных  выплат","09 2 01 51350",320,{"$f":"'Функц. 2019'!F1088","v":1102}]
["Подпрограмма  «Обеспечение жильем детей-сирот и детей, оставшихся без попечения родителей, а также лиц из их числа» на 2015-2021 годы","09 3 00 00000",null,{"$f":"D653","v":22107}]
["Основное  мероприятие  \"Оказание  государственной  поддержки  в  решении  жилищной  проблемы  детей-сирот и детей, оставшихся без попечения  родителей, лиц из числа детей-сирот и детей,оставшихся без попечения родителей\"","09 3 01 00000",null,{"$f":"D653","v":22107}]
["Предоставление жилых помещений детям-сиротам и детям, оставшимся без попечения родителей, лицам из их числа по договорам найма специализированных жилых помещений","09 3 01 60820",null,{"$f":"D654","v":22107}]
["Капитальные вложения в объекты  государственной (муниципальной) собственности","09 3 01 60820",400,22107]
["Бюджетные инвестиции ","09 3 01 60820",410,{"$f":"'Функц. 2019'!G1116","v":22107}]
["Подпрограмма \"Комплексное освоение земельных участков в целях жилищного строительства и развитие застроенных территорий\" ","09 5 00 00000",null,{"$f":"D657","v":236}]
["Основное мероприятие \"Финансовое обеспечение выполнения отдельных государственных полномочий в сфере жилищной политики,переданных органам местного самоуправления муниципальных образований Московской области\" ","09 5 01 00000",null,{"$f":"D658","v":236}]
["Расходы на осуществление отдельных государственных полномочий в части подготовки и направления уведомлений о соответствии (несоответствии) указанных в уведомлении о планируемом строительстве параметров объекта индивидуального жилищного строительства или садового дома установленным параметрам и допустимости размещения объекта индивидульного жилищного строительства или садового дома на земельном участке, уведомлений о соответствии (несоответствии) построенных или реконструированных объектов индивидуального жилищного строительства или садового дома требованиям законодательства о градостроительной деятельности ","09 5 01 60710",null,{"$f":"D659","v":236}]
["Расходы на выплаты персоналу в целях обеспечения выполнения функций государственными (муниципальными) органами, казенными учреждениями, органами управления государственными внебюджетными фондами ","09 5 01 60710",100,{"$f":"D660","v":236}]
["Расходы на выплаты персоналу государственных (муниципальных) органов","09 5 01 60710",120,{"$f":"'Функц. 2019'!F530","v":236}]
["Муниципальная программа «Формирование современной городской среды города Лыткарино» на 2018-2024 годы","10 0 00 00000",null,{"$f":"D662+D730+D739","v":233991.8}]
["Подпрограмма  \"Благоустройство дворовых и общественных территорий города Лыткарино\"","10 1 00 00000",null,{"$f":"D663+D680+D689+D696+D707+D714","v":186245.5}]
["Основное мероприятие \"Благоустройство дворовых и общественных территорий\"","10 1 01 00000",null,{"$f":"D664+D677","v":36660.600000000006}]
["Мероприятия  по  благоустройству","10 1 01 15000",null,{"$f":"D665+D671+D674","v":35814.600000000006}]
["Мероприятия  по  озеленению","10 1 01 15010",null,{"$f":"D666","v":2635}]
["Закупка товаров, работ и услуг для обеспечения государственных (муниципальных) нужд","10 1 01 15010",200,{"$f":"D667","v":2635}]
["Иные закупки товаров, работ и услуг для обеспечения государственных (муниципальных) нужд","10 1 01 15010",240,{"$f":"'ведом. 2019'!AD1226","v":2635}]
["Мероприятия  по  озеленению","10 1 01 15010",null,{"$f":"D669","v":5534.7000000000007}]
["Закупка товаров, работ и услуг для обеспечения государственных (муниципальных) нужд","10 1 01 15010",200,5534.7000000000007]
["Иные закупки товаров, работ и услуг для обеспечения государственных (муниципальных) нужд","10 1 01 15010",240,{"$f":"'[3]Функц. 2018'!F488","v":5534.7000000000007}]
["Прочие  мероприятия   по  благоустройству  города",{"$f":"B672","v":"10 1 01 15030"},null,{"$f":"D672","v":33029.600000000006}]
["Закупка товаров, работ и услуг для обеспечения государственных (муниципальных) нужд",{"$f":"B673","v":"10 1 01 15030"},200,33029.600000000006]
["Иные закупки товаров, работ и услуг для обеспечения государственных (муниципальных) нужд","10 1 01 15030",240,{"$f":"'Функц. 2019'!F602","v":33029.600000000006},-120]
["Проведение эколого-патриотической акции \"Лес Победы\"","10 1 01 15040",null,{"$f":"D675","v":150}]
["Предоставление субсидий бюджетным, автономным учреждениям и иным некоммерческим организациям","10 1 01 15040",600,{"$f":"D676","v":150}]
["Субсидии бюджетным учреждениям","10 1 01 15040",610,{"$f":"'Функц. 2019'!F605","v":150}]
["Благоустройство территорий города в части защиты  от неблагоприятного воздействия безнадзорных животных",{"$f":"B678","v":"10 1 01 60870"},null,{"$f":"D678","v":846}]
["Закупка товаров, работ и услуг для обеспечения государственных (муниципальных) нужд",{"$f":"B679","v":"10 1 01 60870"},200,{"$f":"D679","v":846}]
["Иные закупки товаров, работ и услуг для обеспечения государственных (муниципальных) нужд","10 1 01 60870",240,{"$f":"'Функц. 2019'!F415","v":846}]
["Основное мероприятие \"Ремонт внутриквартальных  дорог  и  дворовых территорий  за счет средств дорожных  фондов\"","10 1 02 00000",null,{"$f":"D681","v":4589.3}]
["Ремонт, содержание   дорог ","10 1 02 16000",null,{"$f":"D682","v":4589.3}]
["Ремонт, содержание  дорог  общего  пользования и  внутриквартальных дорог  и   дворовых  территорий  за  счет  средств  дорожного  фонда города Лыткарино","10 1 02 16020",null,{"$f":"D683","v":4589.3}]
["Закупка товаров, работ и услуг для обеспечения государственных (муниципальных) нужд","10 1 02 16020",200,{"$f":"D684","v":4589.3}]
["Иные закупки товаров, работ и услуг для обеспечения государственных (муниципальных) нужд","10 1 02 16020",240,{"$f":"'Функц. 2019'!F449","v":4589.3}]
["Мероприятия  по  благоустройству","10 1 03 15000",null,{"$f":"D686","v":20911.3}]
["Мероприятия  по  организации  уличного  освещения","10 1 03 15020",null,{"$f":"D687","v":20911.3}]
["Закупка товаров, работ и услуг для обеспечения государственных (муниципальных) нужд","10 1 03 15020",200,{"$f":"D688","v":20911.3}]
["Иные закупки товаров, работ и услуг для обеспечения государственных (муниципальных) нужд",{"$f":"B686","v":"10 1 03 15020"},240,{"$f":"'[3]Функц. 2018'!F498","v":20911.3}]
["Основное мероприятие \"Формирование комфортной городской световой среды\"","10 1 03 00000",null,{"$f":"D690","v":12732.899999999998}]
["Мероприятия  по  благоустройству","10 1 03 15000",null,{"$f":"D691","v":12732.899999999998}]
["Мероприятия  по  организации  уличного  освещения","10 1 03 15020",null,{"$f":"D692+D694","v":12732.899999999998}]
["Закупка товаров, работ и услуг для обеспечения государственных (муниципальных) нужд","10 1 03 15020",200,{"$f":"D693","v":12728.499999999998}]
["Иные закупки товаров, работ и услуг для обеспечения государственных (муниципальных) нужд",{"$f":"B691","v":"10 1 03 15020"},240,{"$f":"'Функц. 2019'!F609","v":12728.499999999998}]
["Закупка товаров, работ и услуг для обеспечения государственных (муниципальных) нужд","10 1 03 15020",800,{"$f":"D695","v":4.4000000000000004}]
["Иные закупки товаров, работ и услуг для обеспечения государственных (муниципальных) нужд",{"$f":"B693","v":"10 1 03 15020"},850,{"$f":"'Функц. 2019'!F611","v":4.4000000000000004}]
["Основное  мероприятие \" Охрана  окружающей  среды\"","10 1 04 00000",null,{"$f":"D697+D700+D704","v":8496.9}]
["Организация  проведения  работ по благоустройству и санитарной очистке озелененных территорий",{"$f":"B698","v":"10 1 04 03590"},null,{"$f":"D698","v":7511.7}]
["Предоставление субсидий бюджетным, автономным учреждениям и иным некоммерческим организациям",{"$f":"B699","v":"10 1 04 03590"},600,{"$f":"D699","v":7511.7}]
["Субсидии бюджетным учреждениям","10 1 04 03590",610,{"$f":"'Функц. 2019'!F615","v":7511.7}]
["Мероприятия  по  благоустройству","10 1 04 15000",null,{"$f":"D701","v":320}]
["Прочие  мероприятия   по  благоустройству  города",{"$f":"B702","v":"10 1 04 15030"},null,{"$f":"D702","v":320}]
["Закупка товаров, работ и услуг для обеспечения государственных (муниципальных) нужд",{"$f":"B703","v":"10 1 04 15030"},200,{"$f":"D703","v":320}]
["Иные закупки товаров, работ и услуг для обеспечения государственных (муниципальных) нужд","10 1 04 15030",240,{"$f":"'Функц. 2019'!F619","v":320}]
["Расходы  на погашение кредиторской задолженности за выполненные работы  по ликвидации несанкционированных свалок и навалов мусора","10 1 04 61610",null,{"$f":"D705","v":665.2}]
["Иные бюджетные ассигнования","10 1 04 61610",800,{"$f":"D706","v":665.2}]
["Субсидии юридическим лицам (кроме некоммерческих организаций), индивидуальным предпринимателям, физическим лицам - производителям товаров, работ, услуг","10 1 04 61610",810,{"$f":"'Функц. 2019'!F716","v":665.2}]
["Основное мероприятие  \"Благоустройство центральных улиц и скверов\"","10 1 06 00000",null,{"$f":"D708","v":11530}]
["Мероприятия  по  благоустройству","10 1 06 15000",null,{"$f":"D709","v":11530}]
["Прочие  мероприятия   по  благоустройству  города",{"$f":"B710","v":"10 1 06 15030"},null,{"$f":"D710+D712","v":11530}]
["Закупка товаров, работ и услуг для обеспечения государственных (муниципальных) нужд",{"$f":"B711","v":"10 1 06 15030"},200,{"$f":"D711","v":2790}]
["Иные закупки товаров, работ и услуг для обеспечения государственных (муниципальных) нужд","10 1 06 15030",240,{"$f":"'Функц. 2019'!F624","v":2790}]
["Предоставление субсидий бюджетным, автономным учреждениям и иным некоммерческим организациям",{"$f":"B713","v":"10 1 06 15030"},600,{"$f":"D713","v":8740}]
["Субсидии бюджетным учреждениям","10 1 06 15030",610,{"$f":"'Функц. 2019'!F626","v":8740}]
["Основное мероприятие \"Федеральный проект \"Формирование комфортной городской среды\"","10 1 F2 00000",null,{"$f":"D715+D721+D724+D727+D718","v":112235.8}]
["Реализация программ формирования современной городской среды в части благоустройства общественных территорий- город Лыткарино, ул.Спортивная","10 1 F2 55551",null,{"$f":"D716","v":80000}]
["Закупка товаров, работ и услуг для обеспечения государственных (муниципальных) нужд","10 1 F2 55551",200,{"$f":"D717","v":80000}]
["Иные закупки товаров, работ и услуг для обеспечения государственных (муниципальных) нужд","10 1 F2 55551",240,{"$f":"'Функц. 2019'!F630","v":80000}]
["Комплексное обустройство территории муниципальных образований Московской области","10 1 F2 S1350",null,{"$f":"D719","v":79.099999999999994}]
["Закупка товаров, работ и услуг для обеспечения государственных (муниципальных) нужд","10 1 F2 S1350",200,{"$f":"D720","v":79.099999999999994}]
["Иные закупки товаров, работ и услуг для обеспечения государственных (муниципальных) нужд","10 1 F2 S1350",240,{"$f":"'Функц. 2019'!F633","v":79.099999999999994}]
["Обустройство и установка детских игровых площадок на территории муниципальных образований Московской области","10 1 F2 S1580",null,{"$f":"D722","v":6500}]
["Закупка товаров, работ и услуг для обеспечения государственных (муниципальных) нужд","10 1 F2 S1580",200,{"$f":"D723","v":6500}]
["Иные закупки товаров, работ и услуг для обеспечения государственных (муниципальных) нужд","10 1 F2 S1580",240,{"$f":"'Функц. 2019'!F636","v":6500}]
["Ремонт дворовых территорий","10 1 F2 S2740",null,{"$f":"D725","v":6977.9000000000005}]
["Закупка товаров, работ и услуг для обеспечения государственных (муниципальных) нужд","10 1 F2 S2740",200,{"$f":"D726","v":6977.9000000000005}]
["Иные закупки товаров, работ и услуг для обеспечения государственных (муниципальных) нужд","10 1 F2 S2740",240,{"$f":"'Функц. 2019'!F453","v":6977.9000000000005}]
["Дополнительные  расходы на реализацию программ формирования современной городской среды в части благоустройства общественных территорий- город Лыткарино, ул.Спортивная","10 1 F2 Д5551",null,{"$f":"D728","v":18678.8}]
["Закупка товаров, работ и услуг для обеспечения государственных (муниципальных) нужд","10 1 F2 Д5551",200,{"$f":"D729","v":18678.8}]
["Иные закупки товаров, работ и услуг для обеспечения государственных (муниципальных) нужд","10 1 F2 Д5551",240,{"$f":"'Функц. 2019'!F639","v":18678.8}]
["Подпрограмма  \"Создание условий для обеспечения комфортного проживания  жителей  в  многоквартирных  домах\"","10 2 00 00000",null,{"$f":"D731","v":11423.5}]
["Основное мероприятие \"Капитальный  ремонт  многоквартирных  жилых  домов\"","10 2 01 00000",null,{"$f":"D732+D736","v":11423.5}]
["Капитальный  ремонт","10 2 01 21000",null,{"$f":"D733","v":494.5}]
["Комплекс работ по капитальному ремонту жилых помещений в многоквартирных домах, предоставленных по договорам социального найма",{"$f":"B734","v":"10 2 01 21060"},null,494.5]
["Закупка товаров, работ и услуг для обеспечения государственных (муниципальных) нужд",{"$f":"B735","v":"10 2 01 21060"},"200",494.5]
["Иные закупки товаров, работ и услуг для обеспечения государственных (муниципальных) нужд","10 2 01 21060","240",{"$f":"'Функц. 2019'!F544","v":494.5}]
["Расходы  на  ремонт подъездов в многоквартирных домах",{"$f":"B737","v":"10 2 01 S0950"},null,{"$f":"D737","v":10929}]
["Иные бюджетные ассигнования",{"$f":"B738","v":"10 2 01 S0950"},"800",{"$f":"D738","v":10929}]
["Субсидии юридическим лицам (кроме некоммерческих организаций), индивидуальным предпринимателям, физическим лицам - производителям товаров, работ, услуг","10 2 01 S0950","810",{"$f":"'Функц. 2019'!F550","v":10929}]
["Обеспечивающая подпрограмма","10 3 00 00000",null,{"$f":"D740+D753+D759","v":36322.800000000003}]
["Основное  мероприятие \" Обеспечение  деятельности  управления \"","10 3 01 00000",null,{"$f":"D741","v":12025.8}]
["Центральный аппарат","10 3 01 04000",null,{"$f":"D742+D747+D750","v":12025.8}]
["Расходы  на обеспечение  деятельности  центрального  аппарата",{"$f":"B743","v":"10 3 01 04010"},null,{"$f":"D743+D745","v":2341.5}]
["Закупка товаров, работ и услуг для обеспечения государственных (муниципальных) нужд",{"$f":"B744","v":"10 3 01 04010"},200,{"$f":"D744","v":1865.1000000000001}]
["Иные закупки товаров, работ и услуг для обеспечения государственных (муниципальных) нужд",{"$f":"B745","v":"10 3 01 04010"},240,{"$f":"'Функц. 2019'!F687","v":1865.1000000000001}]
["Иные бюджетные ассигнования",{"$f":"B746","v":"10 3 01 04010"},800,{"$f":"D746","v":476.40000000000003}]
["Уплата налогов, сборов и иных платежей","10 3 01 04010",850,{"$f":"'Функц. 2019'!F689","v":476.40000000000003}]
["Расходы на содержание  лиц,  замещающих должности, не являющиеся должностями муниципальной  службы",{"$f":"B748","v":"10 3 01 04020"},null,{"$f":"D748","v":4492.5999999999995}]
["Расходы на выплаты персоналу в целях обеспечения выполнения функций государственными (муниципальными) органами, казенными учреждениями, органами управления государственными внебюджетными фондами ",{"$f":"B749","v":"10 3 01 04020"},100,4492.5999999999995]
["Расходы на выплаты персоналу государственных (муниципальных) органов","10 3 01 04020",120,{"$f":"'Функц. 2019'!F692","v":4492.5999999999995}]
["Расходы на  содержание  лиц,  замещающих должности  муниципальной  службы",{"$f":"B751","v":"10 3 01 04030"},null,{"$f":"D751","v":5191.6999999999989}]
["Расходы на выплаты персоналу в целях обеспечения выполнения функций государственными (муниципальными) органами, казенными учреждениями, органами управления государственными внебюджетными фондами ",{"$f":"B752","v":"10 3 01 04030"},100,5191.6999999999989]
["Расходы на выплаты персоналу государственных (муниципальных) органов","10 3 01 04030",120,{"$f":"'Функц. 2019'!F695","v":5191.6999999999989}]
["Основное  мероприятие \"Обеспечение  предоставления  гражданам  субсидий  на  оплату  жилого  помещения  и  коммунальных  услуг\"","10 3 02 00000",null,{"$f":"D754","v":1986}]
["Обеспечение  предоставления гражданам субсидий на оплату жилого помещения и коммунальных услуг",{"$f":"B755","v":"10 3 02 61420"},null,{"$f":"D755+D757","v":1986}]
["Расходы на выплаты персоналу в целях обеспечения выполнения функций государственными (муниципальными) органами, казенными учреждениями, органами управления государственными внебюджетными фондами ",{"$f":"B756","v":"10 3 02 61420"},100,{"$f":"D756","v":1815}]
["Расходы на выплаты персоналу государственных (муниципальных) органов",{"$f":"B757","v":"10 3 02 61420"},120,{"$f":"'Функц. 2019'!F699","v":1815}]
["Закупка товаров, работ и услуг для обеспечения государственных (муниципальных) нужд",{"$f":"B758","v":"10 3 02 61420"},200,{"$f":"D758","v":171}]
["Иные закупки товаров, работ и услуг для обеспечения государственных (муниципальных) нужд","10 3 02 61420",240,{"$f":"'Функц. 2019'!F701","v":171}]
["Основное  мероприятие \" Предоставление  гражданам  субсидий  на  оплату  жилого  помещения  и  коммунальных  услуг\"","10 3 03 00000",null,{"$f":"D760","v":22311}]
["Предоставление гражданам субсидий на оплату жилого помещения и коммунальных услуг",{"$f":"B761","v":"10 3 03 61410"},null,{"$f":"D763+D761","v":22311}]
["Закупка товаров, работ и услуг для обеспечения государственных (муниципальных) нужд",{"$f":"B762","v":"10 3 03 61410"},200,{"$f":"D762","v":195}]
["Иные закупки товаров, работ и услуг для обеспечения государственных (муниципальных) нужд",{"$f":"B763","v":"10 3 03 61410"},240,{"$f":"'Функц. 2019'!F1094","v":195}]
["Социальное обеспечение и иные выплаты населению",{"$f":"B764","v":"10 3 03 61410"},300,{"$f":"D764","v":22116}]
["Публичные нормативные социальные выплаты гражданам","10 3 03 61410",310,{"$f":"'Функц. 2019'!F1096","v":22116}]
["Муниципальная программа «Молодое поколение города Лыткарино» на 2017 - 2021 годы","11 0 00 00000",null,{"$f":"D766+D777","v":6202.4}]
["Подпрограмма  \"Мероприятия  для  подростков  и  молодежи  города  Лыткарино\"","11 1 00 00000",null,{"$f":"D767+D773","v":1392.4}]
["Основное  мероприятие \" Проведение  мероприятий в соответствии с планом  мероприятий  для  подростков и  молодежи  города  Лыткарино\"","11 1 01 00000",null,{"$f":"D768","v":902.4}]
["Мероприятия  в  сфере  молодежной  политики",{"$f":"B769","v":"11 1 01 10000"},null,{"$f":"D769+D771","v":902.4}]
["Закупка товаров, работ и услуг для обеспечения государственных (муниципальных) нужд",{"$f":"B770","v":"11 1 01 10000"},200,{"$f":"D770","v":765.8}]
["Иные закупки товаров, работ и услуг для обеспечения государственных (муниципальных) нужд","11 1 01 10000",240,{"$f":"'Функц. 2019'!F913","v":765.8}]
["Предоставление субсидий бюджетным, автономным учреждениям и иным некоммерческим организациям",{"$f":"B772","v":"11 1 01 10000"},600,{"$f":"D772","v":136.6}]
["Субсидии бюджетным учреждениям","11 1 01 10000",610,{"$f":"'Функц. 2019'!F915","v":136.6}]
["Основное мероприятие \"Организация временного  трудоустройства  подростков  в период  летних  школьных каникул\"","11 1 03 00000",null,{"$f":"D774","v":490}]
["Мероприятия  в  сфере  молодежной  политики","11 1 03 10000",null,{"$f":"D775","v":490}]
["Предоставление субсидий бюджетным, автономным учреждениям и иным некоммерческим организациям","11 1 03 10000",600,{"$f":"D776","v":490}]
["Субсидии бюджетным учреждениям","11 1 03 10000",610,{"$f":"'Функц. 2019'!F920","v":490}]
["Подпрограмма  «Развитие системы отдыха и оздоровления детей и организация трудовой занятости подростков города Лыткарино в период школьных каникул»","11 2 00 00000",null,{"$f":"D778+D786","v":4810}]
["Основное  мероприятие \"Организация  отдыха  детей  и  подростков граждан  Российской  Федерации,   имеющих  место  жительства  в  городе  Лыткарино, в  санаторно-курортных  учреждениях  и  загородных  оздоровительных  лагерях\"","11 2 01 00000",null,{"$f":"D779","v":3392.4}]
["Организация  отдыха  детей  и  подростков  в  санаторно-курортных  учреждениях  и  загородных  оздоровительных  лагерях",{"$f":"B782","v":"11 2 01 S2190"},null,{"$f":"D782+D780+D784","v":3392.4}]
["Закупка товаров, работ и услуг для обеспечения государственных (муниципальных) нужд",{"$f":"B781","v":"11 2 01 S2190"},200,{"$f":"D781","v":1693.7}]
["Иные закупки товаров, работ и услуг для обеспечения государственных (муниципальных) нужд","11 2 01 S2190",240,{"$f":"'Функц. 2019'!F967","v":1693.7}]
["Социальное обеспечение и иные выплаты населению",{"$f":"B783","v":"11 2 01 S2190"},300,{"$f":"D783","v":952.29999999999984}]
["Социальные выплаты гражданам, кроме публичных нормативных социальных выплат","11 2 01 S2190",320,{"$f":"'Функц. 2019'!F969","v":952.29999999999984}]
["Предоставление субсидий бюджетным, автономным учреждениям и иным некоммерческим организациям",{"$f":"B785","v":"11 2 01 S2190"},600,{"$f":"D785","v":746.4}]
["Субсидии бюджетным учреждениям","11 2 01 S2190",610,{"$f":"'Функц. 2019'!F973","v":746.4}]
["Основное  мероприятие  \"Организация  отдыха  детей  и  подростков  в   лагерях  с  дневным  пребыванием  на  базе  школ  города\"","11 2 02 00000",null,{"$f":"D787","v":1417.6}]
["Организация  отдыха  детей  и  подростков  в   лагерях  с  дневным  пребыванием ",{"$f":"B788","v":"11 2 02 S2190"},null,{"$f":"D788","v":1417.6}]
["Предоставление субсидий бюджетным, автономным учреждениям и иным некоммерческим организациям",{"$f":"B789","v":"11 2 02 S2190"},600,1417.6]
["Субсидии бюджетным учреждениям","11 2 02 S2190",610,{"$f":"'Функц. 2019'!F977","v":1417.6}]
["Муниципальная  программа «Развитие и функционирование дорожно-транспортного комплекса города Лыткарино» на 2017-2021 годы","12 0 00 00000",null,{"$f":"D791+D800+D815+D827","v":77557}]
["Подпрограмма  \"Пассажирский транспорт общего пользования\"","12 1 00 00000",null,{"$f":"D793","v":185.6}]
["Основное  мероприятие\" Обеспечение  перевозок  пассажиров  транспортом общего  пользования\"","12 1 01 00000",null,{"$f":"D793","v":185.6}]
["Обеспечение перевозок пассажиров транспортом общего пользования","12 1 01 00090",null,{"$f":"D797+D794","v":185.6}]
["Обеспечение  перевозок  пассажиров  по  муниципальным  маршрутам №1 и №2 регулярных  перевозок  по  регулируемым  тарифам","12 1 01 00091",null,{"$f":"D795","v":70.699999999999989}]
["Закупка товаров, работ и услуг для обеспечения государственных (муниципальных) нужд","12 1 01 00091",200,{"$f":"D796","v":70.699999999999989}]
["Иные закупки товаров, работ и услуг для обеспечения государственных (муниципальных) нужд","12 1 01 00091",240,{"$f":"'Функц. 2019'!F423","v":70.699999999999989}]
["Транспортное  обеспечение  официальных  мероприятий","12 1 01 00092",null,{"$f":"D798","v":114.9}]
["Закупка товаров, работ и услуг для обеспечения государственных (муниципальных) нужд","12 1 01 00092",200,{"$f":"D799","v":114.9}]
["Иные закупки товаров, работ и услуг для обеспечения государственных (муниципальных) нужд","12 1 01 00092",240,{"$f":"'Функц. 2019'!F426","v":114.9}]
["Подпрограмма  \"Дороги города  Лыткарино\"","12 2 00 00000",null,{"$f":"D801+D811","v":54301.8}]
["Основное  мероприятие \"Ремонт, содержание  дорог  общего  пользования,  внутриквартальных дорог  и   дворовых  территорий\"","12 2 01 00000",null,{"$f":"D802+D808","v":52217.8}]
["Ремонт, содержание   дорог ","12 2 01 16000",null,{"$f":"D803","v":36069.800000000003}]
["Ремонт, содержание  дорог  общего  пользования и  внутриквартальных дорог  и   дворовых  территорий","12 2 01 16010",null,{"$f":"D804+D806","v":36069.800000000003}]
["Закупка товаров, работ и услуг для обеспечения государственных (муниципальных) нужд","12 2 01 16010",200,4453.8999999999996]
["Иные закупки товаров, работ и услуг для обеспечения государственных (муниципальных) нужд","12 2 01 16010",240,{"$f":"'Функц. 2019'!F460","v":4453.8999999999996}]
["Предоставление субсидий бюджетным, автономным учреждениям и иным некоммерческим организациям","12 2 01 16010",600,{"$f":"D807","v":31615.9}]
["Субсидии бюджетным учреждениям","12 2 01 16010",610,{"$f":"'Функц. 2019'!F462","v":31615.9},62.5]
["Расходы  на  капитальный ремонт и ремонт автомобильных дорог общего пользования города Лыткарино","12 2 01 S0240",null,{"$f":"D809","v":16148}]
["Закупка товаров, работ и услуг для обеспечения государственных (муниципальных) нужд","12 2 01 S0240",200,{"$f":"D810","v":16148}]
["Иные закупки товаров, работ и услуг для обеспечения государственных (муниципальных) нужд","12 2 01 S0240",240,{"$f":"'Функц. 2019'!F465","v":16148}]
["Основное  мероприятие \"Ремонт, содержание  дорог  общего  пользования,  внутриквартальных дорог  и   дворовых  территорий за счет средств дорожных фондов\"","12 2 02 00000",null,{"$f":"D812","v":2084}]
["Ремонт, содержание  дорог  общего  пользования и  внутриквартальных дорог  и   дворовых  территорий  за  счет  средств  дорожного  фонда города Лыткарино","12 2 02 16020",null,{"$f":"D813","v":2084}]
["Закупка товаров, работ и услуг для обеспечения государственных (муниципальных) нужд","12 2 02 16020",200,{"$f":"D814","v":2084}]
["Иные закупки товаров, работ и услуг для обеспечения государственных (муниципальных) нужд","12 2 02 16020",240,{"$f":"'Функц. 2019'!F469","v":2084}]
["Подпрограмма  \"Безопасность  дорожного  движения\"","12 3 00 00000",null,{"$f":"D816","v":1960}]
["Основное  мероприятие  \"Обеспечение  безопасности  дорожного  движения\"","12 3 01 00000",null,1960]
["Мероприятия  по обеспечению безопасности  дорожного  движения","12 3 01 17000",null,{"$f":"D818+D824+D821","v":1960}]
["Организация  изготовления  социальной  рекламы  по  пропаганде  безопасности  дорожного  движения","12 3 01 17010",null,{"$f":"D819","v":60}]
["Закупка товаров, работ и услуг для обеспечения государственных (муниципальных) нужд","12 3 01 17010",200,60]
["Иные закупки товаров, работ и услуг для обеспечения государственных (муниципальных) нужд","12 3 01 17010",240,{"$f":"'Функц. 2019'!F475","v":60}]
["Организация  вывоза  брошенных  автотранспортных  средств","12 3 01 17020",null,{"$f":"D822","v":100}]
["Закупка товаров, работ и услуг для обеспечения государственных (муниципальных) нужд","12 3 01 17020",200,{"$f":"D823","v":100}]
["Иные закупки товаров, работ и услуг для обеспечения государственных (муниципальных) нужд","12 3 01 17020",240,{"$f":"'Функц. 2019'!F478","v":100}]
["Устройство дорожной разметки, установка пешеходных ограждений перильного типа,обустройство нерегулируемых пешеходных переходов дополнительными источниками освещения","12 3 01 17060",null,{"$f":"D825","v":1800}]
["Закупка товаров, работ и услуг для обеспечения государственных (муниципальных) нужд","12 3 01 17060",200,1800]
["Иные закупки товаров, работ и услуг для обеспечения государственных (муниципальных) нужд","12 3 01 17060",240,{"$f":"'Функц. 2019'!F481","v":1800}]
["Подпрограмма  \"Транспортное  обслуживание\"","12 4 00 00000",null,{"$f":"D828","v":21109.599999999999}]
["Основное  мероприятие \"Автотранспортное  обслуживание \"","12 4 01 00000",null,21109.599999999999]
["Предоставление субсидии  на  выполнение муниципального  задания    на  автотранспортное  обслуживание","12 4 01 17590",null,21109.599999999999]
["Предоставление субсидий бюджетным, автономным учреждениям и иным некоммерческим организациям","12 4 01 17590",600,21109.599999999999]
["Субсидии бюджетным учреждениям","12 4 01 17590",610,{"$f":"'Функц. 2019'!F431","v":21109.599999999999},200]
["Муниципальная программа  «Развитие информационно-коммуникационных технологий для повышения эффективности процессов управления и создания благоприятных условий жизни и ведения бизнеса в городе  Лыткарино Московской области» на 2017-2021годы","13 0 00 00000",null,{"$f":"D833+D840+D844+D851","v":8812.3000000000011}]
["Основное мероприятие \"Федеральный проект \"Информационная инфраструктура\"","13 0 D2 00000",null,{"$f":"D834+D837","v":4780.8}]
["Мероприятия  в  области  информационно-коммуникационных  технологий","13 0 D2 00010",null,{"$f":"D835","v":3811.8}]
["Закупка товаров, работ и услуг для обеспечения государственных (муниципальных) нужд","13 0 D2 00010",200,3811.8]
["Иные закупки товаров, работ и услуг для обеспечения государственных (муниципальных) нужд","13 0 D2 00010",240,{"$f":"'Функц. 2019'!F487","v":3811.8}]
["Расходы  для обеспечения организаций  дошкольного, начального общего, основного общего и среднего общего образования, находящихся в ведении органов местного самоуправления муниципальных образований Московской области, доступом в сеть Интернет",{"$f":"B838","v":"13 0 D2 S0600"},null,{"$f":"D838","v":969}]
["Закупка товаров, работ и услуг для обеспечения государственных (муниципальных) нужд",{"$f":"B839","v":"13 0 D2 S0600"},600,{"$f":"D839","v":969}]
["Иные закупки товаров, работ и услуг для обеспечения государственных (муниципальных) нужд","13 0 D2 S0600",610,{"$f":"'Функц. 2019'!F490","v":969}]
["Основное мероприятие \"Федеральный проект \"Информационная безопасность\"","13 0 D4 00000",null,{"$f":"D841","v":59.100000000000009}]
["Мероприятия  в  области  информационно-коммуникационных  технологий","13 0  D4 00010",null,{"$f":"D842","v":59.100000000000009}]
["Закупка товаров, работ и услуг для обеспечения государственных (муниципальных) нужд","13 0  D4 00010",200,{"$f":"D843","v":59.100000000000009}]
["Иные закупки товаров, работ и услуг для обеспечения государственных (муниципальных) нужд","13 0  D4 00010",240,{"$f":"'Функц. 2019'!F494","v":59.100000000000009}]
["Основное мероприятие \"Федеральный проект \"Цифровое государственное управление\"","13 0 D6 00000",null,{"$f":"D845+D848","v":3701.9}]
["Мероприятия  в  области  информационно-коммуникационных  технологий","13 0  D6 00010",null,{"$f":"D846","v":2672.9}]
["Закупка товаров, работ и услуг для обеспечения государственных (муниципальных) нужд","13 0  D6 00010",200,{"$f":"D847","v":2672.9}]
["Иные закупки товаров, работ и услуг для обеспечения государственных (муниципальных) нужд","13 0  D6 00010",240,{"$f":"'Функц. 2019'!F498","v":2672.9}]
["Расходы  на предоставление доступа к электронным сервисам цифровой инфраструктуры в сфере жилищно-коммунального хозяйства","13 0 D6 S0940",null,{"$f":"D849","v":1029}]
["Закупка товаров, работ и услуг для обеспечения государственных (муниципальных) нужд","13 0 D6 S0940",200,{"$f":"D850","v":1029}]
["Иные закупки товаров, работ и услуг для обеспечения государственных (муниципальных) нужд","13 0 D6 S0940",240,{"$f":"'Функц. 2019'!F501","v":1029}]
["Основное мероприятие \"Федеральный проект \"Цифровая образовательная среда\"","13 0 Е4 00000",null,{"$f":"D852+D855","v":270.5}]
["Внедрение информационных технологий  для подключения к сети ФИС ФРДО  муниципальных  общеобразовательных учреждений","13 0 Е4 00020",null,{"$f":"D853","v":109.5}]
["Предоставление субсидий бюджетным, автономным учреждениям и иным некоммерческим организациям",{"$f":"B854","v":"13 0 Е4 00020"},600,{"$f":"D854","v":109.5}]
["Субсидии бюджетным учреждениям","13 0 Е4 00020",610,{"$f":"'Функц. 2019'!F505","v":109.5}]
["Обеспечение  современными аппаратно-программными комплексами со средствами криптозащиты информации для муниципальных организаций Московской области",{"$f":"B856","v":"13 0 Е4 00030"},null,{"$f":"D856","v":161}]
["Предоставление субсидий бюджетным, автономным учреждениям и иным некоммерческим организациям",{"$f":"B857","v":"13 0 Е4 00030"},600,{"$f":"D857","v":161}]
["Субсидии бюджетным учреждениям","13 0 Е4 00030",610,{"$f":"'Функц. 2019'!F900","v":161}]
["Итого по муниципальным программам города Лыткарино",null,null,{"$f":"D15+D173+D230+D382+D406+D482+D527+D640+D661+D765+D790+D832+D452","v":3249458.8}]
["Руководство и управление в сфере установленных функций органов местного  самоуправления, избирательных комиссий муниципальных образований ","95 0 00 00000",null,{"$f":"D860+D863+D866+D869+D881+D884","v":25990.500000000004}]
["Глава муниципального образования","95 0 00 01000",null,{"$f":"D861","v":2649.9999999999995}]
["Расходы на выплаты персоналу в целях обеспечения выполнения функций государственными (муниципальными) органами, казенными учреждениями, органами управления государственными внебюджетными фондами ","95 0 00 01000",100,2649.9999999999995]
["Расходы на выплаты персоналу государственных (муниципальных) органов","95 0 00 01000",120,{"$f":"'Функц. 2019'!F23","v":2649.9999999999995}]
["Председатель представительного  органа муниципального  образования","95 0 00 02000",null,{"$f":"D864","v":2248.2000000000003}]
["Расходы на выплаты персоналу в целях обеспечения выполнения функций государственными (муниципальными) органами, казенными учреждениями, органами управления государственными внебюджетными фондами ","95 0 00 02000",100,2248.2000000000003]
["Расходы на выплаты персоналу государственных (муниципальных) органов","95 0 00 02000",120,{"$f":"'Функц. 2019'!F41","v":2248.2000000000003}]
["Депутаты  представительного  органа  местного  самоуправления","95 0 00 03000",null,{"$f":"D868","v":1798.6000000000001}]
["Расходы на выплаты персоналу в целях обеспечения выполнения функций государственными (муниципальными) органами, казенными учреждениями, органами управления государственными внебюджетными фондами ","95 0 00 03000",100,{"$f":"D868","v":1798.6000000000001}]
["Расходы на выплаты персоналу государственных (муниципальных) органов","95 0 00 03000",120,{"$f":"'Функц. 2019'!F44","v":1798.6000000000001}]
["Центральный аппарат","95 0 00 04000",null,{"$f":"D870+D875+D878","v":15299.500000000002}]
["Расходы на обеспечение  деятельности  центрального  аппарата","95 0 00 04010",null,{"$f":"D871+D873","v":4003.4000000000005}]
["Закупка товаров, работ и услуг для обеспечения государственных (муниципальных) нужд","95 0 00 04010",200,{"$f":"D872","v":3839.6000000000004}]
["Иные закупки товаров, работ и услуг для обеспечения государственных (муниципальных) нужд","95 0 00 04010",240,{"$f":"'Функц. 2019'!F48+'Функц. 2019'!F130+'Функц. 2019'!F153","v":3839.6000000000004},9]
["Иные бюджетные ассигнования","95 0 00 04010",800,{"$f":"D874","v":163.80000000000001}]
["Уплата налогов, сборов и иных платежей","95 0 00 04010",850,{"$f":"'Функц. 2019'!F50+'Функц. 2019'!F132+'Функц. 2019'!F155","v":163.80000000000001},5]
["Расходы на содержание  лиц,  замещающих должности, не являющиеся должностями муниципальной  службы","95 0 00 04020",null,{"$f":"D876","v":5889}]
["Расходы на выплаты персоналу в целях обеспечения выполнения функций государственными (муниципальными) органами, казенными учреждениями, органами управления государственными внебюджетными фондами ","95 0 00 04020",100,5889]
["Расходы на выплаты персоналу государственных (муниципальных) органов","95 0 00 04020",120,{"$f":"'Функц. 2019'!F53+'Функц. 2019'!F158+'Функц. 2019'!F135","v":5889},-14]
["Расходы на  содержание  лиц,  замещающих должности  муниципальной  службы","95 0 00 04030",null,{"$f":"D879","v":5407.1}]
["Расходы на выплаты персоналу в целях обеспечения выполнения функций государственными (муниципальными) органами, казенными учреждениями, органами управления государственными внебюджетными фондами ","95 0 00 04030",100,5407.1]
["Расходы на выплаты персоналу государственных (муниципальных) органов","95 0 00 04030",120,{"$f":"'Функц. 2019'!F138+'Функц. 2019'!F56","v":5407.1}]
["Председатель  контрольно-счетной  палаты  муниципального  образования  и  его  заместитель","95 0 00 05000",null,{"$f":"D882","v":1938.9}]
["Расходы на выплаты персоналу в целях обеспечения выполнения функций государственными (муниципальными) органами, казенными учреждениями, органами управления государственными внебюджетными фондами ","95 0 00 05000",100,1938.9]
["Расходы на выплаты персоналу государственных (муниципальных) органов","95 0 00 05000",120,{"$f":"'Функц. 2019'!F141","v":1938.9}]
["Члены избирательной  комиссии  муниципального  образования","95 0 00 06000",null,{"$f":"D885","v":2055.3000000000002}]
["Расходы на выплаты персоналу в целях обеспечения выполнения функций государственными (муниципальными) органами, казенными учреждениями, органами управления государственными внебюджетными фондами ","95 0 00 06000",100,2055.3000000000002]
["Расходы на выплаты персоналу государственных (муниципальных) органов","95 0 00 06000",120,{"$f":"'Функц. 2019'!F161","v":2055.3000000000002}]
["Непрограммные расходы бюджета города  Лыткарино","99 0 00 00000",null,{"$f":"D888+D894+D891+D897","v":23611.5}]
["Резервные фонды  местных  администраций  на  непредвиденные  расходы  ","99 0 00 00010",null,{"$f":"D889","v":1151.4000000000015}]
["Иные бюджетные ассигнования","99 0 00 00010",800,{"$f":"D890","v":1151.4000000000015}]
["Резервные  средства","99 0 00 00010",870,{"$f":"'Функц. 2019'!F173","v":1151.4000000000015}]
["Предоставление субсидии МП «Лыткаринская теплосеть»  на возмещение недополученных доходов в связи с применением в расчетах с управляющими организациями нормативов расхода тепловой энергии, используемой на подогрев холодной воды для предоставления коммунальной услуги по горячему водоснабжению для населения на территории муниципального образования.",{"$f":"B892","v":"99 0 00 00700"},null,{"$f":"D892","v":16300}]
["Иные бюджетные ассигнования",{"$f":"B893","v":"99 0 00 00700"},800,{"$f":"D893","v":16300}]
["Субсидии юридическим лицам (кроме некоммерческих организаций), индивидуальным предпринимателям, физическим лицам - производителям товаров, работ, услуг","99 0 00 00700",810,{"$f":"'Функц. 2019'!F565","v":16300}]
["Возврат  средстств субвенции на обеспечение государственных гарантий реализации прав граждан на получение общедоступного и бесплатного дошкольного, начального общего, основного общего, среднего общего образования в муниципальных общеобразовательных организациях в Московской области, обеспечение дополнительного образования в муниципальных общеобразовательных организациях в Московской области, включая расходы на оплату труда, приобретение учебников и учебных пособий, средств обучения, игр, игрушек (за исключением расходов на содержание зданий и оплату коммунальных услуг)","99 0 00 00800",null,{"$f":"D895","v":160.1}]
["Иные бюджетные ассигнования","99 0 00 00800","800",{"$f":"D896","v":160.1}]
["Уплата налогов, сборов и иных платежей","99 0 00 00800","850",{"$f":"'Функц. 2019'!F851","v":160.1}]
[{"$f":"'ведом. 2019'!X388","v":"Предоставление  субсидии МП \"Лыткаринская теплосеть\" в целях восстановления платёжеспособности и недопущения банкротства"},{"$f":"'ведом. 2019'!AB388","v":"99 0 00 00900"},null,{"$f":"D898","v":6000}]
[{"$f":"'ведом. 2019'!X389","v":"Иные бюджетные ассигнования"},{"$f":"'ведом. 2019'!AB389","v":"99 0 00 00900"},"800",{"$f":"D899","v":6000}]
[{"$f":"'ведом. 2019'!X390","v":"Субсидии юридическим лицам (кроме некоммерческих организаций), индивидуальным предпринимателям, физическим лицам - производителям товаров, работ, услуг"},{"$f":"'ведом. 2019'!AB390","v":"99 0 00 00900"},"810",{"$f":"'ведом. 2019'!AD390","v":6000}]
["Итого непрограммных расходов",null,null,{"$f":"D887","v":23611.5}]
["В С Е Г О   Р А С Х О Д О В ",null,null,{"$f":"D900+D858+D859","v":3299060.8}]

{"sheet":"Р., Пр.2019","index":5,"n_rows":64,"n_cols":5,"rows_kept":64,"cut":false,"hidden":false,"merged":[[8,6,8,9],[9,6,9,9],[10,6,10,9],[5,1,5,4],[6,1,6,4],[7,1,7,4],[0,1,0,3],[2,1,2,3],[3,1,3,3],[8,0,8,3],[11,0,12,0],[11,1,12,1],[11,2,12,2],[11,3,12,3]]}
[null,"Приложение 10"]
[null,"   к изменениям и дополнениям"]
[null,"к  бюджету  города  Лыткарино  на  2019 год"]
[null,"и  на плановый  период  2020 и  2021  годов"]
[]
[null,"(Приложение 11"]
[null,"к  бюджету  города  Лыткарино  на  2019 год"]
[null,"и  на плановый  период  2020  и  2021  годов)"]
["Расходы  бюджета  города  Лыткарино    \nпо  разделам и подразделам  классификации  расходов  бюджетов\nна  2019 год  "]
[]
[null,null,null,"(тыс.руб.)"]
["Наименования","Рз","ПР","Сумма  \nна 2019 год"]
[]
[1,2,3,4]
["Общегосударственные вопросы","01",null,{"$f":"D16+D17+D18+D19+D20+D21+D22","v":243717.5}]
["  Функционирование высшего должностного лица субъекта Российской Федерации и муниципального образования","01","02",{"$f":"'Функц. 2019'!F19","v":2649.9999999999995}]
["  Функционирование законодательных (представительных) органов государственной власти и представительных органов муниципальных образований","01","03",{"$f":"'Функц. 2019'!F24","v":11653},230]
["  Функционирование Правительства Российской Федерации, высших исполнительных органов государственной власти субъектов Российской Федерации, местных администраций","01","04",{"$f":"'Функц. 2019'!F57","v":64180.5}]
["  Обеспечение  деятельности  финансовых,налоговых  и  таможенных  органов  и  органов  финансового  (финансово-бюджетного)  надзора","01","06",{"$f":"'Функц. 2019'!F105","v":23726},-62.5]
["  Обеспечение проведения выборов и референдумов","01","07",{"$f":"'Функц. 2019'!F142","v":4352.5}]
["  Резервные фонды","01",11,{"$f":"'Функц. 2019'!F162","v":3251.4000000000015}]
["  Другие общегосударственные вопросы","01",13,{"$f":"'Функц. 2019'!F174","v":133904.1},9.6999999999999993]
["Национальная оборона","02",null,{"$f":"D24+D25","v":3774}]
["  Мобилизационная  и  вневойсковая  подготовка","02","03",{"$f":"'Функц. 2019'!F279","v":3476}]
["  Мобилизационная  подготовка  экономики","02","04",{"$f":"'Функц. 2019'!F286","v":298}]
["Национальная безопасность и правоохранительная деятельность","03",null,{"$f":"D27+D28","v":34615.100000000006}]
["  Защита  населения  и  территории  от  чрезвычайных    ситуаций    природного  и  техногенного    характера, гражданская  оборона","03","09",{"$f":"'Функц. 2019'!F294","v":24684.000000000004}]
["  Другие  вопросы  в  области  национальной  безопасности  и  правоохранительной  деятельности","03",14,{"$f":"'Функц. 2019'!F351","v":9931.0999999999985}]
["Национальная экономика","04",null,{"$f":"D31+D34+D32+D33+D30","v":105272.09999999999}]
["  Сельское хозяйство и рыболовство","04","05",{"$f":"'Функц. 2019'!F415","v":846}]
["  Транспорт","04","08",{"$f":"'Функц. 2019'!F416","v":21295.199999999997},200]
["  Дорожное  хозяйство  (дорожные  фонды)  ","04","09",{"$f":"'Функц. 2019'!F432","v":73329},62.5]
["  Связь и информатика","04",10,{"$f":"'Функц. 2019'!F482","v":8651.2999999999993}]
["  Другие вопросы в области национальной экономики","04",12,{"$f":"'Функц. 2019'!F506","v":1150.5999999999999}]
["Жилищно-коммунальное хозяйство","05",null,{"$f":"D36+D38+D39+D37","v":274337.09999999998}]
["  Жилищное хозяйство","05","01",{"$f":"'Функц. 2019'!F532","v":27111.4}]
["Коммунальное  хозяйство","05","02",{"$f":"'Функц. 2019'!F551","v":35700}]
["  Благоустройство","05","03",{"$f":"'Функц. 2019'!F569","v":187764.40000000002},-120]
["  Другие вопросы в области жилищно-коммунального хозяйства","05","05",{"$f":"'Функц. 2019'!F640","v":23761.3}]
[" \"Охрана окружающей среды\"","06",null,{"$f":"D42+D41","v":1221569}]
["Сбор, удаление отходов и очистка сточных вод","06","02",{"$f":"'Функц. 2019'!F703","v":1220903.8}]
["  Другие вопросы в области охраны окружающей среды ","06","05",{"$f":"'Функц. 2019'!F710","v":665.2}]
["Образование","07",null,{"$f":"D44+D45+D47+D48+D46","v":1072975.4000000001}]
["  Дошкольное образование","07","01",{"$f":"'Функц. 2019'!F718","v":444858.1},-211]
["  Общее образование","07","02",{"$f":"'Функц. 2019'!F767","v":484787.89999999997},-14532.1]
["  Дополнительное образование детей","07","03",{"$f":"'Функц. 2019'!F852","v":101597.59999999999}]
["  Молодежная политика ","07","07",{"$f":"'Функц. 2019'!F901","v":1747.9}]
["  Другие вопросы в области образования","07","09",{"$f":"'Функц. 2019'!F921","v":39983.9}]
[1,2,3,4]
["Культура,  кинематография","08",null,{"$f":"D51","v":106633.9}]
["  Культура ","08","01",{"$f":"'Функц. 2019'!F979","v":106633.9},50]
["Здравоохранение","09",null,{"$f":"D53","v":15130}]
["  Другие вопросы в области здравоохранения","09","09",{"$f":"'Функц. 2019'!F1032","v":15130},500]
["Социальная политика","10",null,{"$f":"D55+D56+D58+D57","v":96069.4}]
["  Пенсионное обеспечение",10,"01",{"$f":"'Функц. 2019'!F1048","v":6264.1},54]
["  Социальное обеспечение населения",10,"03",{"$f":"'Функц. 2019'!F1055","v":28850.6}]
["  Охрана семьи и детства",10,"04",{"$f":"'Функц. 2019'!F1097","v":57418.7}]
["  Другие  вопросы  в  области  социальной  политики  ",10,"06",{"$f":"'Функц. 2019'!F1117","v":3536},"156+450"]
["Физическая  культура  и  спорт",11,null,{"$f":"D61+D60","v":99446.7}]
["  Физическая культура",11,"01",{"$f":"'Функц. 2019'!F1129","v":29771.200000000001}]
["  Массовый  спорт",11,"02",{"$f":"'Функц. 2019'!F1140","v":69675.5}]
["Обслуживание  государственного  и  муниципального  долга",13,null,{"$f":"D63","v":25520.6}]
["  Обслуживание    государственного  внутреннего  и  муниципального  долга",13,"01",{"$f":"'Функц. 2019'!F1181","v":25520.6}]
["ВСЕГО",null,null,{"$f":"D62+D59+D54+D52+D50+D43+D35+D29+D26+D23+D15+D40","v":3299060.8000000003}]

{"sheet":"ведом. 2019","index":6,"n_rows":1417,"n_cols":35,"rows_kept":1417,"cut":false,"hidden":false,"merged":[[0,24,0,26],[2,24,2,26],[3,24,3,26],[11,6,11,14],[9,0,9,19],[10,0,10,19],[10,23,10,28],[9,23,9,29],[0,27,0,29],[2,27,2,29],[3,27,3,29],[5,27,5,30],[6,27,6,30],[7,27,7,30]]}
[null,null,null,null,null,null,null,null,null,null,null,null,null,null,null,null,null,null,null,null,null,null,null,null,null,null,null,"Приложение 6"]
[null,null,null,null,null,null,null,null,null,null,null,null,null,null,null,null,null,null,null,null,null,null,null,null,null,null,null,"к изменениям и дополнениям"]
[null,null,null,null,null,null,null,null,null,null,null,null,null,null,null,null,null,null,null,null,null,null,null,null,null,null,null,"к  бюджету  города  Лыткарино  на  2019 год"]
[null,null,null,null,null,null,null,null,null,null,null,null,null,null,null,null,null,null,null,null,null,null,null,null,null,null,null,"и  на плановый  период  2020 и  2021  годов"]
[null,null,null,null,null,null,null,null,null,null,null,null,null,null,null,null,null,null,null,null,null,null,null,null,null,null,null,"Приложение 7"]
[null,null,null,null,null,null,null,null,null,null,null,null,null,null,null,null,null,null,null,null,null,null,null,null,null,null,null,"(Приложение 7"]
[null,null,null,null,null,null,null,null,null,null,null,null,null,null,null,null,null,null,null,null,null,null,null,null,null,null,null,"к  бюджету  города  Лыткарино  на  2019 год"]
[null,null,null,null,null,null,null,null,null,null,null,null,null,null,null,null,null,null,null,null,null,null,null,null,null,null,null,"и  на плановый  период  2020  и  2021  годов)"]
[]
[null,null,null,null,null,null,null,null,null,null,null,null,null,null,null,null,null,null,null,null,null,null,null,"Ведомственная  структура расходов  бюджета  города  Лыткарино   \n на  2019  год "]
[null,null,null,null,null,null,null,null,null,null,null,null,null,null,null,null,null,null,null,null,null,null,null,null,null,null,null,null,null,"(тыс.руб.)"]
[]
[null,null,null,null,null,null,null,null,null,null,null,null,null,null,null,null,null,null,null,null,null,null,null,"Наименования","Код главного распоря-\nдителя","Рз","ПР","ЦСР","ВР","Сумма  \nна 2019 год\n"]
[null,null,null,null,null,null,null,null,null,null,null,null,null,null,null,null,null,null,null,null,null,null,null,1,2,3,4,5,6,7]
[null,null,null,null,null,null,null,null,null,null,null,null,null,null,null,null,null,null,null,null,null,null,null,"Администрация  городского округа  Лыткарино","001",null,null,null,null,{"$f":"AD16+AD144+AD159+AD284+AD360+AD477+AD533+AD608+AD654+AD695+AD469+AD592","v":670581.79999999993}]
[null,null,null,null,null,null,null,null,null,null,null,null,null,null,null,null,null,null,null,null,null,null,null,"Общегосударственные вопросы","001","01",null,null,null,{"$f":"AD17+AD22+AD70+AD82","v":173249.8}]
[null,null,null,null,null,null,null,null,null,null,null,null,null,null,null,null,null,null,null,null,null,null,null,"Функционирование высшего должностного лица субъекта Российской Федерации и муниципального образования","001","01","02",null,null,{"$f":"AD18","v":2649.9999999999995}]
[null,null,null,null,null,null,null,null,null,null,null,null,null,null,null,null,null,null,null,null,null,null,null,"Руководство и управление в сфере установленных функций органов местного  самоуправления, избирательных комиссий муниципальных образований ","001","01","02","95 0 00 00000",null,{"$f":"AD19","v":2649.9999999999995}]
[null,null,null,null,null,null,null,null,null,null,null,null,null,null,null,null,null,null,null,null,null,null,null,"Глава муниципального образования","001","01","02",{"$f":"AB20","v":"95 0 00 01000"},null,2649.9999999999995]
[null,null,null,null,null,null,null,null,null,null,null,null,null,null,null,null,null,null,null,null,null,null,null,"Расходы на выплаты персоналу в целях обеспечения выполнения функций государственными (муниципальными) органами, казенными учреждениями, органами управления государственными внебюджетными фондами ","001","01","02",{"$f":"AB21","v":"95 0 00 01000"},100,2649.9999999999995]
[null,null,null,null,null,null,null,null,null,null,null,null,null,null,null,null,null,null,null,null,null,null,null,"Расходы на выплаты персоналу государственных (муниципальных) органов","001","01","02","95 0 00 01000",120,{"$f":"2306.1+230.7+113.2","v":2649.9999999999995}]
[null,null,null,null,null,null,null,null,null,null,null,null,null,null,null,null,null,null,null,null,null,null,null,"Функционирование Правительства Российской Федерации, высших исполнительных органов государственной власти субъектов Российской Федерации, местных администраций","001","01","04",null,null,{"$f":"AD23+AD62","v":64180.5}]
[null,null,null,null,null,null,null,null,null,null,null,null,null,null,null,null,null,null,null,null,null,null,null,"Муниципальная  программа «Муниципальное управление города Лыткарино на 2017-2021 годы»","001","01","04","01 0 00 00000",null,{"$f":"AD24+AD45+AD53","v":62105.5}]
[null,null,null,null,null,null,null,null,null,null,null,null,null,null,null,null,null,null,null,null,null,null,null,"Обеспечивающая подпрограмма","001","01","04","01 1 00 00000",null,{"$f":"AD25","v":54018.8}]
[null,null,null,null,null,null,null,null,null,null,null,null,null,null,null,null,null,null,null,null,null,null,null,"Основное  мероприятие  \" Обеспечение  деятельности  Администрации  городcкого округа  Лыткарино  и  ее функциональных  органов\" ","001","01","04","01 1 01 00000",null,{"$f":"AD26+AD40","v":54018.8}]
[null,null,null,null,null,null,null,null,null,null,null,null,null,null,null,null,null,null,null,null,null,null,null,"Центральный аппарат","001","01","04","01 1 01 04000",null,{"$f":"AD27+AD34+AD37","v":52406.8}]
[null,null,null,null,null,null,null,null,null,null,null,null,null,null,null,null,null,null,null,null,null,null,null,"Расходы  на   обеспечение  деятельности  центрального  аппарата","001","01","04",{"$f":"AB30","v":"01 1 01 04010"},null,{"$f":"AD30+AD32+AD28","v":7467.5}]
[null,null,null,null,null,null,null,null,null,null,null,null,null,null,null,null,null,null,null,null,null,null,null,"Расходы на выплаты персоналу в целях обеспечения выполнения функций государственными (муниципальными) органами, казенными учреждениями, органами управления государственными внебюджетными фондами ","001","01","04",{"$f":"AB29","v":"01 1 01 04010"},100,{"$f":"AD29","v":13.5}]
[null,null,null,null,null,null,null,null,null,null,null,null,null,null,null,null,null,null,null,null,null,null,null,"Расходы на выплаты персоналу государственных (муниципальных) органов","001","01","04",{"$f":"AB30","v":"01 1 01 04010"},120,13.5]
[null,null,null,null,null,null,null,null,null,null,null,null,null,null,null,null,null,null,null,null,null,null,null,"Закупка товаров, работ и услуг для обеспечения государственных (муниципальных) нужд","001","01","04",{"$f":"AB31","v":"01 1 01 04010"},200,{"$f":"AD31","v":7278.8}]
[null,null,null,null,null,null,null,null,null,null,null,null,null,null,null,null,null,null,null,null,null,null,null,"Иные закупки товаров, работ и услуг для обеспечения государственных (муниципальных) нужд","001","01","04",{"$f":"AB32","v":"01 1 01 04010"},240,{"$f":"6460.8+65+1028-275","v":7278.8}]
[null,null,null,null,null,null,null,null,null,null,null,null,null,null,null,null,null,null,null,null,null,null,null,"Иные бюджетные ассигнования","001","01","04",{"$f":"AB33","v":"01 1 01 04010"},800,{"$f":"AD33","v":175.2}]
[null,null,null,null,null,null,null,null,null,null,null,null,null,null,null,null,null,null,null,null,null,null,null,"Уплата налогов, сборов и иных платежей","001","01","04","01 1 01 04010",850,{"$f":"125.2+50","v":175.2}]
[null,null,null,null,null,null,null,null,null,null,null,null,null,null,null,null,null,null,null,null,null,null,null,"Расходы  на  содержание  лиц,  замещающих должности, не являющиеся должностями муниципальной  службы","001","01","04",{"$f":"AB35","v":"01 1 01 04020"},null,{"$f":"AD36","v":13510.900000000001}]
[null,null,null,null,null,null,null,null,null,null,null,null,null,null,null,null,null,null,null,null,null,null,null,"Расходы на выплаты персоналу в целях обеспечения выполнения функций государственными (муниципальными) органами, казенными учреждениями, органами управления государственными внебюджетными фондами ","001","01","04",{"$f":"AB36","v":"01 1 01 04020"},100,{"$f":"AD36","v":13510.900000000001}]
[null,null,null,null,null,null,null,null,null,null,null,null,null,null,null,null,null,null,null,null,null,null,null,"Расходы на выплаты персоналу государственных (муниципальных) органов","001","01","04","01 1 01 04020",120,{"$f":"11396.6+1139.7+974.6","v":13510.900000000001}]
[null,null,null,null,null,null,null,null,null,null,null,null,null,null,null,null,null,null,null,null,null,null,null,"Расходы  на  содержание  лиц,  замещающих должности  муниципальной  службы","001","01","04",{"$f":"AB38","v":"01 1 01 04030"},null,{"$f":"AD38","v":31428.400000000001}]
[null,null,null,null,null,null,null,null,null,null,null,null,null,null,null,null,null,null,null,null,null,null,null,"Расходы на выплаты персоналу в целях обеспечения выполнения функций государственными (муниципальными) органами, казенными учреждениями, органами управления государственными внебюджетными фондами ","001","01","04",{"$f":"AB39","v":"01 1 01 04030"},100,31428.400000000001]
[null,null,null,null,null,null,null,null,null,null,null,null,null,null,null,null,null,null,null,null,null,null,null,"Расходы на выплаты персоналу государственных (муниципальных) органов","001","01","04","01 1 01 04030",120,{"$f":"27112.2+2711.2+1605","v":31428.400000000001}]
[null,null,null,null,null,null,null,null,null,null,null,null,null,null,null,null,null,null,null,null,null,null,null,"Обеспечение переданных муниципальным районам и городским округам Московской области государственных полномочий по временному хранению, комплектованию, учету и использованию архивных документов, относящихся к собственности Московской области и временно хранящихся в муниципальных архивах","001","01","04","01 1 01  60690",null,{"$f":"AD41+AD43","v":1612}]
[null,null,null,null,null,null,null,null,null,null,null,null,null,null,null,null,null,null,null,null,null,null,null,"Расходы на выплаты персоналу в целях обеспечения выполнения функций государственными (муниципальными) органами, казенными учреждениями, органами управления государственными внебюджетными фондами ","001","01","04","01 1 01  60690",100,{"$f":"AD42","v":1575.5}]
[null,null,null,null,null,null,null,null,null,null,null,null,null,null,null,null,null,null,null,null,null,null,null,"Расходы на выплаты персоналу государственных (муниципальных) органов","001","01","04","01 1 01  60690",120,{"$f":"1436.5+139","v":1575.5}]
[null,null,null,null,null,null,null,null,null,null,null,null,null,null,null,null,null,null,null,null,null,null,null,"Закупка товаров, работ и услуг для обеспечения государственных (муниципальных) нужд","001","01","04","01 1 01  60690",200,{"$f":"AD44","v":36.5}]
[null,null,null,null,null,null,null,null,null,null,null,null,null,null,null,null,null,null,null,null,null,null,null,"Иные закупки товаров, работ и услуг для обеспечения государственных (муниципальных) нужд","001","01","04","01 1 01  60690",240,36.5]
[null,null,null,null,null,null,null,null,null,null,null,null,null,null,null,null,null,null,null,null,null,null,null,"Подпрограмма «Развитие системы информирования населения о деятельности органов местного самоуправления города Лыткарино Московской области» ","001","01","04","01 4 00 00000",null,{"$f":"AD46","v":7531.6}]
[null,null,null,null,null,null,null,null,null,null,null,null,null,null,null,null,null,null,null,null,null,null,null,"Основное мероприятие \"Информирование населения г.Лыткарино об основных событиях социально-экономического развития, общественно-политической жизни, о деятельности органов местного самоуправления  муниципального  образования Московской области\" ","001","01","04","01 4 01 00000",null,{"$f":"AD47+AD50","v":7531.6}]
[null,null,null,null,null,null,null,null,null,null,null,null,null,null,null,null,null,null,null,null,null,null,null,"Мероприятия  в  области  развития  системы  информирования  населения","001","01","04",{"$f":"AB48","v":"01 4 01 00010"},null,{"$f":"AD48","v":7485}]
[null,null,null,null,null,null,null,null,null,null,null,null,null,null,null,null,null,null,null,null,null,null,null,"Закупка товаров, работ и услуг для обеспечения государственных (муниципальных) нужд","001","01","04",{"$f":"AB49","v":"01 4 01 00010"},200,7485]
[null,null,null,null,null,null,null,null,null,null,null,null,null,null,null,null,null,null,null,null,null,null,null,"Иные закупки товаров, работ и услуг для обеспечения государственных (муниципальных) нужд","001","01","04","01 4 01 00010",240,{"$f":"5856.8+250+660+619.8+100-1.6","v":7485}]
[null,null,null,null,null,null,null,null,null,null,null,null,null,null,null,null,null,null,null,null,null,null,null,"Осуществление взаимодействия органов местного самоуправления с печатными  средствами массовой  информации  в  области  подписки,доставки  и  распространения тиражей печатных изданий","001","01","04",{"$f":"AB51","v":"01 4 01 00020"},null,{"$f":"AD51","v":46.6}]
[null,null,null,null,null,null,null,null,null,null,null,null,null,null,null,null,null,null,null,null,null,null,null,"Закупка товаров, работ и услуг для обеспечения государственных (муниципальных) нужд","001","01","04",{"$f":"AB52","v":"01 4 01 00020"},200,46.6]
[null,null,null,null,null,null,null,null,null,null,null,null,null,null,null,null,null,null,null,null,null,null,null,"Иные закупки товаров, работ и услуг для обеспечения государственных (муниципальных) нужд","001","01","04","01 4 01 00020",240,{"$f":"46+0.6","v":46.6}]
[null,null,null,null,null,null,null,null,null,null,null,null,null,null,null,null,null,null,null,null,null,null,null,"Подпрограмма  \"Развитие  архивного  дела  в  городе  Лыткарино\"","001","01","04","01 5 00 00000",null,{"$f":"AD54+AD58","v":555.1}]
[null,null,null,null,null,null,null,null,null,null,null,null,null,null,null,null,null,null,null,null,null,null,null,"Основное  мероприятие \"Организация  упорядочения  документов  постоянного  хранения  и  по  личному  составу\"","001","01","04","01 5 01 00000",null,{"$f":"AD55","v":482.1}]
[null,null,null,null,null,null,null,null,null,null,null,null,null,null,null,null,null,null,null,null,null,null,null,"Расходы  для  упорядочения  документов  постоянного  хранения ","001","01","04",{"$f":"AB56","v":"01 5 01 00010"},null,482.1]
[null,null,null,null,null,null,null,null,null,null,null,null,null,null,null,null,null,null,null,null,null,null,null,"Закупка товаров, работ и услуг для обеспечения государственных (муниципальных) нужд","001","01","04",{"$f":"AB57","v":"01 5 01 00010"},200,482.1]
[null,null,null,null,null,null,null,null,null,null,null,null,null,null,null,null,null,null,null,null,null,null,null,"Иные закупки товаров, работ и услуг для обеспечения государственных (муниципальных) нужд","001","01","04","01 5 01 00010",240,{"$f":"470+430-165+18+28-307.9+9","v":482.1},9]
[null,null,null,null,null,null,null,null,null,null,null,null,null,null,null,null,null,null,null,null,null,null,null,"Основное  мероприятие  \"Создание  оптимальных  условий  для  хранения архивных документов\"","001","01","04","01 5 02 00000",null,{"$f":"AD59","v":73}]
[null,null,null,null,null,null,null,null,null,null,null,null,null,null,null,null,null,null,null,null,null,null,null,"Расходы  на  ремонт  архивохранилища и приобретения материальных запасов","001","01","04",{"$f":"AB60","v":"01 5 02 00020"},null,{"$f":"AD60","v":73}]
[null,null,null,null,null,null,null,null,null,null,null,null,null,null,null,null,null,null,null,null,null,null,null,"Закупка товаров, работ и услуг для обеспечения государственных (муниципальных) нужд","001","01","04",{"$f":"AB61","v":"01 5 02 00020"},200,{"$f":"AD61","v":73}]
[null,null,null,null,null,null,null,null,null,null,null,null,null,null,null,null,null,null,null,null,null,null,null,"Иные закупки товаров, работ и услуг для обеспечения государственных (муниципальных) нужд","001","01","04","01 5 02 00020",240,{"$f":"10+72-9","v":73},-9]
[null,null,null,null,null,null,null,null,null,null,null,null,null,null,null,null,null,null,null,null,null,null,null,"Муниципальная  программа  \"Образование  города  Лыткарино\"  на  2017-2021  годы","001","01","04","03 0 00 00000",null,{"$f":"AD63","v":2075}]
[null,null,null,null,null,null,null,null,null,null,null,null,null,null,null,null,null,null,null,null,null,null,null,"Подпрограмма  \"Общее образование\"","001","01","04","03 2 00 00000",null,2075]
[null,null,null,null,null,null,null,null,null,null,null,null,null,null,null,null,null,null,null,null,null,null,null,"Основное  мероприятие \"Обеспечение  переданных  государственных  полномочий  в  сфере  образования  и  организации  деятельности  комиссий  по  делам  несовершеннолетних  и  защите  их  прав\"","001","01","04","03 2 03 00000",null,2075]
[null,null,null,null,null,null,null,null,null,null,null,null,null,null,null,null,null,null,null,null,null,null,null,"Обеспечение   переданного государственного полномочия  по  созданию  комиссий  по  делам  несовершеннолетних  и  защите  их  прав  городов и районов","001","01","04","03 2 03 60680",null,{"$f":"AD66+AD68","v":2075}]
[null,null,null,null,null,null,null,null,null,null,null,null,null,null,null,null,null,null,null,null,null,null,null,"Расходы на выплаты персоналу в целях обеспечения выполнения функций государственными (муниципальными) органами, казенными учреждениями, органами управления государственными внебюджетными фондами ","001","01","04","03 2 03 60680",100,{"$f":"AD67","v":1901.9}]
[null,null,null,null,null,null,null,null,null,null,null,null,null,null,null,null,null,null,null,null,null,null,null,"Расходы на выплаты персоналу государственных (муниципальных) органов","001","01","04","03 2 03 60680",120,{"$f":"1748.9+153","v":1901.9}]
[null,null,null,null,null,null,null,null,null,null,null,null,null,null,null,null,null,null,null,null,null,null,null,"Закупка товаров, работ и услуг для обеспечения государственных (муниципальных) нужд","001","01","04","03 2 03 60680",200,{"$f":"AD69","v":173.1}]
[null,null,null,null,null,null,null,null,null,null,null,null,null,null,null,null,null,null,null,null,null,null,null,"Иные закупки товаров, работ и услуг для обеспечения государственных (муниципальных) нужд","001","01","04","03 2 03 60680",240,173.1]
[null,null,null,null,null,null,null,null,null,null,null,null,null,null,null,null,null,null,null,null,null,null,null,"Резервные фонды","001","01",11,null,null,{"$f":"AD71+AD78","v":3251.4000000000015}]
[null,null,null,null,null,null,null,null,null,null,null,null,null,null,null,null,null,null,null,null,null,null,null,"Муниципальная  программа  \"Безопасность  города  Лыткарино\"  на  2017-2021 годы","001","01",11,"08 0 00 00000",null,{"$f":"AD72","v":2100}]
[null,null,null,null,null,null,null,null,null,null,null,null,null,null,null,null,null,null,null,null,null,null,null,"Подпрограмма  \"Снижение  рисков  и  смягчение  последствий чрезвычайных  ситуаций  природного  и  техногенного  характера\"","001","01",11,"08 3 00 00000",null,2100]
[null,null,null,null,null,null,null,null,null,null,null,null,null,null,null,null,null,null,null,null,null,null,null,"Основное  мероприятие \"Создание резервного  фонда  Администрации   городского  округа  Лыткарино для  ликвидации  чрезвычайных  ситуаций, в том числе террористических актов\"","001","01",11,"08 3 07 00000",null,{"$f":"AD75","v":2100}]
[null,null,null,null,null,null,null,null,null,null,null,null,null,null,null,null,null,null,null,null,null,null,null,"Мероприятия  в  области  национальной безопасности  и  правоохранительной  деятельности","001","01",11,"08 3 07 12000",null,{"$f":"AD75","v":2100}]
[null,null,null,null,null,null,null,null,null,null,null,null,null,null,null,null,null,null,null,null,null,null,null,"Создание резервного  фонда  Администрации   городского  округа   Лыткарино  для  ликвидации  чрезвычайных  ситуаций, в том числе террористических актов","001","01",11,{"$f":"AB76","v":"08 3 07 12060"},null,2100]
[null,null,null,null,null,null,null,null,null,null,null,null,null,null,null,null,null,null,null,null,null,null,null,"Иные бюджетные ассигнования","001","01",11,{"$f":"AB77","v":"08 3 07 12060"},"800",2100]
[null,null,null,null,null,null,null,null,null,null,null,null,null,null,null,null,null,null,null,null,null,null,null,"Резервные  средства","001","01",11,"08 3 07 12060","870",{"$f":"2400-300","v":2100}]
[null,null,null,null,null,null,null,null,null,null,null,null,null,null,null,null,null,null,null,null,null,null,null,"Непрограммные расходы бюджета города  Лыткарино","001","01",11,"99 0 00 00000",null,{"$f":"AD79","v":1151.4000000000015}]
[null,null,null,null,null,null,null,null,null,null,null,null,null,null,null,null,null,null,null,null,null,null,null,"Резервные фонды  местных  администраций  на  непредвиденные  расходы  ","001","01",11,"99 0 00 00010",null,{"$f":"AD80","v":1151.4000000000015}]
[null,null,null,null,null,null,null,null,null,null,null,null,null,null,null,null,null,null,null,null,null,null,null,"Иные бюджетные ассигнования","001","01",11,"99 0 00 00010",800,{"$f":"AD81","v":1151.4000000000015}]
[null,null,null,null,null,null,null,null,null,null,null,null,null,null,null,null,null,null,null,null,null,null,null,"Резервные  средства","001","01",11,"99 0 00 00010",870,{"$f":"11386.1+799.7-65-1678+368-9659.4","v":1151.4000000000015}]
[null,null,null,null,null,null,null,null,null,null,null,null,null,null,null,null,null,null,null,null,null,null,null,"Другие общегосударственные вопросы","001","01",13,null,null,{"$f":"AD83+AD134","v":103167.9}]
[null,null,null,null,null,null,null,null,null,null,null,null,null,null,null,null,null,null,null,null,null,null,null,"Муниципальная  программа «Муниципальное управление города Лыткарино на 2017-2021 годы»","001","01",13,"01 0 00 00000",null,{"$f":"AD84+AD117+AD129","v":91088.5}]
[null,null,null,null,null,null,null,null,null,null,null,null,null,null,null,null,null,null,null,null,null,null,null,"Обеспечивающая подпрограмма","001","01",13,"01 1 00 00000",null,{"$f":"AD98+AD89+AD85+AD113","v":55884.800000000003}]
[null,null,null,null,null,null,null,null,null,null,null,null,null,null,null,null,null,null,null,null,null,null,null,"Основное  мероприятие  \" Обеспечение  деятельности  Администрации  городcкого округа  Лыткарино  и  ее функциональных  органов\" ","001","01",13,"01 1 01 00000",null,{"$f":"AD86","v":235}]
[null,null,null,null,null,null,null,null,null,null,null,null,null,null,null,null,null,null,null,null,null,null,null,"Расходы  для  осуществления государственных полномочий в соответствии с Законом Московской области №107/2014-ОЗ «О наделении органов местного самоуправления муниципальных образований Московской области отдельными  государственными полномочиями Московской области»","001","01",13,"01 1 01 60700",null,{"$f":"AD87","v":235}]
[null,null,null,null,null,null,null,null,null,null,null,null,null,null,null,null,null,null,null,null,null,null,null,"Закупка товаров, работ и услуг для обеспечения государственных (муниципальных) нужд","001","01",13,"01 1 01 60700",200,{"$f":"AD88","v":235}]
[null,null,null,null,null,null,null,null,null,null,null,null,null,null,null,null,null,null,null,null,null,null,null,"Иные закупки товаров, работ и услуг для обеспечения государственных (муниципальных) нужд","001","01",13,"01 1 01 60700",240,{"$f":"218+17","v":235}]
[null,null,null,null,null,null,null,null,null,null,null,null,null,null,null,null,null,null,null,null,null,null,null,"Основное  мероприятие \" Прочие  общегосударственные  мероприятия\" ","001","01",13,"01 1 02 00000",null,{"$f":"AD90","v":889.5}]
[null,null,null,null,null,null,null,null,null,null,null,null,null,null,null,null,null,null,null,null,null,null,null,"Прочие  общегосударственные  мероприятия ","001","01",13,"01 1 02 27000",null,{"$f":"AD95+AD91","v":889.5}]
[null,null,null,null,null,null,null,null,null,null,null,null,null,null,null,null,null,null,null,null,null,null,null,"Исполнение  судебных  актов  по  обращениям  и  взыскания  на  средства  бюджета","001","01",13,{"$f":"AB92","v":"01 1 02 27010"},null,{"$f":"AD92","v":756.5}]
[null,null,null,null,null,null,null,null,null,null,null,null,null,null,null,null,null,null,null,null,null,null,null,"Иные бюджетные ассигнования","001","01",13,{"$f":"AB93","v":"01 1 02 27010"},800,{"$f":"AD93+AD94","v":756.5}]
[null,null,null,null,null,null,null,null,null,null,null,null,null,null,null,null,null,null,null,null,null,null,null,"Исполнение судебных актов","001","01",13,"01 1 02 27010",830,{"$f":"200+43.5","v":243.5}]
[null,null,null,null,null,null,null,null,null,null,null,null,null,null,null,null,null,null,null,null,null,null,null,"Уплата налогов, сборов и иных платежей","001","01",13,"01 1 02 27010",850,{"$f":"240+6+250+2+15","v":513}]
[null,null,null,null,null,null,null,null,null,null,null,null,null,null,null,null,null,null,null,null,null,null,null,"Расходы  на  уплату  членских  взносов  в  Совет  муниципальных  образований  Московской  области","001","01",13,{"$f":"AB96","v":"01 1 02 27020"},null,{"$f":"AD97","v":133}]
[null,null,null,null,null,null,null,null,null,null,null,null,null,null,null,null,null,null,null,null,null,null,null,"Иные бюджетные ассигнования","001","01",13,{"$f":"AB97","v":"01 1 02 27020"},800,{"$f":"AD97","v":133}]
[null,null,null,null,null,null,null,null,null,null,null,null,null,null,null,null,null,null,null,null,null,null,null,"Уплата налогов, сборов и иных платежей","001","01",13,"01 1 02 27020",850,133]
[null,null,null,null,null,null,null,null,null,null,null,null,null,null,null,null,null,null,null,null,null,null,null,"Основное мероприятие  \"Обеспечение  деятельности  муниципальных  казенных  учреждений\"","001","01",13,"01 1 04 00000",null,{"$f":"AD99+AD106","v":54716.3}]
[null,null,null,null,null,null,null,null,null,null,null,null,null,null,null,null,null,null,null,null,null,null,null,"Расходы на   обеспечение    деятельности  муниципального  казенного  учреждения \"Комитет по торгам города Лыткарино\" ","001","01",13,{"$f":"AB100","v":"01 1 04 13590"},null,{"$f":"AD100+AD102+AD104","v":10867.1}]
[null,null,null,null,null,null,null,null,null,null,null,null,null,null,null,null,null,null,null,null,null,null,null,"Расходы на выплаты персоналу в целях обеспечения выполнения функций государственными (муниципальными) органами, казенными учреждениями, органами управления государственными внебюджетными фондами ","001","01",13,{"$f":"AB101","v":"01 1 04 13590"},"100",{"$f":"AD101","v":9837.7999999999993}]
[null,null,null,null,null,null,null,null,null,null,null,null,null,null,null,null,null,null,null,null,null,null,null,"Расходы на выплаты персоналу казенных учреждений","001","01",13,{"$f":"AB102","v":"01 1 04 13590"},"110",{"$f":"8423.3-103.6+832.1+686","v":9837.7999999999993}]
[null,null,null,null,null,null,null,null,null,null,null,null,null,null,null,null,null,null,null,null,null,null,null,"Закупка товаров, работ и услуг для обеспечения государственных (муниципальных) нужд","001","01",13,{"$f":"AB103","v":"01 1 04 13590"},"200",{"$f":"AD103","v":944.7}]
[null,null,null,null,null,null,null,null,null,null,null,null,null,null,null,null,null,null,null,null,null,null,null,"Иные закупки товаров, работ и услуг для обеспечения государственных (муниципальных) нужд","001","01",13,"01 1 04 13590","240",944.7]
[null,null,null,null,null,null,null,null,null,null,null,null,null,null,null,null,null,null,null,null,null,null,null,"Иные бюджетные ассигнования","001","01",13,{"$f":"AB105","v":"01 1 04 13590"},800,{"$f":"AD105","v":84.6}]
[null,null,null,null,null,null,null,null,null,null,null,null,null,null,null,null,null,null,null,null,null,null,null,"Уплата налогов, сборов и иных платежей","001","01",13,"01 1 04 13590",850,{"$f":"5.8+78.8","v":84.6}]
[null,null,null,null,null,null,null,null,null,null,null,null,null,null,null,null,null,null,null,null,null,null,null,"Расходы на   обеспечение    деятельности  муниципального  казенного  учреждения \"Управление обеспечения деятельности Администрации города Лыткарино\"","001","01",13,{"$f":"AB107","v":"01 1 04 14590"},null,{"$f":"AD107+AD109+AD111","v":43849.200000000004}]
[null,null,null,null,null,null,null,null,null,null,null,null,null,null,null,null,null,null,null,null,null,null,null,"Расходы на выплаты персоналу в целях обеспечения выполнения функций государственными (муниципальными) органами, казенными учреждениями, органами управления государственными внебюджетными фондами ","001","01",13,{"$f":"AB108","v":"01 1 04 14590"},"100",{"$f":"AD108","v":42935.3}]
[null,null,null,null,null,null,null,null,null,null,null,null,null,null,null,null,null,null,null,null,null,null,null,"Расходы на выплаты персоналу казенных учреждений","001","01",13,{"$f":"AB109","v":"01 1 04 14590"},"110",{"$f":"37341.3-611-1078.2+3565.2+19.1-19.1+3718","v":42935.3}]
[null,null,null,null,null,null,null,null,null,null,null,null,null,null,null,null,null,null,null,null,null,null,null,"Закупка товаров, работ и услуг для обеспечения государственных (муниципальных) нужд","001","01",13,{"$f":"AB110","v":"01 1 04 14590"},"200",{"$f":"AD110","v":705.10000000000014}]
[null,null,null,null,null,null,null,null,null,null,null,null,null,null,null,null,null,null,null,null,null,null,null,"Иные закупки товаров, работ и услуг для обеспечения государственных (муниципальных) нужд","001","01",13,"01 1 04 14590","240",{"$f":"554.7-2.5+167.7-14.8","v":705.10000000000014}]
[null,null,null,null,null,null,null,null,null,null,null,null,null,null,null,null,null,null,null,null,null,null,null,"Иные бюджетные ассигнования","001","01",13,{"$f":"AB112","v":"01 1 04 14590"},800,{"$f":"AD112","v":208.8}]
[null,null,null,null,null,null,null,null,null,null,null,null,null,null,null,null,null,null,null,null,null,null,null,"Уплата налогов, сборов и иных платежей","001","01",13,"01 1 04 14590",850,{"$f":"162.4-19.1+19.1+29.8+16.6","v":208.8}]
[null,null,null,null,null,null,null,null,null,null,null,null,null,null,null,null,null,null,null,null,null,null,null,"Основное мероприятие \"Составление  (изменение) списков кандидатов в присяжные заседатели федеральных судов общей юрисдикции  Российской Федерации\"","001","01",13,"01 1 05 00000",null,{"$f":"AD114","v":44}]
[null,null,null,null,null,null,null,null,null,null,null,null,null,null,null,null,null,null,null,null,null,null,null,"Составление  (изменение) списков кандидатов в присяжные заседатели федеральных судов общей юрисдикции  Российской Федерации","001","01",13,"01 1 05 51200",null,{"$f":"AD115","v":44}]
[null,null,null,null,null,null,null,null,null,null,null,null,null,null,null,null,null,null,null,null,null,null,null,"Закупка товаров, работ и услуг для обеспечения государственных (муниципальных) нужд","001","01",13,"01 1 05 51200","200",{"$f":"AD116","v":44}]
[null,null,null,null,null,null,null,null,null,null,null,null,null,null,null,null,null,null,null,null,null,null,null,"Иные закупки товаров, работ и услуг для обеспечения государственных (муниципальных) нужд","001","01",13,"01 1 05 51200","240",44]
[null,null,null,null,null,null,null,null,null,null,null,null,null,null,null,null,null,null,null,null,null,null,null,"Подпрограмма  «Снижение административных барьеров, повышение качества предоставления государственных  и муниципальных услуг, в том числе на базе Многофункционального  центра предоставления государственных и муниципальных услуг в городе Лыткарино\"","001","01",13,"01 3 00 00000",null,{"$f":"AD118+AD122","v":35190.5}]
[null,null,null,null,null,null,null,null,null,null,null,null,null,null,null,null,null,null,null,null,null,null,null,"Основное  мероприятие  \"Организация  деятельности многофункционального  центра\"","001","01",13,"01 3 02 00000",null,{"$f":"AD119","v":34386.6}]
[null,null,null,null,null,null,null,null,null,null,null,null,null,null,null,null,null,null,null,null,null,null,null,"Расходы  на  обеспечение  деятельности (оказание  услуг (выполнение  работ))  многофункционального  центра","001","01",13,{"$f":"AB120","v":"01 3 02 18590"},null,34386.6]
[null,null,null,null,null,null,null,null,null,null,null,null,null,null,null,null,null,null,null,null,null,null,null,"Предоставление субсидий бюджетным, автономным учреждениям и иным некоммерческим организациям","001","01",13,{"$f":"AB121","v":"01 3 02 18590"},600,34386.6]
[null,null,null,null,null,null,null,null,null,null,null,null,null,null,null,null,null,null,null,null,null,null,null,"Субсидии бюджетным учреждениям","001","01",13,"01 3 02 18590",610,{"$f":"35039.5-2000+1347.1","v":34386.6}]
[null,null,null,null,null,null,null,null,null,null,null,null,null,null,null,null,null,null,null,null,null,null,null,"Основное  мероприятие  \"Совершенствование  системы предоставления государственных  и муниципальных услуг по принципу одного окна в многофункциональных  центрах предоставления  государственных и муниципальных услуг\"","001","01",13,"01 3 03 00000",null,{"$f":"AD123+AD126","v":803.9}]
[null,null,null,null,null,null,null,null,null,null,null,null,null,null,null,null,null,null,null,null,null,null,null,"Создание  системы обеспечения информационной безопасности","001","01",13,{"$f":"AB124","v":"01 3 03 00020"},null,{"$f":"AD124","v":783.69999999999993}]
[null,null,null,null,null,null,null,null,null,null,null,null,null,null,null,null,null,null,null,null,null,null,null,"Предоставление субсидий бюджетным, автономным учреждениям и иным некоммерческим организациям","001","01",13,{"$f":"AB125","v":"01 3 03 00020"},600,{"$f":"AD125","v":783.69999999999993}]
[null,null,null,null,null,null,null,null,null,null,null,null,null,null,null,null,null,null,null,null,null,null,null,"Субсидии бюджетным учреждениям","001","01",13,"01 3 03 00020",610,{"$f":"1017.8-234.1","v":783.69999999999993}]
[null,null,null,null,null,null,null,null,null,null,null,null,null,null,null,null,null,null,null,null,null,null,null,"Открытие  двух  удаленных  рабочих  мест в МФЦ  по адресу:  город Лыткарино, ул.Ухтомского, д.29 ","001","01",13,{"$f":"AB127","v":"01 3 03 00040"},null,{"$f":"AD127","v":20.2}]
[null,null,null,null,null,null,null,null,null,null,null,null,null,null,null,null,null,null,null,null,null,null,null,"Предоставление субсидий бюджетным, автономным учреждениям и иным некоммерческим организациям","001","01",13,{"$f":"AB128","v":"01 3 03 00040"},600,{"$f":"AD128","v":20.2}]
[null,null,null,null,null,null,null,null,null,null,null,null,null,null,null,null,null,null,null,null,null,null,null,"Субсидии бюджетным учреждениям","001","01",13,"01 3 03 00040",610,20.2]
[null,null,null,null,null,null,null,null,null,null,null,null,null,null,null,null,null,null,null,null,null,null,null,"Подпрограмма «Развитие системы информирования населения о деятельности  органов местного самоуправления города Лыткарино Московской области» ","001","01",13,"01 4 00 00000",null,{"$f":"AD130","v":13.200000000000001}]
[null,null,null,null,null,null,null,null,null,null,null,null,null,null,null,null,null,null,null,null,null,null,null,"Основное мероприятие \"Информирование населения г.Лыткарино об основных событиях социально-экономического развития, общественно-политической жизни, о деятельности органов местного самоуправления города  Лыткарино\" ","001","01",13,"01 4 01 00000",null,13.200000000000001]
[null,null,null,null,null,null,null,null,null,null,null,null,null,null,null,null,null,null,null,null,null,null,null,"Осуществление взаимодействия органов местного самоуправления с печатными  средствами массовой  информации  в  области  подписки,доставки  и  распространения тиражей печатных изданий","001","01",13,{"$f":"AB132","v":"01 4 01 00020"},null,13.200000000000001]
[null,null,null,null,null,null,null,null,null,null,null,null,null,null,null,null,null,null,null,null,null,null,null,"Закупка товаров, работ и услуг для обеспечения государственных (муниципальных) нужд","001","01",13,{"$f":"AB133","v":"01 4 01 00020"},200,13.200000000000001]
[null,null,null,null,null,null,null,null,null,null,null,null,null,null,null,null,null,null,null,null,null,null,null,"Иные закупки товаров, работ и услуг для обеспечения государственных (муниципальных) нужд","001","01",13,"01 4 01 00020",240,{"$f":"9-0.1+4.5-0.2","v":13.200000000000001}]
[null,null,null,null,null,null,null,null,null,null,null,null,null,null,null,null,null,null,null,null,null,null,null,"Муниципальная  программа «Культура города Лыткарино» на 2017-2021 годы","001","01",13,"02 0 00 00000",null,{"$f":"AD135","v":12079.400000000001}]
[null,null,null,null,null,null,null,null,null,null,null,null,null,null,null,null,null,null,null,null,null,null,null,"Обеспечивающая  подпрограмма ","001","01",13,"02 7 00 00000",null,{"$f":"AD136","v":12079.400000000001}]
[null,null,null,null,null,null,null,null,null,null,null,null,null,null,null,null,null,null,null,null,null,null,null,"Основное мероприятие  \"Обеспечение  деятельности  муниципальных  казенных  учреждений\"","001","01",13,"02 7 01 00000",null,12079.400000000001]
[null,null,null,null,null,null,null,null,null,null,null,null,null,null,null,null,null,null,null,null,null,null,null,"Обеспечение  деятельности  муниципального  казенного  учреждения \"Комитет  по  делам  культуры, молодежи,спорта  и  туризма  г.Лыткарино\"","001","01",13,"02 7 01 15590",null,{"$f":"AD138+AD140+AD142","v":12079.400000000001}]
[null,null,null,null,null,null,null,null,null,null,null,null,null,null,null,null,null,null,null,null,null,null,null,"Расходы на выплаты персоналу в целях обеспечения выполнения функций государственными (муниципальными) органами, казенными учреждениями, органами управления государственными внебюджетными фондами ","001","01",13,"02 7 01 15590",100,{"$f":"AD139","v":11230.900000000001}]
[null,null,null,null,null,null,null,null,null,null,null,null,null,null,null,null,null,null,null,null,null,null,null,"Расходы на выплаты персоналу казенных учреждений","001","01",13,"02 7 01 15590",110,{"$f":"10542.5-972.3+957+703.7","v":11230.900000000001}]
[null,null,null,null,null,null,null,null,null,null,null,null,null,null,null,null,null,null,null,null,null,null,null,"Закупка товаров, работ и услуг для обеспечения государственных (муниципальных) нужд","001","01",13,"02 7 01 15590",200,{"$f":"AD141","v":813.5}]
[null,null,null,null,null,null,null,null,null,null,null,null,null,null,null,null,null,null,null,null,null,null,null,"Иные закупки товаров, работ и услуг для обеспечения государственных (муниципальных) нужд","001","01",13,"02 7 01 15590",240,{"$f":"563.5+250","v":813.5}]
[null,null,null,null,null,null,null,null,null,null,null,null,null,null,null,null,null,null,null,null,null,null,null,"Иные бюджетные ассигнования","001","01",13,"02 7 01 15590","800",{"$f":"AD143","v":35}]
[null,null,null,null,null,null,null,null,null,null,null,null,null,null,null,null,null,null,null,null,null,null,null,"Уплата налогов, сборов и иных платежей","001","01",13,"02 7 01 15590","850",35]
[null,null,null,null,null,null,null,null,null,null,null,null,null,null,null,null,null,null,null,null,null,null,null,"Национальная оборона","001","02",null,null,null,{"$f":"AD145+AD152","v":3774}]
[null,null,null,null,null,null,null,null,null,null,null,null,null,null,null,null,null,null,null,null,null,null,null,"Мобилизационная  и  вневойсковая  подготовка","001","02","03",null,null,{"$f":"AD146","v":3476}]
[null,null,null,null,null,null,null,null,null,null,null,null,null,null,null,null,null,null,null,null,null,null,null,"Муниципальная  программа «Муниципальное управление города Лыткарино на 2017-2021 годы»","001","02","03","01 0 00 00000",null,{"$f":"AD147","v":3476}]
[null,null,null,null,null,null,null,null,null,null,null,null,null,null,null,null,null,null,null,null,null,null,null,"Обеспечивающая подпрограмма","001","02","03","01 1 00 00000",null,3476]
[null,null,null,null,null,null,null,null,null,null,null,null,null,null,null,null,null,null,null,null,null,null,null,"Основное  мероприятие  \" Обеспечение  деятельности  Администрации  городcкого округа  Лыткарино  и  ее функциональных  органов\" ","001","02","03","01 1 01 00000",null,3476]
[null,null,null,null,null,null,null,null,null,null,null,null,null,null,null,null,null,null,null,null,null,null,null,"Расходы на осуществление полномочий по первичному воинскому учету на территориях, где отсутствуют военные комиссариаты","001","02","03","01 1 01 51180",null,3476]
[null,null,null,null,null,null,null,null,null,null,null,null,null,null,null,null,null,null,null,null,null,null,null,"Расходы на выплаты персоналу в целях обеспечения выполнения функций государственными (муниципальными) органами, казенными учреждениями, органами управления государственными внебюджетными фондами ","001","02","03",{"$f":"AB151","v":"01 1 01 51180"},100,3476]
[null,null,null,null,null,null,null,null,null,null,null,null,null,null,null,null,null,null,null,null,null,null,null,"Расходы на выплаты персоналу государственных (муниципальных) органов","001","02","03","01 1 01 51180",120,3476]
[null,null,null,null,null,null,null,null,null,null,null,null,null,null,null,null,null,null,null,null,null,null,null,"Мобилизационная  подготовка  экономики","001","02","04",null,null,{"$f":"AD153","v":298}]
[null,null,null,null,null,null,null,null,null,null,null,null,null,null,null,null,null,null,null,null,null,null,null,"Муниципальная  программа «Муниципальное управление города Лыткарино на 2017-2021 годы»","001","02","04","01 0 00 00000",null,298]
[null,null,null,null,null,null,null,null,null,null,null,null,null,null,null,null,null,null,null,null,null,null,null,"Обеспечивающая подпрограмма","001","02","04","01 1 00 00000",null,{"$f":"AD155","v":298}]
[null,null,null,null,null,null,null,null,null,null,null,null,null,null,null,null,null,null,null,null,null,null,null,"Основное  мероприятие  \"Обеспечение  мобилизационной готовности экономики\"","001","02","04","01 1 03 00000",null,298]
[null,null,null,null,null,null,null,null,null,null,null,null,null,null,null,null,null,null,null,null,null,null,null,"Мероприятия по обеспечению  мобилизационной готовности экономики","001","02","04",{"$f":"AB157","v":"01 1 03 00080"},null,298]
[null,null,null,null,null,null,null,null,null,null,null,null,null,null,null,null,null,null,null,null,null,null,null,"Закупка товаров, работ и услуг для обеспечения государственных (муниципальных) нужд","001","02","04",{"$f":"AB158","v":"01 1 03 00080"},200,298]
[null,null,null,null,null,null,null,null,null,null,null,null,null,null,null,null,null,null,null,null,null,null,null,"Иные закупки товаров, работ и услуг для обеспечения государственных (муниципальных) нужд","001","02","04","01 1 03 00080",240,{"$f":"200+98","v":298}]
[null,null,null,null,null,null,null,null,null,null,null,null,null,null,null,null,null,null,null,null,null,null,null,"Национальная безопасность и правоохранительная деятельность","001","03",null,null,null,{"$f":"AD160+AD217","v":34615.100000000006}]
[null,null,null,null,null,null,null,null,null,null,null,null,null,null,null,null,null,null,null,null,null,null,null,"Защита  населения  и  территории  от  чрезвычайных    ситуаций    природного  и  техногенного    характера, гражданская  оборона","001","03","09",null,null,{"$f":"AD167+AD161","v":24684.000000000004}]
[null,null,null,null,null,null,null,null,null,null,null,null,null,null,null,null,null,null,null,null,null,null,null,"Муниципальная  программа «Муниципальное управление города Лыткарино на 2017-2021 годы»","001","03","09","01 0 00 00000",null,{"$f":"AD162","v":4.5}]
[null,null,null,null,null,null,null,null,null,null,null,null,null,null,null,null,null,null,null,null,null,null,null,"Подпрограмма «Развитие системы информирования населения о деятельности  органов местного самоуправления города Лыткарино Московской области» ","001","03","09","01 4 00 00000",null,4.5]
[null,null,null,null,null,null,null,null,null,null,null,null,null,null,null,null,null,null,null,null,null,null,null,"Основное мероприятие \"Информирование населения г.Лыткарино об основных событиях социально-экономического развития, общественно-политической жизни, о деятельности органов местного самоуправления города  Лыткарино\" ","001","03","09","01 4 01 00000",null,4.5]
[null,null,null,null,null,null,null,null,null,null,null,null,null,null,null,null,null,null,null,null,null,null,null,"Осуществление взаимодействия органов местного самоуправления с печатными  средствами массовой  информации  в  области  подписки,доставки  и  распространения тиражей печатных изданий","001","03","09",{"$f":"AB165","v":"01 4 01 00020"},null,4.5]
[null,null,null,null,null,null,null,null,null,null,null,null,null,null,null,null,null,null,null,null,null,null,null,"Закупка товаров, работ и услуг для обеспечения государственных (муниципальных) нужд","001","03","09",{"$f":"AB166","v":"01 4 01 00020"},200,4.5]
[null,null,null,null,null,null,null,null,null,null,null,null,null,null,null,null,null,null,null,null,null,null,null,"Иные закупки товаров, работ и услуг для обеспечения государственных (муниципальных) нужд","001","03","09","01 4 01 00020",240,4.5]
[null,null,null,null,null,null,null,null,null,null,null,null,null,null,null,null,null,null,null,null,null,null,null,"Муниципальная  программа  \"Безопасность  города  Лыткарино\"  на  2017-2021 годы","001","03","09","08 0 00 00000",null,{"$f":"AD168+AD181+AD190+AD208","v":24679.500000000004}]
[null,null,null,null,null,null,null,null,null,null,null,null,null,null,null,null,null,null,null,null,null,null,null,"Подпрограмма  \"Снижение  рисков  и  смягчение  последствий чрезвычайных  ситуаций  природного  и  техногенного  характера\"","001","03","09","08 3 00 00000",null,{"$f":"AD169+AD174","v":970}]
[null,null,null,null,null,null,null,null,null,null,null,null,null,null,null,null,null,null,null,null,null,null,null,"Основное  мероприятие \"Создание  финансового  резервного  фонда  для  ликвидации  чрезвычайных  ситуаций\"","001","03","09","08 3 07 00000",null,{"$f":"AD170","v":200}]
[null,null,null,null,null,null,null,null,null,null,null,null,null,null,null,null,null,null,null,null,null,null,null,"Мероприятия  в  области  национальной безопасности  и  правоохранительной  деятельности","001","03","09","08 3 07 12000",null,200]
[null,null,null,null,null,null,null,null,null,null,null,null,null,null,null,null,null,null,null,null,null,null,null,"Создание  резерва материальных  ресурсов для  ликвидации  чрезвычайных  ситуаций, в том числе  террористических  актов","001","03","09",{"$f":"AB172","v":"08 3 07 12110"},null,{"$f":"AD172","v":200}]
[null,null,null,null,null,null,null,null,null,null,null,null,null,null,null,null,null,null,null,null,null,null,null,"Закупка товаров, работ и услуг для обеспечения государственных (муниципальных) нужд","001","03","09",{"$f":"AB173","v":"08 3 07 12110"},"200",{"$f":"AD173","v":200}]
[null,null,null,null,null,null,null,null,null,null,null,null,null,null,null,null,null,null,null,null,null,null,null,"Иные закупки товаров, работ и услуг для обеспечения государственных (муниципальных) нужд","001","03","09","08 3 07 12110","240",200]
[null,null,null,null,null,null,null,null,null,null,null,null,null,null,null,null,null,null,null,null,null,null,null,"Основное  мероприятие\" Обеспечение  безопасности  на  водных  объектах\"","001","03","09","08 3 08 00000",null,{"$f":"AD175","v":770}]
[null,null,null,null,null,null,null,null,null,null,null,null,null,null,null,null,null,null,null,null,null,null,null,"Мероприятия  в  области  национальной безопасности  и  правоохранительной  деятельности","001","03","09","08 3 08 12000",null,{"$f":"AD176","v":770}]
[null,null,null,null,null,null,null,null,null,null,null,null,null,null,null,null,null,null,null,null,null,null,null,"Мероприятия  по  спасению  людей  на  водных  объектах","001","03","09",{"$f":"AB177","v":"08 3 08 12050"},null,{"$f":"AD177+AD179","v":770}]
[null,null,null,null,null,null,null,null,null,null,null,null,null,null,null,null,null,null,null,null,null,null,null,"Закупка товаров, работ и услуг для обеспечения государственных (муниципальных) нужд","001","03","09",{"$f":"AB178","v":"08 3 08 12050"},"200",{"$f":"AD178","v":70}]
[null,null,null,null,null,null,null,null,null,null,null,null,null,null,null,null,null,null,null,null,null,null,null,"Иные закупки товаров, работ и услуг для обеспечения государственных (муниципальных) нужд","001","03","09","08 3 08 12050","240",{"$f":"70","v":70}]
[null,null,null,null,null,null,null,null,null,null,null,null,null,null,null,null,null,null,null,null,null,null,null,"Предоставление субсидий бюджетным, автономным учреждениям и иным некоммерческим организациям","001","03","09",{"$f":"AB180","v":"08 3 08 12050"},"600",{"$f":"AD180","v":700}]
[null,null,null,null,null,null,null,null,null,null,null,null,null,null,null,null,null,null,null,null,null,null,null,"Субсидии бюджетным учреждениям","001","03","09","08 3 08 12050","610",700]
[null,null,null,null,null,null,null,null,null,null,null,null,null,null,null,null,null,null,null,null,null,null,null,"Подпрограмма  \"Развитие  и  совершенствование  системы  оповещения  и  информирования  населения\"","001","03","09","08 4 00 00000",null,{"$f":"AD182","v":758}]
[null,null,null,null,null,null,null,null,null,null,null,null,null,null,null,null,null,null,null,null,null,null,null,"Основное  мероприятие  \"Развитие,совершенствование  и  обслуживание  всех  элементов  системы  оповещения  и  информирования  населения  города  Лыткарино\"","001","03","09","08 4 01 00000",null,{"$f":"AD186+AD183","v":758}]
[null,null,null,null,null,null,null,null,null,null,null,null,null,null,null,null,null,null,null,null,null,null,null,"Содержание,  техническое  обслуживание  и  поддержание в  состоянии  постоянной  готовности систем  оповещения муниципального  казенного  учреждения \"Единая  дежурно-диспетчерская служба г.Лыткарино\"","001","03","09","08 4 01 00590",null,{"$f":"AD184","v":133}]
[null,null,null,null,null,null,null,null,null,null,null,null,null,null,null,null,null,null,null,null,null,null,null,"Закупка товаров, работ и услуг для обеспечения государственных (муниципальных) нужд","001","03","09","08 4 01 00590",200,133]
[null,null,null,null,null,null,null,null,null,null,null,null,null,null,null,null,null,null,null,null,null,null,null,"Иные закупки товаров, работ и услуг для обеспечения государственных (муниципальных) нужд","001","03","09","08 4 01 00590",240,{"$f":"7+126+50-50","v":133}]
[null,null,null,null,null,null,null,null,null,null,null,null,null,null,null,null,null,null,null,null,null,null,null,"Мероприятия  в  области  национальной безопасности  и  правоохранительной  деятельности","001","03","09","08 4 01 12000",null,{"$f":"AD187","v":625}]
[null,null,null,null,null,null,null,null,null,null,null,null,null,null,null,null,null,null,null,null,null,null,null,"Мероприятия  по  созданию,техническому  обслуживанию  систем  оповещения  и  информирования  населения","001","03","09",{"$f":"AB188","v":"08 4 01 12070"},null,625]
[null,null,null,null,null,null,null,null,null,null,null,null,null,null,null,null,null,null,null,null,null,null,null,"Закупка товаров, работ и услуг для обеспечения государственных (муниципальных) нужд","001","03","09",{"$f":"AB189","v":"08 4 01 12070"},200,625]
[null,null,null,null,null,null,null,null,null,null,null,null,null,null,null,null,null,null,null,null,null,null,null,"Иные закупки товаров, работ и услуг для обеспечения государственных (муниципальных) нужд","001","03","09","08 4 01 12070",240,{"$f":"410+215","v":625}]
[null,null,null,null,null,null,null,null,null,null,null,null,null,null,null,null,null,null,null,null,null,null,null,"Подпрограмма  \"Обеспечение  мероприятий  гражданской  обороны\"","001","03","09","08 6 00 00000",null,{"$f":"AD191+AD203+AD199","v":775}]
[null,null,null,null,null,null,null,null,null,null,null,null,null,null,null,null,null,null,null,null,null,null,null,"Основное  мероприятие \"Обеспечение  мероприятий  гражданской  обороны\"","001","03","09","08 6 01 00000",null,{"$f":"AD195+AD192","v":355}]
[null,null,null,null,null,null,null,null,null,null,null,null,null,null,null,null,null,null,null,null,null,null,null,"Обучение  специалистов  по  гражданской  обороне, операторов  и  диспетчеров  системы  обеспечения  вызова  экстренных  служб муниципального  казенного  учреждения \"Единая  дежурно-диспетчерская служба г.Лыткарино\"","001","03","09",{"$f":"AB193","v":"08 6 01 00590"},null,{"$f":"AD193","v":40}]
[null,null,null,null,null,null,null,null,null,null,null,null,null,null,null,null,null,null,null,null,null,null,null,"Закупка товаров, работ и услуг для обеспечения государственных (муниципальных) нужд","001","03","09",{"$f":"AB194","v":"08 6 01 00590"},"200",40]
[null,null,null,null,null,null,null,null,null,null,null,null,null,null,null,null,null,null,null,null,null,null,null,"Иные закупки товаров, работ и услуг для обеспечения государственных (муниципальных) нужд","001","03","09","08 6 01 00590","240",40]
[null,null,null,null,null,null,null,null,null,null,null,null,null,null,null,null,null,null,null,null,null,null,null,"Мероприятия  в  области  национальной безопасности  и  правоохранительной  деятельности","001","03","09","08 6 01 12000",null,{"$f":"AD196","v":315}]
[null,null,null,null,null,null,null,null,null,null,null,null,null,null,null,null,null,null,null,null,null,null,null,"Мероприятия  по  гражданской  обороне  и  защите  населения  на  территории  города  Лыткарино","001","03","09",{"$f":"AB197","v":"08 6 01 12090"},null,315]
[null,null,null,null,null,null,null,null,null,null,null,null,null,null,null,null,null,null,null,null,null,null,null,"Закупка товаров, работ и услуг для обеспечения государственных (муниципальных) нужд","001","03","09",{"$f":"AB198","v":"08 6 01 12090"},"200",315]
[null,null,null,null,null,null,null,null,null,null,null,null,null,null,null,null,null,null,null,null,null,null,null,"Иные закупки товаров, работ и услуг для обеспечения государственных (муниципальных) нужд","001","03","09","08 6 01 12090","240",315]
[null,null,null,null,null,null,null,null,null,null,null,null,null,null,null,null,null,null,null,null,null,null,null,"Основное  мероприятие \"\"Создание запасов материально-технических,продовольственных, медицинских и иных средств для целей гражданской обороны\"","001","03","09","08 6 02 00000",null,{"$f":"AD200","v":20}]
[null,null,null,null,null,null,null,null,null,null,null,null,null,null,null,null,null,null,null,null,null,null,null,"Мероприятия  по  гражданской  обороне  и  защите  населения  на  территории  города  Лыткарино","001","03","09",{"$f":"AB201","v":"08 6 02 12090"},null,{"$f":"AD201","v":20}]
[null,null,null,null,null,null,null,null,null,null,null,null,null,null,null,null,null,null,null,null,null,null,null,"Закупка товаров, работ и услуг для обеспечения государственных (муниципальных) нужд","001","03","09",{"$f":"AB202","v":"08 6 02 12090"},"200",{"$f":"AD202","v":20}]
[null,null,null,null,null,null,null,null,null,null,null,null,null,null,null,null,null,null,null,null,null,null,null,"Иные закупки товаров, работ и услуг для обеспечения государственных (муниципальных) нужд","001","03","09","08 6 02 12090","240",20]
[null,null,null,null,null,null,null,null,null,null,null,null,null,null,null,null,null,null,null,null,null,null,null,"Основное  мероприятие \"Повышение  готовности  защитных  сооружений  гражданской  обороны  к  приему  укрываемого  населения\"","001","03","09","08 6 03 00000",null,{"$f":"AD204","v":400}]
[null,null,null,null,null,null,null,null,null,null,null,null,null,null,null,null,null,null,null,null,null,null,null,"Мероприятия  в  области  национальной безопасности  и  правоохранительной  деятельности","001","03","09","08 6 03 12000",null,{"$f":"AD205","v":400}]
[null,null,null,null,null,null,null,null,null,null,null,null,null,null,null,null,null,null,null,null,null,null,null,"Мероприятия  по  гражданской  обороне  и  защите  населения  на  территории  города  Лыткарино","001","03","09",{"$f":"AB206","v":"08 6 03 12090"},null,{"$f":"AD206","v":400}]
[null,null,null,null,null,null,null,null,null,null,null,null,null,null,null,null,null,null,null,null,null,null,null,"Закупка товаров, работ и услуг для обеспечения государственных (муниципальных) нужд","001","03","09",{"$f":"AB207","v":"08 6 03 12090"},"200",{"$f":"AD207","v":400}]
[null,null,null,null,null,null,null,null,null,null,null,null,null,null,null,null,null,null,null,null,null,null,null,"Иные закупки товаров, работ и услуг для обеспечения государственных (муниципальных) нужд","001","03","09","08 6 03 12090","240",400]
[null,null,null,null,null,null,null,null,null,null,null,null,null,null,null,null,null,null,null,null,null,null,null,"Обеспечивающая подпрограмма","001","03","09","08 7 00 00000",null,{"$f":"AD209","v":22176.500000000004}]
[null,null,null,null,null,null,null,null,null,null,null,null,null,null,null,null,null,null,null,null,null,null,null,"Основное  мероприятие \"Обеспечение  деятельности  муниципального  казенного  учреждения \"Единая  дежурно-диспетчерская служба г.Лыткарино\", являющегося  органом  повседневного  управления Лыткаринского  городского  звена  Московской  областной  системы  предупреждения  и  ликвидации  чрезвычайных  ситуаций\"","001","03","09","08 7 01 00000",null,22176.500000000004]
[null,null,null,null,null,null,null,null,null,null,null,null,null,null,null,null,null,null,null,null,null,null,null,"Расходы  на  обеспечение  деятельности  муниципального  казенного  учреждения \"Единая  дежурно-диспетчерская служба г.Лыткарино\"","001","03","09","08 7 01 00590",null,{"$f":"AD211+AD213+AD215","v":22176.500000000004}]
[null,null,null,null,null,null,null,null,null,null,null,null,null,null,null,null,null,null,null,null,null,null,null,"Расходы на выплаты персоналу в целях обеспечения выполнения функций государственными (муниципальными) органами, казенными учреждениями, органами управления государственными внебюджетными фондами","001","03","09",{"$f":"AB212","v":"08 7 01 00590"},100,{"$f":"AD212","v":17032.300000000003}]
[null,null,null,null,null,null,null,null,null,null,null,null,null,null,null,null,null,null,null,null,null,null,null,"Расходы на выплаты персоналу казенных учреждений","001","03","09",{"$f":"AB213","v":"08 7 01 00590"},110,{"$f":"13576+1357.6+708.2+1390.5","v":17032.300000000003}]
[null,null,null,null,null,null,null,null,null,null,null,null,null,null,null,null,null,null,null,null,null,null,null,"Закупка товаров, работ и услуг для обеспечения государственных (муниципальных) нужд","001","03","09",{"$f":"AB214","v":"08 7 01 00590"},200,{"$f":"AD214","v":5006.7}]
[null,null,null,null,null,null,null,null,null,null,null,null,null,null,null,null,null,null,null,null,null,null,null,"Иные закупки товаров, работ и услуг для обеспечения государственных (муниципальных) нужд","001","03","09","08 7 01 00590",240,{"$f":"1504.7-50+50+1500+1200+802","v":5006.7}]
[null,null,null,null,null,null,null,null,null,null,null,null,null,null,null,null,null,null,null,null,null,null,null,"Иные бюджетные ассигнования","001","03","09",{"$f":"AB216","v":"08 7 01 00590"},800,{"$f":"AD216","v":137.5}]
[null,null,null,null,null,null,null,null,null,null,null,null,null,null,null,null,null,null,null,null,null,null,null,"Уплата налогов, сборов и иных платежей","001","03","09","08 7 01 00590",850,{"$f":"50+50+37.5","v":137.5}]
[null,null,null,null,null,null,null,null,null,null,null,null,null,null,null,null,null,null,null,null,null,null,null,"Другие  вопросы  в  области  национальной  безопасности  и  правоохранительной  деятельности","001","03",14,null,null,{"$f":"AD218","v":9931.0999999999985}]
[null,null,null,null,null,null,null,null,null,null,null,null,null,null,null,null,null,null,null,null,null,null,null,"Муниципальная  программа  \"Безопасность  города  Лыткарино\"  на  2017-2021 годы","001","03",14,"08 0 00 00000",null,{"$f":"AD219+AD231+AD237+AD266","v":9931.0999999999985}]
[null,null,null,null,null,null,null,null,null,null,null,null,null,null,null,null,null,null,null,null,null,null,null,"Подпрограмма \"Профилактика  преступлений  и  иных  правонарушений\"","001","03",14,"08 1 00 00000",null,{"$f":"AD220","v":707}]
[null,null,null,null,null,null,null,null,null,null,null,null,null,null,null,null,null,null,null,null,null,null,null,"Основное  мероприятие \"Профилактика  и  предупреждение  преступлений  и   иных  правонарушений  в  том  числе  экстремистской  (террористической)  направленности\"","001","03",14,"08 1 02 00000",null,{"$f":"AD221","v":707}]
[null,null,null,null,null,null,null,null,null,null,null,null,null,null,null,null,null,null,null,null,null,null,null,"Мероприятия  в  области  национальной безопасности  и  правоохранительной  деятельности","001","03",14,"08 1 02 12000",null,{"$f":"AD222+AD225+AD228","v":707}]
[null,null,null,null,null,null,null,null,null,null,null,null,null,null,null,null,null,null,null,null,null,null,null,"Приобретение  наглядной  агитации  и проведение  мероприятий  по  вопросам противодействия  экстремизму и  терроризму  ","001","03",14,{"$f":"AB223","v":"08 1 02 12010"},null,{"$f":"AD223","v":40}]
[null,null,null,null,null,null,null,null,null,null,null,null,null,null,null,null,null,null,null,null,null,null,null,"Закупка товаров, работ и услуг для обеспечения государственных (муниципальных) нужд","001","03",14,{"$f":"AB224","v":"08 1 02 12010"},200,40]
[null,null,null,null,null,null,null,null,null,null,null,null,null,null,null,null,null,null,null,null,null,null,null,"Иные закупки товаров, работ и услуг для обеспечения государственных (муниципальных) нужд","001","03",14,"08 1 02 12010",240,40]
[null,null,null,null,null,null,null,null,null,null,null,null,null,null,null,null,null,null,null,null,null,null,null,"Разработка,установка и пусконаладочные  работы  систем  контроля  и  управления  доступом ","001","03",14,{"$f":"AB226","v":"08 1 02 12020"},null,{"$f":"AD226","v":400}]
[null,null,null,null,null,null,null,null,null,null,null,null,null,null,null,null,null,null,null,null,null,null,null,"Предоставление субсидий бюджетным, автономным учреждениям и иным некоммерческим организациям","001","03",14,{"$f":"AB227","v":"08 1 02 12020"},600,{"$f":"AD227","v":400}]
[null,null,null,null,null,null,null,null,null,null,null,null,null,null,null,null,null,null,null,null,null,null,null,"Субсидии бюджетным учреждениям","001","03",14,"08 1 02 12020",610,400]
[null,null,null,null,null,null,null,null,null,null,null,null,null,null,null,null,null,null,null,null,null,null,null,"Обеспечение создания необходимых условий для организации деятельности народных дружин города Лыткарино","001","03",14,"08 1 02 12090",null,{"$f":"AD229","v":267}]
[null,null,null,null,null,null,null,null,null,null,null,null,null,null,null,null,null,null,null,null,null,null,null,"Закупка товаров, работ и услуг для обеспечения государственных (муниципальных) нужд","001","03",14,"08 1 02 12090",200,{"$f":"AD230","v":267}]
[null,null,null,null,null,null,null,null,null,null,null,null,null,null,null,null,null,null,null,null,null,null,null,"Иные закупки товаров, работ и услуг для обеспечения государственных (муниципальных) нужд","001","03",14,"08 1 02 12090",240,267]
[null,null,null,null,null,null,null,null,null,null,null,null,null,null,null,null,null,null,null,null,null,null,null,"Подпрограмма  \"Видеонаблюдение\"","001","03",14,"08 2 00 00000",null,{"$f":"AD232","v":6784.4}]
[null,null,null,null,null,null,null,null,null,null,null,null,null,null,null,null,null,null,null,null,null,null,null,"Основное  мероприятие \"Приобретение  необходимого  оборудования  и  материалов,  оплата  работ  и  услуг  для  развития  и  содержания  городской  автоматизированой  системы  видеонаблюдения, как  сегмента  АПК  \"Безопасный  город\", в том  числе  проектирование,создание  и  переоборудование  существующих, объектовых  систем  видеонаблюдения для  работы  в  единой  городской  автоматизированной  системе  видеонаблюдения\"","001","03",14,"08 2 01 00000",null,6784.4]
[null,null,null,null,null,null,null,null,null,null,null,null,null,null,null,null,null,null,null,null,null,null,null,"Мероприятия  в  области  национальной безопасности  и  правоохранительной  деятельности","001","03",14,"08 2 01 12000",null,{"$f":"AD234","v":6784.4}]
[null,null,null,null,null,null,null,null,null,null,null,null,null,null,null,null,null,null,null,null,null,null,null,"Мероприятия  по  развитию  и  содержанию  автоматизированной  системы  видеонаблюдения  \"Безопасный  город\"","001","03",14,{"$f":"AB235","v":"08 2 01 12030"},null,6784.4]
[null,null,null,null,null,null,null,null,null,null,null,null,null,null,null,null,null,null,null,null,null,null,null,"Закупка товаров, работ и услуг для обеспечения государственных (муниципальных) нужд","001","03",14,{"$f":"AB236","v":"08 2 01 12030"},200,6784.4]
[null,null,null,null,null,null,null,null,null,null,null,null,null,null,null,null,null,null,null,null,null,null,null,"Иные закупки товаров, работ и услуг для обеспечения государственных (муниципальных) нужд","001","03",14,"08 2 01 12030",240,{"$f":"11134-708.2-1500-1200-941.4","v":6784.4}]
[null,null,null,null,null,null,null,null,null,null,null,null,null,null,null,null,null,null,null,null,null,null,null,"Подпрограмма  \"Снижение  рисков  и  смягчение  последствий чрезвычайных  ситуаций  природного  и  техногенного  характера\"","001","03","14","08 3 00 00000",null,{"$f":"AD238+AD261+AD256","v":1109.8}]
[null,null,null,null,null,null,null,null,null,null,null,null,null,null,null,null,null,null,null,null,null,null,null,"Основное  мероприятие \"Снижение  рисков  и  смягчение последствий  чрезвычайных  ситуаций  природного  и  техногенного  характера\"","001","03","14","08 3 01 00000",null,{"$f":"AD239","v":529.79999999999995}]
[null,null,null,null,null,null,null,null,null,null,null,null,null,null,null,null,null,null,null,null,null,null,null,"Мероприятия  в  области  национальной безопасности  и  правоохранительной  деятельности","001","03","14","08 3 01 12000",null,{"$f":"AD240+AD243+AD247+AD253","v":529.79999999999995}]
[null,null,null,null,null,null,null,null,null,null,null,null,null,null,null,null,null,null,null,null,null,null,null,"Создание  защитных  противопожарных  полос на  границе  с  лесным  массивом  и  опашка  полей  на  территории  города  Лыткарино","001","03","14",{"$f":"AB241","v":"08 3 01 12040"},null,{"$f":"AD241","v":229.8}]
[null,null,null,null,null,null,null,null,null,null,null,null,null,null,null,null,null,null,null,null,null,null,null,"Закупка товаров, работ и услуг для обеспечения государственных (муниципальных) нужд","001","03","14",{"$f":"AB242","v":"08 3 01 12040"},200,229.8]
[null,null,null,null,null,null,null,null,null,null,null,null,null,null,null,null,null,null,null,null,null,null,null,"Иные закупки товаров, работ и услуг для обеспечения государственных (муниципальных) нужд","001","03","14","08 3 01 12040",240,{"$f":"130+99.8","v":229.8}]
[null,null,null,null,null,null,null,null,null,null,null,null,null,null,null,null,null,null,null,null,null,null,null,"Организация подготовки  и  обучение  населения   по ГО и ЧС  в  организациях и учреждениях","001","03","14",{"$f":"AB244","v":"08 3 01 12050"},null,0]
[null,null,null,null,null,null,null,null,null,null,null,null,null,null,null,null,null,null,null,null,null,null,null,"Закупка товаров, работ и услуг для обеспечения государственных (муниципальных) нужд","001","03","14",{"$f":"AB245","v":"08 3 01 12050"},200]
[null,null,null,null,null,null,null,null,null,null,null,null,null,null,null,null,null,null,null,null,null,null,null,"Иные закупки товаров, работ и услуг для обеспечения государственных (муниципальных) нужд","001","03","14","08 3 01 12050",240]
[null,null,null,null,null,null,null,null,null,null,null,null,null,null,null,null,null,null,null,null,null,null,null,"Основное  мероприятие \"Приобретение специальной техники  и  содержание  имущества  для увеличения  степени  готовности  для ликвидации  чрезвычайных  ситуаций  природного  и  техногенного  характера  на  территориии  города Лыткарино\"","001","03","14","08 3 02 12050",null,{"$f":"AD247","v":0}]
[null,null,null,null,null,null,null,null,null,null,null,null,null,null,null,null,null,null,null,null,null,null,null,"Приобретение пунктов  обогрева и горячего питания","001","03","14",{"$f":"AB248","v":"08 3 01 12050"},null,0]
[null,null,null,null,null,null,null,null,null,null,null,null,null,null,null,null,null,null,null,null,null,null,null,"Закупка товаров, работ и услуг для обеспечения государственных (муниципальных) нужд","001","03","14",{"$f":"AB249","v":"08 3 01 12050"},200,0]
[null,null,null,null,null,null,null,null,null,null,null,null,null,null,null,null,null,null,null,null,null,null,null,"Иные закупки товаров, работ и услуг для обеспечения государственных (муниципальных) нужд","001","03","14","08 3 01 12050",240]
[]
[]
[]
[null,null,null,null,null,null,null,null,null,null,null,null,null,null,null,null,null,null,null,null,null,null,null," Организация проведения предварительного отбора поставщиков товаров, работ и услуг в целях ликвидации последствий чрезвычайных ситуаций","001","03","14",{"$f":"AB254","v":"08 3 01 12130"},null,{"$f":"AD254","v":300}]
[null,null,null,null,null,null,null,null,null,null,null,null,null,null,null,null,null,null,null,null,null,null,null,"Закупка товаров, работ и услуг для обеспечения государственных (муниципальных) нужд","001","03","14",{"$f":"AB255","v":"08 3 01 12130"},200,300]
[null,null,null,null,null,null,null,null,null,null,null,null,null,null,null,null,null,null,null,null,null,null,null,"Иные закупки товаров, работ и услуг для обеспечения государственных (муниципальных) нужд","001","03","14","08 3 01 12130",240,300]
[null,null,null,null,null,null,null,null,null,null,null,null,null,null,null,null,null,null,null,null,null,null,null,"Основное  мероприятие \"Приобретение  специальной техники  и  содержание  имущества  для  увеличения  степени  готовности  для  ликвидации  чрезвычайных  ситуаций  природного  и  техногенного  характера  на  территории  города  Лыткарино\"","001","03","14","08 3 02 00000",null,{"$f":"AD259","v":400}]
[null,null,null,null,null,null,null,null,null,null,null,null,null,null,null,null,null,null,null,null,null,null,null,"Мероприятия  в  области  национальной безопасности  и  правоохранительной  деятельности","001","03","14","08 3 02 12000",null,{"$f":"AD258","v":400}]
[null,null,null,null,null,null,null,null,null,null,null,null,null,null,null,null,null,null,null,null,null,null,null,"Приобретение  пунктов  обогрева  и  горячего  питания","001","03","14",{"$f":"AB259","v":"08 3 02 12050"},null,{"$f":"AD259","v":400}]
[null,null,null,null,null,null,null,null,null,null,null,null,null,null,null,null,null,null,null,null,null,null,null,"Закупка товаров, работ и услуг для обеспечения государственных (муниципальных) нужд","001","03","14",{"$f":"AB260","v":"08 3 02 12050"},200,{"$f":"AD260","v":400}]
[null,null,null,null,null,null,null,null,null,null,null,null,null,null,null,null,null,null,null,null,null,null,null,"Иные закупки товаров, работ и услуг для обеспечения государственных (муниципальных) нужд","001","03","14","08 3 02 12050",240,400]
[null,null,null,null,null,null,null,null,null,null,null,null,null,null,null,null,null,null,null,null,null,null,null,"Основное  мероприятие \"Организация  подготовки  и  обучение  населения, руководящего  состава  и  специалистов  Лыткаринского  звена  ТП МОСЧС\"","001","03","14","08 3 03 00000",null,{"$f":"AD262","v":180}]
[null,null,null,null,null,null,null,null,null,null,null,null,null,null,null,null,null,null,null,null,null,null,null,"Мероприятия  в  области  национальной безопасности  и  правоохранительной  деятельности","001","03","14","08 3 03 12000",null,{"$f":"AD263","v":180}]
[null,null,null,null,null,null,null,null,null,null,null,null,null,null,null,null,null,null,null,null,null,null,null,"Подготовка  и  обучение  на  курсах  гражданской  обороны","001","03","14",{"$f":"AB264","v":"08 3 03 12120"},null,{"$f":"AD264","v":180}]
[null,null,null,null,null,null,null,null,null,null,null,null,null,null,null,null,null,null,null,null,null,null,null,"Закупка товаров, работ и услуг для обеспечения государственных (муниципальных) нужд","001","03","14",{"$f":"AB265","v":"08 3 03 12120"},200,{"$f":"AD265","v":180}]
[null,null,null,null,null,null,null,null,null,null,null,null,null,null,null,null,null,null,null,null,null,null,null,"Иные закупки товаров, работ и услуг для обеспечения государственных (муниципальных) нужд","001","03","14","08 3 03 12120",240,180]
[null,null,null,null,null,null,null,null,null,null,null,null,null,null,null,null,null,null,null,null,null,null,null,"Подпрограмма  \"Обеспечение  пожарной  безопасности\"","001","03","14","08 5 00 00000",null,{"$f":"AD267+AD272+AD279","v":1329.9}]
[null,null,null,null,null,null,null,null,null,null,null,null,null,null,null,null,null,null,null,null,null,null,null,"Основное  мероприятие \"Организация  профилактики  и  ликвидации пожаров  на  территории  города  Лыткарино\"","001","03","14","08 5 01 00000",null,{"$f":"AD268","v":57.4}]
[null,null,null,null,null,null,null,null,null,null,null,null,null,null,null,null,null,null,null,null,null,null,null,"Мероприятия  в  области  национальной безопасности  и  правоохранительной  деятельности","001","03","14","08 5 01 12000",null,{"$f":"AD269","v":57.4}]
[null,null,null,null,null,null,null,null,null,null,null,null,null,null,null,null,null,null,null,null,null,null,null,"Мероприятия  по обеспечению пожарной  безопасности","001","03","14",{"$f":"AB270","v":"08 5 01 12080"},null,57.4]
[null,null,null,null,null,null,null,null,null,null,null,null,null,null,null,null,null,null,null,null,null,null,null,"Закупка товаров, работ и услуг для обеспечения государственных (муниципальных) нужд","001","03","14",{"$f":"AB271","v":"08 5 01 12080"},"200",57.4]
[null,null,null,null,null,null,null,null,null,null,null,null,null,null,null,null,null,null,null,null,null,null,null,"Иные закупки товаров, работ и услуг для обеспечения государственных (муниципальных) нужд","001","03","14","08 5 01 12080","240",{"$f":"30+27.4","v":57.4}]
[null,null,null,null,null,null,null,null,null,null,null,null,null,null,null,null,null,null,null,null,null,null,null,"Основное  мероприятие \"Обеспечение мероприятий, направленных  на  снижение уровня травматизма и смертности на пожарах\"","001","03","14","08 5 02 00000",null,{"$f":"AD273","v":1119}]
[null,null,null,null,null,null,null,null,null,null,null,null,null,null,null,null,null,null,null,null,null,null,null,"Мероприятия  в  области  национальной безопасности  и  правоохранительной  деятельности","001","03","14","08 5 02 12000",null,{"$f":"AD274","v":1119}]
[null,null,null,null,null,null,null,null,null,null,null,null,null,null,null,null,null,null,null,null,null,null,null,"Мероприятия  по обеспечению пожарной  безопасности","001","03","14",{"$f":"AB277","v":"08 5 02 12080"},null,{"$f":"AD275+AD277","v":1119}]
[null,null,null,null,null,null,null,null,null,null,null,null,null,null,null,null,null,null,null,null,null,null,null,"Закупка товаров, работ и услуг для обеспечения государственных (муниципальных) нужд","001","03","14",{"$f":"AB278","v":"08 5 02 12080"},"200",{"$f":"AD276","v":275}]
[null,null,null,null,null,null,null,null,null,null,null,null,null,null,null,null,null,null,null,null,null,null,null,"Иные закупки товаров, работ и услуг для обеспечения государственных (муниципальных) нужд","001","03","14","08 5 02 12080","240",{"$f":"240+35","v":275}]
[null,null,null,null,null,null,null,null,null,null,null,null,null,null,null,null,null,null,null,null,null,null,null,"Предоставление субсидий бюджетным, автономным учреждениям и иным некоммерческим организациям","001","03","14",{"$f":"AB278","v":"08 5 02 12080"},"600",{"$f":"AD278","v":844}]
[null,null,null,null,null,null,null,null,null,null,null,null,null,null,null,null,null,null,null,null,null,null,null,"Субсидии бюджетным учреждениям","001","03","14","08 5 02 12080","610",{"$f":"1084-240","v":844}]
[null,null,null,null,null,null,null,null,null,null,null,null,null,null,null,null,null,null,null,null,null,null,null,"Основное  мероприятие \"Установка  и  содержание  пожарных  извещателей  в  жилых  помещениях, занимаемых  малообеспеченными  гражданами, малообеспеченными  или  многодетными  семьями  в  городе  Лыткарино\"","001","03","14","08 5 03 00000",null,{"$f":"AD280","v":153.5}]
[null,null,null,null,null,null,null,null,null,null,null,null,null,null,null,null,null,null,null,null,null,null,null,"Мероприятия  в  области  национальной безопасности  и  правоохранительной  деятельности","001","03","14","08 5 03 12000",null,{"$f":"AD281","v":153.5}]
[null,null,null,null,null,null,null,null,null,null,null,null,null,null,null,null,null,null,null,null,null,null,null,"Мероприятия  по обеспечению пожарной  безопасности","001","03","14",{"$f":"AB282","v":"08 5 03 12080"},null,{"$f":"AD282","v":153.5}]
[null,null,null,null,null,null,null,null,null,null,null,null,null,null,null,null,null,null,null,null,null,null,null,"Закупка товаров, работ и услуг для обеспечения государственных (муниципальных) нужд","001","03","14",{"$f":"AB283","v":"08 5 03 12080"},"200",{"$f":"AD283","v":153.5}]
[null,null,null,null,null,null,null,null,null,null,null,null,null,null,null,null,null,null,null,null,null,null,null,"Иные закупки товаров, работ и услуг для обеспечения государственных (муниципальных) нужд","001","03","14","08 5 03 12080","240",153.5]
[null,null,null,null,null,null,null,null,null,null,null,null,null,null,null,null,null,null,null,null,null,null,null,"Национальная экономика","001","04",null,null,null,{"$f":"AD285+AD335+AD315+AF3048+AD301","v":63676}]
[null,null,null,null,null,null,null,null,null,null,null,null,null,null,null,null,null,null,null,null,null,null,null,"Транспорт","001","04","08",null,null,{"$f":"AD286","v":21295.199999999997}]
[null,null,null,null,null,null,null,null,null,null,null,null,null,null,null,null,null,null,null,null,null,null,null,"Муниципальная  программа «Развитие и функционирование дорожно-транспортного комплекса города Лыткарино» на 2017-2021 годы","001","04","08","12 0 00 00000",null,{"$f":"AD287+AD296","v":21295.199999999997}]
[null,null,null,null,null,null,null,null,null,null,null,null,null,null,null,null,null,null,null,null,null,null,null,"Подпрограмма  \"Пассажирский транспорт общего пользования\"","001","04","08","12 1 00 00000",null,{"$f":"AD288","v":185.6}]
[null,null,null,null,null,null,null,null,null,null,null,null,null,null,null,null,null,null,null,null,null,null,null,"Основное  мероприятие\" Обеспечение  перевозок  пассажиров  транспортом общего  пользования\"","001","04","08","12 1 01 00000",null,185.6]
[null,null,null,null,null,null,null,null,null,null,null,null,null,null,null,null,null,null,null,null,null,null,null,"Обеспечение  перевозок  пассажиров   транспортом общего  пользования","001","04","08","12 1 01 00090",null,{"$f":"AD293+AD290","v":185.6}]
[null,null,null,null,null,null,null,null,null,null,null,null,null,null,null,null,null,null,null,null,null,null,null,"Обеспечение  перевозок  пассажиров  по  муниципальным  маршрутам №1 и №2 регулярных  перевозок  по  регулируемым  тарифам","001","04","08","12 1 01 00091",null,{"$f":"AD291","v":70.699999999999989}]
[null,null,null,null,null,null,null,null,null,null,null,null,null,null,null,null,null,null,null,null,null,null,null,"Закупка товаров, работ и услуг для обеспечения государственных (муниципальных) нужд","001","04","08","12 1 01 00091",200,{"$f":"AD292","v":70.699999999999989}]
[null,null,null,null,null,null,null,null,null,null,null,null,null,null,null,null,null,null,null,null,null,null,null,"Иные закупки товаров, работ и услуг для обеспечения государственных (муниципальных) нужд","001","04","08","12 1 01 00091",240,{"$f":"0.1+70.6","v":70.699999999999989}]
[null,null,null,null,null,null,null,null,null,null,null,null,null,null,null,null,null,null,null,null,null,null,null,"Транспортное  обеспечение  официальных  мероприятий","001","04","08","12 1 01 00092",null,{"$f":"AD294","v":114.9}]
[null,null,null,null,null,null,null,null,null,null,null,null,null,null,null,null,null,null,null,null,null,null,null,"Закупка товаров, работ и услуг для обеспечения государственных (муниципальных) нужд","001","04","08","12 1 01 00092",200,114.9]
[null,null,null,null,null,null,null,null,null,null,null,null,null,null,null,null,null,null,null,null,null,null,null,"Иные закупки товаров, работ и услуг для обеспечения государственных (муниципальных) нужд","001","04","08","12 1 01 00092",240,{"$f":"115-0.1","v":114.9}]
[null,null,null,null,null,null,null,null,null,null,null,null,null,null,null,null,null,null,null,null,null,null,null,"Подпрограмма  \"Транспортное  обслуживание\"","001","04","08","12 4 00 00000",null,{"$f":"AD297","v":21109.599999999999}]
[null,null,null,null,null,null,null,null,null,null,null,null,null,null,null,null,null,null,null,null,null,null,null,"Основное  мероприятие \"Автотранспортное  обслуживание \"","001","04","08","12 4 01 00000",null,21109.599999999999]
[null,null,null,null,null,null,null,null,null,null,null,null,null,null,null,null,null,null,null,null,null,null,null,"Предоставление субсидии  на  выполнение муниципального  задания    на  автотранспортное  обслуживание","001","04","08","12 4 01 17590",null,21109.599999999999]
[null,null,null,null,null,null,null,null,null,null,null,null,null,null,null,null,null,null,null,null,null,null,null,"Предоставление субсидий бюджетным, автономным учреждениям и иным некоммерческим организациям","001","04","08","12 4 01 17590",600,21109.599999999999]
[null,null,null,null,null,null,null,null,null,null,null,null,null,null,null,null,null,null,null,null,null,null,null,"Субсидии бюджетным учреждениям","001","04","08","12 4 01 17590",610,{"$f":"19500+372.5+611+426.1+200","v":21109.599999999999},200]
[null,null,null,null,null,null,null,null,null,null,null,null,null,null,null,null,null,null,null,null,null,null,null,"Дорожное  хозяйство  (дорожные  фонды)  ","001","04","09",null,null,{"$f":"AD308+AD302","v":36115.9}]
[null,null,null,null,null,null,null,null,null,null,null,null,null,null,null,null,null,null,null,null,null,null,null,"Муниципальная  программа «Муниципальное управление города Лыткарино на 2017-2021 годы»","001","04","09","01 0 00 00000",null,{"$f":"AD303","v":4500}]
[null,null,null,null,null,null,null,null,null,null,null,null,null,null,null,null,null,null,null,null,null,null,null,"Подпрограмма  \"Архитектура  и  градостроительство  города Лыткарино\"","001","04","09","01 7 00 00000",null,{"$f":"AD304","v":4500}]
[null,null,null,null,null,null,null,null,null,null,null,null,null,null,null,null,null,null,null,null,null,null,null,"Основное  мероприятие \"Разработка проектной документации для строительства линейного объекта капитального строительства - дороги к Индустриальному парку \"Лыткарино\"","001","04","09","01 7 09 00000",null,{"$f":"AD306","v":4500}]
[null,null,null,null,null,null,null,null,null,null,null,null,null,null,null,null,null,null,null,null,null,null,null,"Мероприятия  в  области  строительства,архитектуры  и  градостроительства","001","04","09","01 7 09 00100",null,{"$f":"AD306","v":4500}]
[null,null,null,null,null,null,null,null,null,null,null,null,null,null,null,null,null,null,null,null,null,null,null,"Закупка товаров, работ и услуг для обеспечения государственных (муниципальных) нужд","001","04","09","01 7 09 00100",200,{"$f":"AD307","v":4500}]
[null,null,null,null,null,null,null,null,null,null,null,null,null,null,null,null,null,null,null,null,null,null,null,"Иные закупки товаров, работ и услуг для обеспечения государственных (муниципальных) нужд","001","04","09","01 7 09 00100",240,4500]
[null,null,null,null,null,null,null,null,null,null,null,null,null,null,null,null,null,null,null,null,null,null,null,"Муниципальная  программа «Развитие и функционирование дорожно-транспортного комплекса города Лыткарино» на 2017-2021 годы","001","04","09","12 0 00 00000",null,{"$f":"AD309","v":31615.9}]
[null,null,null,null,null,null,null,null,null,null,null,null,null,null,null,null,null,null,null,null,null,null,null,"Подпрограмма  \"Дороги города  Лыткарино\"","001","04","09","12 2 00 00000",null,31615.9]
[null,null,null,null,null,null,null,null,null,null,null,null,null,null,null,null,null,null,null,null,null,null,null,"Основное  мероприятие \"Ремонт, содержание  дорог  общего  пользования и  внутриквартальных дорог  и   дворовых  территорий\"","001","04","09","12 2 01 00000",null,31615.9]
[null,null,null,null,null,null,null,null,null,null,null,null,null,null,null,null,null,null,null,null,null,null,null,"Ремонт, содержание   дорог ","001","04","09","12 2 01 16000",null,31615.9]
[null,null,null,null,null,null,null,null,null,null,null,null,null,null,null,null,null,null,null,null,null,null,null,"Ремонт, содержание  дорог  общего  пользования и  внутриквартальных дорог  и   дворовых  территорий","001","04","09","12 2 01 16010",null,31615.9]
[null,null,null,null,null,null,null,null,null,null,null,null,null,null,null,null,null,null,null,null,null,null,null,"Предоставление субсидий бюджетным, автономным учреждениям и иным некоммерческим организациям","001","04","09","12 2 01 16010",600,31615.9]
[null,null,null,null,null,null,null,null,null,null,null,null,null,null,null,null,null,null,null,null,null,null,null,"Субсидии бюджетным учреждениям","001","04","09","12 2 01 16010",610,{"$f":"24000+3479.4+2974+760+340+62.5","v":31615.9},62.5]
[null,null,null,null,null,null,null,null,null,null,null,null,null,null,null,null,null,null,null,null,null,null,null,"Связь и информатика","001","04",10,null,null,{"$f":"AD316","v":5114.3}]
[null,null,null,null,null,null,null,null,null,null,null,null,null,null,null,null,null,null,null,null,null,null,null,"Муниципальная программа  «Развитие информационно-коммуникационных технологий для повышения эффективности процессов управления и создания благоприятных условий жизни и ведения бизнеса в городе  Лыткарино Московской области» на 2017-2021годы.","001","04",10,"13 0 00 00000",null,{"$f":"AD317+AD321+AD325","v":5114.3}]
[null,null,null,null,null,null,null,null,null,null,null,null,null,null,null,null,null,null,null,null,null,null,null,"Основное мероприятие \"Федеральный проект \"Информационная инфракструктура\"","001","04",10,"13 0 D2 00000",null,{"$f":"AD318","v":3651.8}]
[null,null,null,null,null,null,null,null,null,null,null,null,null,null,null,null,null,null,null,null,null,null,null,"Мероприятия  в  области  информационно-коммуникационных  технологий","001","04",10,"13 0 D2 00010",null,3651.8]
[null,null,null,null,null,null,null,null,null,null,null,null,null,null,null,null,null,null,null,null,null,null,null,"Закупка товаров, работ и услуг для обеспечения государственных (муниципальных) нужд","001","04",10,"13 0 D2 00010",200,{"$f":"AD320","v":3651.8}]
[null,null,null,null,null,null,null,null,null,null,null,null,null,null,null,null,null,null,null,null,null,null,null,"Иные закупки товаров, работ и услуг для обеспечения государственных (муниципальных) нужд","001","04",10,"13 0 D2 00010",240,{"$f":"2300-800+225+800+307.9+40.8+275+45+458.1","v":3651.8}]
[null,null,null,null,null,null,null,null,null,null,null,null,null,null,null,null,null,null,null,null,null,null,null,"Основное мероприятие \"Федеральный проект \"Информационная безопасность\"","001","04",10,"13 0 D4 00000",null,{"$f":"AD322","v":59.100000000000009}]
[null,null,null,null,null,null,null,null,null,null,null,null,null,null,null,null,null,null,null,null,null,null,null,"Мероприятия  в  области  информационно-коммуникационных  технологий","001","04",10,"13 0 D4 00010",null,{"$f":"AD323","v":59.100000000000009}]
[null,null,null,null,null,null,null,null,null,null,null,null,null,null,null,null,null,null,null,null,null,null,null,"Закупка товаров, работ и услуг для обеспечения государственных (муниципальных) нужд","001","04",10,"13 0 D4 00010",200,{"$f":"AD324","v":59.100000000000009}]
[null,null,null,null,null,null,null,null,null,null,null,null,null,null,null,null,null,null,null,null,null,null,null,"Иные закупки товаров, работ и услуг для обеспечения государственных (муниципальных) нужд","001","04",10,"13 0 D4 00010",240,{"$f":"129.9-40.8-30","v":59.100000000000009}]
[null,null,null,null,null,null,null,null,null,null,null,null,null,null,null,null,null,null,null,null,null,null,null,"Основное мероприятие \"Федеральный проект \"Цифровое государственное управление\"","001","04",10,"13 0 D6 00000",null,{"$f":"AD326+AD329+AD332","v":1403.4}]
[null,null,null,null,null,null,null,null,null,null,null,null,null,null,null,null,null,null,null,null,null,null,null,"Мероприятия  в  области  информационно-коммуникационных  технологий","001","04",10,"13 0 D6 00010",null,{"$f":"AD327","v":374.4}]
[null,null,null,null,null,null,null,null,null,null,null,null,null,null,null,null,null,null,null,null,null,null,null,"Закупка товаров, работ и услуг для обеспечения государственных (муниципальных) нужд","001","04",10,"13 0 D6 00010",200,{"$f":"AD328","v":374.4}]
[null,null,null,null,null,null,null,null,null,null,null,null,null,null,null,null,null,null,null,null,null,null,null,"Иные закупки товаров, работ и услуг для обеспечения государственных (муниципальных) нужд","001","04",10,"13 0 D6 00010",240,{"$f":"800+300+300+247.5-800-15-458.1","v":374.4}]
[null,null,null,null,null,null,null,null,null,null,null,null,null,null,null,null,null,null,null,null,null,null,null,"Расходы  на предоставление доступа к электронным сервисам цифровой инфраструктуры в сфере жилищно-коммунального хозяйства","001","04",10,"13 0 04 60940",null,{"$f":"AD330","v":0}]
[null,null,null,null,null,null,null,null,null,null,null,null,null,null,null,null,null,null,null,null,null,null,null,"Закупка товаров, работ и услуг для обеспечения государственных (муниципальных) нужд","001","04",10,"13 0 04 60940",200,{"$f":"AD331","v":0}]
[null,null,null,null,null,null,null,null,null,null,null,null,null,null,null,null,null,null,null,null,null,null,null,"Иные закупки товаров, работ и услуг для обеспечения государственных (муниципальных) нужд","001","04",10,"13 0 04 60940",240]
[null,null,null,null,null,null,null,null,null,null,null,null,null,null,null,null,null,null,null,null,null,null,null,"Расходы  на предоставление доступа к электронным сервисам цифровой инфраструктуры в сфере жилищно-коммунального хозяйства","001","04",10,"13 0 D6 S0940",null,{"$f":"AD333","v":1029}]
[null,null,null,null,null,null,null,null,null,null,null,null,null,null,null,null,null,null,null,null,null,null,null,"Закупка товаров, работ и услуг для обеспечения государственных (муниципальных) нужд","001","04",10,"13 0 D6 S0940",200,{"$f":"AD334","v":1029}]
[null,null,null,null,null,null,null,null,null,null,null,null,null,null,null,null,null,null,null,null,null,null,null,"Иные закупки товаров, работ и услуг для обеспечения государственных (муниципальных) нужд","001","04",10,"13 0 D6 S0940",240,{"$f":"224+805","v":1029}]
["    Другие вопросы в области национальной экономики","001","04",12,null,null,{"$f":"#REF!","v":{"$error":"#REF!"}},null,null,null,null,null,null,null,null,null,null,null,null,null,null,null,null,"Другие вопросы в области национальной экономики","001","04",12,null,null,{"$f":"AD336+AD342+AD354","v":1150.5999999999999}]
["Непрограммные расходы бюджета города  Лыткарино","001","04",12,"99 0 0000",null,{"$f":"G339+#REF!","v":{"$error":"#REF!"}},null,null,null,null,null,null,null,null,null,null,null,null,null,null,null,null,"Муниципальная  программа «Муниципальное управление города Лыткарино на 2017-2021 годы»","001","04",12,"01 0 00 00000",null,{"$f":"AD337","v":100}]
[null,null,null,null,null,null,null,null,null,null,null,null,null,null,null,null,null,null,null,null,null,null,null,"Подпрограмма  \"Архитектура  и  градостроительство  города Лыткарино\"","001","04",12,"01 7 00 00000",null,100]
[null,null,null,null,null,null,null,null,null,null,null,null,null,null,null,null,null,null,null,null,null,null,null,"Основное  мероприятие  \"Предупреждение  и  пресечение  случаев  самовольного  строительства  на  территории  города Лыткарино\"","001","04",12,"01 7 06 00000",null,100]
["Мероприятия  в  области  строительства,архитектуры  и  градостроительства","001","04",12,"99 0 0010",null,{"$f":"G340","v":{"$error":"#REF!"}},null,null,null,null,null,null,null,null,null,null,null,null,null,null,null,null,"Мероприятия  в  области  строительства,архитектуры  и  градостроительства","001","04",12,"01 7 06 00100",null,{"$f":"AD340","v":100}]
["Закупка товаров, работ и услуг для государственных (муниципальных) нужд","001","04",12,"99 0 0010",200,{"$f":"#REF!","v":{"$error":"#REF!"}},null,null,null,null,null,null,null,null,null,null,null,null,null,null,null,null,"Закупка товаров, работ и услуг для обеспечения государственных (муниципальных) нужд","001","04",12,"01 7 06 00100",200,{"$f":"AD341","v":100}]
[null,null,null,null,null,null,null,null,null,null,null,null,null,null,null,null,null,null,null,null,null,null,null,"Иные закупки товаров, работ и услуг для обеспечения государственных (муниципальных) нужд","001","04",12,"01 7 06 00100",240,100]
[null,null,null,null,null,null,null,null,null,null,null,null,null,null,null,null,null,null,null,null,null,null,null,"Муниципальная  программа «Предпринимательство города Лыткарино» на 2017-2021 годы","001","04",12,"04 0 00 00000",null,{"$f":"AD349+AD343","v":814.6}]
[null,null,null,null,null,null,null,null,null,null,null,null,null,null,null,null,null,null,null,null,null,null,null,"Подпрограмма  \"Развитие  потребительского  рынка  и  услуг\"","001","04",12,"04 1 00 00000",null,{"$f":"AD344","v":214.6}]
[null,null,null,null,null,null,null,null,null,null,null,null,null,null,null,null,null,null,null,null,null,null,null,"Основное  мероприятие \"Приведение  кладбищ  города  Лыткарино  в  соответствие  с  Порядком  деятельности  общественных кладбищ  и крематориев  на территории  города Лыткарино\"","001","04",12,"04 1 05 00000",null,214.6]
[null,null,null,null,null,null,null,null,null,null,null,null,null,null,null,null,null,null,null,null,null,null,null,"Другие мероприятия   в области национальной экономики","001","04",12,"04 1 05 28000",null,{"$f":"AD346","v":214.6}]
[null,null,null,null,null,null,null,null,null,null,null,null,null,null,null,null,null,null,null,null,null,null,null,"Транспортировка  в  морг  с  места  обнаружения  или  происшествия умерших, не  имеющих  супруга, близких  родственников,иных  родственников либо  законного  представителя  умершего,а  также  иных  умерших  для  производства  судебно-медицинской  экспертизы и оказание  услуг, предоставляемых  согласно гарантированному  перечню  услуг  по  погребению на безвозмездной  основе","001","04",12,{"$f":"AB347","v":"04 1 05 28010"},null,214.6]
[null,null,null,null,null,null,null,null,null,null,null,null,null,null,null,null,null,null,null,null,null,null,null,"Закупка товаров, работ и услуг для обеспечения государственных (муниципальных) нужд","001","04",12,{"$f":"AB348","v":"04 1 05 28010"},200,214.6]
[null,null,null,null,null,null,null,null,null,null,null,null,null,null,null,null,null,null,null,null,null,null,null,"Иные закупки товаров, работ и услуг для обеспечения государственных (муниципальных) нужд","001","04",12,"04 1 05 28010",240,{"$f":"150+64.6","v":214.6}]
[null,null,null,null,null,null,null,null,null,null,null,null,null,null,null,null,null,null,null,null,null,null,null,"Подпрограмма  \"Развитие субъектов малого и среднего предпринимательства\n в городе Лыткарино\"","001","04",12,"04 2 00 00000",null,{"$f":"AD350","v":600}]
[null,null,null,null,null,null,null,null,null,null,null,null,null,null,null,null,null,null,null,null,null,null,null,"Основное  мероприятие \"Поддержка  субъектов  малого  и  среднего  предпринимательства, реализующих  программы  модернизации  производства\"","001","04",12,"04 2 01 00000",null,600]
[null,null,null,null,null,null,null,null,null,null,null,null,null,null,null,null,null,null,null,null,null,null,null,"Мероприятия  по  поддержке  субъектов  малого  и  среднего  предпринимательства","001","04",12,{"$f":"AB352","v":"04 2 01 00010"},null,{"$f":"AD352","v":600}]
[null,null,null,null,null,null,null,null,null,null,null,null,null,null,null,null,null,null,null,null,null,null,null,"Иные бюджетные ассигнования","001","04",12,{"$f":"AB353","v":"04 2 01 00010"},800,{"$f":"AD353","v":600}]
[null,null,null,null,null,null,null,null,null,null,null,null,null,null,null,null,null,null,null,null,null,null,null,"Субсидии юридическим лицам (кроме некоммерческих организаций), индивидуальным предпринимателям, физическим лицам - производителям товаров, работ, услуг","001","04",12,"04 2 01 00010",810,600]
[null,null,null,null,null,null,null,null,null,null,null,null,null,null,null,null,null,null,null,null,null,null,null,"Муниципальная    программа  \"Жилище  города Лыткарино\"  на 2014-2024 годы","001","04",12,"09 0 00 00000",null,{"$f":"AD355","v":236}]
[null,null,null,null,null,null,null,null,null,null,null,null,null,null,null,null,null,null,null,null,null,null,null,"Подпрограмма \"Комплексное освоение земельных участков в целях жилищного строительства и развитие застроенных территорий\" ","001","04",12,"09 5 00 00000",null,{"$f":"AD356","v":236}]
[null,null,null,null,null,null,null,null,null,null,null,null,null,null,null,null,null,null,null,null,null,null,null,"Основное мероприятие \"Финансовое обеспечение выполнения отдельных государственных полномочий в сфере жилищной политики,переданных органам местного самоуправления муниципальных образований Московской области\" ","001","04",12,"09 5 01 00000",null,{"$f":"AD357","v":236}]
[null,null,null,null,null,null,null,null,null,null,null,null,null,null,null,null,null,null,null,null,null,null,null,"Расходы на осуществление отдельных государственных полномочий в части подготовки и направления уведомлений о соответствии (несоответствии) указанных в уведомлении о планируемом строительстве параметров объекта индивидуального жилищного строительства или садового дома установленным параметрам и допустимости размещения объекта индивидульного жилищного строительства или садового дома на земельном участке, уведомлений о соответствии (несоответствии) построенных или реконструированных объектов индивидуального жилищного строительства или садового дома требованиям законодательства о градостроительной деятельности ","001","04",12,{"$f":"AB358","v":"09 5 01 60710"},null,{"$f":"AD358","v":236}]
[null,null,null,null,null,null,null,null,null,null,null,null,null,null,null,null,null,null,null,null,null,null,null,"Расходы на выплаты персоналу в целях обеспечения выполнения функций государственными (муниципальными) органами, казенными учреждениями, органами управления государственными внебюджетными фондами ","001","04",12,{"$f":"AB359","v":"09 5 01 60710"},100,{"$f":"AD359","v":236}]
[null,null,null,null,null,null,null,null,null,null,null,null,null,null,null,null,null,null,null,null,null,null,null,"Расходы на выплаты персоналу государственных (муниципальных) органов","001","04",12,"09 5 01 60710",120,236]
[null,null,null,null,null,null,null,null,null,null,null,null,null,null,null,null,null,null,null,null,null,null,null,"Жилищно-коммунальное хозяйство","001","05",null,null,null,{"$f":"AD441+AD361+AD391+AD377","v":102247.2}]
[null,null,null,null,null,null,null,null,null,null,null,null,null,null,null,null,null,null,null,null,null,null,null," Жилищное хозяйство","001","05","01",null,null,{"$f":"AD362+AD371","v":26616.9}]
[null,null,null,null,null,null,null,null,null,null,null,null,null,null,null,null,null,null,null,null,null,null,null,"Муниципальная  программа «Муниципальное управление города Лыткарино на 2017-2021 годы»","001","05","01","01 0 00 00000",null,{"$f":"AD363","v":15687.9}]
[null,null,null,null,null,null,null,null,null,null,null,null,null,null,null,null,null,null,null,null,null,null,null,"Подпрограмма «Развитие земельно-имущественного комплекса в городе Лыткарино»","001","05","01","01 8 00 00000",null,{"$f":"AD364","v":15687.9}]
[null,null,null,null,null,null,null,null,null,null,null,null,null,null,null,null,null,null,null,null,null,null,null,"Основное  мероприятие  \"Перечисление  региональному  оператору  взносов  на  капитальный  ремонт  в  части  муниципального  имущества ( жилой  и  нежилой  фонд)\"","001","05","01","01 8 04 00000",null,15687.9]
[null,null,null,null,null,null,null,null,null,null,null,null,null,null,null,null,null,null,null,null,null,null,null,"Перечисление   региональному  оператору  взносов  на  капитальный  ремонт  в  части  муниципального  имущества","001","05","01",{"$f":"AB366","v":"01 8 04 00060"},null,15687.9]
[null,null,null,null,null,null,null,null,null,null,null,null,null,null,null,null,null,null,null,null,null,null,null,"Иные бюджетные ассигнования","001","05","01",{"$f":"AB367","v":"01 8 04 00060"},800,15687.9]
[null,null,null,null,null,null,null,null,null,null,null,null,null,null,null,null,null,null,null,null,null,null,null,"Уплата налогов, сборов и иных платежей","001","05","01","01 8 04 00060",850,{"$f":"10500+5187.9","v":15687.9}]
[null,null,null,null,null,null,null,null,null,null,null,null,null,null,null,null,null,null,null,null,null,null,null,"Субсидия на возмещение затрат юридических лиц, связанных с выполнением работ по ремонту подъездов многоквартирных домов в рамках софинансирования","001","05","01",{"$f":"AB369","v":"10 1 02 S0950"},null,{"$f":"AD369","v":0}]
[null,null,null,null,null,null,null,null,null,null,null,null,null,null,null,null,null,null,null,null,null,null,null,"Иные бюджетные ассигнования","001","05","01",{"$f":"AB370","v":"10 1 02 S0950"},"800",0]
[null,null,null,null,null,null,null,null,null,null,null,null,null,null,null,null,null,null,null,null,null,null,null,"Субсидии юридическим лицам (кроме некоммерческих организаций), индивидуальным предпринимателям, физическим лицам - производителям товаров, работ, услуг","001","05","01","10 1 02 S0950","810"]
[null,null,null,null,null,null,null,null,null,null,null,null,null,null,null,null,null,null,null,null,null,null,null,"Муниципальная программа «Формирование современной городской среды города Лыткарино» на 2018-2024 годы","001","05","01","10 0 00 00000",null,{"$f":"AD372","v":10929}]
[null,null,null,null,null,null,null,null,null,null,null,null,null,null,null,null,null,null,null,null,null,null,null,"Подпрограмма  \"Создание условий для обеспечения комфортного  проживания  жителей  в  многоквартирных  домах\"","001","05","01","10 2 00 00000",null,{"$f":"AD373","v":10929}]
[null,null,null,null,null,null,null,null,null,null,null,null,null,null,null,null,null,null,null,null,null,null,null,"Основное мероприятие \"Капитальный  ремонт  многоквартирных  жилых  домов\"","001","05","01","10 2 01 00000",null,{"$f":"AD374","v":10929}]
[null,null,null,null,null,null,null,null,null,null,null,null,null,null,null,null,null,null,null,null,null,null,null,"Расходы  на  ремонт подъездов в многоквартирных домах","001","05","01",{"$f":"AB375","v":"10 2 01 S0950"},null,{"$f":"AD375","v":10929}]
[null,null,null,null,null,null,null,null,null,null,null,null,null,null,null,null,null,null,null,null,null,null,null,"Иные бюджетные ассигнования","001","05","01",{"$f":"AB376","v":"10 2 01 S0950"},"800",{"$f":"AD376","v":10929}]
[null,null,null,null,null,null,null,null,null,null,null,null,null,null,null,null,null,null,null,null,null,null,null,"Субсидии юридическим лицам (кроме некоммерческих организаций), индивидуальным предпринимателям, физическим лицам - производителям товаров, работ, услуг","001","05","01","10 2 01 S0950","810",{"$f":"1678-880+2879.2+3311.4-533.1+3502.8+970.7","v":10929}]
[null,null,null,null,null,null,null,null,null,null,null,null,null,null,null,null,null,null,null,null,null,null,null,"Коммунальное  хозяйство","001","05","02",null,null,{"$f":"AD378+AD384","v":35500}]
[null,null,null,null,null,null,null,null,null,null,null,null,null,null,null,null,null,null,null,null,null,null,null,"Муниципальная  программа  \"Развитие  инженерной инфраструктуры и энергоэффективности  на  территории  города  Лыткарино\"на  2018-2022 годы","001","05","02","06 0 00 00000",null,{"$f":"AD379","v":13200}]
[null,null,null,null,null,null,null,null,null,null,null,null,null,null,null,null,null,null,null,null,null,null,null,"Подпрограмма \"Содержание и развитие инженерной инфраструктуры на территории города Лыткарино\"  ","001","05","02","06 1 00 00000",null,13200]
[null,null,null,null,null,null,null,null,null,null,null,null,null,null,null,null,null,null,null,null,null,null,null,"Основное  мероприятие \"Строительство,реконструкция,капитальный ремонт, приобретение, монтаж и ввод в эксплуатацию объектов коммунальной инфраструктуры на территории города Лыткарино\" ","001","05","02","06 1 04 00000",null,{"$f":"AD381","v":13200}]
[null,null,null,null,null,null,null,null,null,null,null,null,null,null,null,null,null,null,null,null,null,null,null,"Предоставление  субсидии МП \"Лыткаринская теплосеть\" в целях возмещения затрат на реконструкцию тепловой магистрали сети от ТК-227 до ЦТП-1А, включая работы ЦТП -1А (от ТК-227а до ЦТП -1А), в связи с оказанием услуг по теплоснабжению в городе Лыткарино","001","05","02","06 1 04 00030",null,13200]
[null,null,null,null,null,null,null,null,null,null,null,null,null,null,null,null,null,null,null,null,null,null,null,"Иные бюджетные ассигнования","001","05","02","06 1 04 00030","800",13200]
[null,null,null,null,null,null,null,null,null,null,null,null,null,null,null,null,null,null,null,null,null,null,null,"Субсидии юридическим лицам (кроме некоммерческих организаций), индивидуальным предпринимателям, физическим лицам - производителям товаров, работ, услуг","001","05","02","06 1 04 00030","810",{"$f":"5000+5000+3200","v":13200}]
[null,null,null,null,null,null,null,null,null,null,null,null,null,null,null,null,null,null,null,null,null,null,null,"Непрограммные расходы бюджета города  Лыткарино","001","05","02","99 0 00 00000",null,{"$f":"AD385+AD388","v":22300}]
[null,null,null,null,null,null,null,null,null,null,null,null,null,null,null,null,null,null,null,null,null,null,null,"Предоставление субсидии МП «Лыткаринская теплосеть»  на возмещение недополученных доходов в связи с применением в расчетах с управляющими организациями нормативов расхода тепловой энергии, используемой на подогрев холодной воды для предоставления коммунальной услуги по горячему водоснабжению для населения на территории муниципального образования.","001","05","02","99 0 00 00700",null,{"$f":"AD386","v":16300}]
[null,null,null,null,null,null,null,null,null,null,null,null,null,null,null,null,null,null,null,null,null,null,null,"Иные бюджетные ассигнования","001","05","02","99 0 00 00700","800",{"$f":"AD387","v":16300}]
[null,null,null,null,null,null,null,null,null,null,null,null,null,null,null,null,null,null,null,null,null,null,null,"Субсидии юридическим лицам (кроме некоммерческих организаций), индивидуальным предпринимателям, физическим лицам - производителям товаров, работ, услуг","001","05","02","99 0 00 00700","810",{"$f":"9800+6500","v":16300}]
[null,null,null,null,null,null,null,null,null,null,null,null,null,null,null,null,null,null,null,null,null,null,null,"Предоставление  субсидии МП \"Лыткаринская теплосеть\" в целях восстановления платёжеспособности и недопущения банкротства","001","05","02","99 0 00 00900",null,{"$f":"AD389","v":6000}]
[null,null,null,null,null,null,null,null,null,null,null,null,null,null,null,null,null,null,null,null,null,null,null,"Иные бюджетные ассигнования","001","05","02","99 0 00 00900","800",{"$f":"AD390","v":6000}]
[null,null,null,null,null,null,null,null,null,null,null,null,null,null,null,null,null,null,null,null,null,null,null,"Субсидии юридическим лицам (кроме некоммерческих организаций), индивидуальным предпринимателям, физическим лицам - производителям товаров, работ, услуг","001","05","02","99 0 00 00900","810",6000]
[null,null,null,null,null,null,null,null,null,null,null,null,null,null,null,null,null,null,null,null,null,null,null,"Благоустройство","001","05","03",null,null,{"$f":"AD392+AD400+AD415","v":30995.3}]
[null,null,null,null,null,null,null,null,null,null,null,null,null,null,null,null,null,null,null,null,null,null,null,"Муниципальная  программа  \"Муниципальное  управление  города  Лыткарино\"  на  2017-2021 годы","001","05","03","01 0 00 00000",null,{"$f":"AD393","v":949.2}]
[null,null,null,null,null,null,null,null,null,null,null,null,null,null,null,null,null,null,null,null,null,null,null,"Подпрограмма «Развитие системы информирования населения о деятельности  органов местного самоуправления города Лыткарино Московской области» ","001","05","03","01 4 00 00000",null,{"$f":"AD394","v":949.2}]
[null,null,null,null,null,null,null,null,null,null,null,null,null,null,null,null,null,null,null,null,null,null,null,"Основное мероприятие  \"Информирование населения муниципального образования посредством наружной рекламы\" ","001","05","03","01 4 02 00000",null,{"$f":"AD395","v":949.2}]
[null,null,null,null,null,null,null,null,null,null,null,null,null,null,null,null,null,null,null,null,null,null,null,"Мероприятия  в  области  развития  системы  информирования  населения","001","05","03",{"$f":"AB396","v":"01 4 02 00010"},null,{"$f":"AD396+AD398","v":949.2}]
[null,null,null,null,null,null,null,null,null,null,null,null,null,null,null,null,null,null,null,null,null,null,null,"Закупка товаров, работ и услуг для обеспечения государственных (муниципальных) нужд","001","05","03",{"$f":"AB397","v":"01 4 02 00010"},200,946.2]
[null,null,null,null,null,null,null,null,null,null,null,null,null,null,null,null,null,null,null,null,null,null,null,"Иные закупки товаров, работ и услуг для обеспечения государственных (муниципальных) нужд","001","05","03","01 4 02 00010",240,{"$f":"513.5-3+435.7","v":946.2}]
[null,null,null,null,null,null,null,null,null,null,null,null,null,null,null,null,null,null,null,null,null,null,null,"Иные бюджетные ассигнования","001","05","03",{"$f":"AB399","v":"01 4 02 00010"},"800",{"$f":"AD399","v":3}]
[null,null,null,null,null,null,null,null,null,null,null,null,null,null,null,null,null,null,null,null,null,null,null,"Уплата налогов, сборов и иных платежей","001","05","03","01 4 02 00010","850",3]
[null,null,null,null,null,null,null,null,null,null,null,null,null,null,null,null,null,null,null,null,null,null,null,"Муниципальная  программа «Предпринимательство города Лыткарино» на 2017-2021 годы","001","05","03","04 0 00 00000",null,{"$f":"AD401+AD407","v":10239.299999999999}]
[null,null,null,null,null,null,null,null,null,null,null,null,null,null,null,null,null,null,null,null,null,null,null,"Подпрограмма  \"Развитие  потребительского  рынка  и  услуг\"","001","05","03","04 1 00 00000",null,{"$f":"AD402","v":5133.2000000000007}]
[null,null,null,null,null,null,null,null,null,null,null,null,null,null,null,null,null,null,null,null,null,null,null,"Основное  мероприятие \"Приведение  кладбищ  города  Лыткарино  в  соответствие  с  Порядком  деятельности  общественных кладбищ  и крематориев  на территории  города Лыткарино\"","001","05","03","04 1 05 00000",null,5133.2000000000007]
[null,null,null,null,null,null,null,null,null,null,null,null,null,null,null,null,null,null,null,null,null,null,null,"Мероприятия  по  благоустройству","001","05","03","04 1 05 15000",null,{"$f":"AD404","v":5133.2000000000007}]
[null,null,null,null,null,null,null,null,null,null,null,null,null,null,null,null,null,null,null,null,null,null,null,"Содержание  мест  захоронения","001","05","03",{"$f":"AB405","v":"04 1 05 15040"},null,5133.2000000000007]
[null,null,null,null,null,null,null,null,null,null,null,null,null,null,null,null,null,null,null,null,null,null,null,"Закупка товаров, работ и услуг для обеспечения государственных (муниципальных) нужд","001","05","03",{"$f":"AB406","v":"04 1 05 15040"},"200",5133.2000000000007]
[null,null,null,null,null,null,null,null,null,null,null,null,null,null,null,null,null,null,null,null,null,null,null,"Иные закупки товаров, работ и услуг для обеспечения государственных (муниципальных) нужд","001","05","03","04 1 05 15040","240",{"$f":"1030.5+2174.8+1900.8+800-772.9","v":5133.2000000000007}]
[null,null,null,null,null,null,null,null,null,null,null,null,null,null,null,null,null,null,null,null,null,null,null,"Основное  мероприятие  \"Обеспечение  деятельности  муниципального  казенного  учреждения  \"Ритуал-Сервис Лыткарино\"","001","05","03","04 1 06 00000",null,{"$f":"AD408","v":5106.0999999999995}]
[null,null,null,null,null,null,null,null,null,null,null,null,null,null,null,null,null,null,null,null,null,null,null," Обеспечение  деятельности  муниципального  казенного  учреждения \"Ритуал-Сервис  Лыткарино\"","001","05","03","04 1 06 16590",null,{"$f":"AD409+AD411+AD413","v":5106.0999999999995}]
[null,null,null,null,null,null,null,null,null,null,null,null,null,null,null,null,null,null,null,null,null,null,null,"Расходы на выплаты персоналу в целях обеспечения выполнения функций государственными (муниципальными) органами, казенными учреждениями, органами управления государственными внебюджетными фондами ","001","05","03",{"$f":"AB410","v":"04 1 06 16590"},"100",{"$f":"AD410","v":4373.8999999999996}]
[null,null,null,null,null,null,null,null,null,null,null,null,null,null,null,null,null,null,null,null,null,null,null,"Расходы на выплаты персоналу казенных учреждений","001","05","03",{"$f":"AB411","v":"04 1 06 16590"},"110",{"$f":"3582.1+358.2+433.6","v":4373.8999999999996}]
[null,null,null,null,null,null,null,null,null,null,null,null,null,null,null,null,null,null,null,null,null,null,null,"Закупка товаров, работ и услуг для государственных (муниципальных) нужд","001","05","03",{"$f":"AB412","v":"04 1 06 16590"},"200",{"$f":"AD412","v":666.9}]
[null,null,null,null,null,null,null,null,null,null,null,null,null,null,null,null,null,null,null,null,null,null,null,"Иные закупки товаров, работ и услуг для обеспечения государственных (муниципальных) нужд","001","05","03","04 1 06 16590","240",{"$f":"729.9-23-40","v":666.9}]
[null,null,null,null,null,null,null,null,null,null,null,null,null,null,null,null,null,null,null,null,null,null,null,"Иные бюджетные ассигнования","001","05","03",{"$f":"AB414","v":"04 1 06 16590"},"800",{"$f":"AD414","v":65.3}]
[null,null,null,null,null,null,null,null,null,null,null,null,null,null,null,null,null,null,null,null,null,null,null,"Уплата налогов, сборов и иных платежей","001","05","03","04 1 06 16590","850",{"$f":"2.3+23+40","v":65.3}]
[null,null,null,null,null,null,null,null,null,null,null,null,null,null,null,null,null,null,null,null,null,null,null,"Муниципальная программа «Формирование современной городской среды города Лыткарино» на 2018-2024 годы","001","05","03","10 0 00 00000",null,{"$f":"AD416","v":19806.8}]
[null,null,null,null,null,null,null,null,null,null,null,null,null,null,null,null,null,null,null,null,null,null,null,"Подпрограмма  \"Благоустройство дворовых и общественных территорий города Лыткарино\"","001","05","03","10 1 00 00000",null,{"$f":"AD426+AD430+AD422+AD417","v":19806.8}]
[null,null,null,null,null,null,null,null,null,null,null,null,null,null,null,null,null,null,null,null,null,null,null,"Основное мероприятие \"Благоустройство дворовых и общественных территорий\"","001","05","03","10 1 01 00000",null,{"$f":"AD418","v":150}]
[null,null,null,null,null,null,null,null,null,null,null,null,null,null,null,null,null,null,null,null,null,null,null,"Мероприятия  по  благоустройству","001","05","03","10 1 01 15000",null,{"$f":"AD419","v":150}]
[null,null,null,null,null,null,null,null,null,null,null,null,null,null,null,null,null,null,null,null,null,null,null,"Проведение эколого-патриотической акции \"Лес Победы\"","001","05","03","10 1 01 15040",null,{"$f":"AD420","v":150}]
[null,null,null,null,null,null,null,null,null,null,null,null,null,null,null,null,null,null,null,null,null,null,null,"Предоставление субсидий бюджетным, автономным учреждениям и иным некоммерческим организациям","001","05","03","10 1 01 15040",600,{"$f":"AD421","v":150}]
[null,null,null,null,null,null,null,null,null,null,null,null,null,null,null,null,null,null,null,null,null,null,null,"Субсидии бюджетным учреждениям","001","05","03","10 1 01 15040",610,150]
[null,null,null,null,null,null,null,null,null,null,null,null,null,null,null,null,null,null,null,null,null,null,null,"Основное мероприятие \"Формирование комфортной городской световой среды\"","001","05","03","10 1 03 00000",null,{"$f":"AD423","v":215.1}]
[null,null,null,null,null,null,null,null,null,null,null,null,null,null,null,null,null,null,null,null,null,null,null,"Мероприятия  по  организации  уличного  освещения","001","05","03","10 1 03 15020",null,{"$f":"AD424","v":215.1}]
[null,null,null,null,null,null,null,null,null,null,null,null,null,null,null,null,null,null,null,null,null,null,null,"Закупка товаров, работ и услуг для обеспечения государственных (муниципальных) нужд","001","05","03","10 1 03 15020",200,{"$f":"AD425","v":215.1}]
[null,null,null,null,null,null,null,null,null,null,null,null,null,null,null,null,null,null,null,null,null,null,null,"Иные закупки товаров, работ и услуг для обеспечения государственных (муниципальных) нужд","001","05","03",{"$f":"AB423","v":"10 1 03 15020"},240,215.1,null,null,null,null,"  "]
[null,null,null,null,null,null,null,null,null,null,null,null,null,null,null,null,null,null,null,null,null,null,null,"Основное  мероприятие\"Охрана  окружающей  среды\"","001","05","03","10 1 04 00000",null,{"$f":"AD427","v":7511.7}]
[null,null,null,null,null,null,null,null,null,null,null,null,null,null,null,null,null,null,null,null,null,null,null,"Организация  проведения  работ по благоустройству и санитарной очистке озелененных территорий","001","05","03",{"$f":"AB428","v":"10 1 04 03590"},null,7511.7]
[null,null,null,null,null,null,null,null,null,null,null,null,null,null,null,null,null,null,null,null,null,null,null,"Предоставление субсидий бюджетным, автономным учреждениям и иным некоммерческим организациям","001","05","03",{"$f":"AB429","v":"10 1 04 03590"},600,7511.7]
[null,null,null,null,null,null,null,null,null,null,null,null,null,null,null,null,null,null,null,null,null,null,null,"Субсидии бюджетным учреждениям","001","05","03","10 1 04 03590",610,{"$f":"6560.7+50+901","v":7511.7}]
[null,null,null,null,null,null,null,null,null,null,null,null,null,null,null,null,null,null,null,null,null,null,null,"Основное мероприятие  \"Благоустройство центральных улиц и скверов\"","001","05","03","10 1 06 00000",null,{"$f":"AD431+AD437","v":11930}]
[null,null,null,null,null,null,null,null,null,null,null,null,null,null,null,null,null,null,null,null,null,null,null,"Мероприятия  по  благоустройству","001","05","03","10 1 06 15000",null,{"$f":"AD432","v":11530}]
[null,null,null,null,null,null,null,null,null,null,null,null,null,null,null,null,null,null,null,null,null,null,null,"Прочие  мероприятия   по  благоустройству  города","001","05","03",{"$f":"AB433","v":"10 1 06 15030"},null,{"$f":"AD433+AD435","v":11530}]
[null,null,null,null,null,null,null,null,null,null,null,null,null,null,null,null,null,null,null,null,null,null,null," ","001","05","03",{"$f":"AB434","v":"10 1 06 15030"},200,{"$f":"AD434","v":2790}]
[null,null,null,null,null,null,null,null,null,null,null,null,null,null,null,null,null,null,null,null,null,null,null,"Иные закупки товаров, работ и услуг для обеспечения государственных (муниципальных) нужд","001","05","03","10 1 06 15030",240,{"$f":"3000-210","v":2790}]
[null,null,null,null,null,null,null,null,null,null,null,null,null,null,null,null,null,null,null,null,null,null,null,"Предоставление субсидий бюджетным, автономным учреждениям и иным некоммерческим организациям","001","05","03",{"$f":"AB436","v":"10 1 06 15030"},600,{"$f":"AD436","v":8740}]
[null,null,null,null,null,null,null,null,null,null,null,null,null,null,null,null,null,null,null,null,null,null,null,"Субсидии бюджетным учреждениям","001","05","03","10 1 06 15030",610,{"$f":"9500-760","v":8740}]
[null,null,null,null,null,null,null,null,null,null,null,null,null,null,null,null,null,null,null,null,null,null,null,"Основное мероприятие \"Федеральный проект \"Формирование комфортной городской среды\"","001","05","03","10 1 F2 00000",null,{"$f":"AD438","v":400}]
[null,null,null,null,null,null,null,null,null,null,null,null,null,null,null,null,null,null,null,null,null,null,null,"Реализация программ формирования современной городской среды в части благоустройства общественных территорий- город Лыткарино, ул.Спортивная","001","05","03","10 1 F2 Д5551",null,{"$f":"AD439","v":400}]
[null,null,null,null,null,null,null,null,null,null,null,null,null,null,null,null,null,null,null,null,null,null,null,"Закупка товаров, работ и услуг для обеспечения государственных (муниципальных) нужд","001","05","03","10 1 F2 Д5551",200,{"$f":"AD440","v":400}]
[null,null,null,null,null,null,null,null,null,null,null,null,null,null,null,null,null,null,null,null,null,null,null,"Иные закупки товаров, работ и услуг для обеспечения государственных (муниципальных) нужд","001","05","03","10 1 F2 Д5551",240,400]
[null,null,null,null,null,null,null,null,null,null,null,null,null,null,null,null,null,null,null,null,null,null,null,"Другие вопросы в области жилищно-коммунального хозяйства","001","05","05",null,null,{"$f":"AD442+AD457","v":9134.9999999999982}]
["Руководство и управление в сфере установленных функций  органов  местного самоуправления","001","05","05","95 0 0000",null,{"$f":"G445+G477","v":27712.1},null,null,null,null,null,null,null,null,null,null,null,null,null,null,null,null,"Муниципальная  программа «Муниципальное управление города Лыткарино на 2017-2021 годы»","001","05","05","01 0 00 00000",null,{"$f":"AD443","v":9091.0999999999985}]
[null,null,null,null,null,null,null,null,null,null,null,null,null,null,null,null,null,null,null,null,null,null,null,"Обеспечивающая подпрограмма","001","05","05","01 1 00 00000",null,{"$f":"AD444","v":9091.0999999999985}]
[null,null,null,null,null,null,null,null,null,null,null,null,null,null,null,null,null,null,null,null,null,null,null,"Основное  мероприятие  \" Обеспечение  деятельности  Администрации  городcкого округа  Лыткарино  и  ее функциональных  органов\" ","001","05","05","01 1 01 00000",null,9091.0999999999985]
["Центральный аппарат","001","05","05","95 0 0400",null,{"$f":"G446+G451+G454","v":27712.1},null,null,null,null,null,null,null,null,null,null,null,null,null,null,null,null,"Центральный аппарат","001","05","05","01 1 01 04000",null,{"$f":"AD446+AD451+AD454","v":9091.0999999999985}]
["Расходы  за  счет  средств  местного  бюджета  на   обеспечение  деятельности  центрального  аппарата","001","05","05","95 0 0401",null,{"$f":"G447+G449","v":3473.1000000000004},null,null,null,null,null,null,null,null,null,null,null,null,null,null,null,null,"Расходы  на   обеспечение  деятельности  центрального  аппарата","001","05","05",{"$f":"AB447","v":"01 1 01 04010"},null,{"$f":"AD447+AD449","v":969.9}]
["Закупка товаров, работ и услуг для государственных (муниципальных) нужд","001","05","05","95 0 0401",200,{"$f":"G448","v":3195.1000000000004},null,null,null,null,null,null,null,null,null,null,null,null,null,null,null,null,"Закупка товаров, работ и услуг для обеспечения государственных (муниципальных) нужд","001","05","05",{"$f":"AB448","v":"01 1 01 04010"},200,{"$f":"AD448","v":932.1}]
["Иные закупки товаров, работ и услуг для обеспечения государственных (муниципальных) нужд","001","05","05","95 0 0401",240,{"$f":"2288.8+906.3","v":3195.1000000000004},null,null,null,null,null,null,null,null,null,null,null,null,null,null,null,null,"Иные закупки товаров, работ и услуг для обеспечения государственных (муниципальных) нужд","001","05","05",{"$f":"AB449","v":"01 1 01 04010"},240,{"$f":"911.4+7.5+3.7+9.5","v":932.1},9.5]
["Иные бюджетные ассигнования","001","05","05","95 0 0401",800,{"$f":"G450","v":278},null,null,null,null,null,null,null,null,null,null,null,null,null,null,null,null,"Иные бюджетные ассигнования","001","05","05",{"$f":"AB450","v":"01 1 01 04010"},800,{"$f":"AD450","v":37.799999999999997}]
["Уплата налогов, сборов и иных платежей","001","05","05","95 0 0401",850,{"$f":"270+8","v":278},null,null,null,null,null,null,null,null,null,null,null,null,null,null,null,null,"Уплата налогов, сборов и иных платежей","001","05","05","01 1 01 04010",850,{"$f":"6.5+16.5+14+0.8","v":37.799999999999997}]
["Расходы  за  счет  средств  местного  бюджета  на  содержание  лиц,  замещающих должности, не являющиеся должностями муниципальной  службы","001","05","05","95 0 0402",null,{"$f":"G452","v":7341.9},null,null,null,null,null,null,null,null,null,null,null,null,null,null,null,null,"Расходы на  содержание  лиц,  замещающих должности, не являющиеся должностями муниципальной  службы","001","05","05",{"$f":"AB452","v":"01 1 01 04020"},null,{"$f":"AD452","v":4306.7}]
["Расходы на выплаты персоналу в целях обеспечения выполнения функций государственными (муниципальными) органами, казенными учреждениями, органами управления государственными внебюджетными фондами ","001","05","05","95 0 0402",100,{"$f":"G453","v":7341.9},null,null,null,null,null,null,null,null,null,null,null,null,null,null,null,null,"Расходы на выплаты персоналу в целях обеспечения выполнения функций государственными (муниципальными) органами, казенными учреждениями, органами управления государственными внебюджетными фондами ","001","05","05",{"$f":"AB453","v":"01 1 01 04020"},100,4306.7]
["Расходы на выплаты персоналу государственных (муниципальных) органов","001","05","05","95 0 0402",120,{"$f":"1564+5777.9","v":7341.9},null,null,null,null,null,null,null,null,null,null,null,null,null,null,null,null,"Расходы на выплаты персоналу государственных (муниципальных) органов","001","05","05","01 1 01 04020",120,{"$f":"3592.6+359.4+354.7","v":4306.7}]
["Расходы  за  счет  средств  местного  бюджета  на  содержание  лиц,  замещающих должности  муниципальной  службы","001","05","05","95 0 0403",null,{"$f":"G455","v":16897.099999999999},null,null,null,null,null,null,null,null,null,null,null,null,null,null,null,null,"Расходы  за  счет  средств  местного  бюджета  на  содержание  лиц,  замещающих должности  муниципальной  службы","001","05","05",{"$f":"AB455","v":"01 1 01 04030"},null,{"$f":"AD455","v":3814.5}]
["Расходы на выплаты персоналу в целях обеспечения выполнения функций государственными (муниципальными) органами, казенными учреждениями, органами управления государственными внебюджетными фондами ","001","05","05","95 0 0403",100,{"$f":"G456","v":16897.099999999999},null,null,null,null,null,null,null,null,null,null,null,null,null,null,null,null,"Расходы на выплаты персоналу в целях обеспечения выполнения функций государственными (муниципальными) органами, казенными учреждениями, органами управления государственными внебюджетными фондами ","001","05","05",{"$f":"AB456","v":"01 1 01 04030"},100,3814.5]
["Расходы на выплаты персоналу государственных (муниципальных) органов","001","05","05","95 0 0403",120,{"$f":"5536.1+11361","v":16897.099999999999},null,null,null,null,null,null,null,null,null,null,null,null,null,null,null,null,"Расходы на выплаты персоналу государственных (муниципальных) органов","001","05","05","01 1 01 04030",120,{"$f":"3154.1+315.4+345","v":3814.5}]
[null,null,null,null,null,null,null,null,null,null,null,null,null,null,null,null,null,null,null,null,null,null,null,"Муниципальная  программа  \"Безопасность  города  Лыткарино\"  на  2017-2021 годы","001","05","05","08 0 00 00000",null,{"$f":"AD458","v":43.899999999999991}]
[null,null,null,null,null,null,null,null,null,null,null,null,null,null,null,null,null,null,null,null,null,null,null,"Подпрограмма  \"Обеспечение  пожарной  безопасности\"","001","05","05","08 5 00 00000",null,{"$f":"AD464+AD459","v":43.899999999999991}]
[null,null,null,null,null,null,null,null,null,null,null,null,null,null,null,null,null,null,null,null,null,null,null,"Основное  мероприятие \"Организация  профилактики  и  ликвидации пожаров  на  территории  города  Лыткарино\"","001","05","05","08 5 01 00000",null,{"$f":"AD460","v":3.8}]
[null,null,null,null,null,null,null,null,null,null,null,null,null,null,null,null,null,null,null,null,null,null,null,"Мероприятия  в  области  национальной безопасности  и  правоохранительной  деятельности","001","05","05","08 5 01 12000",null,{"$f":"AD461","v":3.8}]
[null,null,null,null,null,null,null,null,null,null,null,null,null,null,null,null,null,null,null,null,null,null,null,"Мероприятия  по обеспечению пожарной  безопасности","001","05","05",{"$f":"AB462","v":"08 5 01 12080"},null,{"$f":"AD462","v":3.8}]
[null,null,null,null,null,null,null,null,null,null,null,null,null,null,null,null,null,null,null,null,null,null,null,"Закупка товаров, работ и услуг для обеспечения государственных (муниципальных) нужд","001","05","05",{"$f":"AB463","v":"08 5 01 12080"},"200",{"$f":"AD463","v":3.8}]
[null,null,null,null,null,null,null,null,null,null,null,null,null,null,null,null,null,null,null,null,null,null,null,"Иные закупки товаров, работ и услуг для обеспечения государственных (муниципальных) нужд","001","05","05","08 5 01 12080","240",3.8,3.8]
[null,null,null,null,null,null,null,null,null,null,null,null,null,null,null,null,null,null,null,null,null,null,null,"Основное  мероприятие \"Обеспечение мероприятий, направленных  на  снижение уровня травматизма и смертности на пожарах\"","001","05","05","08 5 02 00000",null,40.099999999999994]
[null,null,null,null,null,null,null,null,null,null,null,null,null,null,null,null,null,null,null,null,null,null,null,"Мероприятия  в  области  национальной безопасности  и  правоохранительной  деятельности","001","05","05","08 5 02 12000",null,40.099999999999994]
[null,null,null,null,null,null,null,null,null,null,null,null,null,null,null,null,null,null,null,null,null,null,null,"Мероприятия  по обеспечению пожарной  безопасности","001","05","05","08 5 02 12080",null,40.099999999999994]
[null,null,null,null,null,null,null,null,null,null,null,null,null,null,null,null,null,null,null,null,null,null,null,"Закупка товаров, работ и услуг для обеспечения государственных (муниципальных) нужд","001","05","05","08 5 02 12080",200,40.099999999999994]
[null,null,null,null,null,null,null,null,null,null,null,null,null,null,null,null,null,null,null,null,null,null,null,"Иные закупки товаров, работ и услуг для обеспечения государственных (муниципальных) нужд","001","05","05","08 5 02 12080",240,{"$f":"53.4-13.3","v":40.099999999999994}," -3,8-9,5=-13,3"]
[null,null,null,null,null,null,null,null,null,null,null,null,null,null,null,null,null,null,null,null,null,null,null," \"Охрана окружающей среды\"","001","06",null,null,null,{"$f":"AD470","v":665.2}]
[null,null,null,null,null,null,null,null,null,null,null,null,null,null,null,null,null,null,null,null,null,null,null,"Другие вопросы в области охраны окружающей среды ","001","06","05",null,null,665.2]
[null,null,null,null,null,null,null,null,null,null,null,null,null,null,null,null,null,null,null,null,null,null,null,"Муниципальная программа «Формирование современной городской среды города Лыткарино» на 2018-2024 годы","001","06","05","10 0 00 00000",null,665.2]
[null,null,null,null,null,null,null,null,null,null,null,null,null,null,null,null,null,null,null,null,null,null,null,"Подпрограмма  \"Благоустройство дворовых и общественных территорий города Лыткарино\"","001","06","05","10 1 00 00000",null,665.2]
[null,null,null,null,null,null,null,null,null,null,null,null,null,null,null,null,null,null,null,null,null,null,null,"Основное  мероприятие \" Охрана  окружающей  среды\"","001","06","05","10 1 04 00000",null,665.2]
[null,null,null,null,null,null,null,null,null,null,null,null,null,null,null,null,null,null,null,null,null,null,null,"Расходы  на погашение кредиторской задолженности за выполненные работы  по ликвидации несанкционированных свалок и навалов мусора","001","06","05","10 1 04 61610",null,665.2]
[null,null,null,null,null,null,null,null,null,null,null,null,null,null,null,null,null,null,null,null,null,null,null,"Иные бюджетные ассигнования","001","06","05","10 1 04 61610",800,665.2]
[null,null,null,null,null,null,null,null,null,null,null,null,null,null,null,null,null,null,null,null,null,null,null,"Субсидии юридическим лицам (кроме некоммерческих организаций), индивидуальным предпринимателям, физическим лицам - производителям товаров, работ, услуг","001","06","05","10 1 04 61610",810,665.2]
[null,null,null,null,null,null,null,null,null,null,null,null,null,null,null,null,null,null,null,null,null,null,null,"Образование","001","07",null,null,null,{"$f":"AD485+AD502+AD517+AD478","v":41316.9}]
[null,null,null,null,null,null,null,null,null,null,null,null,null,null,null,null,null,null,null,null,null,null,null,"Общее образование","001","07","02",null,null,{"$f":"AD479","v":200}]
[null,null,null,null,null,null,null,null,null,null,null,null,null,null,null,null,null,null,null,null,null,null,null,"Муниципальная  программа  \"Образование  города  Лыткарино\"  на  2017-2021  годы","001","07","02","03 0 00 00000",null,200]
[null,null,null,null,null,null,null,null,null,null,null,null,null,null,null,null,null,null,null,null,null,null,null,"Подпрограмма  \"Общее образование\"","001","07","02","03 2 00 00000",null,200]
[null,null,null,null,null,null,null,null,null,null,null,null,null,null,null,null,null,null,null,null,null,null,null,"Основное мероприятие \"Обеспечение  развития  инновационной  инфраструктуры  общего  образования\"","001","07","02","03 2 02 00000",null,200]
[null,null,null,null,null,null,null,null,null,null,null,null,null,null,null,null,null,null,null,null,null,null,null,"Проектирование сноса здания на территории земельного участка предназначенного для МС(К)ОУ специальной (коррекционной) общеобразовательной школы N 8 ","001","07","02","03 2 02 00010",null,200]
[null,null,null,null,null,null,null,null,null,null,null,null,null,null,null,null,null,null,null,null,null,null,null,"Закупка товаров, работ и услуг для обеспечения государственных (муниципальных) нужд","001","07","02","03 2 02 00010",200,200]
[null,null,null,null,null,null,null,null,null,null,null,null,null,null,null,null,null,null,null,null,null,null,null,"Иные закупки товаров, работ и услуг для обеспечения государственных (муниципальных) нужд","001","07","02","03 2 02 00010",240,200]
[null,null,null,null,null,null,null,null,null,null,null,null,null,null,null,null,null,null,null,null,null,null,null,"Дополнительное образование детей","001","07","03",null,null,{"$f":"AD486","v":37181}]
[null,null,null,null,null,null,null,null,null,null,null,null,null,null,null,null,null,null,null,null,null,null,null,"Муниципальная  программа «Культура города Лыткарино» на 2017-2021 годы","001","07","03","02 0 00 00000",null,{"$f":"AD487+AD497+AD492","v":37181}]
[null,null,null,null,null,null,null,null,null,null,null,null,null,null,null,null,null,null,null,null,null,null,null,"Подпрограмма  «Организация досуга, предоставление услуг в сфере культуры и доступа к музейным фондам, развитие образования в сфере культуры и искусства в городе Лыткарино» ","001","07","03","02 2 00 00000",null,{"$f":"AD488","v":36166}]
[null,null,null,null,null,null,null,null,null,null,null,null,null,null,null,null,null,null,null,null,null,null,null,"Основное  мероприятие  \"Выделение  средств  субсидии  на  выполнение  муниципального  задания\"","001","07","03","02 2 01 00000",null,{"$f":"AD489","v":36166}]
[null,null,null,null,null,null,null,null,null,null,null,null,null,null,null,null,null,null,null,null,null,null,null,"Расходы  на  обеспечение  деятельности  (оказание  услуг(выполнение работ)) муниципальных  учреждений  по  внешкольной  работе  с  детьми (музыкальная  школа)","001","07","03","02 2 01 06590",null,{"$f":"AD490","v":36166}]
[null,null,null,null,null,null,null,null,null,null,null,null,null,null,null,null,null,null,null,null,null,null,null,"Предоставление субсидий бюджетным, автономным учреждениям и иным некоммерческим организациям","001","07","03","02 2 01 06590",600,36166]
[null,null,null,null,null,null,null,null,null,null,null,null,null,null,null,null,null,null,null,null,null,null,null,"Субсидии бюджетным учреждениям","001","07","03","02 2 01 06590",610,{"$f":"35342.2+224.4+594.1+5.3","v":36166}]
[null,null,null,null,null,null,null,null,null,null,null,null,null,null,null,null,null,null,null,null,null,null,null,"Подпрограмма  «Укрепление материально-технической базы и благоустройство территории муниципальных учреждений в сфере культуры города Лыткарино\"","001","07","03","02 3 00 00000",null,{"$f":"AD493","v":1000}]
[null,null,null,null,null,null,null,null,null,null,null,null,null,null,null,null,null,null,null,null,null,null,null,"Основное  мероприятие  «Укрепление материально-технической базы муниципальных учреждений в сфере культуры города Лыткарино\"","001","07","03","02 3 01 00000",null,{"$f":"AD494","v":1000}]
[null,null,null,null,null,null,null,null,null,null,null,null,null,null,null,null,null,null,null,null,null,null,null,"Укрепление  материльно-технической базы МУ \"Детская музыкальная  школа\"","001","07","03","02 3 01 00070",null,{"$f":"AD495","v":1000}]
[null,null,null,null,null,null,null,null,null,null,null,null,null,null,null,null,null,null,null,null,null,null,null,"Предоставление субсидий бюджетным, автономным учреждениям и иным некоммерческим организациям","001","07","03","02 3 01 00070",600,{"$f":"AD496","v":1000}]
[null,null,null,null,null,null,null,null,null,null,null,null,null,null,null,null,null,null,null,null,null,null,null,"Субсидии бюджетным учреждениям","001","07","03","02 3 01 00070",610,1000]
[null,null,null,null,null,null,null,null,null,null,null,null,null,null,null,null,null,null,null,null,null,null,null,"Подпрограмма  \"Истоки\"","001","07","03","02 5 00 00000",null,{"$f":"AD498","v":15}]
[null,null,null,null,null,null,null,null,null,null,null,null,null,null,null,null,null,null,null,null,null,null,null,"Основное  мероприятие \"Проведение  мероприятий  по  подпрограмме  \"Истоки\"\"","001","07","03","02 5 01 00000",null,15]
[null,null,null,null,null,null,null,null,null,null,null,null,null,null,null,null,null,null,null,null,null,null,null,"Мероприятия  в  сфере  образования","001","07","03",{"$f":"AB500","v":"02 5 01 07000"},null,{"$f":"AD500","v":15}]
[null,null,null,null,null,null,null,null,null,null,null,null,null,null,null,null,null,null,null,null,null,null,null,"Предоставление субсидий бюджетным, автономным учреждениям и иным некоммерческим организациям","001","07","03",{"$f":"AB501","v":"02 5 01 07000"},600,15]
[null,null,null,null,null,null,null,null,null,null,null,null,null,null,null,null,null,null,null,null,null,null,null,"Субсидии бюджетным учреждениям","001","07","03","02 5 01 07000",610,15]
[null,null,null,null,null,null,null,null,null,null,null,null,null,null,null,null,null,null,null,null,null,null,null,"Молодежная политика ","001","07","07",null,null,{"$f":"AD503+AD509","v":1257.9000000000001}]
[null,null,null,null,null,null,null,null,null,null,null,null,null,null,null,null,null,null,null,null,null,null,null,"Муниципальная  программа  \"Безопасность  города  Лыткарино\"  на  2017-2021 годы","001","07","07","08 0 00 00000",null,{"$f":"AD504","v":355.5}]
[null,null,null,null,null,null,null,null,null,null,null,null,null,null,null,null,null,null,null,null,null,null,null,"Подпрограмма \"Профилактика  преступлений  и  иных  правонарушений\"","001","07","07","08 1 00 00000",null,{"$f":"AD505","v":355.5}]
[null,null,null,null,null,null,null,null,null,null,null,null,null,null,null,null,null,null,null,null,null,null,null,"Основное  мероприятие\" Профилактика  и  предупреждение  молодежной (подростковой)  преступности\"","001","07","07","08 1 01 00000",null,355.5]
[null,null,null,null,null,null,null,null,null,null,null,null,null,null,null,null,null,null,null,null,null,null,null,"Мероприятия  в  сфере  молодежной  политики","001","07","07","08 1 01 10000",null,355.5]
[null,null,null,null,null,null,null,null,null,null,null,null,null,null,null,null,null,null,null,null,null,null,null,"Закупка товаров, работ и услуг для обеспечения государственных (муниципальных) нужд","001","07","07","08 1 01 10000",200,355.5]
[null,null,null,null,null,null,null,null,null,null,null,null,null,null,null,null,null,null,null,null,null,null,null,"Иные закупки товаров, работ и услуг для обеспечения государственных (муниципальных) нужд","001","07","07","08 1 01 10000",240,355.5]
[null,null,null,null,null,null,null,null,null,null,null,null,null,null,null,null,null,null,null,null,null,null,null,"Муниципальная  программа «Молодое поколение города Лыткарино» на 2017 - 2021 годы","001","07","07","11 0 00 00000",null,{"$f":"AD510","v":902.4}]
[null,null,null,null,null,null,null,null,null,null,null,null,null,null,null,null,null,null,null,null,null,null,null,"Подпрограмма  \"Мероприятия  для  подростков  и  молодежи  города  Лыткарино\"","001","07","07","11 1 00 00000",null,{"$f":"AD511","v":902.4}]
[null,null,null,null,null,null,null,null,null,null,null,null,null,null,null,null,null,null,null,null,null,null,null,"Основное  мероприятие \" Проведение  мероприятий в соответствии с планом  мероприятий  для  подростков и  молодежи  города  Лыткарино\"","001","07","07","11 1 01 00000",null,902.4]
[null,null,null,null,null,null,null,null,null,null,null,null,null,null,null,null,null,null,null,null,null,null,null,"Мероприятия  в  сфере  молодежной  политики","001","07","07","11 1 01 10000",null,{"$f":"AD513+AD515","v":902.4}]
[null,null,null,null,null,null,null,null,null,null,null,null,null,null,null,null,null,null,null,null,null,null,null,"Закупка товаров, работ и услуг для обеспечения государственных (муниципальных) нужд","001","07","07","11 1 01 10000",200,765.8]
[null,null,null,null,null,null,null,null,null,null,null,null,null,null,null,null,null,null,null,null,null,null,null,"Иные закупки товаров, работ и услуг для обеспечения государственных (муниципальных) нужд","001","07","07","11 1 01 10000",240,{"$f":"1000-75.6-210+51.4","v":765.8}]
[null,null,null,null,null,null,null,null,null,null,null,null,null,null,null,null,null,null,null,null,null,null,null,"Предоставление субсидий бюджетным, автономным учреждениям и иным некоммерческим организациям","001","07","07","11 1 01 10000",600,{"$f":"AD516","v":136.6}]
[null,null,null,null,null,null,null,null,null,null,null,null,null,null,null,null,null,null,null,null,null,null,null,"Субсидии бюджетным учреждениям","001","07","07","11 1 01 10000",610,{"$f":"61+75.6","v":136.6}]
[null,null,null,null,null,null,null,null,null,null,null,null,null,null,null,null,null,null,null,null,null,null,null," Другие вопросы в области образования","001","07","09",null,null,{"$f":"AD519","v":2678}]
[null,null,null,null,null,null,null,null,null,null,null,null,null,null,null,null,null,null,null,null,null,null,null,"Муниципальная  программа «Молодое поколение города Лыткарино» на 2017 - 2021 годы","001","07","09","11 0 00 00000",null,{"$f":"AD519","v":2678}]
[null,null,null,null,null,null,null,null,null,null,null,null,null,null,null,null,null,null,null,null,null,null,null,"Подпрограмма  «Развитие системы отдыха и оздоровления детей и организация трудовой занятости подростков города Лыткарино в период школьных каникул»","001","07","09","11 2 00 00000",null,{"$f":"AD520","v":2678}]
[null,null,null,null,null,null,null,null,null,null,null,null,null,null,null,null,null,null,null,null,null,null,null,"Основное  мероприятие \"Организация  отдыха  детей  и  подростков граждан  Российской  Федерации,   имеющих  место  жительства  в  городе  Лыткарино, в  санаторно-курортных  учреждениях  и  загородных  оздоровительных  лагерях\"","001","07","09","11 2 01 00000",null,{"$f":"AD526+AD521","v":2678}]
[null,null,null,null,null,null,null,null,null,null,null,null,null,null,null,null,null,null,null,null,null,null,null,"Мероприятия по организации отдыха детей в каникулярное время ","001","07","09","11 2 01 62190",null,{"$f":"AD522+AD524","v":0}]
[null,null,null,null,null,null,null,null,null,null,null,null,null,null,null,null,null,null,null,null,null,null,null,"Закупка товаров, работ и услуг для обеспечения государственных (муниципальных) нужд","001","07","09","11 2 01 62190",200,{"$f":"AD523","v":0}]
[null,null,null,null,null,null,null,null,null,null,null,null,null,null,null,null,null,null,null,null,null,null,null,"Иные закупки товаров, работ и услуг для обеспечения государственных (муниципальных) нужд","001","07","09","11 2 01 62190",240]
[null,null,null,null,null,null,null,null,null,null,null,null,null,null,null,null,null,null,null,null,null,null,null,"Социальное обеспечение и иные выплаты населению","001","07","09","11 2 01 62190",300,{"$f":"AD525","v":0}]
[null,null,null,null,null,null,null,null,null,null,null,null,null,null,null,null,null,null,null,null,null,null,null,"Социальные выплаты гражданам, кроме публичных нормативных социальных выплат","001","07","09","11 2 01 62190",320]
[null,null,null,null,null,null,null,null,null,null,null,null,null,null,null,null,null,null,null,null,null,null,null,"Организация  отдыха  детей  и  подростков  в  санаторно-курортных  учреждениях  и  загородных  оздоровительных  лагерях","001","07","09","11 2 01 S2190",null,{"$f":"AD529+AD527+AD531","v":2678}]
[null,null,null,null,null,null,null,null,null,null,null,null,null,null,null,null,null,null,null,null,null,null,null,"Закупка товаров, работ и услуг для обеспечения государственных (муниципальных) нужд","001","07","09","11 2 01 S2190",200,{"$f":"AD528","v":1693.7}]
[null,null,null,null,null,null,null,null,null,null,null,null,null,null,null,null,null,null,null,null,null,null,null,"Иные закупки товаров, работ и услуг для обеспечения государственных (муниципальных) нужд","001","07","09","11 2 01 S2190",240,{"$f":"85+2037-425-3.3","v":1693.7}]
[null,null,null,null,null,null,null,null,null,null,null,null,null,null,null,null,null,null,null,null,null,null,null,"Социальное обеспечение и иные выплаты населению","001","07","09","11 2 01 S2190",300,{"$f":"AD530","v":908.99999999999989}]
[null,null,null,null,null,null,null,null,null,null,null,null,null,null,null,null,null,null,null,null,null,null,null,"Социальные выплаты гражданам, кроме публичных нормативных социальных выплат","001","07","09","11 2 01 S2190",320,{"$f":"606+512-219.7+3.3+7.4","v":908.99999999999989}]
[null,null,null,null,null,null,null,null,null,null,null,null,null,null,null,null,null,null,null,null,null,null,null,"Предоставление субсидий бюджетным, автономным учреждениям и иным некоммерческим организациям","001","07","09","11 2 01 S2190",600,{"$f":"AD532","v":75.3}]
[null,null,null,null,null,null,null,null,null,null,null,null,null,null,null,null,null,null,null,null,null,null,null,"Субсидии бюджетным учреждениям","001","07","09","11 2 01 S2190",610,75.3]
[null,null,null,null,null,null,null,null,null,null,null,null,null,null,null,null,null,null,null,null,null,null,null,"Культура,  кинематография","001","08",null,null,null,{"$f":"AD534","v":105481.9}]
[null,null,null,null,null,null,null,null,null,null,null,null,null,null,null,null,null,null,null,null,null,null,null,"Культура ","001","08","01",null,null,{"$f":"AD535+AG549+AD580","v":105481.9}]
[null,null,null,null,null,null,null,null,null,null,null,null,null,null,null,null,null,null,null,null,null,null,null,"Муниципальная  программа «Культура города Лыткарино» на 2017-2021 годы","001","08","01","02 0 00 00000",null,{"$f":"AD541+AD568+AD573+AD557","v":104042.79999999999}]
[null,null,null,null,null,null,null,null,null,null,null,null,null,null,null,null,null,null,null,null,null,null,null,"Основное  мероприятие \"Укрепление  материально-технической базы  учреждения\"","001","08","01","02 1 04 00000",null,{"$f":"AD537","v":0}]
[null,null,null,null,null,null,null,null,null,null,null,null,null,null,null,null,null,null,null,null,null,null,null,"Приобретение  оборудования","001","08","01","02 1 04 14000",null,0]
[null,null,null,null,null,null,null,null,null,null,null,null,null,null,null,null,null,null,null,null,null,null,null,"Приобретение  музейных  экспонатов","001","08","01",{"$f":"AB539","v":"02 1 04 14020"},null,0]
[null,null,null,null,null,null,null,null,null,null,null,null,null,null,null,null,null,null,null,null,null,null,null,"Закупка товаров, работ и услуг для обеспечения государственных (муниципальных) нужд","001","08","01",{"$f":"AB540","v":"02 1 04 14020"},200,0]
[null,null,null,null,null,null,null,null,null,null,null,null,null,null,null,null,null,null,null,null,null,null,null,"Иные закупки товаров, работ и услуг для обеспечения государственных (муниципальных) нужд","001","08","01","02 1 04 14020",240]
[null,null,null,null,null,null,null,null,null,null,null,null,null,null,null,null,null,null,null,null,null,null,null,"Подпрограмма  «Организация досуга, предоставление услуг в сфере культуры и доступа к музейным фондам, развитие образования в сфере культуры и искусства в городе Лыткарино» ","001","08","01","02 2 00 00000",null,{"$f":"AD542","v":95288.699999999983}]
[null,null,null,null,null,null,null,null,null,null,null,null,null,null,null,null,null,null,null,null,null,null,null,"Основное  мероприятие  \"Выделение  средств  субсидии  на  выполнение  муниципального  задания\"","001","08","01","02 2 01 00000",null,{"$f":"AD543+AD551+AD554","v":95288.699999999983}]
[null,null,null,null,null,null,null,null,null,null,null,null,null,null,null,null,null,null,null,null,null,null,null,"Расходы на  содержание  и  обеспечение    деятельности  дворцов  и домов  культуры (оказание  муниципальных  услуг (выполнение работ))","001","08","01","02 2 01 08590",null,{"$f":"AD544","v":51683.399999999994}]
[null,null,null,null,null,null,null,null,null,null,null,null,null,null,null,null,null,null,null,null,null,null,null,"Предоставление субсидий бюджетным, автономным учреждениям и иным некоммерческим организациям","001","08","01","02 2 01 08590",null,{"$f":"AD545+AD548","v":51683.399999999994}]
[null,null,null,null,null,null,null,null,null,null,null,null,null,null,null,null,null,null,null,null,null,null,null,"Предоставление субсидии на  выполнение  муниципального  задания МУ ДК \"Мир\"","001","08","01","02 2 01 08591",null,{"$f":"AD546","v":29049}]
[null,null,null,null,null,null,null,null,null,null,null,null,null,null,null,null,null,null,null,null,null,null,null,"Предоставление субсидий бюджетным, автономным учреждениям и иным некоммерческим организациям","001","08","01","02 2 01 08591",600,{"$f":"AD547","v":29049}]
[null,null,null,null,null,null,null,null,null,null,null,null,null,null,null,null,null,null,null,null,null,null,null,"Субсидии бюджетным учреждениям","001","08","01","02 2 01 08591",610,{"$f":"25592.8+3456.2","v":29049}]
[null,null,null,null,null,null,null,null,null,null,null,null,null,null,null,null,null,null,null,null,null,null,null,"Предоставление субсидии на  выполнение  муниципального  задания МУ ДК \"Центр молодежи\"","001","08","01",{"$f":"AB549","v":"02 2 01 08592"},null,{"$f":"AD549","v":22634.399999999998}]
[null,null,null,null,null,null,null,null,null,null,null,null,null,null,null,null,null,null,null,null,null,null,null,"Предоставление субсидий бюджетным, автономным учреждениям и иным некоммерческим организациям","001","08","01","02 2 01 08592",600,{"$f":"AD550","v":22634.399999999998}]
[null,null,null,null,null,null,null,null,null,null,null,null,null,null,null,null,null,null,null,null,null,null,null,"Субсидии бюджетным учреждениям","001","08","01","02 2 01 08592",610,{"$f":"22482.6+151.8","v":22634.399999999998}]
[null,null,null,null,null,null,null,null,null,null,null,null,null,null,null,null,null,null,null,null,null,null,null,"Расходы  на содержание  и  обеспечение  деятельности  музеев и постоянных выставок","001","08","01","02 2 01 09590",null,{"$f":"AD552","v":17629.7}]
[null,null,null,null,null,null,null,null,null,null,null,null,null,null,null,null,null,null,null,null,null,null,null,"Предоставление субсидий бюджетным, автономным учреждениям и иным некоммерческим организациям","001","08","01","02 2 01 09590",600,{"$f":"AD553","v":17629.7}]
[null,null,null,null,null,null,null,null,null,null,null,null,null,null,null,null,null,null,null,null,null,null,null,"Субсидии бюджетным учреждениям","001","08","01","02 2 01 09590",610,{"$f":"16173.2+150+187.4+738.1+381","v":17629.7}]
[null,null,null,null,null,null,null,null,null,null,null,null,null,null,null,null,null,null,null,null,null,null,null,"Расходы  на  содержание  и  обеспечение  деятельности  библиотек ","001","08","01","02 2 01 10590",null,{"$f":"AD555","v":25975.599999999999}]
[null,null,null,null,null,null,null,null,null,null,null,null,null,null,null,null,null,null,null,null,null,null,null,"Предоставление субсидий бюджетным, автономным учреждениям и иным некоммерческим организациям","001","08","01","02 2 01 10590",600,{"$f":"AD556","v":25975.599999999999}]
[null,null,null,null,null,null,null,null,null,null,null,null,null,null,null,null,null,null,null,null,null,null,null,"Субсидии бюджетным учреждениям","001","08","01","02 2 01 10590",610,{"$f":"24615.3+150+1210.3","v":25975.599999999999}]
[null,null,null,null,null,null,null,null,null,null,null,null,null,null,null,null,null,null,null,null,null,null,null,"Подпрограмма  «Укрепление материально-технической базы и благоустройство территории муниципальных учреждений в сфере культуры города Лыткарино\"","001","08","01","02 3 00 00000",null,{"$f":"AD558","v":1965.6}]
[null,null,null,null,null,null,null,null,null,null,null,null,null,null,null,null,null,null,null,null,null,null,null,"Основное  мероприятие  «Укрепление материально-технической базы муниципальных учреждений в сфере культуры города Лыткарино\"","001","08","01","02 3 01 00000",null,{"$f":"AD559+AD562+AD565","v":1965.6}]
[null,null,null,null,null,null,null,null,null,null,null,null,null,null,null,null,null,null,null,null,null,null,null,"Укрепление  материльно-технической базы МУ \"Дом культуры \"Центр молодежи\"","001","08","01","02 3 01 00040",null,{"$f":"AD560","v":1030}]
[null,null,null,null,null,null,null,null,null,null,null,null,null,null,null,null,null,null,null,null,null,null,null,"Предоставление субсидий бюджетным, автономным учреждениям и иным некоммерческим организациям","001","08","01","02 3 01 00040",600,{"$f":"AD561","v":1030}]
[null,null,null,null,null,null,null,null,null,null,null,null,null,null,null,null,null,null,null,null,null,null,null,"Субсидии бюджетным учреждениям","001","08","01","02 3 01 00040",610,{"$f":"1000+30","v":1030}]
[null,null,null,null,null,null,null,null,null,null,null,null,null,null,null,null,null,null,null,null,null,null,null,"Укрепление  материльно-технической базы МУ \"Лыткаринский историко-краеведческий музей\"","001","08","01","02 3 01 00060",null,{"$f":"AD563","v":435.6}]
[null,null,null,null,null,null,null,null,null,null,null,null,null,null,null,null,null,null,null,null,null,null,null,"Предоставление субсидий бюджетным, автономным учреждениям и иным некоммерческим организациям","001","08","01","02 3 01 00060",600,{"$f":"AD564","v":435.6}]
[null,null,null,null,null,null,null,null,null,null,null,null,null,null,null,null,null,null,null,null,null,null,null,"Субсидии бюджетным учреждениям","001","08","01","02 3 01 00060",610,{"$f":"623-187.4","v":435.6}]
[null,null,null,null,null,null,null,null,null,null,null,null,null,null,null,null,null,null,null,null,null,null,null,"Приобретение технического оборудования (компьютеры, мониторы, МФУ, проекторы) и программного обеспечения для МУ \"Централизованная библиотечная система\"","001","08","01","02 3 01 04400",null,{"$f":"AD566","v":500}]
[null,null,null,null,null,null,null,null,null,null,null,null,null,null,null,null,null,null,null,null,null,null,null,"Предоставление субсидий бюджетным, автономным учреждениям и иным некоммерческим организациям","001","08","01","02 3 01 04400",600,{"$f":"AD567","v":500}]
[null,null,null,null,null,null,null,null,null,null,null,null,null,null,null,null,null,null,null,null,null,null,null,"Субсидии бюджетным учреждениям","001","08","01","02 3 01 04400",610,500]
[null,null,null,null,null,null,null,null,null,null,null,null,null,null,null,null,null,null,null,null,null,null,null,"Подпрограмма \"Истоки\"","001","08","01","02 5 00 00000",null,{"$f":"AD569","v":498.1}]
[null,null,null,null,null,null,null,null,null,null,null,null,null,null,null,null,null,null,null,null,null,null,null,"Основное  мероприятие \"Проведение  мероприятий  по  подпрограмме  \"Истоки\"\"","001","08","01","02 5 01 00000",null,498.1]
[null,null,null,null,null,null,null,null,null,null,null,null,null,null,null,null,null,null,null,null,null,null,null,"Мероприятия в  сфере  культуры  и  кинематографии","001","08","01","02 5 01 08000",null,{"$f":"AD571","v":498.1}]
[null,null,null,null,null,null,null,null,null,null,null,null,null,null,null,null,null,null,null,null,null,null,null,"Предоставление субсидий бюджетным, автономным учреждениям и иным некоммерческим организациям","001","08","01","02 5 01 08000",600,498.1]
[null,null,null,null,null,null,null,null,null,null,null,null,null,null,null,null,null,null,null,null,null,null,null,"Субсидии бюджетным учреждениям","001","08","01",{"$f":"AB571","v":"02 5 01 08000"},610,{"$f":"435.2+12.3+50.6","v":498.1}]
[null,null,null,null,null,null,null,null,null,null,null,null,null,null,null,null,null,null,null,null,null,null,null,"Подпрограмма  \" Проведение  культурно-массовых  и  праздничных  мероприятий  в  сфере  культуры  в  городе  Лыткарино\"","001","08","01","02 6 00 00000",null,{"$f":"AD574","v":6290.4}]
[null,null,null,null,null,null,null,null,null,null,null,null,null,null,null,null,null,null,null,null,null,null,null,"Основное  мероприятие \"Проведение  культурно-массовых  и  праздничных  мероприятий  в  сфере  культуры  в городе Лыткарино\"","001","08","01","02 6 01 00000",null,6290.4]
[null,null,null,null,null,null,null,null,null,null,null,null,null,null,null,null,null,null,null,null,null,null,null,"Мероприятия в  сфере  культуры  и  кинематографии","001","08","01",{"$f":"AB576","v":"02 6 01 08000"},null,{"$f":"AD576+AD578","v":6290.4}]
[null,null,null,null,null,null,null,null,null,null,null,null,null,null,null,null,null,null,null,null,null,null,null,"Закупка товаров, работ и услуг для обеспечения государственных (муниципальных) нужд","001","08","01",{"$f":"AB577","v":"02 6 01 08000"},200,{"$f":"AD577","v":767.4}]
[null,null,null,null,null,null,null,null,null,null,null,null,null,null,null,null,null,null,null,null,null,null,null,"Иные закупки товаров, работ и услуг для обеспечения государственных (муниципальных) нужд","001","08","01","02 6 01 08000",240,{"$f":"300+275-250+45+47.4+100+100+100+50","v":767.4},50]
[null,null,null,null,null,null,null,null,null,null,null,null,null,null,null,null,null,null,null,null,null,null,null,"Предоставление субсидий бюджетным, автономным учреждениям и иным некоммерческим организациям","001","08","01",{"$f":"AB579","v":"02 6 01 08000"},600,{"$f":"AD579","v":5523}]
[null,null,null,null,null,null,null,null,null,null,null,null,null,null,null,null,null,null,null,null,null,null,null,"Субсидии бюджетным учреждениям","001","08","01","02 6 01 08000",610,{"$f":"2900-275+1698+200+1000","v":5523}]
[null,null,null,null,null,null,null,null,null,null,null,null,null,null,null,null,null,null,null,null,null,null,null,"Муниципальная  программа  \"Безопасность  города  Лыткарино\"  на  2017-2021 годы","001","08","01","08 0 00 00000",null,{"$f":"AD581","v":1439.1}]
[null,null,null,null,null,null,null,null,null,null,null,null,null,null,null,null,null,null,null,null,null,null,null,"Подпрограмма  \"Обеспечение  пожарной  безопасности\"","001","08","01","08 5 00 00000",null,{"$f":"AD587+AD582","v":1439.1}]
[null,null,null,null,null,null,null,null,null,null,null,null,null,null,null,null,null,null,null,null,null,null,null,"Основное  мероприятие \"Организация  профилактики  и  ликвидации пожаров  на  территории  города  Лыткарино\"","001","08","01","08 5 01 00000",null,{"$f":"AD583","v":354.1}]
[null,null,null,null,null,null,null,null,null,null,null,null,null,null,null,null,null,null,null,null,null,null,null,"Мероприятия  в  области  национальной безопасности  и  правоохранительной  деятельности","001","08","01","08 5 01 12000",null,{"$f":"AD584","v":354.1}]
[null,null,null,null,null,null,null,null,null,null,null,null,null,null,null,null,null,null,null,null,null,null,null,"Мероприятия  по обеспечению пожарной  безопасности","001","08","01",{"$f":"AB585","v":"08 5 01 12080"},null,{"$f":"AD585","v":354.1}]
[null,null,null,null,null,null,null,null,null,null,null,null,null,null,null,null,null,null,null,null,null,null,null,"Предоставление субсидий бюджетным, автономным учреждениям и иным некоммерческим организациям","001","08","01",{"$f":"AB586","v":"08 5 01 12080"},"600",{"$f":"AD586","v":354.1}]
[null,null,null,null,null,null,null,null,null,null,null,null,null,null,null,null,null,null,null,null,null,null,null,"Субсидии бюджетным учреждениям","001","08","01","08 5 01 12080","610",354.1]
[null,null,null,null,null,null,null,null,null,null,null,null,null,null,null,null,null,null,null,null,null,null,null,"Основное  мероприятие \"Обеспечение мероприятий, направленных  на  снижение уровня травматизма и смертности на пожарах\"","001","08","01","08 5 02 00000",null,1085]
[null,null,null,null,null,null,null,null,null,null,null,null,null,null,null,null,null,null,null,null,null,null,null,"Мероприятия  в  области  национальной безопасности  и  правоохранительной  деятельности","001","08","01","08 5 02 12000",null,1085]
[null,null,null,null,null,null,null,null,null,null,null,null,null,null,null,null,null,null,null,null,null,null,null,"Мероприятия  по обеспечению пожарной  безопасности","001","08","01","08 5 02 12080",null,{"$f":"AD590","v":1085}]
[null,null,null,null,null,null,null,null,null,null,null,null,null,null,null,null,null,null,null,null,null,null,null,"Предоставление субсидий бюджетным, автономным учреждениям и иным некоммерческим организациям","001","08","01","08 5 02 12080",600,1085]
[null,null,null,null,null,null,null,null,null,null,null,null,null,null,null,null,null,null,null,null,null,null,null,"Субсидии бюджетным учреждениям","001","08","01","08 5 02 12080",610,{"$f":"700+385","v":1085}]
[null,null,null,null,null,null,null,null,null,null,null,null,null,null,null,null,null,null,null,null,null,null,null,"Здравоохранение","001","09",null,null,null,{"$f":"AD593","v":15130}]
[null,null,null,null,null,null,null,null,null,null,null,null,null,null,null,null,null,null,null,null,null,null,null,"Другие вопросы в области здравоохранения","001","09","09",null,null,15130]
[null,null,null,null,null,null,null,null,null,null,null,null,null,null,null,null,null,null,null,null,null,null,null,"Муниципальная  программа «Муниципальное управление города Лыткарино на 2017-2021 годы»","001","09","09","01 0 00 00000",null,15130]
[null,null,null,null,null,null,null,null,null,null,null,null,null,null,null,null,null,null,null,null,null,null,null,"Подпрограмма  \"Создание  условий  для  оказания  медицинской  помощи  на  территории  города  Лыткарино\"","001","09","09","01 2 00 00000",null,{"$f":"AD596+AD605+AD600","v":15130}]
[null,null,null,null,null,null,null,null,null,null,null,null,null,null,null,null,null,null,null,null,null,null,null,"Основное  мероприятие  \"Предоставление  целевой  субсидии  на  компенсацию  расходов  на  оплату  жилых  помещений\"","001","09","09","01 2 01 00000",null,{"$f":"AD597","v":2132}]
[null,null,null,null,null,null,null,null,null,null,null,null,null,null,null,null,null,null,null,null,null,null,null,"Расходы  на  предоставление целевой субсидии на компенсацию расходов\n на оплату жилых помещений","001","09","09",{"$f":"AB598","v":"01 2 01 00010"},null,2132]
[null,null,null,null,null,null,null,null,null,null,null,null,null,null,null,null,null,null,null,null,null,null,null,"Социальное обеспечение и иные выплаты населению","001","09","09",{"$f":"AB599","v":"01 2 01 00010"},300,2132]
[null,null,null,null,null,null,null,null,null,null,null,null,null,null,null,null,null,null,null,null,null,null,null,"Социальные выплаты гражданам, кроме публичных нормативных социальных выплат","001","09","09","01 2 01 00010",320,{"$f":"1152+240+240+500","v":2132},500]
[null,null,null,null,null,null,null,null,null,null,null,null,null,null,null,null,null,null,null,null,null,null,null,"Основное  мероприятие\" Частичная  компенсация  расходов на  проезд  общественным  транспортом к  месту  работы  и  обратно  отдельным  категориям медицинских  работников\"","001","09","09","01 2 02 00000",null,{"$f":"AD601","v":148}]
[null,null,null,null,null,null,null,null,null,null,null,null,null,null,null,null,null,null,null,null,null,null,null,"Расходы  на  частичную  компенсацию расходов  на  проезд общественным  транспортом к  месту  работы  и  обратно  отдельным  категориям медицинских  работников ","001","09","09",{"$f":"AB602","v":"01 2 02 00010"},null,148]
[null,null,null,null,null,null,null,null,null,null,null,null,null,null,null,null,null,null,null,null,null,null,null,"Социальное обеспечение и иные выплаты населению","001","09","09",{"$f":"AB603","v":"01 2 02 00010"},300,148]
[null,null,null,null,null,null,null,null,null,null,null,null,null,null,null,null,null,null,null,null,null,null,null,"Социальные выплаты гражданам, кроме публичных нормативных социальных выплат","001","09","09","01 2 02 00010",320,148]
[null,null,null,null,null,null,null,null,null,null,null,null,null,null,null,null,null,null,null,null,null,null,null,"Основное  мероприятие  \"Обеспечение  полноценным  питанием  беременных  женщин,  кормящих  матерей, а  также  детей  в  возрасте  до  трех  лет\"","001","09","09","01 2 04 00000",null,{"$f":"AD605","v":12850}]
[null,null,null,null,null,null,null,null,null,null,null,null,null,null,null,null,null,null,null,null,null,null,null,"Обеспечение полноценным питанием беременных женщин, кормящих матерей, а также детей в возрасте до трех лет в Московской области  ","001","09","09",{"$f":"AB606","v":"01 2 04 62080"},null,12850]
[null,null,null,null,null,null,null,null,null,null,null,null,null,null,null,null,null,null,null,null,null,null,null,"Закупка товаров, работ и услуг для обеспечения государственных (муниципальных) нужд","001","09","09",{"$f":"AB607","v":"01 2 04 62080"},200,12850]
[null,null,null,null,null,null,null,null,null,null,null,null,null,null,null,null,null,null,null,null,null,null,null,"Иные закупки товаров, работ и услуг для обеспечения государственных (муниципальных) нужд","001","09","09","01 2 04 62080",240,{"$f":"12066-2378+3162","v":12850}]
[null,null,null,null,null,null,null,null,null,null,null,null,null,null,null,null,null,null,null,null,null,null,null,"Социальная политика","001","10",null,null,null,{"$f":"AD609+AD616+AD643","v":12091.900000000001}]
[null,null,null,null,null,null,null,null,null,null,null,null,null,null,null,null,null,null,null,null,null,null,null,"Пенсионное обеспечение","001",10,"01",null,null,{"$f":"AD610","v":3118.3}]
[null,null,null,null,null,null,null,null,null,null,null,null,null,null,null,null,null,null,null,null,null,null,null,"Муниципальная  программа  \"Муниципальное  управление  города  Лыткарино\"  на  2017-2021 годы","001",10,"01","01 0 00 00000",null,3118.3]
[null,null,null,null,null,null,null,null,null,null,null,null,null,null,null,null,null,null,null,null,null,null,null,"Подпрограмма  «Развитие муниципальной службы» ","001",10,"01","01 6 00 00000",null,3118.3]
[null,null,null,null,null,null,null,null,null,null,null,null,null,null,null,null,null,null,null,null,null,null,null,"Основное  мероприятие \"Повышение  мотивации  к  исполнению  должностных  обязанностей  муниципальных  служащих\"","001",10,"01","01 6 02 00000",null,3118.3]
[null,null,null,null,null,null,null,null,null,null,null,null,null,null,null,null,null,null,null,null,null,null,null,"Пенсия за выслугу лет лицам, замещавшим муниципальные должности или должности муниципальной службы в органах местного самоуправления и избирательных комиссиях муниципального образования \"Город Лыткарино Московской области\"","001",10,"01",{"$f":"AB614","v":"01 6 02 00020"},null,3118.3]
[null,null,null,null,null,null,null,null,null,null,null,null,null,null,null,null,null,null,null,null,null,null,null,"Социальное обеспечение и иные выплаты населению","001",10,"01",{"$f":"AB615","v":"01 6 02 00020"},300,3118.3]
[null,null,null,null,null,null,null,null,null,null,null,null,null,null,null,null,null,null,null,null,null,null,null,"Социальные выплаты гражданам, кроме публичных нормативных социальных выплат","001",10,"01","01 6 02 00020",320,{"$f":"3020.9+40+3.4+54","v":3118.3},54]
[null,null,null,null,null,null,null,null,null,null,null,null,null,null,null,null,null,null,null,null,null,null,null,"Социальное обеспечение населения","001",10,"03",null,null,{"$f":"AD617","v":5437.6}]
[null,null,null,null,null,null,null,null,null,null,null,null,null,null,null,null,null,null,null,null,null,null,null,"Муниципальная  программа  \"Забота\"  на  2017-2021 годы","001",10,"03","07 0 00 00000",null,5437.6]
[null,null,null,null,null,null,null,null,null,null,null,null,null,null,null,null,null,null,null,null,null,null,null,"Подпрограмма  \"Городская  поддержка\"","001",10,"03","07 2 00 00000",null,{"$f":"AD619+AD624+AD634+AD638","v":5437.6}]
[null,null,null,null,null,null,null,null,null,null,null,null,null,null,null,null,null,null,null,null,null,null,null,"Основное мероприятие «Выплаты гражданам, имеющим звания: «Почётный гражданин г. Лыткарино», «Почётный работник здравоохранения  \nг. Лыткарино», «Почётный учитель г. Лыткарино», «Почётный работник культуры г. Лыткарино»","001",10,"03","07 2 02 00000",null,{"$f":"AD620","v":482}]
[null,null,null,null,null,null,null,null,null,null,null,null,null,null,null,null,null,null,null,null,null,null,null,"Мероприятия  в  сфере  социальной  политики","001",10,"03","07 2 02 20000",null,482]
[null,null,null,null,null,null,null,null,null,null,null,null,null,null,null,null,null,null,null,null,null,null,null," «Выплаты гражданам, имеющим звания: «Почётный гражданин г. Лыткарино», «Почётный работник здравоохранения г. Лыткарино», «Почётный учитель г.Лыткарино»,«Почётный работник культуры г. Лыткарино»","001",10,"03",{"$f":"AB622","v":"07 2 02 20020"},null,482]
[null,null,null,null,null,null,null,null,null,null,null,null,null,null,null,null,null,null,null,null,null,null,null,"Социальное обеспечение и иные выплаты населению","001",10,"03",{"$f":"AB623","v":"07 2 02 20020"},300,482]
[null,null,null,null,null,null,null,null,null,null,null,null,null,null,null,null,null,null,null,null,null,null,null,"Публичные нормативные социальные выплаты гражданам","001",10,"03","07 2 02 20020",310,482]
[null,null,null,null,null,null,null,null,null,null,null,null,null,null,null,null,null,null,null,null,null,null,null,"Основное  мероприятие  \"Поддержка  и  социальная  защита  пожилых  граждан  и  инвалидов,  передавших  жилую  площадь  в  муниципальную  собственность  города  Лыткарино  по  договорам  пожизненного  содержания  с  иждивением","001",10,"03","07 2 03 00000",null,{"$f":"AD625+AD628","v":2812}]
[null,null,null,null,null,null,null,null,null,null,null,null,null,null,null,null,null,null,null,null,null,null,null,"Выплаты  денежной  компенсации  гражданам  за  переданное  в  муниципальную собственность  жилье","001",10,"03",{"$f":"AB626","v":"07 2 03 20030"},null,{"$f":"AD626","v":2583.9}]
[null,null,null,null,null,null,null,null,null,null,null,null,null,null,null,null,null,null,null,null,null,null,null,"Социальное обеспечение и иные выплаты населению","001",10,"03",{"$f":"AB627","v":"07 2 03 20030"},300,2583.9]
[null,null,null,null,null,null,null,null,null,null,null,null,null,null,null,null,null,null,null,null,null,null,null,"Публичные нормативные социальные выплаты гражданам","001",10,"03","07 2 03 20030",310,{"$f":"2112+11.9+230+230","v":2583.9},230]
["Закупка товаров, работ и услуг для государственных (муниципальных) нужд","001",10,"03",{"$f":"E629","v":"07 2 2006"},200,null,null,null,null,null,null,null,null,null,null,null,null,null,null,null,null,null,"Расходы  на  социальные  услуги  по  договорам  пожизненного  содержания  с  иждивением  за  переданное  в  муниципальную  собственность  жильё  и  на  поздравления  с  днём  рождения","001",10,"03",{"$f":"AB629","v":"07 2 03 20040"},null,{"$f":"AD629+AD631","v":228.10000000000002}]
["Иные закупки товаров, работ и услуг для обеспечения государственных (муниципальных) нужд","001",10,"03","07 2 2006",240,null,null,null,null,null,null,null,null,null,null,null,null,null,null,null,null,null,"Закупка товаров, работ и услуг для обеспечения государственных (муниципальных) нужд","001",10,"03",{"$f":"AB630","v":"07 2 03 20040"},200,{"$f":"AD630","v":91.3}]
[null,null,null,null,null,null,null,null,null,null,null,null,null,null,null,null,null,null,null,null,null,null,null,"Иные закупки товаров, работ и услуг для обеспечения государственных (муниципальных) нужд","001",10,"03",{"$f":"AB631","v":"07 2 03 20040"},240,{"$f":"103.2-11.9","v":91.3}]
[null,null,null,null,null,null,null,null,null,null,null,null,null,null,null,null,null,null,null,null,null,null,null,"Социальное обеспечение и иные выплаты населению","001",10,"03",{"$f":"AB632","v":"07 2 03 20040"},300,{"$f":"AD632","v":136.80000000000001}]
[null,null,null,null,null,null,null,null,null,null,null,null,null,null,null,null,null,null,null,null,null,null,null,"Публичные нормативные социальные выплаты гражданам","001",10,"03","07 2 03 20040",310,136.80000000000001]
[null,null,null,null,null,null,null,null,null,null,null,null,null,null,null,null,null,null,null,null,null,null,null,"Основное  мероприятие \"Расходы  на  поддержку отдельных категорий граждан города Лыткарино в виде организации и предоставления транспорта для проезда в г. Жуковский Московской области на освидетельствование МСЭ\"","001",10,"03","07 2 05 00000",null,{"$f":"AD635","v":1104}]
[null,null,null,null,null,null,null,null,null,null,null,null,null,null,null,null,null,null,null,null,null,null,null,"Мероприятия  в  сфере  социальной  политики","001",10,"03","07 2 05 20000",null,{"$f":"AD635","v":1104}]
[null,null,null,null,null,null,null,null,null,null,null,null,null,null,null,null,null,null,null,null,null,null,null,"Основное  мероприятие \"Расходы  на  поддержку отдельных категорий граждан города Лыткарино в виде организации и предоставления транспорта для проезда в г. Жуковский Московской области на освидетельствование МСЭ\"","001",10,"03",{"$f":"AB636","v":"07 2 05 20060"},null,{"$f":"AD636","v":1104}]
[null,null,null,null,null,null,null,null,null,null,null,null,null,null,null,null,null,null,null,null,null,null,null,"Предоставление субсидий бюджетным, автономным учреждениям и иным некоммерческим организациям","001",10,"03",{"$f":"AB637","v":"07 2 05 20060"},600,1104]
[null,null,null,null,null,null,null,null,null,null,null,null,null,null,null,null,null,null,null,null,null,null,null,"Субсидии некоммерческим организациям (за исключением государственных (муниципальных) учреждений)","001",10,"03","07 2 05 20060",610,{"$f":"552+552","v":1104}]
[null,null,null,null,null,null,null,null,null,null,null,null,null,null,null,null,null,null,null,null,null,null,null,"Основное мероприятие \"Меры социальной поддержки отдельных категорий граждан на посещение спортивных объектов города Лыткарино\"","001",10,"03","07 2 06 00000",null,{"$f":"AD639","v":1039.5999999999999}]
[null,null,null,null,null,null,null,null,null,null,null,null,null,null,null,null,null,null,null,null,null,null,null,"Мероприятия  в  сфере  социальной  политики","001",10,"03","07 2 06 20000",null,{"$f":"AD640","v":1039.5999999999999}]
[null,null,null,null,null,null,null,null,null,null,null,null,null,null,null,null,null,null,null,null,null,null,null,"Меры социальной поддержки граждан пенсионного возраста, инвалидов, детей  из многодетных семей в виде предоставления льготы в размере 50% от стоимости полного входного билета  на посещение МАУ \"ЛСК Лыткарино\" ","001",10,"03","07 2 06 20070",null,{"$f":"AD641","v":1039.5999999999999}]
[null,null,null,null,null,null,null,null,null,null,null,null,null,null,null,null,null,null,null,null,null,null,null,"Предоставление субсидий бюджетным, автономным учреждениям и иным некоммерческим организациям","001",10,"03","07 2 06 20070",600,{"$f":"AD642","v":1039.5999999999999}]
[null,null,null,null,null,null,null,null,null,null,null,null,null,null,null,null,null,null,null,null,null,null,null,"Субсидии  автономным  учреждениям","001",10,"03","07 2 06 20070",620,1039.5999999999999]
[null,null,null,null,null,null,null,null,null,null,null,null,null,null,null,null,null,null,null,null,null,null,null,"Другие  вопросы  в  области  социальной  политики  ","001",10,"06",null,null,{"$f":"AD644","v":3536}]
[null,null,null,null,null,null,null,null,null,null,null,null,null,null,null,null,null,null,null,null,null,null,null,"Муниципальная  программа  \"Забота\"  на  2017-2021 годы","001",10,"06","07 0 00 00000",null,3536,156]
[null,null,null,null,null,null,null,null,null,null,null,null,null,null,null,null,null,null,null,null,null,null,null,"Подпрограмма \"Развитие  и поддержка социально ориентированных  некоммерческих  организаций на территории городского округа Лыткарино\"","001",10,"06","07 3 00 00000",null,{"$f":"AD646","v":3536}]
[null,null,null,null,null,null,null,null,null,null,null,null,null,null,null,null,null,null,null,null,null,null,null,"Основное  мероприятие  \"Осуществление  финансовой поддержки социально ориентированных  некоммерческих  организаций\"","001",10,"06","07 3 01 00000",null,{"$f":"AD647","v":3536}]
[null,null,null,null,null,null,null,null,null,null,null,null,null,null,null,null,null,null,null,null,null,null,null,"Мероприятия  в  сфере  социальной  политики","001",10,"06","07 3 01 20000",null,{"$f":"AD648+AD651","v":3536}]
[null,null,null,null,null,null,null,null,null,null,null,null,null,null,null,null,null,null,null,null,null,null,null,"Предоставление субсидий  социально ориентированным  некоммерческим  организациям,  осуществляющим  свою  деятельность  на  территории  города  Лыткарино","001",10,"06",{"$f":"AB649","v":"07 3 01 20010"},null,2886]
[null,null,null,null,null,null,null,null,null,null,null,null,null,null,null,null,null,null,null,null,null,null,null,"Предоставление субсидий бюджетным, автономным учреждениям и иным некоммерческим организациям","001",10,"06",{"$f":"AB650","v":"07 3 01 20010"},600,2886]
[null,null,null,null,null,null,null,null,null,null,null,null,null,null,null,null,null,null,null,null,null,null,null,"Субсидии некоммерческим организациям (за исключением государственных (муниципальных) учреждений)","001",10,"06","07 3 01 20010",630,{"$f":"2730+156","v":2886},156]
[null,null,null,null,null,null,null,null,null,null,null,null,null,null,null,null,null,null,null,null,null,null,null,"Расходы на  проведение  обучения  родителей  в  замещающих  семьях","001",10,"06","07 3 01 20020",null,{"$f":"AD652","v":650}]
[null,null,null,null,null,null,null,null,null,null,null,null,null,null,null,null,null,null,null,null,null,null,null,"Предоставление субсидий бюджетным, автономным учреждениям и иным некоммерческим организациям","001",10,"06",{"$f":"AB653","v":"07 3 01 20020"},600,650]
[null,null,null,null,null,null,null,null,null,null,null,null,null,null,null,null,null,null,null,null,null,null,null,"Субсидии некоммерческим организациям (за исключением государственных (муниципальных) учреждений)","001",10,"06","07 3 01 20020",630,{"$f":"200+450","v":650},450]
[null,null,null,null,null,null,null,null,null,null,null,null,null,null,null,null,null,null,null,null,null,null,null,"Физическая  культура  и  спорт","001",11,null,null,null,{"$f":"AD666+AD655","v":92813.2}]
[null,null,null,null,null,null,null,null,null,null,null,null,null,null,null,null,null,null,null,null,null,null,null,"Физическая культура","001",11,"01",null,null,{"$f":"AD656","v":29771.200000000001}]
[null,null,null,null,null,null,null,null,null,null,null,null,null,null,null,null,null,null,null,null,null,null,null,"Муниципальная  программа  \"Физическая  культура  и  спорт  города  Лыткарино\"  на  2017-2021 годы","001",11,"01","05 0 00 00000",null,{"$f":"AD657","v":29771.200000000001}]
[null,null,null,null,null,null,null,null,null,null,null,null,null,null,null,null,null,null,null,null,null,null,null,"Подпрограмма \"Развитие  физической  культуры  и  спорта  в  городе  Лыткарино\"","001",11,"01","05 2 00 00000",null,{"$f":"AD658+AD662","v":29771.200000000001}]
[null,null,null,null,null,null,null,null,null,null,null,null,null,null,null,null,null,null,null,null,null,null,null,"Основное  мероприятие  \"Предоставление   субсидии  на  выполнение  муниципального  задания  МАУ \"ЛСК Лыткарино\"","001",11,"01","05 2 04 00000",null,29721.200000000001]
[null,null,null,null,null,null,null,null,null,null,null,null,null,null,null,null,null,null,null,null,null,null,null,"Предоставление   субсидии  на  выполнение  муниципального  задания  спортивных комплексов","001",11,"01","05 2 04 12590",null,29721.200000000001]
[null,null,null,null,null,null,null,null,null,null,null,null,null,null,null,null,null,null,null,null,null,null,null,"Предоставление субсидий бюджетным, автономным учреждениям и иным некоммерческим организациям","001",11,"01",{"$f":"AB661","v":"05 2 04 12590"},600,29721.200000000001]
[null,null,null,null,null,null,null,null,null,null,null,null,null,null,null,null,null,null,null,null,null,null,null,"Субсидии  автономным  учреждениям","001",11,"01","05 2 04 12590",620,{"$f":"29271.2+450","v":29721.200000000001}]
[null,null,null,null,null,null,null,null,null,null,null,null,null,null,null,null,null,null,null,null,null,null,null,"Основное  мероприятие  \"Укрепление материально-технической базы муниципальных  учреждений  физической культуры  и  спорта\"  ","001",11,"01","05 2 05 00000",null,{"$f":"AD663","v":50}]
[null,null,null,null,null,null,null,null,null,null,null,null,null,null,null,null,null,null,null,null,null,null,null,"Укрепление материально-технической базы МАУ  \"ЛСК  Лыткарино\"","001",11,"01",{"$f":"AB664","v":"05 2 05 00020"},null,{"$f":"AD664","v":50}]
[null,null,null,null,null,null,null,null,null,null,null,null,null,null,null,null,null,null,null,null,null,null,null,"Предоставление субсидий бюджетным, автономным учреждениям и иным некоммерческим организациям","001",11,"01",{"$f":"AB665","v":"05 2 05 00020"},600,{"$f":"AD665","v":50}]
[null,null,null,null,null,null,null,null,null,null,null,null,null,null,null,null,null,null,null,null,null,null,null,{"$f":"'[4]Функц. 2018'!A1194","v":"Укрепление материально-технической базы МАУ  \"ЛСК  Лыткарино\""},"001",11,"01","05 2 05 00020",620,{"$f":"150+50-100-50","v":50}]
[null,null,null,null,null,null,null,null,null,null,null,null,null,null,null,null,null,null,null,null,null,null,null,"Массовый  спорт","001",11,"02",null,null,{"$f":"AD667","v":63042}]
[null,null,null,null,null,null,null,null,null,null,null,null,null,null,null,null,null,null,null,null,null,null,null,"Муниципальная  программа  \"Физическая  культура  и  спорт  города  Лыткарино\"  на  2017-2021 годы","001",11,"02","05 0 00 00000",null,{"$f":"AD678+AD668","v":63042}]
[null,null,null,null,null,null,null,null,null,null,null,null,null,null,null,null,null,null,null,null,null,null,null,"Подпрограмма  \"Строительство,реконструкция,модернизация  и  благоустройство  территории  объектов  физической  культуры  и  спорта  города  Лыткарино\"    ","001",11,"02","05 1 00 00000",null,{"$f":"AD669+AD674","v":5300}]
[null,null,null,null,null,null,null,null,null,null,null,null,null,null,null,null,null,null,null,null,null,null,null,"Основное  мероприятие \"Организация  благоустройства  спортивных  кортов  города\"","001",11,"02","05 1 01 00000",null,{"$f":"AD670","v":300}]
[null,null,null,null,null,null,null,null,null,null,null,null,null,null,null,null,null,null,null,null,null,null,null,"Мероприятия  в  сфере  физкультуры  и  спорта","001",11,"02","05 1 01 09000",null,{"$f":"AD671","v":300}]
[null,null,null,null,null,null,null,null,null,null,null,null,null,null,null,null,null,null,null,null,null,null,null,"Организация  благоустройства спортивных  кортов города","001",11,"02","05 1 01 09010",null,300]
[null,null,null,null,null,null,null,null,null,null,null,null,null,null,null,null,null,null,null,null,null,null,null,"Закупка товаров, работ и услуг для обеспечения государственных (муниципальных) нужд","001",11,"02","05 1 01 09010",200,300]
[null,null,null,null,null,null,null,null,null,null,null,null,null,null,null,null,null,null,null,null,null,null,null,"Иные закупки товаров, работ и услуг для обеспечения государственных (муниципальных) нужд","001",11,"02","05 1 01 09010",240,300]
[null,null,null,null,null,null,null,null,null,null,null,null,null,null,null,null,null,null,null,null,null,null,null,"Основное мероприятие «Федеральный проект \"Спорт-норма жизни\"","001",11,"02","05 1 P5 00000",null,{"$f":"AD675","v":5000}]
[null,null,null,null,null,null,null,null,null,null,null,null,null,null,null,null,null,null,null,null,null,null,null,"Расходы  для  подготовки  основания, приобретение и установка скейт-парка","001",11,"02","05 1 P5 S1140",null,{"$f":"AD676","v":5000}]
[null,null,null,null,null,null,null,null,null,null,null,null,null,null,null,null,null,null,null,null,null,null,null,"Предоставление субсидий бюджетным, автономным учреждениям и иным некоммерческим организациям","001",11,"02","05 1 P5 S1140",600,{"$f":"AD677","v":5000}]
[null,null,null,null,null,null,null,null,null,null,null,null,null,null,null,null,null,null,null,null,null,null,null,"Субсидии бюджетным учреждениям","001",11,"02","05 1 P5 S1140",610,{"$f":"1085+3915","v":5000}]
[null,null,null,null,null,null,null,null,null,null,null,null,null,null,null,null,null,null,null,null,null,null,null,"Подпрограмма \"Развитие  физической  культуры  и  спорта  в  городе  Лыткарино\"","001",11,"02","05 2 00 00000",null,{"$f":"AD679+AD687","v":57742}]
[null,null,null,null,null,null,null,null,null,null,null,null,null,null,null,null,null,null,null,null,null,null,null,"Основное  мероприятие \"Календарный  план  спортивно-массовых  мероприятий  города  Лыткарино\"","001",11,"02","05 2 01 00000",null,{"$f":"AD680","v":2628.8}]
[null,null,null,null,null,null,null,null,null,null,null,null,null,null,null,null,null,null,null,null,null,null,null,"Мероприятия  в  сфере  физкультуры  и  спорта","001",11,"02","05 2 01 09000",null,2628.8]
[null,null,null,null,null,null,null,null,null,null,null,null,null,null,null,null,null,null,null,null,null,null,null,"Организация  спортивно-массовых  мероприятий","001",11,"02","05 2 01 09010",null,{"$f":"AD682+AD684","v":2628.8}]
[null,null,null,null,null,null,null,null,null,null,null,null,null,null,null,null,null,null,null,null,null,null,null,"Закупка товаров, работ и услуг для обеспечения государственных (муниципальных) нужд","001",11,"02","05 2 01 09010",200,{"$f":"AD683","v":2358.8000000000002}]
[null,null,null,null,null,null,null,null,null,null,null,null,null,null,null,null,null,null,null,null,null,null,null,"Иные закупки товаров, работ и услуг для обеспечения государственных (муниципальных) нужд","001",11,"02","05 2 01 09010",240,{"$f":"3000-171.2-190-280","v":2358.8000000000002}]
[null,null,null,null,null,null,null,null,null,null,null,null,null,null,null,null,null,null,null,null,null,null,null,"Предоставление субсидий бюджетным, автономным учреждениям и иным некоммерческим организациям","001",11,"02","05 2 01 09010",600,{"$f":"AD685+AD686","v":270}]
[null,null,null,null,null,null,null,null,null,null,null,null,null,null,null,null,null,null,null,null,null,null,null,"Субсидии бюджетным учреждениям","001",11,"02","05 2 01 09010",610,80]
[null,null,null,null,null,null,null,null,null,null,null,null,null,null,null,null,null,null,null,null,null,null,null,"Субсидии  автономным  учреждениям","001",11,"02","05 2 01 09010",620,190]
[null,null,null,null,null,null,null,null,null,null,null,null,null,null,null,null,null,null,null,null,null,null,null,"Основное  мероприятие  \"Обеспечение  деятельности  муниципальных  учреждений\"","001",11,"02","05 2 03 00000",null,{"$f":"AD688","v":55113.2}]
[null,null,null,null,null,null,null,null,null,null,null,null,null,null,null,null,null,null,null,null,null,null,null,"Расходы  на  обеспечение  деятельности  спортивных  школ","001",11,"02","05 2 03 06590",null,{"$f":"AD689+AD692","v":55113.2}]
[null,null,null,null,null,null,null,null,null,null,null,null,null,null,null,null,null,null,null,null,null,null,null,"Предоставление  средств  субсидии  на  выполнение   муниципального  задания   МБУ  \"СШ  Лыткарино\"","001",11,"02","05 2 03 06591",null,{"$f":"AD690","v":34886.199999999997}]
[null,null,null,null,null,null,null,null,null,null,null,null,null,null,null,null,null,null,null,null,null,null,null,"Предоставление субсидий бюджетным, автономным учреждениям и иным некоммерческим организациям","001",11,"02","05 2 03 06591",600,{"$f":"AD691","v":34886.199999999997}]
[null,null,null,null,null,null,null,null,null,null,null,null,null,null,null,null,null,null,null,null,null,null,null,"Субсидии бюджетным учреждениям","001",11,"02","05 2 03 06591",610,{"$f":"32762.4+171.2+1952.6","v":34886.199999999997}]
[null,null,null,null,null,null,null,null,null,null,null,null,null,null,null,null,null,null,null,null,null,null,null,"Предоставление  средств  субсидии  на  выполнение   муниципального  задания   МБУ  \"СШОР  Лыткарино\"","001",11,"02","05 2 03 06592",null,{"$f":"AD693","v":20227}]
[null,null,null,null,null,null,null,null,null,null,null,null,null,null,null,null,null,null,null,null,null,null,null,"Предоставление субсидий бюджетным, автономным учреждениям и иным некоммерческим организациям","001",11,"02","05 2 03 06592",600,{"$f":"AD694","v":20227}]
[null,null,null,null,null,null,null,null,null,null,null,null,null,null,null,null,null,null,null,null,null,null,null,"Субсидии бюджетным учреждениям","001",11,"02","05 2 03 06592",610,{"$f":"18448.2+1778.8","v":20227}]
[null,null,null,null,null,null,null,null,null,null,null,null,null,null,null,null,null,null,null,null,null,null,null,"Обслуживание  государственного  и  муниципального  долга","001",13,null,null,null,{"$f":"AD696","v":25520.6}]
[null,null,null,null,null,null,null,null,null,null,null,null,null,null,null,null,null,null,null,null,null,null,null,"Обслуживание    государственного  внутреннего  и  муниципального  долга","001",13,"01",null,null,{"$f":"AD700","v":25520.6}]
[null,null,null,null,null,null,null,null,null,null,null,null,null,null,null,null,null,null,null,null,null,null,null,"Муниципальная  программа «Муниципальное управление города Лыткарино на 2017-2021 годы»","001",13,"01","01 0 00 00000",null,{"$f":"AD700","v":25520.6}]
[null,null,null,null,null,null,null,null,null,null,null,null,null,null,null,null,null,null,null,null,null,null,null,"Подпрограмма  \"Управление  муниципальными  финансами города  Лыткарино\"","001",13,"01","01 9 00 00000",null,{"$f":"AD699","v":25520.6}]
[null,null,null,null,null,null,null,null,null,null,null,null,null,null,null,null,null,null,null,null,null,null,null,"Основное  мероприятие \"Обеспечение своевременности и полноты исполнения долговых обязательств в части расходов на обслуживание муниципального долга\"","001",13,"01","01 9 01 00000",null,25520.6]
[null,null,null,null,null,null,null,null,null,null,null,null,null,null,null,null,null,null,null,null,null,null,null,"Процентные платежи по долговым обязательствам","001",13,"01",{"$f":"AB701","v":"01 9 01 00010"},null,{"$f":"AD701","v":25520.6}]
[null,null,null,null,null,null,null,null,null,null,null,null,null,null,null,null,null,null,null,null,null,null,null,"Обслуживание государственного (муниципального) долга","001",13,"01",{"$f":"AB702","v":"01 9 01 00010"},700,25520.6]
[null,null,null,null,null,null,null,null,null,null,null,null,null,null,null,null,null,null,null,null,null,null,null,"Обслуживание    муниципального  долга","001",13,"01","01 9 01 00010",730,{"$f":"22000+3000+150+370.6","v":25520.6}]
[null,null,null,null,null,null,null,null,null,null,null,null,null,null,null,null,null,null,null,null,null,null,null,"Совет  депутатов  городского округа  Лыткарино","002",null,null,null,null,{"$f":"AD704+AD745+AD738","v":11854.3}]
[null,null,null,null,null,null,null,null,null,null,null,null,null,null,null,null,null,null,null,null,null,null,null,"Общегосударственные вопросы","002","01",null,null,null,{"$f":"AD705","v":11653}]
["* публичные обязательства",null,null,null,null,null,null,null,null,null,null,null,null,null,null,null,null,null,null,null,null,null,null,"Функционирование законодательных (представительных) органов государственной власти и представительных органов муниципальных образований","002","01","03",null,null,{"$f":"AD719+AD706+AD712","v":11653}]
[null,null,null,null,null,null,null,null,null,null,null,null,null,null,null,null,null,null,null,null,null,null,null,"Муниципальная  программа «Муниципальное управление города Лыткарино на 2017-2021 годы»","002","01","03","01 0 00 00000",null,{"$f":"AD707","v":10}]
[null,null,null,null,null,null,null,null,null,null,null,null,null,null,null,null,null,null,null,null,null,null,null,"Подпрограмма «Развитие системы информирования населения о деятельности органов местного самоуправления города Лыткарино Московской области» ","002","01","03","01 4 00 00000",null,{"$f":"AD708","v":10}]
[null,null,null,null,null,null,null,null,null,null,null,null,null,null,null,null,null,null,null,null,null,null,null,"Основное мероприятие \"Информирование населения г.Лыткарино об основных событиях социально-экономического развития, общественно-политической жизни, о деятельности органов местного самоуправления города  Лыткарино\" ","002","01","03","01 4 01 00000",null,10]
[null,null,null,null,null,null,null,null,null,null,null,null,null,null,null,null,null,null,null,null,null,null,null,"Осуществление взаимодействия органов местного самоуправления с печатными  средствами массовой  информации  в  области  подписки,доставки  и  распространения тиражей печатных изданий","002","01","03",{"$f":"AB710","v":"01 4 01 00020"},null,10]
[null,null,null,null,null,null,null,null,null,null,null,null,null,null,null,null,null,null,null,null,null,null,null,"Закупка товаров, работ и услуг для обеспечения государственных (муниципальных) нужд","002","01","03",{"$f":"AB711","v":"01 4 01 00020"},200,10]
[null,null,null,null,null,null,null,null,null,null,null,null,null,null,null,null,null,null,null,null,null,null,null,"Иные закупки товаров, работ и услуг для обеспечения государственных (муниципальных) нужд","002","01","03","01 4 01 00020",240,10]
[null,null,null,null,null,null,null,null,null,null,null,null,null,null,null,null,null,null,null,null,null,null,null,"Муниципальная  программа  \"Развитие  инженерной инфраструктуры и энергоэффективности  на  территории  города  Лыткарино\"на  2018-2022 годы","002","01","03"," 06 0 00 00000",null,{"$f":"AD713","v":20}]
[null,null,null,null,null,null,null,null,null,null,null,null,null,null,null,null,null,null,null,null,null,null,null,"Подпрограмма \"Энергосбережение  и  повышение  энергетической  эффективности  на  территории  города Лыткарино\"","002","01","03","06 2 00 00000",null,20]
[null,null,null,null,null,null,null,null,null,null,null,null,null,null,null,null,null,null,null,null,null,null,null,"Основное  мероприятие  \"Повышение  энергетической  эффективности  в бюджетной  сфере на  территории  города  Лыткарино\"","002","01","03","06 2 03 00000",null,20]
[null,null,null,null,null,null,null,null,null,null,null,null,null,null,null,null,null,null,null,null,null,null,null,"Мероприятия  по  энергосбережению  и  повышению  энергетической  эффективности ","002","01","03","06 2 03 18000",null,20]
[null,null,null,null,null,null,null,null,null,null,null,null,null,null,null,null,null,null,null,null,null,null,null,"Замена прибора учета электроэнергии","002","01","03","06 2 03 18030",null,20]
[null,null,null,null,null,null,null,null,null,null,null,null,null,null,null,null,null,null,null,null,null,null,null,"Закупка товаров, работ и услуг для обеспечения государственных (муниципальных) нужд","002","01","03","06 2 03 18030",200,{"$f":"AD718","v":20}]
[null,null,null,null,null,null,null,null,null,null,null,null,null,null,null,null,null,null,null,null,null,null,null,"Иные закупки товаров, работ и услуг для обеспечения государственных (муниципальных) нужд","002","01","03","06 2 03 18030",240,20]
[null,null,null,null,null,null,null,null,null,null,null,null,null,null,null,null,null,null,null,null,null,null,null,"Руководство и управление в сфере установленных функций органов местного  самоуправления, избирательных комиссий муниципальных образований ","002","01","03","95 0 00 00000",null,{"$f":"AD720+AD724+AD726","v":11623}]
[null,null,null,null,null,null,null,null,null,null,null,null,null,null,null,null,null,null,null,null,null,null,null,"Председатель представительного  органа муниципального  образования","002","01","03","95 0 00 02000",null,{"$f":"AD721","v":2248.2000000000003}]
[null,null,null,null,null,null,null,null,null,null,null,null,null,null,null,null,null,null,null,null,null,null,null,"Расходы на выплаты персоналу в целях обеспечения выполнения функций государственными (муниципальными) органами, казенными учреждениями, органами управления государственными внебюджетными фондами ","002","01","03","95 0 00 02000",100,2248.2000000000003]
[null,null,null,null,null,null,null,null,null,null,null,null,null,null,null,null,null,null,null,null,null,null,null,"Расходы на выплаты персоналу государственных (муниципальных) органов","002","01","03","95 0 00 02000",120,{"$f":"1941.3+194.1+112.8","v":2248.2000000000003}]
[null,null,null,null,null,null,null,null,null,null,null,null,null,null,null,null,null,null,null,null,null,null,null,"Депутаты  представительного  органа  местного  самоуправления","002","01","03","95 0 00 03000",null,{"$f":"AD725","v":1798.6000000000001}]
[null,null,null,null,null,null,null,null,null,null,null,null,null,null,null,null,null,null,null,null,null,null,null,"Расходы на выплаты персоналу в целях обеспечения выполнения функций государственными (муниципальными) органами, казенными учреждениями, органами управления государственными внебюджетными фондами ","002","01","03","95 0 00 03000",100,{"$f":"AD725","v":1798.6000000000001}]
[null,null,null,null,null,null,null,null,null,null,null,null,null,null,null,null,null,null,null,null,null,null,null,"Расходы на выплаты персоналу государственных (муниципальных) органов","002","01","03","95 0 00 03000",120,{"$f":"1504.9+197.7+96","v":1798.6000000000001}]
[null,null,null,null,null,null,null,null,null,null,null,null,null,null,null,null,null,null,null,null,null,null,null,"Центральный аппарат","002","01","03","95 0 00 04000",null,{"$f":"AD727+AD732+AD735","v":7576.2000000000007}]
[null,null,null,null,null,null,null,null,null,null,null,null,null,null,null,null,null,null,null,null,null,null,null,"Расходы  на  обеспечение  деятельности  центрального  аппарата","002","01","03","95 0 00 04010",null,{"$f":"AD728+AD730","v":2259.1000000000004}]
[null,null,null,null,null,null,null,null,null,null,null,null,null,null,null,null,null,null,null,null,null,null,null,"Закупка товаров, работ и услуг для обеспечения государственных (муниципальных) нужд","002","01","03","95 0 00 04010",200,{"$f":"AD729","v":2170.3000000000002}]
[null,null,null,null,null,null,null,null,null,null,null,null,null,null,null,null,null,null,null,null,null,null,null,"Иные закупки товаров, работ и услуг для обеспечения государственных (муниципальных) нужд","002","01","03","95 0 00 04010",240,{"$f":"2206.8-372.5+336","v":2170.3000000000002}]
[null,null,null,null,null,null,null,null,null,null,null,null,null,null,null,null,null,null,null,null,null,null,null,"Иные бюджетные ассигнования","002","01","03","95 0 00 04010",800,{"$f":"AD731","v":88.8}]
[null,null,null,null,null,null,null,null,null,null,null,null,null,null,null,null,null,null,null,null,null,null,null,"Уплата налогов, сборов и иных платежей","002","01","03","95 0 00 04010",850,{"$f":"26+47.8+13.6+1.4","v":88.8}]
[null,null,null,null,null,null,null,null,null,null,null,null,null,null,null,null,null,null,null,null,null,null,null,"Расходы на содержание  лиц,  замещающих должности, не являющиеся должностями муниципальной  службы","002","01","03","95 0 00 04020",null,{"$f":"AD733","v":3049.7}]
[null,null,null,null,null,null,null,null,null,null,null,null,null,null,null,null,null,null,null,null,null,null,null,"Расходы на выплаты персоналу в целях обеспечения выполнения функций государственными (муниципальными) органами, казенными учреждениями, органами управления государственными внебюджетными фондами ","002","01","03","95 0 00 04020",100,3049.7]
[null,null,null,null,null,null,null,null,null,null,null,null,null,null,null,null,null,null,null,null,null,null,null,"Расходы на выплаты персоналу государственных (муниципальных) органов","002","01","03","95 0 00 04020",120,{"$f":"2567.2+256.7+225.8","v":3049.7}]
[null,null,null,null,null,null,null,null,null,null,null,null,null,null,null,null,null,null,null,null,null,null,null,"Расходы на содержание  лиц,  замещающих должности  муниципальной  службы","002","01","03","95 0 00 04030",null,{"$f":"AD736","v":2267.4}]
[null,null,null,null,null,null,null,null,null,null,null,null,null,null,null,null,null,null,null,null,null,null,null,"Расходы на выплаты персоналу в целях обеспечения выполнения функций государственными (муниципальными) органами, казенными учреждениями, органами управления государственными внебюджетными фондами ","002","01","03","95 0 00 04030",100,2267.4]
[null,null,null,null,null,null,null,null,null,null,null,null,null,null,null,null,null,null,null,null,null,null,null,"Расходы на выплаты персоналу государственных (муниципальных) органов","002","01","03","95 0 00 04030",120,{"$f":"1913.6+191.3+162.5","v":2267.4}]
[null,null,null,null,null,null,null,null,null,null,null,null,null,null,null,null,null,null,null,null,null,null,null,"Образование","002","07",null,null,null,{"$f":"AD739","v":9.3000000000000007}]
[null,null,null,null,null,null,null,null,null,null,null,null,null,null,null,null,null,null,null,null,null,null,null," Другие вопросы в области образования","002","07","09",null,null,9.3000000000000007]
[null,null,null,null,null,null,null,null,null,null,null,null,null,null,null,null,null,null,null,null,null,null,null,"Муниципальная  программа «Молодое поколение города Лыткарино» на 2017 - 2021 годы","002","07","09","11 0 00 00000",null,9.3000000000000007]
[null,null,null,null,null,null,null,null,null,null,null,null,null,null,null,null,null,null,null,null,null,null,null,"Подпрограмма  «Развитие системы отдыха и оздоровления детей и организация трудовой занятости подростков города Лыткарино в период школьных каникул»","002","07","09","11 2 00 00000",null,9.3000000000000007]
[null,null,null,null,null,null,null,null,null,null,null,null,null,null,null,null,null,null,null,null,null,null,null,"Организация  отдыха  детей  и  подростков  в  санаторно-курортных  учреждениях  и  загородных  оздоровительных  лагерях","002","07","09","11 2 01 S2190",null,9.3000000000000007]
[null,null,null,null,null,null,null,null,null,null,null,null,null,null,null,null,null,null,null,null,null,null,null,"Социальное обеспечение и иные выплаты населению","002","07","09","11 2 01 S2190",300,9.3000000000000007]
[null,null,null,null,null,null,null,null,null,null,null,null,null,null,null,null,null,null,null,null,null,null,null,"Социальные выплаты гражданам, кроме публичных нормативных социальных выплат","002","07","09","11 2 01 S2190",320,9.3000000000000007]
[null,null,null,null,null,null,null,null,null,null,null,null,null,null,null,null,null,null,null,null,null,null,null,"Социальная политика","002","10",null,null,null,{"$f":"AD746","v":192}]
[null,null,null,null,null,null,null,null,null,null,null,null,null,null,null,null,null,null,null,null,null,null,null,"Пенсионное обеспечение","002",10,"01",null,null,192]
[null,null,null,null,null,null,null,null,null,null,null,null,null,null,null,null,null,null,null,null,null,null,null,"Муниципальная  программа  \"Муниципальное  управление  города  Лыткарино\"  на  2017-2021 годы","002",10,"01","01 0 00 00000",null,192]
[null,null,null,null,null,null,null,null,null,null,null,null,null,null,null,null,null,null,null,null,null,null,null,"Подпрограмма  «Развитие муниципальной службы» ","002",10,"01","01 6 00 00000",null,192]
[null,null,null,null,null,null,null,null,null,null,null,null,null,null,null,null,null,null,null,null,null,null,null,"Основное  мероприятие \"Повышение  мотивации  к  исполнению  должностных  обязанностей  муниципальных  служащих\"","002",10,"01","01 6 02 00000",null,192]
[null,null,null,null,null,null,null,null,null,null,null,null,null,null,null,null,null,null,null,null,null,null,null,"Пенсия за выслугу лет лицам, замещавшим муниципальные должности или должности муниципальной службы в органах местного самоуправления и избирательных комиссиях муниципального образования \"Город Лыткарино Московской области\"","002",10,"01",{"$f":"AB751","v":"01 6 02 00020"},null,192]
[null,null,null,null,null,null,null,null,null,null,null,null,null,null,null,null,null,null,null,null,null,null,null,"Социальное обеспечение и иные выплаты населению","002",10,"01",{"$f":"AB752","v":"01 6 02 00020"},300,192]
[null,null,null,null,null,null,null,null,null,null,null,null,null,null,null,null,null,null,null,null,null,null,null,"Социальные выплаты гражданам, кроме публичных нормативных социальных выплат","002",10,"01","01 6 02 00020",320,192]
[null,null,null,null,null,null,null,null,null,null,null,null,null,null,null,null,null,null,null,null,null,null,null,"Финансовое  управление  города  Лыткарино","003",null,null,null,null,{"$f":"AD754+AD783+AD776","v":19238.699999999997}]
[null,null,null,null,null,null,null,null,null,null,null,null,null,null,null,null,null,null,null,null,null,null,null,"Общегосударственные вопросы","003","01",null,null,null,{"$f":"AD755","v":16355.399999999998}]
[null,null,null,null,null,null,null,null,null,null,null,null,null,null,null,null,null,null,null,null,null,null,null,"Обеспечение  деятельности  финансовых,налоговых  и  таможенных  органов  и  органов  финансового  (финансово-бюджетного)  надзора","003","01","06",null,null,16355.399999999998]
[null,null,null,null,null,null,null,null,null,null,null,null,null,null,null,null,null,null,null,null,null,null,null,"Муниципальная  программа «Муниципальное управление города Лыткарино на 2017-2021 годы»","003","01","06","01 0 00 00000",null,{"$f":"AD757+AD771","v":16355.399999999998}]
[null,null,null,null,null,null,null,null,null,null,null,null,null,null,null,null,null,null,null,null,null,null,null,"Обеспечивающая подпрограмма","003","01","06","01 1 00 00000",null,{"$f":"AD758","v":16344.399999999998}]
[null,null,null,null,null,null,null,null,null,null,null,null,null,null,null,null,null,null,null,null,null,null,null,"Основное  мероприятие  \" Обеспечение  деятельности  Администрации  городcкого округа  Лыткарино  и  ее функциональных  органов\" ","003","01","06","01 1 01 00000",null,16344.399999999998]
[null,null,null,null,null,null,null,null,null,null,null,null,null,null,null,null,null,null,null,null,null,null,null,"Центральный аппарат","003","01","06","01 1 01 04000",null,{"$f":"AD760+AD765+AD768","v":16344.399999999998}]
[null,null,null,null,null,null,null,null,null,null,null,null,null,null,null,null,null,null,null,null,null,null,null,"Расходы на обеспечение  деятельности  центрального  аппарата","003","01","06",{"$f":"AB761","v":"01 1 01 04010"},null,{"$f":"AD761+AD763","v":1540}]
[null,null,null,null,null,null,null,null,null,null,null,null,null,null,null,null,null,null,null,null,null,null,null,"Закупка товаров, работ и услуг для обеспечения государственных (муниципальных) нужд","003","01","06",{"$f":"AB762","v":"01 1 01 04010"},200,{"$f":"AD762","v":1518.5}]
[null,null,null,null,null,null,null,null,null,null,null,null,null,null,null,null,null,null,null,null,null,null,null,"Иные закупки товаров, работ и услуг для обеспечения государственных (муниципальных) нужд","003","01","06",{"$f":"AB763","v":"01 1 01 04010"},240,{"$f":"1577.3+3.7-62.5","v":1518.5},-62.5]
[null,null,null,null,null,null,null,null,null,null,null,null,null,null,null,null,null,null,null,null,null,null,null,"Иные бюджетные ассигнования","003","01","06",{"$f":"AB764","v":"01 1 01 04010"},800,{"$f":"AD764","v":21.5}]
[null,null,null,null,null,null,null,null,null,null,null,null,null,null,null,null,null,null,null,null,null,null,null,"Уплата налогов, сборов и иных платежей","003","01","06","01 1 01 04010",850,{"$f":"2.2+13.5+5.8","v":21.5}]
[null,null,null,null,null,null,null,null,null,null,null,null,null,null,null,null,null,null,null,null,null,null,null,"Расходы на  содержание  лиц,  замещающих должности, не являющиеся должностями муниципальной  службы","003","01","06",{"$f":"AB766","v":"01 1 01 04020"},null,{"$f":"AD767","v":8498.9}]
[null,null,null,null,null,null,null,null,null,null,null,null,null,null,null,null,null,null,null,null,null,null,null,"Расходы на выплаты персоналу в целях обеспечения выполнения функций государственными (муниципальными) органами, казенными учреждениями, органами управления государственными внебюджетными фондами ","003","01","06",{"$f":"AB767","v":"01 1 01 04020"},100,{"$f":"AD767","v":8498.9}]
[null,null,null,null,null,null,null,null,null,null,null,null,null,null,null,null,null,null,null,null,null,null,null,"Расходы на выплаты персоналу государственных (муниципальных) органов","003","01","06","01 1 01 04020",120,{"$f":"6937.6+693.9+179.5+687.9","v":8498.9}]
[null,null,null,null,null,null,null,null,null,null,null,null,null,null,null,null,null,null,null,null,null,null,null,"Расходы на содержание  лиц,  замещающих должности  муниципальной  службы","003","01","06",{"$f":"AB769","v":"01 1 01 04030"},null,{"$f":"AD770","v":6305.4999999999991}]
[null,null,null,null,null,null,null,null,null,null,null,null,null,null,null,null,null,null,null,null,null,null,null,"Расходы на выплаты персоналу в целях обеспечения выполнения функций государственными (муниципальными) органами, казенными учреждениями, органами управления государственными внебюджетными фондами ","003","01","06",{"$f":"AB770","v":"01 1 01 04030"},100,{"$f":"AD770","v":6305.4999999999991}]
[null,null,null,null,null,null,null,null,null,null,null,null,null,null,null,null,null,null,null,null,null,null,null,"Расходы на выплаты персоналу государственных (муниципальных) органов","003","01","06","01 1 01 04030",120,{"$f":"5274.9+527.5+12.4+29+461.7","v":6305.4999999999991}]
[null,null,null,null,null,null,null,null,null,null,null,null,null,null,null,null,null,null,null,null,null,null,null,"Подпрограмма «Развитие системы информирования населения о деятельности органов местного самоуправления города Лыткарино Московской области» ","003","01","06","01 4 00 00000",null,{"$f":"AD772","v":11}]
[null,null,null,null,null,null,null,null,null,null,null,null,null,null,null,null,null,null,null,null,null,null,null,"Основное мероприятие \"Информирование населения г.Лыткарино об основных событиях социально-экономического развития, общественно-политической жизни, о деятельности органов местного самоуправления города  Лыткарино\" ","003","01","06","01 4 01 00000",null,11]
[null,null,null,null,null,null,null,null,null,null,null,null,null,null,null,null,null,null,null,null,null,null,null,"Осуществление взаимодействия органов местного самоуправления с печатными  средствами массовой  информации  в  области  подписки,доставки  и  распространения тиражей печатных изданий","003","01","06",{"$f":"AB774","v":"01 4 01 00020"},null,11]
[null,null,null,null,null,null,null,null,null,null,null,null,null,null,null,null,null,null,null,null,null,null,null,"Закупка товаров, работ и услуг для обеспечения государственных (муниципальных) нужд","003","01","06",{"$f":"AB775","v":"01 4 01 00020"},200,11]
[null,null,null,null,null,null,null,null,null,null,null,null,null,null,null,null,null,null,null,null,null,null,null,"Иные закупки товаров, работ и услуг для обеспечения государственных (муниципальных) нужд","003","01","06","01 4 01 00020",240,11]
[null,null,null,null,null,null,null,null,null,null,null,null,null,null,null,null,null,null,null,null,null,null,null,"Национальная экономика","003","04",null,null,null,{"$f":"AD777","v":2213}]
[null,null,null,null,null,null,null,null,null,null,null,null,null,null,null,null,null,null,null,null,null,null,null,"Связь и информатика","003","04",10,null,null,2213]
[null,null,null,null,null,null,null,null,null,null,null,null,null,null,null,null,null,null,null,null,null,null,null,"Муниципальная программа  «Развитие информационно-коммуникационных технологий для повышения эффективности процессов управления и создания благоприятных условий жизни и ведения бизнеса в городе  Лыткарино Московской области» на 2017-2021годы","003","04",10,"13 0 00 00000",null,{"$f":"AD779","v":2213}]
[null,null,null,null,null,null,null,null,null,null,null,null,null,null,null,null,null,null,null,null,null,null,null,"Основное мероприятие \"Федеральный проект \"Цифровое государственное управление\"","003","04",10,"13 0 D6 00000",null,2213]
[null,null,null,null,null,null,null,null,null,null,null,null,null,null,null,null,null,null,null,null,null,null,null,"Мероприятия  в  области  информационно-коммуникационных  технологий","003","04",10,"13 0 D6 00010",null,2213]
[null,null,null,null,null,null,null,null,null,null,null,null,null,null,null,null,null,null,null,null,null,null,null,"Закупка товаров, работ и услуг для обеспечения государственных (муниципальных) нужд","003","04",10,"13 0 D6 00010",200,2213]
[null,null,null,null,null,null,null,null,null,null,null,null,null,null,null,null,null,null,null,null,null,null,null,"Иные закупки товаров, работ и услуг для обеспечения государственных (муниципальных) нужд","003","04",10,"13 0 D6 00010",240,{"$f":"300+800+1113","v":2213}]
[null,null,null,null,null,null,null,null,null,null,null,null,null,null,null,null,null,null,null,null,null,null,null,"Социальная политика","003","10",null,null,null,{"$f":"AD784","v":670.3}]
[null,null,null,null,null,null,null,null,null,null,null,null,null,null,null,null,null,null,null,null,null,null,null,"Пенсионное обеспечение","003",10,"01",null,null,670.3]
[null,null,null,null,null,null,null,null,null,null,null,null,null,null,null,null,null,null,null,null,null,null,null,"Муниципальная  программа «Муниципальное управление города Лыткарино на 2017-2021 годы»","003",10,"01","01 0 00 00000",null,670.3]
[null,null,null,null,null,null,null,null,null,null,null,null,null,null,null,null,null,null,null,null,null,null,null,"Подпрограмма  «Развитие муниципальной службы» ","003",10,"01","01 6 00 00000",null,{"$f":"AD787","v":670.3}]
[null,null,null,null,null,null,null,null,null,null,null,null,null,null,null,null,null,null,null,null,null,null,null,"Основное  мероприятие \"Повышение  мотивации  к  исполнению  должностных  обязанностей  муниципальных  служащих\"","003",10,"01","01 6 02 00000",null,670.3]
[null,null,null,null,null,null,null,null,null,null,null,null,null,null,null,null,null,null,null,null,null,null,null,"Пенсия за выслугу лет лицам, замещавшим муниципальные должности или должности муниципальной службы в органах местного самоуправления и избирательных комиссиях муниципального образования \"Город Лыткарино Московской области\"","003",10,"01",{"$f":"AB789","v":"01 6 02 00020"},null,670.3]
[null,null,null,null,null,null,null,null,null,null,null,null,null,null,null,null,null,null,null,null,null,null,null,"Социальное обеспечение и иные выплаты населению","003",10,"01",{"$f":"AB790","v":"01 6 02 00020"},300,670.3]
[null,null,null,null,null,null,null,null,null,null,null,null,null,null,null,null,null,null,null,null,null,null,null,"Социальные выплаты гражданам, кроме публичных нормативных социальных выплат","003",10,"01","01 6 02 00020",320,670.3]
[null,null,null,null,null,null,null,null,null,null,null,null,null,null,null,null,null,null,null,null,null,null,null,"Комитет  по  управлению  имуществом  города  Лыткарино","005",null,null,null,null,{"$f":"AD792+AD863+AD849+AD856","v":43608.899999999994}]
[null,null,null,null,null,null,null,null,null,null,null,null,null,null,null,null,null,null,null,null,null,null,null,"Общегосударственные вопросы","005","01",null,null,null,{"$f":"AD793","v":20592.3}]
[null,null,null,null,null,null,null,null,null,null,null,null,null,null,null,null,null,null,null,null,null,null,null,"Другие общегосударственные вопросы","005","01",13,null,null,{"$f":"AD794+AD842","v":20592.3}]
[null,null,null,null,null,null,null,null,null,null,null,null,null,null,null,null,null,null,null,null,null,null,null,"Муниципальная  программа «Муниципальное управление города Лыткарино на 2017-2021 годы»","005","01",13,"01 0 00 00000",null,{"$f":"AD795+AD829+AD824","v":19892.3}]
[null,null,null,null,null,null,null,null,null,null,null,null,null,null,null,null,null,null,null,null,null,null,null,"Обеспечивающая подпрограмма","005","01",13,"01 1 00 00000",null,{"$f":"AD796+AD819","v":18606.099999999999}]
[null,null,null,null,null,null,null,null,null,null,null,null,null,null,null,null,null,null,null,null,null,null,null,"Основное  мероприятие  \" Обеспечение  деятельности  Администрации  городcкого округа  Лыткарино  и  ее функциональных  органов\" ","005","01",13,"01 1 01 00000",null,{"$f":"AD797+AD809+AD814","v":18526.099999999999}]
[null,null,null,null,null,null,null,null,null,null,null,null,null,null,null,null,null,null,null,null,null,null,null,"Центральный аппарат","005","01",13,"01 1 01 04000",null,{"$f":"AD798+AD803+AD806","v":17515.099999999999}]
[null,null,null,null,null,null,null,null,null,null,null,null,null,null,null,null,null,null,null,null,null,null,null,"Расходы на обеспечение  деятельности  центрального  аппарата","005","01",13,"01 1 01 04010",null,{"$f":"AD799+AD801","v":1413}]
[null,null,null,null,null,null,null,null,null,null,null,null,null,null,null,null,null,null,null,null,null,null,null,"Закупка товаров, работ и услуг для обеспечения государственных (муниципальных) нужд","005","01",13,{"$f":"AB800","v":"01 1 01 04010"},200,{"$f":"AD800","v":1315.5}]
[null,null,null,null,null,null,null,null,null,null,null,null,null,null,null,null,null,null,null,null,null,null,null,"Иные закупки товаров, работ и услуг для обеспечения государственных (муниципальных) нужд","005","01",13,{"$f":"AB801","v":"01 1 01 04010"},240,1315.5]
[null,null,null,null,null,null,null,null,null,null,null,null,null,null,null,null,null,null,null,null,null,null,null,"Иные бюджетные ассигнования","005","01",13,{"$f":"AB802","v":"01 1 01 04010"},800,{"$f":"AD802","v":97.5}]
[null,null,null,null,null,null,null,null,null,null,null,null,null,null,null,null,null,null,null,null,null,null,null,"Уплата налогов, сборов и иных платежей","005","01",13,"01 1 01 04010",850,{"$f":"2.5+30+55+10","v":97.5}]
[null,null,null,null,null,null,null,null,null,null,null,null,null,null,null,null,null,null,null,null,null,null,null,"Расходы  на  содержание  лиц,  замещающих должности, не являющиеся должностями муниципальной  службы","005","01",13,{"$f":"AB804","v":"01 1 01 04020"},null,{"$f":"AD805","v":5749.5999999999995}]
[null,null,null,null,null,null,null,null,null,null,null,null,null,null,null,null,null,null,null,null,null,null,null,"Расходы на выплаты персоналу в целях обеспечения выполнения функций государственными (муниципальными) органами, казенными учреждениями, органами управления государственными внебюджетными фондами ","005","01",13,{"$f":"AB805","v":"01 1 01 04020"},100,{"$f":"AD805","v":5749.5999999999995}]
[null,null,null,null,null,null,null,null,null,null,null,null,null,null,null,null,null,null,null,null,null,null,null,"Расходы на выплаты персоналу государственных (муниципальных) органов","005","01",13,"01 1 01 04020",120,{"$f":"4395+439.7+675.2+239.7","v":5749.5999999999995}]
[null,null,null,null,null,null,null,null,null,null,null,null,null,null,null,null,null,null,null,null,null,null,null,"Расходы на  содержание  лиц,  замещающих должности  муниципальной  службы","005","01",13,{"$f":"AB807","v":"01 1 01 04030"},null,{"$f":"AD808","v":10352.5}]
[null,null,null,null,null,null,null,null,null,null,null,null,null,null,null,null,null,null,null,null,null,null,null,"Расходы на выплаты персоналу в целях обеспечения выполнения функций государственными (муниципальными) органами, казенными учреждениями, органами управления государственными внебюджетными фондами ","005","01",13,{"$f":"AB808","v":"01 1 01 04030"},100,{"$f":"AD808","v":10352.5}]
[null,null,null,null,null,null,null,null,null,null,null,null,null,null,null,null,null,null,null,null,null,null,null,"Расходы на выплаты персоналу государственных (муниципальных) органов","005","01",13,"01 1 01 04030",120,{"$f":"8562.7+856.3+850.5+83","v":10352.5},83]
[null,null,null,null,null,null,null,null,null,null,null,null,null,null,null,null,null,null,null,null,null,null,null,"Расходы  за  счет  средств  субвенции бюджетам муниципальных районов и городских округов Московской области для осуществления государственных полномочий в соответствии с Законом Московской области №107/2014-ОЗ \"О наделении органов местного самоуправления муниципальных образований Московской области отдельными государственными полномочиями Московской области\" ","005","01",13,{"$f":"AB810","v":"01 1 01 60700"},null,{"$f":"AD810+AD812","v":0}]
[null,null,null,null,null,null,null,null,null,null,null,null,null,null,null,null,null,null,null,null,null,null,null,"Расходы на выплаты персоналу в целях обеспечения выполнения функций государственными (муниципальными) органами, казенными учреждениями, органами управления государственными внебюджетными фондами ","005","01",13,{"$f":"AB811","v":"01 1 01 60700"},100,{"$f":"AD811","v":0}]
[null,null,null,null,null,null,null,null,null,null,null,null,null,null,null,null,null,null,null,null,null,null,null,"Расходы на выплаты персоналу государственных (муниципальных) органов","005","01",13,{"$f":"AB812","v":"01 1 01 60700"},120]
[null,null,null,null,null,null,null,null,null,null,null,null,null,null,null,null,null,null,null,null,null,null,null,"Закупка товаров, работ и услуг для обеспечения государственных (муниципальных) нужд","005","01",13,{"$f":"AB813","v":"01 1 01 60700"},200,{"$f":"AD813","v":0}]
[null,null,null,null,null,null,null,null,null,null,null,null,null,null,null,null,null,null,null,null,null,null,null,"Иные закупки товаров, работ и услуг для обеспечения государственных (муниципальных) нужд","005","01",13,"01 1 01 60700",240]
[null,null,null,null,null,null,null,null,null,null,null,null,null,null,null,null,null,null,null,null,null,null,null,"Осуществление государственных полномочий Московской области в области земельных отношений","005","01",13,{"$f":"AB815","v":"01 1 01 60830"},null,{"$f":"AD815+AD817","v":1011}]
[null,null,null,null,null,null,null,null,null,null,null,null,null,null,null,null,null,null,null,null,null,null,null,"Расходы на выплаты персоналу в целях обеспечения выполнения функций государственными (муниципальными) органами, казенными учреждениями, органами управления государственными внебюджетными фондами ","005","01",13,{"$f":"AB816","v":"01 1 01 60830"},100,{"$f":"AD816","v":905.4}]
[null,null,null,null,null,null,null,null,null,null,null,null,null,null,null,null,null,null,null,null,null,null,null,"Расходы на выплаты персоналу государственных (муниципальных) органов","005","01",13,{"$f":"AB817","v":"01 1 01 60830"},120,{"$f":"826.4+79","v":905.4}]
[null,null,null,null,null,null,null,null,null,null,null,null,null,null,null,null,null,null,null,null,null,null,null,"Закупка товаров, работ и услуг для обеспечения государственных (муниципальных) нужд","005","01",13,{"$f":"AB818","v":"01 1 01 60830"},200,{"$f":"AD818","v":105.6}]
[null,null,null,null,null,null,null,null,null,null,null,null,null,null,null,null,null,null,null,null,null,null,null,"Иные закупки товаров, работ и услуг для обеспечения государственных (муниципальных) нужд","005","01",13,"01 1 01 60830",240,105.6]
[null,null,null,null,null,null,null,null,null,null,null,null,null,null,null,null,null,null,null,null,null,null,null,"Основное  мероприятие \" Прочие  общегосударственные  мероприятия\" ","005","01",13,"01 1 02 00000",null,{"$f":"AD820","v":80}]
[null,null,null,null,null,null,null,null,null,null,null,null,null,null,null,null,null,null,null,null,null,null,null,"Прочие  общегосударственные  мероприятия ","005","01",13,"01 1 02 27000",null,{"$f":"AD821","v":80}]
[null,null,null,null,null,null,null,null,null,null,null,null,null,null,null,null,null,null,null,null,null,null,null,"Исполнение  судебных  актов  по  обращениям  и  взыскания  на  средства  бюджета","005","01",13,{"$f":"AB822","v":"01 1 02 27010"},null,{"$f":"AD822","v":80}]
[null,null,null,null,null,null,null,null,null,null,null,null,null,null,null,null,null,null,null,null,null,null,null,"Иные бюджетные ассигнования","005","01",13,{"$f":"AB823","v":"01 1 02 27010"},800,{"$f":"AD823","v":80}]
[null,null,null,null,null,null,null,null,null,null,null,null,null,null,null,null,null,null,null,null,null,null,null,"Исполнение судебных актов","005","01",13,"01 1 02 27010",830,80]
[null,null,null,null,null,null,null,null,null,null,null,null,null,null,null,null,null,null,null,null,null,null,null,"Подпрограмма «Развитие системы информирования населения о деятельности органов местного самоуправления города Лыткарино Московской области» ","005","01",13,"01 4 00 00000",null,{"$f":"AD825","v":4.5}]
[null,null,null,null,null,null,null,null,null,null,null,null,null,null,null,null,null,null,null,null,null,null,null,"Основное мероприятие \"Информирование населения г.Лыткарино об основных событиях социально-экономического развития, общественно-политической жизни, о деятельности органов местного самоуправления города  Лыткарино\" ","005","01",13,"01 4 01 00000",null,4.5]
[null,null,null,null,null,null,null,null,null,null,null,null,null,null,null,null,null,null,null,null,null,null,null,"Осуществление взаимодействия органов местного самоуправления с печатными  средствами массовой  информации  в  области  подписки,доставки  и  распространения тиражей печатных изданий","005","01",13,{"$f":"AB827","v":"01 4 01 00020"},null,4.5]
[null,null,null,null,null,null,null,null,null,null,null,null,null,null,null,null,null,null,null,null,null,null,null,"Закупка товаров, работ и услуг для обеспечения государственных (муниципальных) нужд","005","01",13,{"$f":"AB828","v":"01 4 01 00020"},200,4.5]
[null,null,null,null,null,null,null,null,null,null,null,null,null,null,null,null,null,null,null,null,null,null,null,"Иные закупки товаров, работ и услуг для обеспечения государственных (муниципальных) нужд","005","01",13,"01 4 01 00020",240,4.5]
[null,null,null,null,null,null,null,null,null,null,null,null,null,null,null,null,null,null,null,null,null,null,null,"Подпрограмма «Развитие земельно-имущественного комплекса в городе Лыткарино»","005","01",13,"01 8 00 00000",null,{"$f":"AD830+AD834+AD838","v":1281.7}]
[null,null,null,null,null,null,null,null,null,null,null,null,null,null,null,null,null,null,null,null,null,null,null,"Основное  мероприятие \"Государственный  кадастровый  учет  и  государственная  регистрация  прав\"","005","01",13,"01 8 01 00000",null,{"$f":"AD831","v":772}]
[null,null,null,null,null,null,null,null,null,null,null,null,null,null,null,null,null,null,null,null,null,null,null,"Постановка  на  государственный    кадастровый  учет  и  государственная  регистрация  прав","005","01",13,{"$f":"AB832","v":"01 8 01 00050"},null,{"$f":"AD832","v":772}]
[null,null,null,null,null,null,null,null,null,null,null,null,null,null,null,null,null,null,null,null,null,null,null,"Закупка товаров, работ и услуг для обеспечения государственных (муниципальных) нужд","005","01",13,{"$f":"AB833","v":"01 8 01 00050"},200,772]
[null,null,null,null,null,null,null,null,null,null,null,null,null,null,null,null,null,null,null,null,null,null,null,"Иные закупки товаров, работ и услуг для обеспечения государственных (муниципальных) нужд","005","01",13,"01 8 01 00050",240,{"$f":"1000-135-10-83","v":772},-83]
[null,null,null,null,null,null,null,null,null,null,null,null,null,null,null,null,null,null,null,null,null,null,null,"Основное  мероприятие  \"Рыночная  оценка  муниципального  имущества   \"","005","01",13,"01 8 02 00000",null,{"$f":"AD835","v":500}]
[null,null,null,null,null,null,null,null,null,null,null,null,null,null,null,null,null,null,null,null,null,null,null,"Мероприятия  по рыночной   оценке продажи  муниципального  имущества  и  прав  аренды  муниципального  имущества","005","01",13,{"$f":"AB836","v":"01 8 02 00110"},null,{"$f":"AD836","v":500}]
[null,null,null,null,null,null,null,null,null,null,null,null,null,null,null,null,null,null,null,null,null,null,null,"Закупка товаров, работ и услуг для обеспечения государственных (муниципальных) нужд","005","01",13,{"$f":"AB837","v":"01 8 02 00110"},200,500]
[null,null,null,null,null,null,null,null,null,null,null,null,null,null,null,null,null,null,null,null,null,null,null,"Иные закупки товаров, работ и услуг для обеспечения государственных (муниципальных) нужд","005","01",13,"01 8 02 00110",240,500]
[null,null,null,null,null,null,null,null,null,null,null,null,null,null,null,null,null,null,null,null,null,null,null,"Основное  мероприятие \"Содержание  и  обслуживание  муниципальной  казны \"","005","01",13,"01 8 03 00000",null,{"$f":"AD839","v":9.6999999999999993}]
[null,null,null,null,null,null,null,null,null,null,null,null,null,null,null,null,null,null,null,null,null,null,null,"Содержание  и  обслуживание  казны  муниципального  образования  \"Город  Лыткарино\"","005","01",13,{"$f":"AB840","v":"01 8 03 00120"},null,9.6999999999999993]
[null,null,null,null,null,null,null,null,null,null,null,null,null,null,null,null,null,null,null,null,null,null,null,"Закупка товаров, работ и услуг для обеспечения государственных (муниципальных) нужд","005","01",13,{"$f":"AB841","v":"01 8 03 00120"},200,9.6999999999999993]
[null,null,null,null,null,null,null,null,null,null,null,null,null,null,null,null,null,null,null,null,null,null,null,"Иные закупки товаров, работ и услуг для обеспечения государственных (муниципальных) нужд","005","01",13,"01 8 03 00120",240,9.6999999999999993,9.6999999999999993]
[null,null,null,null,null,null,null,null,null,null,null,null,null,null,null,null,null,null,null,null,null,null,null,"Муниципальная  программа  \"Забота\"  на  2017-2021 годы","005","01",13,"07 0 00 00000",null,{"$f":"AD843","v":700}]
[null,null,null,null,null,null,null,null,null,null,null,null,null,null,null,null,null,null,null,null,null,null,null,"Подрограмма  \"Городская  поддержка\"","005","01",13,"07 2 00 00000",null,{"$f":"AD844","v":700}]
[null,null,null,null,null,null,null,null,null,null,null,null,null,null,null,null,null,null,null,null,null,null,null,"Основное  мероприятие  \"Поддержка  и  социальная  защита  пожилых  граждан  и  инвалидов,  передавших  жилую  площадь  в  муниципальную  собственность  города  Лыткарино  по  договорам  пожизненного  содержания  с  иждивением\"","005","01",13,"07 2 03 00000",null,700]
[null,null,null,null,null,null,null,null,null,null,null,null,null,null,null,null,null,null,null,null,null,null,null,"Расходы  на  содержание  имущества,  находящегося  в  муниципальной  собственности ","005","01",13,"07 2 03 19000",null,700]
[null,null,null,null,null,null,null,null,null,null,null,null,null,null,null,null,null,null,null,null,null,null,null,"Расходы  на  содержание  имущества,  находящегося  в  муниципальной  собственности  на  основании  заключенных  договоров  пожизненного  содержания  с  иждивением  за  переданное  в  муниципальную  собственность  жильё","005","01",13,{"$f":"AB847","v":"07 2 03 19010"},null,700]
[null,null,null,null,null,null,null,null,null,null,null,null,null,null,null,null,null,null,null,null,null,null,null,"Закупка товаров, работ и услуг для обеспечения государственных (муниципальных) нужд","005","01",13,{"$f":"AB848","v":"07 2 03 19010"},200,700]
[null,null,null,null,null,null,null,null,null,null,null,null,null,null,null,null,null,null,null,null,null,null,null,"Иные закупки товаров, работ и услуг для обеспечения государственных (муниципальных) нужд","005","01",13,"07 2 03 19010",240,700]
[null,null,null,null,null,null,null,null,null,null,null,null,null,null,null,null,null,null,null,null,null,null,null,"Национальная экономика","005","04",null,null,null,{"$f":"AD850","v":160}]
[null,null,null,null,null,null,null,null,null,null,null,null,null,null,null,null,null,null,null,null,null,null,null,"Связь и информатика","005","04",10,null,null,160]
[null,null,null,null,null,null,null,null,null,null,null,null,null,null,null,null,null,null,null,null,null,null,null,"Муниципальная программа  «Развитие информационно-коммуникационных технологий для повышения эффективности процессов управления и создания благоприятных условий жизни и ведения бизнеса в городе  Лыткарино Московской области» на 2017-2021годы.","005","04",10,"13 0 00 00000",null,160]
[null,null,null,null,null,null,null,null,null,null,null,null,null,null,null,null,null,null,null,null,null,null,null,"Основное мероприятие \"Федеральный проект \"Информационная инфракструктура\"","005","04",10,"13 0 D2 00000",null,160]
[null,null,null,null,null,null,null,null,null,null,null,null,null,null,null,null,null,null,null,null,null,null,null,"Мероприятия  в  области  информационно-коммуникационных  технологий","005","04",10,"13 0 D2 00010",null,160]
[null,null,null,null,null,null,null,null,null,null,null,null,null,null,null,null,null,null,null,null,null,null,null,"Закупка товаров, работ и услуг для обеспечения государственных (муниципальных) нужд","005","04",10,"13 0 D2 00010",200,160]
[null,null,null,null,null,null,null,null,null,null,null,null,null,null,null,null,null,null,null,null,null,null,null,"Иные закупки товаров, работ и услуг для обеспечения государственных (муниципальных) нужд","005","04",10,"13 0 D2 00010",240,160]
[null,null,null,null,null,null,null,null,null,null,null,null,null,null,null,null,null,null,null,null,null,null,null,"Образование","005","07",null,null,null,{"$f":"AD857","v":34}]
[null,null,null,null,null,null,null,null,null,null,null,null,null,null,null,null,null,null,null,null,null,null,null," Другие вопросы в области образования","005","07","09",null,null,34]
[null,null,null,null,null,null,null,null,null,null,null,null,null,null,null,null,null,null,null,null,null,null,null,"Муниципальная  программа «Молодое поколение города Лыткарино» на 2017 - 2021 годы","005","07","09","11 0 00 00000",null,34]
[null,null,null,null,null,null,null,null,null,null,null,null,null,null,null,null,null,null,null,null,null,null,null,"Подпрограмма  «Развитие системы отдыха и оздоровления детей и организация трудовой занятости подростков города Лыткарино в период школьных каникул»","005","07","09","11 2 00 00000",null,34]
[null,null,null,null,null,null,null,null,null,null,null,null,null,null,null,null,null,null,null,null,null,null,null,"Организация  отдыха  детей  и  подростков  в  санаторно-курортных  учреждениях  и  загородных  оздоровительных  лагерях","005","07","09","11 2 01 S2190",null,34]
[null,null,null,null,null,null,null,null,null,null,null,null,null,null,null,null,null,null,null,null,null,null,null,"Социальное обеспечение и иные выплаты населению","005","07","09","11 2 01 S2190",300,34]
[null,null,null,null,null,null,null,null,null,null,null,null,null,null,null,null,null,null,null,null,null,null,null,"Социальные выплаты гражданам, кроме публичных нормативных социальных выплат","005","07","09","11 2 01 S2190",320,34]
[null,null,null,null,null,null,null,null,null,null,null,null,null,null,null,null,null,null,null,null,null,null,null,"Социальная политика","005","10",null,null,null,{"$f":"AD864+AD871","v":22822.6}]
[null,null,null,null,null,null,null,null,null,null,null,null,null,null,null,null,null,null,null,null,null,null,null,"Пенсионное обеспечение","005",10,"01",null,null,{"$f":"AD865","v":715.6}]
[null,null,null,null,null,null,null,null,null,null,null,null,null,null,null,null,null,null,null,null,null,null,null,"Муниципальная  программа «Муниципальное управление города Лыткарино на 2017-2021 годы»","005",10,"01","01 0 00 00000",null,715.6]
[null,null,null,null,null,null,null,null,null,null,null,null,null,null,null,null,null,null,null,null,null,null,null,"Подпрограмма  «Развитие муниципальной службы» ","005",10,"01","01 6 00 00000",null,715.6]
[null,null,null,null,null,null,null,null,null,null,null,null,null,null,null,null,null,null,null,null,null,null,null,"Основное  мероприятие \"Повышение  мотивации  к  исполнению  должностных обязанностей  муниципальных  служащих\"","005",10,"01","01 6 02 00000",null,715.6]
[null,null,null,null,null,null,null,null,null,null,null,null,null,null,null,null,null,null,null,null,null,null,null,"Пенсия за выслугу лет лицам, замещавшим муниципальные должности или должности муниципальной службы в органах местного самоуправления и избирательных комиссиях муниципального образования \"Город Лыткарино Московской области\"","005",10,"01",{"$f":"AB869","v":"01 6 02 00020"},null,715.6]
[null,null,null,null,null,null,null,null,null,null,null,null,null,null,null,null,null,null,null,null,null,null,null,"Социальное обеспечение и иные выплаты населению","005",10,"01",{"$f":"AB870","v":"01 6 02 00020"},300,715.6]
[null,null,null,null,null,null,null,null,null,null,null,null,null,null,null,null,null,null,null,null,null,null,null,"Социальные выплаты гражданам, кроме публичных нормативных социальных выплат","005",10,"01","01 6 02 00020",320,{"$f":"604.7+110.9","v":715.6}]
[null,null,null,null,null,null,null,null,null,null,null,null,null,null,null,null,null,null,null,null,null,null,null,"Охрана семьи и детства","005",10,"04",null,null,{"$f":"AD872","v":22107}]
[null,null,null,null,null,null,null,null,null,null,null,null,null,null,null,null,null,null,null,null,null,null,null,"Муниципальная    программа  \"Жилище  города Лыткарино\"  на 2014-2024 годы","005",10,"04","09 0 00 00000",null,{"$f":"AD873","v":22107}]
[null,null,null,null,null,null,null,null,null,null,null,null,null,null,null,null,null,null,null,null,null,null,null,"Подпрограмма  «Обеспечение жильем детей-сирот и детей, оставшихся без попечения родителей, а также лиц из их числа» на 2015-2021 годы","005",10,"04","09 3 00 00000",null,{"$f":"AD875","v":22107}]
[null,null,null,null,null,null,null,null,null,null,null,null,null,null,null,null,null,null,null,null,null,null,null,"Основное  мероприятие  \"Оказание  государственной  поддержки  в  решении  жилищной  проблемы  детей-сирот и детей, оставшихся без попечения  родителей, лиц из числа детей-сирот и детей,оставшихся без попечения родителей\"","005",10,"04","09 3 01 00000",null,{"$f":"AD875","v":22107}]
[null,null,null,null,null,null,null,null,null,null,null,null,null,null,null,null,null,null,null,null,null,null,null,"Предоставление жилых помещений детям-сиротам и детям, оставшимся без попечения родителей, лицам из их числа по договорам найма специализированных жилых помещений","005",10,"04","09 3 01 60820",null,22107]
[null,null,null,null,null,null,null,null,null,null,null,null,null,null,null,null,null,null,null,null,null,null,null,"Капитальные вложения в объекты  государственной (муниципальной) собственности","005",10,"04","09 3 01 60820",400,22107]
[null,null,null,null,null,null,null,null,null,null,null,null,null,null,null,null,null,null,null,null,null,null,null,"Бюджетные инвестиции ","005",10,"04","09 3 01 60820",410,{"$f":"15791+6316","v":22107}]
[null,null,null,null,null,null,null,null,null,null,null,null,null,null,null,null,null,null,null,null,null,null,null,"Управление  образования города  Лыткарино","901",null,null,null,null,{"$f":"AD890+AD1111+AD879+AD1103","v":1042788.2999999999}]
[null,null,null,null,null,null,null,null,null,null,null,null,null,null,null,null,null,null,null,null,null,null,null,"Национальная экономика",901,"04",null,null,null,{"$f":"AD880","v":1078.5}]
[null,null,null,null,null,null,null,null,null,null,null,null,null,null,null,null,null,null,null,null,null,null,null,"Связь и информатика","901","04",10,null,null,1078.5]
[null,null,null,null,null,null,null,null,null,null,null,null,null,null,null,null,null,null,null,null,null,null,null,"Муниципальная программа  «Развитие информационно-коммуникационных технологий для повышения эффективности процессов управления и создания благоприятных условий жизни и ведения бизнеса в городе  Лыткарино Московской области» на 2017-2021годы","901","04",10,"13 0 00 00000",null,{"$f":"AD882+AD886","v":1078.5}]
[null,null,null,null,null,null,null,null,null,null,null,null,null,null,null,null,null,null,null,null,null,null,null,"Основное мероприятие \"Федеральный проект \"Информационная инфраструктура\"","901","04",10,"13 0 D2 00000",null,969]
[null,null,null,null,null,null,null,null,null,null,null,null,null,null,null,null,null,null,null,null,null,null,null,"Расходы  для обеспечения организаций  дошкольного, начального общего, основного общего и среднего общего образования, находящихся в ведении органов местного самоуправления муниципальных образований Московской области, доступом в сеть Интернет","901","04",10,{"$f":"AB884","v":"13 0 D2 S0600"},null,969]
[null,null,null,null,null,null,null,null,null,null,null,null,null,null,null,null,null,null,null,null,null,null,null,"Закупка товаров, работ и услуг для обеспечения государственных (муниципальных) нужд","901","04",10,"13 0 D2 S0600",600,969]
[null,null,null,null,null,null,null,null,null,null,null,null,null,null,null,null,null,null,null,null,null,null,null,"Иные закупки товаров, работ и услуг для обеспечения государственных (муниципальных) нужд","901","04",10,"13 0 D2 S0600",610,{"$f":"249+720","v":969}]
[null,null,null,null,null,null,null,null,null,null,null,null,null,null,null,null,null,null,null,null,null,null,null,"Основное мероприятие \"Федеральный проект \"Цифровая образовательная среда\"","901","04",10,"13 0 Е4 00000",null,{"$f":"AD887","v":109.5}]
[null,null,null,null,null,null,null,null,null,null,null,null,null,null,null,null,null,null,null,null,null,null,null,"Внедрение информационных технологий  для подключения к сети ФИС ФРДО  муниципальных  общеобразовательных учреждений","901","04",10,"13 0 Е4 00020",null,{"$f":"AD888","v":109.5}]
[null,null,null,null,null,null,null,null,null,null,null,null,null,null,null,null,null,null,null,null,null,null,null,"Предоставление субсидий бюджетным, автономным учреждениям и иным некоммерческим организациям","901","04",10,{"$f":"AB889","v":"13 0 Е4 00020"},600,{"$f":"AD889","v":109.5}]
[null,null,null,null,null,null,null,null,null,null,null,null,null,null,null,null,null,null,null,null,null,null,null,"Субсидии бюджетным учреждениям","901","04",10,"13 0 Е4 00020",610,109.5]
[null,null,null,null,null,null,null,null,null,null,null,null,null,null,null,null,null,null,null,null,null,null,null,"Образование","901","07",null,null,null,{"$f":"AD891+AD941+AD1012+AD1057+AD1050","v":1019974.3999999999}]
[null,null,null,null,null,null,null,null,null,null,null,null,null,null,null,null,null,null,null,null,null,null,null,"Дошкольное образование","901","07","01",null,null,{"$f":"AD892+AD927+AD934","v":444858.1}]
[null,null,null,null,null,null,null,null,null,null,null,null,null,null,null,null,null,null,null,null,null,null,null,"Муниципальная  программа  \"Образование  города  Лыткарино\"  на  2017-2021  годы","901","07","01","03 0 00 00000",null,{"$f":"AD893","v":443961.3}]
[null,null,null,null,null,null,null,null,null,null,null,null,null,null,null,null,null,null,null,null,null,null,null,"Подпрограмма  \"Дошкольное  образование\"","901","07","01","03 1 00 00000",null,{"$f":"AD907+AD923+AD894","v":443961.3}]
[null,null,null,null,null,null,null,null,null,null,null,null,null,null,null,null,null,null,null,null,null,null,null," Основное мероприятие «Создание и развитие объектов дошкольного образования (включая капитальный ремонт, реконструкцию со строительством пристроек и благоустройство территории)»","901","07","01","03 1 01 00000",null,{"$f":"AD895+AD904+AD898+AD901","v":28595.599999999999}]
[null,null,null,null,null,null,null,null,null,null,null,null,null,null,null,null,null,null,null,null,null,null,null,"Благоустройство территорий дошкольных образовательных учреждений","901","07","01","03 1 01 00050",null,{"$f":"AD896","v":445.6}]
[null,null,null,null,null,null,null,null,null,null,null,null,null,null,null,null,null,null,null,null,null,null,null,"Предоставление субсидий бюджетным, автономным учреждениям и иным некоммерческим организациям","901","07","01",{"$f":"AB897","v":"03 1 01 00050"},600,445.6]
[null,null,null,null,null,null,null,null,null,null,null,null,null,null,null,null,null,null,null,null,null,null,null,"Субсидии бюджетным учреждениям","901","07","01","03 1 01 00050",610,{"$f":"500+95.6-120-30","v":445.6}]
[null,null,null,null,null,null,null,null,null,null,null,null,null,null,null,null,null,null,null,null,null,null,null,"Мероприятия по проведению технического обследования муниципальных дошкольных образовательных учреждений ","901","07","01",{"$f":"AB899","v":"03 1 01 00070"},null,{"$f":"AD899","v":150}]
[null,null,null,null,null,null,null,null,null,null,null,null,null,null,null,null,null,null,null,null,null,null,null,"Предоставление субсидий бюджетным, автономным учреждениям и иным некоммерческим организациям","901","07","01",{"$f":"AB900","v":"03 1 01 00070"},600,{"$f":"AD900","v":150}]
[null,null,null,null,null,null,null,null,null,null,null,null,null,null,null,null,null,null,null,null,null,null,null,"Субсидии бюджетным учреждениям","901","07","01","03 1 01 00070",610,150]
[null,null,null,null,null,null,null,null,null,null,null,null,null,null,null,null,null,null,null,null,null,null,null,"Расходы на реализацию дополнительных мероприятий по развитию дошкольных образовательных организаций","901","07","01","03 1 01 04400",null,{"$f":"AD902","v":1500}]
[null,null,null,null,null,null,null,null,null,null,null,null,null,null,null,null,null,null,null,null,null,null,null,"Предоставление субсидий бюджетным, автономным учреждениям и иным некоммерческим организациям","901","07","01","03 1 01 04400",600,{"$f":"AD903","v":1500}]
[null,null,null,null,null,null,null,null,null,null,null,null,null,null,null,null,null,null,null,null,null,null,null,"Субсидии бюджетным учреждениям","901","07","01","03 1 01 04400",610,1500]
[null,null,null,null,null,null,null,null,null,null,null,null,null,null,null,null,null,null,null,null,null,null,null,"Мероприятия по проведению капитального ремонта в муниципальных дошкольных образовательных организациях","901","07","01","03 1 01 S2590",null,{"$f":"AD905","v":26500}]
[null,null,null,null,null,null,null,null,null,null,null,null,null,null,null,null,null,null,null,null,null,null,null,"Предоставление субсидий бюджетным, автономным учреждениям и иным некоммерческим организациям","901","07","01","03 1 01 S2590",600,{"$f":"AD906","v":26500}]
[null,null,null,null,null,null,null,null,null,null,null,null,null,null,null,null,null,null,null,null,null,null,null,"Субсидии бюджетным учреждениям","901","07","01","03 1 01 S2590",610,{"$f":"5751+20749+165+46-165-46","v":26500}," -165-46=-211"]
[null,null,null,null,null,null,null,null,null,null,null,null,null,null,null,null,null,null,null,null,null,null,null,"Основное  мероприятие \"Финансовое  обеспечение  реализации  прав  граждан  на  получение  общедоступного  и  бесплатного  дошкольного  образования\"","901","07","01","03 1 02 00000",null,{"$f":"AD911+AD914+AD917+AD7866+AD920+AD908","v":415205.7}]
[null,null,null,null,null,null,null,null,null,null,null,null,null,null,null,null,null,null,null,null,null,null,null,"Капитальный  и текущий ремонт пищеблоков, прачечных, кровли, лестничных маршей, групповых помещений, музыкальных залов, коридоров и замена оконных конструкций, фасадов, цоколей, отмостков, вытяжной вентиляции  фундаментов дошкольных образовательных учреждений","901","07","01",{"$f":"AB909","v":"03 1 02 00010"},null,{"$f":"AD909","v":582.70000000000005}]
[null,null,null,null,null,null,null,null,null,null,null,null,null,null,null,null,null,null,null,null,null,null,null,"Предоставление субсидий бюджетным, автономным учреждениям и иным некоммерческим организациям","901","07","01",{"$f":"AB910","v":"03 1 02 00010"},600,{"$f":"AD910","v":582.70000000000005}]
[null,null,null,null,null,null,null,null,null,null,null,null,null,null,null,null,null,null,null,null,null,null,null,"Субсидии бюджетным учреждениям","901","07","01","03 1 02 00010",610,{"$f":"500+142.7-60","v":582.70000000000005}]
[null,null,null,null,null,null,null,null,null,null,null,null,null,null,null,null,null,null,null,null,null,null,null,"Снос  (обрезка)аварийных  деревьев  на  территории  дошкольных   образовательных  учреждений","901","07","01","03 1 02 00030",null,{"$f":"AD912","v":202.8}]
[null,null,null,null,null,null,null,null,null,null,null,null,null,null,null,null,null,null,null,null,null,null,null,"Предоставление субсидий бюджетным, автономным учреждениям и иным некоммерческим организациям","901","07","01","03 1 02 00030",600,202.8]
[null,null,null,null,null,null,null,null,null,null,null,null,null,null,null,null,null,null,null,null,null,null,null,"Субсидии бюджетным учреждениям","901","07","01","03 1 02 00030",610,{"$f":"200+102.8-100","v":202.8}]
[null,null,null,null,null,null,null,null,null,null,null,null,null,null,null,null,null,null,null,null,null,null,null,"Субсидия  на  компенсацию  выпадающих  доходов  в  части  родительской  платы  за  присмотр  и  уход  отдельных  категорий  детей","901","07","01","03 1 02 00080",null,{"$f":"AD915","v":1343.8}]
[null,null,null,null,null,null,null,null,null,null,null,null,null,null,null,null,null,null,null,null,null,null,null,"Предоставление субсидий бюджетным, автономным учреждениям и иным некоммерческим организациям","901","07","01","03 1 02 00080",600,1343.8]
[null,null,null,null,null,null,null,null,null,null,null,null,null,null,null,null,null,null,null,null,null,null,null,"Субсидии бюджетным учреждениям","901","07","01","03 1 02 00080",610,1343.8]
[null,null,null,null,null,null,null,null,null,null,null,null,null,null,null,null,null,null,null,null,null,null,null,"Расходы  на  обеспечение  деятельности (оказание  услуг ( выполнение  работ))    учреждений    дошкольного  образования ","901","07","01",{"$f":"AB918","v":"03 1 02 04590"},null,{"$f":"AD918","v":134984.4}]
[null,null,null,null,null,null,null,null,null,null,null,null,null,null,null,null,null,null,null,null,null,null,null,"Предоставление субсидий бюджетным, автономным учреждениям и иным некоммерческим организациям","901","07","01",{"$f":"AB919","v":"03 1 02 04590"},600,134984.4]
[null,null,null,null,null,null,null,null,null,null,null,null,null,null,null,null,null,null,null,null,null,null,null,"Субсидии бюджетным учреждениям","901","07","01","03 1 02 04590",610,{"$f":"112757.5+11219.8+374+2500+164+150+7819.1","v":134984.4}]
[null,null,null,null,null,null,null,null,null,null,null,null,null,null,null,null,null,null,null,null,null,null,null,"Обеспечение государственных гарантий реализации прав граждан на получение общедоступного и бесплатного дошкольного образования в муниципальных дошкольных образовательных организациях в Московской области, включая расходы на оплату труда, приобретение учебников и учебных пособий, средств обучения, игр, игрушек (за исключением расходов на содержание зданий и оплату коммунальных услуг)","901","07","01",{"$f":"AB921","v":"03 1 02 62110"},null,{"$f":"AD921","v":278092}]
[null,null,null,null,null,null,null,null,null,null,null,null,null,null,null,null,null,null,null,null,null,null,null,"Предоставление субсидий бюджетным, автономным учреждениям и иным некоммерческим организациям","901","07","01",{"$f":"AB922","v":"03 1 02 62110"},600,278092]
[null,null,null,null,null,null,null,null,null,null,null,null,null,null,null,null,null,null,null,null,null,null,null,"Субсидии бюджетным учреждениям","901","07","01","03 1 02 62110",610,278092]
[null,null,null,null,null,null,null,null,null,null,null,null,null,null,null,null,null,null,null,null,null,null,null,"Основное  мероприятие \"Финансовое  обеспечение   прочих  мероприятий  в  сфере дошкольного образования\"","901","07","01","03 1 03 00000",null,{"$f":"AD924","v":160}]
[null,null,null,null,null,null,null,null,null,null,null,null,null,null,null,null,null,null,null,null,null,null,null,"Прочие  мероприятия  в  сфере  образования","901","07","01",{"$f":"AB925","v":"03 1 03 07000"},null,160]
[null,null,null,null,null,null,null,null,null,null,null,null,null,null,null,null,null,null,null,null,null,null,null,"Предоставление субсидий бюджетным, автономным учреждениям и иным некоммерческим организациям","901","07","01",{"$f":"AB926","v":"03 1 03 07000"},600,160]
[null,null,null,null,null,null,null,null,null,null,null,null,null,null,null,null,null,null,null,null,null,null,null,"Субсидии бюджетным учреждениям","901","07","01","03 1 03 07000",610,160]
[null,null,null,null,null,null,null,null,null,null,null,null,null,null,null,null,null,null,null,null,null,null,null,"Муниципальная  программа  \"Развитие  инженерной инфраструктуры и энергоэффективности  на  территории  города  Лыткарино\"на  2018-2022 годы","901","07","01"," 06 0 00 00000",null,{"$f":"AD928","v":620}]
[null,null,null,null,null,null,null,null,null,null,null,null,null,null,null,null,null,null,null,null,null,null,null,"Подпрограмма \"Энергосбережение  и  повышение  энергетической  эффективности  на  территории  города Лыткарино\"","901","07","01","06 2 00 00000",null,620]
[null,null,null,null,null,null,null,null,null,null,null,null,null,null,null,null,null,null,null,null,null,null,null,"Основное  мероприятие  \"Повышение  энергетической  эффективности  в бюджетной  сфере на  территории  города  Лыткарино\"","901","07","01","06 2 03 00000",null,620]
[null,null,null,null,null,null,null,null,null,null,null,null,null,null,null,null,null,null,null,null,null,null,null,"Мероприятия  по  энергосбережению  и  повышению  энергетической  эффективности ","901","07","01","06 2 03 18000",null,620]
[null,null,null,null,null,null,null,null,null,null,null,null,null,null,null,null,null,null,null,null,null,null,null,"Установка  (модернизация) ИТП  с установкой теплообменника  отопления и аппаратуры управления отоплением","901","07","01",{"$f":"AB932","v":"06 2 03 18010"},null,620]
[null,null,null,null,null,null,null,null,null,null,null,null,null,null,null,null,null,null,null,null,null,null,null,"Предоставление субсидий бюджетным, автономным учреждениям и иным некоммерческим организациям","901","07","01",{"$f":"AB933","v":"06 2 03 18010"},600,620]
[null,null,null,null,null,null,null,null,null,null,null,null,null,null,null,null,null,null,null,null,null,null,null,"Субсидии бюджетным учреждениям","901","07","01","06 2 03 18010",610,{"$f":"500+120","v":620}]
[null,null,null,null,null,null,null,null,null,null,null,null,null,null,null,null,null,null,null,null,null,null,null,"Муниципальная  программа  \"Безопасность  города  Лыткарино\"  на  2017-2021 годы","901","07","01","08 0 00 00000",null,{"$f":"AD935","v":276.8}]
[null,null,null,null,null,null,null,null,null,null,null,null,null,null,null,null,null,null,null,null,null,null,null,"Подпрограмма  \"Обеспечение  пожарной  безопасности\"","901","07","01","08 5 00 00000",null,276.8]
[null,null,null,null,null,null,null,null,null,null,null,null,null,null,null,null,null,null,null,null,null,null,null,"Основное  мероприятие \"Организация  профилактики  и  ликвидации пожаров  на  территории  города  Лыткарино\"","901","07","01","08 5 01 00000",null,276.8]
[null,null,null,null,null,null,null,null,null,null,null,null,null,null,null,null,null,null,null,null,null,null,null,"Мероприятия  в  области  национальной безопасности  и  правоохранительной  деятельности","901","07","01","08 5 01 12000",null,276.8]
[null,null,null,null,null,null,null,null,null,null,null,null,null,null,null,null,null,null,null,null,null,null,null,"Мероприятия  по обеспечению пожарной  безопасности","901","07","01",{"$f":"AB939","v":"08 5 01 12080"},null,276.8]
[null,null,null,null,null,null,null,null,null,null,null,null,null,null,null,null,null,null,null,null,null,null,null,"Закупка товаров, работ и услуг для обеспечения государственных (муниципальных) нужд","901","07","01",{"$f":"AB940","v":"08 5 01 12080"},"600",276.8]
[null,null,null,null,null,null,null,null,null,null,null,null,null,null,null,null,null,null,null,null,null,null,null,"Иные закупки товаров, работ и услуг для обеспечения государственных (муниципальных) нужд","901","07","01","08 5 01 12080","610",{"$f":"126.8+150","v":276.8}]
[null,null,null,null,null,null,null,null,null,null,null,null,null,null,null,null,null,null,null,null,null,null,null,"Общее образование","901","07","02",null,null,{"$f":"AD942+AD995+AD1008+AD989","v":472947.1}]
[null,null,null,null,null,null,null,null,null,null,null,null,null,null,null,null,null,null,null,null,null,null,null,"Муниципальная  программа  \"Образование  города  Лыткарино\"  на  2017-2021  годы","901","07","02","03 0 00 00000",null,{"$f":"AD943","v":471408.2}]
[null,null,null,null,null,null,null,null,null,null,null,null,null,null,null,null,null,null,null,null,null,null,null,"Подпрограмма  \"Общее образование\"","901","07","02","03 2 00 00000",null,{"$f":"AD944+AD976+AD983+AD969","v":471408.2}]
[null,null,null,null,null,null,null,null,null,null,null,null,null,null,null,null,null,null,null,null,null,null,null,"Основное  мероприятие \"Финансовое  обеспечение  деятельности  образовательных  организаций\"","901","07","02","03 2 01 00000",null,{"$f":"AD945+AD963+AD966+AD957+AD951+AD954+AD948+AD960","v":442631.5}]
[null,null,null,null,null,null,null,null,null,null,null,null,null,null,null,null,null,null,null,null,null,null,null,"Мероприятия  по  организации  питьевого режима  в образовательных  учреждениях","901","07","02","03 2 01 00010",null,{"$f":"AD946","v":20}]
[null,null,null,null,null,null,null,null,null,null,null,null,null,null,null,null,null,null,null,null,null,null,null,"Предоставление субсидий бюджетным, автономным учреждениям и иным некоммерческим организациям","901","07","02","03 2 01 00010",600,20]
[null,null,null,null,null,null,null,null,null,null,null,null,null,null,null,null,null,null,null,null,null,null,null,"Субсидии бюджетным учреждениям","901","07","02","03 2 01 00010",610,20]
[null,null,null,null,null,null,null,null,null,null,null,null,null,null,null,null,null,null,null,null,null,null,null,"Приобретение расходных материалов для проведения единого государственного экзамена","901","07","02",{"$f":"AB949","v":"03 2 01 00020"},null,{"$f":"AD949","v":94.5}]
[null,null,null,null,null,null,null,null,null,null,null,null,null,null,null,null,null,null,null,null,null,null,null,"Предоставление субсидий бюджетным, автономным учреждениям и иным некоммерческим организациям","901","07","02",{"$f":"AB950","v":"03 2 01 00020"},600,{"$f":"AD950","v":94.5}]
[null,null,null,null,null,null,null,null,null,null,null,null,null,null,null,null,null,null,null,null,null,null,null,"Субсидии бюджетным учреждениям","901","07","02","03 2 01 00020",610,94.5]
[null,null,null,null,null,null,null,null,null,null,null,null,null,null,null,null,null,null,null,null,null,null,null,"Текущий ремонт столовых и пищеблоков","901","07","02",{"$f":"AB952","v":"03 2 01 00040"},null,{"$f":"AD952","v":1650}]
[null,null,null,null,null,null,null,null,null,null,null,null,null,null,null,null,null,null,null,null,null,null,null,"Предоставление субсидий бюджетным, автономным учреждениям и иным некоммерческим организациям","901","07","02",{"$f":"AB953","v":"03 2 01 00040"},600,{"$f":"AD953","v":1650}]
[null,null,null,null,null,null,null,null,null,null,null,null,null,null,null,null,null,null,null,null,null,null,null,"Субсидии бюджетным учреждениям","901","07","02","03 2 01 00040",610,{"$f":"3000-120+150-1380","v":1650}]
[null,null,null,null,null,null,null,null,null,null,null,null,null,null,null,null,null,null,null,null,null,null,null,"Приобретение оборудования и техническое сопровождение региональной системы видеотрансляции и видеопротоколирования ППЭ","901","07","02",{"$f":"AB955","v":"03 2 01 00050"},null,{"$f":"AD955","v":928}]
[null,null,null,null,null,null,null,null,null,null,null,null,null,null,null,null,null,null,null,null,null,null,null,"Предоставление субсидий бюджетным, автономным учреждениям и иным некоммерческим организациям","901","07","02",{"$f":"AB956","v":"03 2 01 00050"},600,{"$f":"AD956","v":928}]
[null,null,null,null,null,null,null,null,null,null,null,null,null,null,null,null,null,null,null,null,null,null,null,"Субсидии бюджетным учреждениям","901","07","02","03 2 01 00050",610,928]
[null,null,null,null,null,null,null,null,null,null,null,null,null,null,null,null,null,null,null,null,null,null,null,"Расходы  на  замену  фильтров  на  воду  пищеблоков  в    образовательных  учреждениях","901","07","02","03 2 01 00060",null,{"$f":"AD958","v":30}]
[null,null,null,null,null,null,null,null,null,null,null,null,null,null,null,null,null,null,null,null,null,null,null,"Предоставление субсидий бюджетным, автономным учреждениям и иным некоммерческим организациям","901","07","02",{"$f":"AB957","v":"03 2 01 00060"},600,30]
[null,null,null,null,null,null,null,null,null,null,null,null,null,null,null,null,null,null,null,null,null,null,null,"Субсидии бюджетным учреждениям","901","07","02",{"$f":"AB958","v":"03 2 01 00060"},610,{"$f":"70-40","v":30}]
[null,null,null,null,null,null,null,null,null,null,null,null,null,null,null,null,null,null,null,null,null,null,null,"Расходы  на  приобретение  оборудования  для пищеблоков  в общеобразовательных учреждениях","901","07","02",{"$f":"AB961","v":"03 2 01 00080"},null,{"$f":"AD961","v":160}]
[null,null,null,null,null,null,null,null,null,null,null,null,null,null,null,null,null,null,null,null,null,null,null,"Предоставление субсидий бюджетным, автономным учреждениям и иным некоммерческим организациям","901","07","02",{"$f":"AB962","v":"03 2 01 00080"},600,{"$f":"AD962","v":160}]
[null,null,null,null,null,null,null,null,null,null,null,null,null,null,null,null,null,null,null,null,null,null,null,"Субсидии бюджетным учреждениям","901","07","02","03 2 01 00080",610,160]
[null,null,null,null,null,null,null,null,null,null,null,null,null,null,null,null,null,null,null,null,null,null,null,"Расходы  на  обеспечение  деятельности  (оказание  услуг ( выполнение  работ)) муниципальных  учреждений  школ-детских  садов, школ начальных,неполных средних  и  средних","901","07","02","03 2 01 05590",null,{"$f":"AD964","v":71793.999999999985}]
[null,null,null,null,null,null,null,null,null,null,null,null,null,null,null,null,null,null,null,null,null,null,null,"Предоставление субсидий бюджетным, автономным учреждениям и иным некоммерческим организациям","901","07","02","03 2 01 05590",600,71793.999999999985]
[null,null,null,null,null,null,null,null,null,null,null,null,null,null,null,null,null,null,null,null,null,null,null,"Субсидии бюджетным учреждениям","901","07","02","03 2 01 05590",610,{"$f":"69403.4+2212.7+177.9","v":71793.999999999985}]
[null,null,null,null,null,null,null,null,null,null,null,null,null,null,null,null,null,null,null,null,null,null,null,"Обеспечение государственных гарантий реализации прав граждан на получение общедоступного и бесплатного дошкольного, начального общего, основного общего, среднего общего образования в муниципальных общеобразовательных организациях в Московской области, обеспечение дополнительного образования в муниципальных общеобразовательных организациях в Московской области, включая расходы на оплату труда, приобретение учебников и учебных пособий, средств обучения, игр, игрушек (за исключением расходов на содержание зданий и оплату коммунальных услуг)","901","07","02","03 2 01 62200",null,{"$f":"AD967","v":367955}]
[null,null,null,null,null,null,null,null,null,null,null,null,null,null,null,null,null,null,null,null,null,null,null,"Предоставление субсидий бюджетным, автономным учреждениям и иным некоммерческим организациям","901","07","02","03 2 01 62200",600,367955]
[null,null,null,null,null,null,null,null,null,null,null,null,null,null,null,null,null,null,null,null,null,null,null,"Субсидии бюджетным учреждениям","901","07","02","03 2 01 62200",610,{"$f":"367889+66","v":367955}]
["Основное мероприятие \"Обеспечение  развития  инновационной  инфраструктуры  общего  образования\"","901","07","02","03 2 02 00000",null,{"$f":"G970","v":150},null,null,null,null,null,null,null,null,null,null,null,null,null,null,null,null,"Основное мероприятие \"Обеспечение  развития  инновационной  инфраструктуры  общего  образования\"","901","07","02","03 2 02 00000",null,{"$f":"AD970+AD973","v":1530}]
["Проведение  технического обследования здания МОУ гимназия №1","901","07","02",{"$f":"E971","v":"03 2 02 00020"},null,{"$f":"G971","v":150},null,null,null,null,null,null,null,null,null,null,null,null,null,null,null,null,"Проведение  технического обследования здания МОУ гимназия №1","901","07","02",{"$f":"AB971","v":"03 2 02 00020"},null,{"$f":"AD971","v":150}]
["Предоставление субсидий бюджетным, автономным учреждениям и иным некоммерческим организациям","901","07","02",{"$f":"E972","v":"03 2 02 00020"},600,{"$f":"G972","v":150},null,null,null,null,null,null,null,null,null,null,null,null,null,null,null,null,"Предоставление субсидий бюджетным, автономным учреждениям и иным некоммерческим организациям","901","07","02",{"$f":"AB972","v":"03 2 02 00020"},600,{"$f":"AD972","v":150}]
["Субсидии бюджетным учреждениям","901","07","02","03 2 02 00020",610,150,null,null,null,null,null,null,null,null,null,null,null,null,null,null,null,null,"Субсидии бюджетным учреждениям","901","07","02","03 2 02 00020",610,150]
[null,null,null,null,null,null,null,null,null,null,null,null,null,null,null,null,null,null,null,null,null,null,null,"Расходы на проведение капитального ремонта,ремонта кровель, замену оконных конструкций,выполнение противопожарных мероприятий в общеобразовательных организациях","901","07","02",{"$f":"AB974","v":"03 2 02 00030"},null,{"$f":"AD974","v":1380}]
[null,null,null,null,null,null,null,null,null,null,null,null,null,null,null,null,null,null,null,null,null,null,null,"Предоставление субсидий бюджетным, автономным учреждениям и иным некоммерческим организациям","901","07","02",{"$f":"AB975","v":"03 2 02 00030"},600,{"$f":"AD975","v":1380}]
[null,null,null,null,null,null,null,null,null,null,null,null,null,null,null,null,null,null,null,null,null,null,null,"Субсидии бюджетным учреждениям","901","07","02","03 2 02 00030",610,1380]
[null,null,null,null,null,null,null,null,null,null,null,null,null,null,null,null,null,null,null,null,null,null,null,"Основное  мероприятие \"Обеспечение  мер  социальной  поддержки  обучающихся  в  образовательных  организациях\"","901","07","02","03 2 03 00000",null,{"$f":"AD977+AD980","v":24969}]
[null,null,null,null,null,null,null,null,null,null,null,null,null,null,null,null,null,null,null,null,null,null,null,"Частичная компенсация стоимости питания отдельным категориям обучающихся в муниципальных общеобразовательных организациях в Московской области и в частных общеобразовательных организациях в Московской области, осуществляющих образовательную деятельность по имеющим государственную аккредитацию основным общеобразовательным программам","901","07","02","03 2 03 62220",null,{"$f":"AD978","v":24902}]
[null,null,null,null,null,null,null,null,null,null,null,null,null,null,null,null,null,null,null,null,null,null,null,"Предоставление субсидий бюджетным, автономным учреждениям и иным некоммерческим организациям","901","07","02","03 2 03 62220",600,24902]
[null,null,null,null,null,null,null,null,null,null,null,null,null,null,null,null,null,null,null,null,null,null,null,"Субсидии бюджетным учреждениям","901","07","02","03 2 03 62220",610,24902]
[null,null,null,null,null,null,null,null,null,null,null,null,null,null,null,null,null,null,null,null,null,null,null,"Оплата расходов, связанных с компенсацией проезда к месту учебы и обратно отдельным категориям обучающихся по  очной  форме  обучения муниципальных образовательных организаций в  Московской области","901","07","02",{"$f":"AB981","v":"03 2 03 62230"},null,{"$f":"AD981","v":67}]
[null,null,null,null,null,null,null,null,null,null,null,null,null,null,null,null,null,null,null,null,null,null,null,"Предоставление субсидий бюджетным, автономным учреждениям и иным некоммерческим организациям","901","07","02",{"$f":"AB982","v":"03 2 03 62230"},600,67]
[null,null,null,null,null,null,null,null,null,null,null,null,null,null,null,null,null,null,null,null,null,null,null,"Субсидии бюджетным учреждениям","901","07","02","03 2 03 62230",610,67]
[null,null,null,null,null,null,null,null,null,null,null,null,null,null,null,null,null,null,null,null,null,null,null,"Основное  мероприятие \"Прочие  мероприятия  в  сфере общего бразования\"","901","07","02","03 2 05 00000",null,{"$f":"AD984","v":2277.6999999999998}]
[null,null,null,null,null,null,null,null,null,null,null,null,null,null,null,null,null,null,null,null,null,null,null,"Прочие  мероприятия  в  сфере  образования","901","07","02","03 2 05 07000",null,{"$f":"AD987+AD985","v":2277.6999999999998}]
[null,null,null,null,null,null,null,null,null,null,null,null,null,null,null,null,null,null,null,null,null,null,null,"Социальное обеспечение и иные выплаты населению","901","07","02","03 2 05 07000",300,{"$f":"AD986","v":470}]
[null,null,null,null,null,null,null,null,null,null,null,null,null,null,null,null,null,null,null,null,null,null,null,"Стипендии","901","07","02","03 2 05 07000",340,470]
[null,null,null,null,null,null,null,null,null,null,null,null,null,null,null,null,null,null,null,null,null,null,null,"Предоставление субсидий бюджетным, автономным учреждениям и иным некоммерческим организациям","901","07","02","03 2 05 07000",600,1807.6999999999998]
[null,null,null,null,null,null,null,null,null,null,null,null,null,null,null,null,null,null,null,null,null,null,null,"Субсидии бюджетным учреждениям","901","07","02","03 2 05 07000",610,{"$f":"1569.2+30.1+628.4+150-470-100","v":1807.6999999999998}]
[null,null,null,null,null,null,null,null,null,null,null,null,null,null,null,null,null,null,null,null,null,null,null,"Муниципальная  программа  \"Забота\"  на  2017-2021 годы","901","07","02","07 0 00 00000",null,{"$f":"AD990","v":772.1}]
[null,null,null,null,null,null,null,null,null,null,null,null,null,null,null,null,null,null,null,null,null,null,null,"Подпрограмма  \"Доступная  среда  города  Лыткарино\"","901","07","02","07 1 00 00000",null,{"$f":"AD991","v":772.1}]
[null,null,null,null,null,null,null,null,null,null,null,null,null,null,null,null,null,null,null,null,null,null,null,"Основное  мероприятие\"Организация  безбарьерной  среды  на  объектах  социальной  инфраструктуры\"","901","07","02","07 1 02 00000",null,{"$f":"AD992","v":772.1}]
[null,null,null,null,null,null,null,null,null,null,null,null,null,null,null,null,null,null,null,null,null,null,null,"Расходы  на  оснащение  объектов  социальной  инфраструктуры  для  организации безбарьерного  доступа","901","07","02",{"$f":"AB993","v":"07 1 02 00010"},null,{"$f":"AD993","v":772.1}]
[null,null,null,null,null,null,null,null,null,null,null,null,null,null,null,null,null,null,null,null,null,null,null,"Предоставление субсидий бюджетным, автономным учреждениям и иным некоммерческим организациям","901","07","02",{"$f":"AB994","v":"07 1 02 00010"},600,{"$f":"AD994","v":772.1}]
[null,null,null,null,null,null,null,null,null,null,null,null,null,null,null,null,null,null,null,null,null,null,null,"Субсидии бюджетным учреждениям","901","07","02","07 1 02 00010",610,{"$f":"950-177.9","v":772.1}]
[null,null,null,null,null,null,null,null,null,null,null,null,null,null,null,null,null,null,null,null,null,null,null,"Муниципальная  программа  \"Безопасность  города  Лыткарино\"  на  2017-2021 годы","901","07","02","08 0 00 00000",null,{"$f":"AD996+AD1002","v":606.70000000000005}]
[null,null,null,null,null,null,null,null,null,null,null,null,null,null,null,null,null,null,null,null,null,null,null,"Подпрограмма \"Профилактика  преступлений  и  иных  правонарушений\"","901","07",{"$f":"AA1004","v":"02"}," 08 1 00 00000",null,{"$f":"AD997","v":218.7}]
[null,null,null,null,null,null,null,null,null,null,null,null,null,null,null,null,null,null,null,null,null,null,null,"Основное  мероприятие \"Профилактика  и  предупреждение  преступлений  и   иных  правонарушений  в  том  числе  экстремистской  (террористической)  направленности\"","901","07","02","08 1 02 00000",null,{"$f":"AD998","v":218.7}]
[null,null,null,null,null,null,null,null,null,null,null,null,null,null,null,null,null,null,null,null,null,null,null,"Мероприятия  в  области  национальной безопасности  и  правоохранительной  деятельности","901","07","02","08 1 02 12000",null,{"$f":"AD999","v":218.7}]
[null,null,null,null,null,null,null,null,null,null,null,null,null,null,null,null,null,null,null,null,null,null,null,"Разработка,установка и пусконаладочные  работы  систем  контроля  и  управления  доступом ","901","07","02",{"$f":"AB1000","v":"08 1 02 12020"},null,{"$f":"AD1000","v":218.7}]
[null,null,null,null,null,null,null,null,null,null,null,null,null,null,null,null,null,null,null,null,null,null,null,"Предоставление субсидий бюджетным, автономным учреждениям и иным некоммерческим организациям","901","07","02",{"$f":"AB1001","v":"08 1 02 12020"},600,{"$f":"AD1001","v":218.7}]
[null,null,null,null,null,null,null,null,null,null,null,null,null,null,null,null,null,null,null,null,null,null,null,"Субсидии бюджетным учреждениям","901","07","02","08 1 02 12020",610,218.7]
[null,null,null,null,null,null,null,null,null,null,null,null,null,null,null,null,null,null,null,null,null,null,null,"Подпрограмма  \"Обеспечение  пожарной  безопасности\"","901","07",{"$f":"AA1003","v":"02"},"08 5 00 00000",null,{"$f":"AD1003","v":388}]
[null,null,null,null,null,null,null,null,null,null,null,null,null,null,null,null,null,null,null,null,null,null,null,"Основное  мероприятие \"Организация  профилактики  и  ликвидации пожаров  на  территории  города  Лыткарино\"","901","07","02","08 5 01 00000",null,{"$f":"AD1004","v":388}]
[null,null,null,null,null,null,null,null,null,null,null,null,null,null,null,null,null,null,null,null,null,null,null,"Мероприятия  в  области  национальной безопасности  и  правоохранительной  деятельности","901","07","02","08 5 01 12000",null,{"$f":"AD1005","v":388}]
[null,null,null,null,null,null,null,null,null,null,null,null,null,null,null,null,null,null,null,null,null,null,null,"Мероприятия  по обеспечению пожарной  безопасности","901","07","02",{"$f":"AB1006","v":"08 5 01 12080"},null,{"$f":"AD1006","v":388}]
[null,null,null,null,null,null,null,null,null,null,null,null,null,null,null,null,null,null,null,null,null,null,null,"Предоставление субсидий бюджетным, автономным учреждениям и иным некоммерческим организациям","901","07","02",{"$f":"AB1007","v":"08 5 01 12080"},"600",{"$f":"AD1007","v":388}]
[null,null,null,null,null,null,null,null,null,null,null,null,null,null,null,null,null,null,null,null,null,null,null,"Субсидии бюджетным учреждениям","901","07","02","08 5 01 12080","610",{"$f":"88+300","v":388}]
[null,null,null,null,null,null,null,null,null,null,null,null,null,null,null,null,null,null,null,null,null,null,null,"Непрограммные расходы бюджета города  Лыткарино","901","07","02","99 0 00 00000",null,{"$f":"AD1009","v":160.1}]
[null,null,null,null,null,null,null,null,null,null,null,null,null,null,null,null,null,null,null,null,null,null,null,"Возврат  средстств субвенции на обеспечение государственных гарантий реализации прав граждан на получение общедоступного и бесплатного дошкольного, начального общего, основного общего, среднего общего образования в муниципальных общеобразовательных организациях в Московской области, обеспечение дополнительного образования в муниципальных общеобразовательных организациях в Московской области, включая расходы на оплату труда, приобретение учебников и учебных пособий, средств обучения, игр, игрушек (за исключением расходов на содержание зданий и оплату коммунальных услуг)","901","07","02","99 0 00 00800",null,{"$f":"AD1010","v":160.1}]
[null,null,null,null,null,null,null,null,null,null,null,null,null,null,null,null,null,null,null,null,null,null,null,"Иные бюджетные ассигнования","901","07","02","99 0 00 00800","800",{"$f":"AD1011","v":160.1}]
[null,null,null,null,null,null,null,null,null,null,null,null,null,null,null,null,null,null,null,null,null,null,null,"Уплата налогов, сборов и иных платежей","901","07","02","99 0 00 00800","850",160.1]
[null,null,null,null,null,null,null,null,null,null,null,null,null,null,null,null,null,null,null,null,null,null,null,"Дополнительное образование детей",901,"07","03",null,null,{"$f":"AD1013+AD1038+AD1045","v":64416.6}]
[null,null,null,null,null,null,null,null,null,null,null,null,null,null,null,null,null,null,null,null,null,null,null,"Муниципальная  программа  \"Образование  города  Лыткарино\"  на  2017-2021  годы",901,"07","03","03 0 00 00000",null,{"$f":"AD1014","v":64156.7}]
[null,null,null,null,null,null,null,null,null,null,null,null,null,null,null,null,null,null,null,null,null,null,null,"Подпрограмма  \"Дополнительное  образование  и  воспитание  детей\"",901,"07","03","03 3 00 00000",null,{"$f":"AD1015+AD1025+AD1030+AD1034","v":64156.7}]
[null,null,null,null,null,null,null,null,null,null,null,null,null,null,null,null,null,null,null,null,null,null,null,"Основное  мероприятие \"Реализация  комплекса  мер, обеспечивающих  развитие  системы  дополнительного  образования  детей,  в  том  числе  направленных  на  совершенствование организационно-экономических  механизмов  обеспечения  доступности  услуг  дополнительного  образования  и  психологического  сопровождения  обучающихся\"",901,"07","03","03 3 01 00000",null,{"$f":"AD1022+AD1016+AD1019","v":54326.899999999994}]
[null,null,null,null,null,null,null,null,null,null,null,null,null,null,null,null,null,null,null,null,null,null,null,"Расходы на текущий ремонт в муниципальных учреждениях дополнительного образования",901,"07","03","03 3 01 00010",null,{"$f":"AD1017","v":2463.5}]
[null,null,null,null,null,null,null,null,null,null,null,null,null,null,null,null,null,null,null,null,null,null,null,"Предоставление субсидий бюджетным, автономным учреждениям и иным некоммерческим организациям",901,"07","03","03 3 01 00010",600,{"$f":"AD1018","v":2463.5}]
[null,null,null,null,null,null,null,null,null,null,null,null,null,null,null,null,null,null,null,null,null,null,null,"Субсидии бюджетным учреждениям",901,"07","03","03 3 01 00010",610,2463.5]
[null,null,null,null,null,null,null,null,null,null,null,null,null,null,null,null,null,null,null,null,null,null,null,"Укрепление  материально-технической базы учреждений дополнительного  образования",901,"07","03",{"$f":"AB1020","v":"03 3 01 00020"},null,{"$f":"AD1020","v":99.2}]
[null,null,null,null,null,null,null,null,null,null,null,null,null,null,null,null,null,null,null,null,null,null,null,"Предоставление субсидий бюджетным, автономным учреждениям и иным некоммерческим организациям",901,"07","03",{"$f":"AB1021","v":"03 3 01 00020"},600,{"$f":"AD1021","v":99.2}]
[null,null,null,null,null,null,null,null,null,null,null,null,null,null,null,null,null,null,null,null,null,null,null,"Субсидии бюджетным учреждениям",901,"07","03","03 3 01 00020",610,99.2]
[null,null,null,null,null,null,null,null,null,null,null,null,null,null,null,null,null,null,null,null,null,null,null,"Расходы  на  обеспечение  деятельности  (оказание  услуг  (выполнение  работ)) муниципальных  учреждений  по  внешкольной  работе  с  детьми ",901,"07","03","03 3 01 06590",null,{"$f":"AD1023","v":51764.2}]
[null,null,null,null,null,null,null,null,null,null,null,null,null,null,null,null,null,null,null,null,null,null,null,"Предоставление субсидий бюджетным, автономным учреждениям и иным некоммерческим организациям",901,"07","03","03 3 01 06590",600,51764.2]
[null,null,null,null,null,null,null,null,null,null,null,null,null,null,null,null,null,null,null,null,null,null,null,"Субсидии бюджетным учреждениям",901,"07","03","03 3 01 06590",610,{"$f":"56379.2-1000+6017-9632","v":51764.2},-9632]
[null,null,null,null,null,null,null,null,null,null,null,null,null,null,null,null,null,null,null,null,null,null,null,"Основное  мероприятие \"Строительство,реконструкция  и  капитальный  ремонт  учреждений  дополнительного  образования\" ",901,"07","03","03 3 02 00000",null,{"$f":"AD1026","v":0}]
[null,null,null,null,null,null,null,null,null,null,null,null,null,null,null,null,null,null,null,null,null,null,null,"Капитальный  ремонт  ","901","07","02","03 3 02 21000",null,0]
[null,null,null,null,null,null,null,null,null,null,null,null,null,null,null,null,null,null,null,null,null,null,null,"Замена  оконных  конструкций  в  учреждениях  дополнительного  образования","901","07","02",{"$f":"AB1028","v":"03 3 02 21090"},null,0]
[null,null,null,null,null,null,null,null,null,null,null,null,null,null,null,null,null,null,null,null,null,null,null,"Предоставление субсидий бюджетным, автономным учреждениям и иным некоммерческим организациям","901","07","02",{"$f":"AB1029","v":"03 3 02 21090"},600,0]
[null,null,null,null,null,null,null,null,null,null,null,null,null,null,null,null,null,null,null,null,null,null,null,"Субсидии бюджетным учреждениям","901","07","02","03 3 02 21090",610]
[null,null,null,null,null,null,null,null,null,null,null,null,null,null,null,null,null,null,null,null,null,null,null," Основное  мероприятие \"Прочие  мероприятия  в  сфере дополнительного образования\"",901,"07","03","03 3 03 00000",null,{"$f":"AD1031","v":197.8}]
[null,null,null,null,null,null,null,null,null,null,null,null,null,null,null,null,null,null,null,null,null,null,null,"Прочие  мероприятия  в  сфере  образования",901,"07","03","03 3 03 07000",null,197.8]
[null,null,null,null,null,null,null,null,null,null,null,null,null,null,null,null,null,null,null,null,null,null,null,"Предоставление субсидий бюджетным, автономным учреждениям и иным некоммерческим организациям",901,"07","03","03 3 03 07000",600,197.8]
[null,null,null,null,null,null,null,null,null,null,null,null,null,null,null,null,null,null,null,null,null,null,null,"Субсидии бюджетным учреждениям",901,"07","03","03 3 03 07000",610,{"$f":"240+17.8-60","v":197.8}]
[null,null,null,null,null,null,null,null,null,null,null,null,null,null,null,null,null,null,null,null,null,null,null,"Основное мероприятие \"Обеспечение функционирования модели персонифицированного финансирования дополнительного образования детей\" ",901,"07","03","03 3 04 00000",null,{"$f":"AD1035","v":9632}]
[null,null,null,null,null,null,null,null,null,null,null,null,null,null,null,null,null,null,null,null,null,null,null,"Внедрение и обеспечение функционирования модели персонифицированного финансирования дополнительного образования детей",901,"07","03","03 3 04 00010",null,{"$f":"AD1036","v":9632}]
[null,null,null,null,null,null,null,null,null,null,null,null,null,null,null,null,null,null,null,null,null,null,null,"Предоставление субсидий бюджетным, автономным учреждениям и иным некоммерческим организациям",901,"07","03",{"$f":"AB1035","v":"03 3 04 00010"},600,{"$f":"AD1037","v":9632}]
[null,null,null,null,null,null,null,null,null,null,null,null,null,null,null,null,null,null,null,null,null,null,null,"Субсидии бюджетным учреждениям",901,"07","03",{"$f":"AB1036","v":"03 3 04 00010"},610,9632,9632]
[null,null,null,null,null,null,null,null,null,null,null,null,null,null,null,null,null,null,null,null,null,null,null,"Муниципальная  программа  \"Безопасность  города  Лыткарино\"  на  2017-2021 годы","901","07","03","08 0 00 00000",null,{"$f":"AD1039","v":98.9}]
[null,null,null,null,null,null,null,null,null,null,null,null,null,null,null,null,null,null,null,null,null,null,null,"Подпрограмма \"Профилактика  преступлений  и  иных  правонарушений\"","901","07","03"," 08 1 00 00000",null,98.9]
[null,null,null,null,null,null,null,null,null,null,null,null,null,null,null,null,null,null,null,null,null,null,null,"Основное  мероприятие \"Профилактика  и  предупреждение  преступлений  и   иных  правонарушений  в  том  числе  экстремистской  (террористической)  направленности\"","901","07","03","08 1 02 00000",null,98.9]
[null,null,null,null,null,null,null,null,null,null,null,null,null,null,null,null,null,null,null,null,null,null,null,"Мероприятия  в  области  национальной безопасности  и  правоохранительной  деятельности","901","07","03","08 1 02 12000",null,98.9]
[null,null,null,null,null,null,null,null,null,null,null,null,null,null,null,null,null,null,null,null,null,null,null,"Разработка,установка и пусконаладочные  работы  систем  контроля  и  управления  доступом ","901","07","03",{"$f":"AB1043","v":"08 1 02 12020"},null,98.9]
[null,null,null,null,null,null,null,null,null,null,null,null,null,null,null,null,null,null,null,null,null,null,null,"Предоставление субсидий бюджетным, автономным учреждениям и иным некоммерческим организациям","901","07","03",{"$f":"AB1044","v":"08 1 02 12020"},600,98.9]
[null,null,null,null,null,null,null,null,null,null,null,null,null,null,null,null,null,null,null,null,null,null,null,"Субсидии бюджетным учреждениям","901","07","03","08 1 02 12020",610,98.9]
[null,null,null,null,null,null,null,null,null,null,null,null,null,null,null,null,null,null,null,null,null,null,null,"Муниципальная программа  «Развитие информационно-коммуникационных технологий для повышения эффективности процессов управления и создания благоприятных условий жизни и ведения бизнеса в городе  Лыткарино Московской области» на 2017-2021годы","901","07","03","13 0 00 00000",null,{"$f":"AD1046","v":161}]
[null,null,null,null,null,null,null,null,null,null,null,null,null,null,null,null,null,null,null,null,null,null,null,"Основное мероприятие \"Федеральный проект \"Цифровая образовательная среда\"","901","07","03","13 0 Е4 00000",null,{"$f":"AD1047","v":161}]
[null,null,null,null,null,null,null,null,null,null,null,null,null,null,null,null,null,null,null,null,null,null,null,"Обеспечение  современными аппаратно-программными комплексами со средствами криптозащиты информации для муниципальных организаций Московской области","901","07","03",{"$f":"AB1048","v":"13 0 Е4 00030"},null,{"$f":"AD1048","v":161}]
[null,null,null,null,null,null,null,null,null,null,null,null,null,null,null,null,null,null,null,null,null,null,null,"Предоставление субсидий бюджетным, автономным учреждениям и иным некоммерческим организациям","901","07","03",{"$f":"AB1049","v":"13 0 Е4 00030"},600,{"$f":"AD1049","v":161}]
[null,null,null,null,null,null,null,null,null,null,null,null,null,null,null,null,null,null,null,null,null,null,null,"Субсидии бюджетным учреждениям","901","07","03","13 0 Е4 00030",610,161]
[null,null,null,null,null,null,null,null,null,null,null,null,null,null,null,null,null,null,null,null,null,null,null,"Молодежная политика ",901,"07",null,null,null,{"$f":"AD1051","v":490}]
[null,null,null,null,null,null,null,null,null,null,null,null,null,null,null,null,null,null,null,null,null,null,null,"Муниципальная  программа «Молодое поколение города Лыткарино» на 2017 - 2021 годы","901","07","07","11 0 00 00000",null,{"$f":"AD1052","v":490}]
[null,null,null,null,null,null,null,null,null,null,null,null,null,null,null,null,null,null,null,null,null,null,null,"Подпрограмма  \"Мероприятия  для  подростков  и  молодежи  города  Лыткарино\"","901","07","07","11 1 00 00000",null,{"$f":"AD1053","v":490}]
[null,null,null,null,null,null,null,null,null,null,null,null,null,null,null,null,null,null,null,null,null,null,null,"Основное мероприятие \"Организация временного  трудоустройства  подростков  в период  летних  школьных каникул","901","07","07","11 1 03 00000",null,{"$f":"AD1054","v":490}]
[null,null,null,null,null,null,null,null,null,null,null,null,null,null,null,null,null,null,null,null,null,null,null,"Мероприятия  в  сфере  молодежной  политики","901","07","07","11 1 03 10000",null,490]
[null,null,null,null,null,null,null,null,null,null,null,null,null,null,null,null,null,null,null,null,null,null,null,"Предоставление субсидий бюджетным, автономным учреждениям и иным некоммерческим организациям","901","07","07","11 1 03 10000",600,490]
[null,null,null,null,null,null,null,null,null,null,null,null,null,null,null,null,null,null,null,null,null,null,null,"Субсидии бюджетным учреждениям","901","07","07","11 1 03 10000",610,490]
[null,null,null,null,null,null,null,null,null,null,null,null,null,null,null,null,null,null,null,null,null,null,null," Другие вопросы в области образования","901","07","09",null,null,{"$f":"AD1058+AD1064+AD1093","v":37262.6}]
[null,null,null,null,null,null,null,null,null,null,null,null,null,null,null,null,null,null,null,null,null,null,null,"Муниципальная  программа «Муниципальное управление города Лыткарино на 2017-2021 годы»","901","07","09","01 0 00 00000",null,{"$f":"AD1059","v":4.5}]
[null,null,null,null,null,null,null,null,null,null,null,null,null,null,null,null,null,null,null,null,null,null,null,"Подпрограмма «Развитие системы информирования населения о деятельности органов местного самоуправления города Лыткарино Московской области» ","901","07","09","01 4 00 00000",null,{"$f":"AD1060","v":4.5}]
[null,null,null,null,null,null,null,null,null,null,null,null,null,null,null,null,null,null,null,null,null,null,null,"Основное мероприятие \"Информирование населения г.Лыткарино об основных событиях социально-экономического развития, общественно-политической жизни, о деятельности органов местного самоуправления города  Лыткарино\" ","901","07","09","01 4 01 00000",null,4.5]
[null,null,null,null,null,null,null,null,null,null,null,null,null,null,null,null,null,null,null,null,null,null,null,"Осуществление взаимодействия органов местного самоуправления с печатными  средствами массовой  информации  в  области  подписки,доставки  и  распространения тиражей печатных изданий","901","07","09",{"$f":"AB1062","v":"01 4 01 00020"},null,4.5]
[null,null,null,null,null,null,null,null,null,null,null,null,null,null,null,null,null,null,null,null,null,null,null,"Закупка товаров, работ и услуг для обеспечения государственных (муниципальных) нужд","901","07","09",{"$f":"AB1063","v":"01 4 01 00020"},200,4.5]
[null,null,null,null,null,null,null,null,null,null,null,null,null,null,null,null,null,null,null,null,null,null,null,"Иные закупки товаров, работ и услуг для обеспечения государственных (муниципальных) нужд","901","07","09","01 4 01 00020",240,4.5]
[null,null,null,null,null,null,null,null,null,null,null,null,null,null,null,null,null,null,null,null,null,null,null,"Муниципальная  программа  \"Образование  города  Лыткарино\"  на  2017-2021  годы","901","07","09","03 0 00 00000",null,{"$f":"AD1065+AD1070","v":35169.4}]
[null,null,null,null,null,null,null,null,null,null,null,null,null,null,null,null,null,null,null,null,null,null,null,"Подпрограмма  \"Дошкольное  образование\"","901","07","09","03 1 00 00000",null,{"$f":"AD1066","v":802}]
[null,null,null,null,null,null,null,null,null,null,null,null,null,null,null,null,null,null,null,null,null,null,null,"Основное  мероприятие \"Финансовое  обеспечение  реализации  прав  граждан  на  получение  общедоступного  и  бесплатного  дошкольного  образования\"","901","07","09","03 1 02 00000",null,802]
[null,null,null,null,null,null,null,null,null,null,null,null,null,null,null,null,null,null,null,null,null,null,null,"Выплата компенсации  родительской платы за присмотр  и  уход  за  детьми,  осваивающими  образовательные  программы  дошкольного  образования  в  организациях  Московской  области,  осуществляющих  образовательную  деятельность","901","07","09",{"$f":"AB1068","v":"03 1 02 62140"},null,{"$f":"AD1068","v":802}]
[null,null,null,null,null,null,null,null,null,null,null,null,null,null,null,null,null,null,null,null,null,null,null,"Предоставление субсидий бюджетным, автономным учреждениям и иным некоммерческим организациям","901","07","09",{"$f":"AB1069","v":"03 1 02 62140"},600,802]
[null,null,null,null,null,null,null,null,null,null,null,null,null,null,null,null,null,null,null,null,null,null,null,"Субсидии бюджетным учреждениям","901","07","09","03 1 02 62140",610,{"$f":"762+40","v":802}]
[null,null,null,null,null,null,null,null,null,null,null,null,null,null,null,null,null,null,null,null,null,null,null,"Обеспечивающая подпрограмма","901","07","09","03 4 00 00000",null,{"$f":"AD1071+AD1085+AD1089","v":34367.4}]
[null,null,null,null,null,null,null,null,null,null,null,null,null,null,null,null,null,null,null,null,null,null,null,"Основное  мероприятие \"Обеспечение  деятельности  управления\"","901","07","09","03 4 01 00000",null,{"$f":"AD1072","v":17159.300000000003}]
[null,null,null,null,null,null,null,null,null,null,null,null,null,null,null,null,null,null,null,null,null,null,null,"Расходы  за  счет  средств  местного  бюджета  на  содержание  и обеспечение  деятельности  центрального  аппарата","901","07","09","03 4 01 04000",null,{"$f":"AD1073+AD1079+AD1082","v":17159.300000000003}]
[null,null,null,null,null,null,null,null,null,null,null,null,null,null,null,null,null,null,null,null,null,null,null,"Расходы  на  обеспечение  деятельности  центрального  аппарата","901","07","09","03 4 01 04010",null,{"$f":"AD1074+AD1076","v":1476.1000000000001}]
[null,null,null,null,null,null,null,null,null,null,null,null,null,null,null,null,null,null,null,null,null,null,null,"Закупка товаров, работ и услуг для обеспечения государственных (муниципальных) нужд","901","07","09","03 4 01 04010",200,{"$f":"AD1075","v":1407.2}]
[null,null,null,null,null,null,null,null,null,null,null,null,null,null,null,null,null,null,null,null,null,null,null,"Иные закупки товаров, работ и услуг для обеспечения государственных (муниципальных) нужд","901","07","09","03 4 01 04010",240,{"$f":"1254.4+0.6+152.2","v":1407.2}]
[null,null,null,null,null,null,null,null,null,null,null,null,null,null,null,null,null,null,null,null,null,null,null,"Иные бюджетные ассигнования","901","07","09","03 4 01 04010",800,{"$f":"AD1078+AD1077","v":68.900000000000006}]
[null,null,null,null,null,null,null,null,null,null,null,null,null,null,null,null,null,null,null,null,null,null,null,"Исполнение судебных актов","901","07","09","03 4 01 04010",830,12.9,12.9]
[null,null,null,null,null,null,null,null,null,null,null,null,null,null,null,null,null,null,null,null,null,null,null,"Уплата налогов, сборов и иных платежей","901","07","09","03 4 01 04010",850,{"$f":"6+50+12.9-12.9","v":56.000000000000007},-12.9]
[null,null,null,null,null,null,null,null,null,null,null,null,null,null,null,null,null,null,null,null,null,null,null,"Расходы на  содержание  лиц,  замещающих должности, не являющиеся должностями муниципальной  службы","901","07","09",{"$f":"AB1080","v":"03 4 01 04020"},null,{"$f":"AD1080","v":5387.8}]
[null,null,null,null,null,null,null,null,null,null,null,null,null,null,null,null,null,null,null,null,null,null,null,"Расходы на выплаты персоналу в целях обеспечения выполнения функций государственными (муниципальными) органами, казенными учреждениями, органами управления государственными внебюджетными фондами ","901","07","09",{"$f":"AB1081","v":"03 4 01 04020"},100,5387.8]
[null,null,null,null,null,null,null,null,null,null,null,null,null,null,null,null,null,null,null,null,null,null,null,"Расходы на выплаты персоналу государственных (муниципальных) органов","901","07","09","03 4 01 04020",120,{"$f":"4554.3+455.3+378.2","v":5387.8}]
[null,null,null,null,null,null,null,null,null,null,null,null,null,null,null,null,null,null,null,null,null,null,null,"Расходы  на содержание  лиц,  замещающих должности  муниципальной  службы","901","07","09",{"$f":"AB1083","v":"03 4 01 04030"},null,{"$f":"AD1083","v":10295.400000000001}]
[null,null,null,null,null,null,null,null,null,null,null,null,null,null,null,null,null,null,null,null,null,null,null,"Расходы на выплаты персоналу в целях обеспечения выполнения функций государственными (муниципальными) органами, казенными учреждениями, органами управления государственными внебюджетными фондами ","901","07","09",{"$f":"AB1084","v":"03 4 01 04030"},100,10295.400000000001]
[null,null,null,null,null,null,null,null,null,null,null,null,null,null,null,null,null,null,null,null,null,null,null,"Расходы на выплаты персоналу государственных (муниципальных) органов","901","07","09","03 4 01 04030",120,{"$f":"8691.5+869.2+734.7","v":10295.400000000001}]
[null,null,null,null,null,null,null,null,null,null,null,null,null,null,null,null,null,null,null,null,null,null,null,"Основное  мероприятие \"Прочие  мероприятия  в  сфере  образования\"","901","07","09","03 4 02 00000",null,{"$f":"AD1086","v":244.6}]
[null,null,null,null,null,null,null,null,null,null,null,null,null,null,null,null,null,null,null,null,null,null,null,"Мероприятия  в  сфере  образования","901","07","09","03 4 02 07000",null,244.6]
[null,null,null,null,null,null,null,null,null,null,null,null,null,null,null,null,null,null,null,null,null,null,null,"Закупка товаров, работ и услуг для обеспечения государственных (муниципальных) нужд","901","07","09",{"$f":"AB1088","v":"03 4 02 07000"},200,244.6]
[null,null,null,null,null,null,null,null,null,null,null,null,null,null,null,null,null,null,null,null,null,null,null,"Иные закупки товаров, работ и услуг для обеспечения государственных (муниципальных) нужд","901","07","09","03 4 02 07000",240,{"$f":"176.6+68","v":244.6}]
[null,null,null,null,null,null,null,null,null,null,null,null,null,null,null,null,null,null,null,null,null,null,null,"Основное  мероприятие \"Обеспечение  деятельности  централизованной  бухгалтерии\"  ","901","07","09","03 4 03 00000",null,{"$f":"AD1090","v":16963.5}]
[null,null,null,null,null,null,null,null,null,null,null,null,null,null,null,null,null,null,null,null,null,null,null,"Расходы  на  обеспечение  деятельности  (оказание  услуг (выполнение  работ))  централизованных  бухгалтерий","901","07","09",{"$f":"AB1091","v":"03 4 03 07590"},null,16963.5]
[null,null,null,null,null,null,null,null,null,null,null,null,null,null,null,null,null,null,null,null,null,null,null,"Предоставление субсидий бюджетным, автономным учреждениям и иным некоммерческим организациям","901","07","09",{"$f":"AB1092","v":"03 4 03 07590"},600,16963.5]
[null,null,null,null,null,null,null,null,null,null,null,null,null,null,null,null,null,null,null,null,null,null,null,"Субсидии бюджетным учреждениям","901","07","09","03 4 03 07590",610,{"$f":"15756.8+1206.7","v":16963.5}]
[null,null,null,null,null,null,null,null,null,null,null,null,null,null,null,null,null,null,null,null,null,null,null,"Муниципальная  программа «Молодое поколение города Лыткарино» на 2017 - 2021 годы","901","07","09","11 0 00 00000",null,{"$f":"AD1094","v":2088.6999999999998}]
[null,null,null,null,null,null,null,null,null,null,null,null,null,null,null,null,null,null,null,null,null,null,null,"Подпрограмма  «Развитие системы отдыха и оздоровления детей и организация трудовой занятости подростков города Лыткарино в период школьных каникул»","901","07","09","11 2 00 00000",null,{"$f":"AD1099+AD1095","v":2088.6999999999998}]
[null,null,null,null,null,null,null,null,null,null,null,null,null,null,null,null,null,null,null,null,null,null,null,"Основное  мероприятие \"Организация  отдыха  детей  и  подростков граждан  Российской  Федерации,   имеющих  место  жительства  в  городе  Лыткарино, в  санаторно-курортных  учреждениях  и  загородных  оздоровительных  лагерях\"","901","07","09","11 2 01 00000",null,{"$f":"AD1096","v":671.1}]
[null,null,null,null,null,null,null,null,null,null,null,null,null,null,null,null,null,null,null,null,null,null,null,"Организация  отдыха  детей  и  подростков  в  санаторно-курортных  учреждениях  и  загородных  оздоровительных  лагерях","901","07","09","11 2 01 S2190",null,{"$f":"AD1097","v":671.1}]
[null,null,null,null,null,null,null,null,null,null,null,null,null,null,null,null,null,null,null,null,null,null,null,"Предоставление субсидий бюджетным, автономным учреждениям и иным некоммерческим организациям","901","07","09","11 2 01 S2190",600,{"$f":"AD1098","v":671.1}]
[null,null,null,null,null,null,null,null,null,null,null,null,null,null,null,null,null,null,null,null,null,null,null,"Субсидии бюджетным учреждениям","901","07","09","11 2 01 S2190",610,{"$f":"140+430+101.1","v":671.1}]
[null,null,null,null,null,null,null,null,null,null,null,null,null,null,null,null,null,null,null,null,null,null,null,"Основное  мероприятие \"Организация  отдыха  детей  и  подростков  в   лагерях  с  дневным  пребыванием  на  базе  школ  города\"","901","07","09","11 2 02 00000",null,{"$f":"AD1100","v":1417.6}]
[null,null,null,null,null,null,null,null,null,null,null,null,null,null,null,null,null,null,null,null,null,null,null,"Организация  отдыха  детей  и  подростков  в   лагерях  с  дневным  пребыванием ","901","07","09",{"$f":"AB1101","v":"11 2 02 S2190"},null,{"$f":"AD1101","v":1417.6}]
[null,null,null,null,null,null,null,null,null,null,null,null,null,null,null,null,null,null,null,null,null,null,null,"Предоставление субсидий бюджетным, автономным учреждениям и иным некоммерческим организациям","901","07","09",{"$f":"AB1102","v":"11 2 02 S2190"},600,1417.6]
[null,null,null,null,null,null,null,null,null,null,null,null,null,null,null,null,null,null,null,null,null,null,null,"Субсидии бюджетным учреждениям","901","07","09","11 2 02 S2190",610,{"$f":"880+550-5-7.4","v":1417.6}]
[null,null,null,null,null,null,null,null,null,null,null,null,null,null,null,null,null,null,null,null,null,null,null,"Культура,  кинематография","901","08",null,null,null,{"$f":"AD1104","v":1152}]
[null,null,null,null,null,null,null,null,null,null,null,null,null,null,null,null,null,null,null,null,null,null,null,"Культура ","901","08","01",null,null,1152]
[null,null,null,null,null,null,null,null,null,null,null,null,null,null,null,null,null,null,null,null,null,null,null,"Муниципальная  программа «Культура города Лыткарино» на 2017-2021 годы","901","08","01","02 0 00 00000",null,1152]
[null,null,null,null,null,null,null,null,null,null,null,null,null,null,null,null,null,null,null,null,null,null,null,"Подпрограмма  \" Проведение  культурно-массовых  и  праздничных  мероприятий  в  сфере  культуры  в  городе  Лыткарино\"","901","08","01","02 6 00 00000",null,1152]
[null,null,null,null,null,null,null,null,null,null,null,null,null,null,null,null,null,null,null,null,null,null,null,"Основное  мероприятие \"Проведение  культурно-массовых  и  праздничных  мероприятий  в  сфере  культуры  в городе Лыткарино\"","901","08","01","02 6 01 00000",null,1152]
[null,null,null,null,null,null,null,null,null,null,null,null,null,null,null,null,null,null,null,null,null,null,null,"Мероприятия в  сфере  культуры  и  кинематографии","901","08","01",{"$f":"AB1109","v":"02 6 01 08000"},null,1152]
[null,null,null,null,null,null,null,null,null,null,null,null,null,null,null,null,null,null,null,null,null,null,null,"Предоставление субсидий бюджетным, автономным учреждениям и иным некоммерческим организациям","901","08","01",{"$f":"AB1110","v":"02 6 01 08000"},600,1152]
[null,null,null,null,null,null,null,null,null,null,null,null,null,null,null,null,null,null,null,null,null,null,null,"Субсидии бюджетным учреждениям","901","08","01","02 6 01 08000",610,{"$f":"402+750","v":1152}]
[null,null,null,null,null,null,null,null,null,null,null,null,null,null,null,null,null,null,null,null,null,null,null,"Социальная политика","901","10",null,null,null,{"$f":"AD1112+AD1119","v":20583.400000000001}]
[null,null,null,null,null,null,null,null,null,null,null,null,null,null,null,null,null,null,null,null,null,null,null,"Пенсионное обеспечение","901",10,"01",null,null,{"$f":"AD1113","v":753.4}]
[null,null,null,null,null,null,null,null,null,null,null,null,null,null,null,null,null,null,null,null,null,null,null,"Муниципальная  программа «Муниципальное управление города Лыткарино на 2017-2021 годы»","901",10,"01","01 0 00 00000",null,753.4]
[null,null,null,null,null,null,null,null,null,null,null,null,null,null,null,null,null,null,null,null,null,null,null,"Подпрограмма  «Развитие муниципальной службы» ","901",10,"01","01 6 00 00000",null,753.4]
[null,null,null,null,null,null,null,null,null,null,null,null,null,null,null,null,null,null,null,null,null,null,null,"Основное  мероприятие \"Повышение  мотивации  к  исполнению  должностных  обязанностей  муниципальных  служащих\"","901",10,"01","01 6 02 00000",null,753.4]
[null,null,null,null,null,null,null,null,null,null,null,null,null,null,null,null,null,null,null,null,null,null,null,"Пенсия за выслугу лет лицам, замещавшим муниципальные должности или должности муниципальной службы в органах местного самоуправления и избирательных комиссиях муниципального образования \"Город Лыткарино Московской области\"","901",10,"01",{"$f":"AB1117","v":"01 6 02 00020"},null,753.4]
[null,null,null,null,null,null,null,null,null,null,null,null,null,null,null,null,null,null,null,null,null,null,null,"Социальное обеспечение и иные выплаты населению","901",10,"01",{"$f":"AB1118","v":"01 6 02 00020"},300,753.4]
[null,null,null,null,null,null,null,null,null,null,null,null,null,null,null,null,null,null,null,null,null,null,null,"Социальные выплаты гражданам, кроме публичных нормативных социальных выплат","901",10,"01","01 6 02 00020",320,{"$f":"693.4+60","v":753.4}]
[null,null,null,null,null,null,null,null,null,null,null,null,null,null,null,null,null,null,null,null,null,null,null,"Охрана семьи и детства","901",10,"04",null,null,{"$f":"AD1120","v":19830}]
[null,null,null,null,null,null,null,null,null,null,null,null,null,null,null,null,null,null,null,null,null,null,null,"Муниципальная  программа  \"Образование  города  Лыткарино\"  на  2017-2021  годы","901",10,"04","03 0 00 00000",null,19830]
[null,null,null,null,null,null,null,null,null,null,null,null,null,null,null,null,null,null,null,null,null,null,null,"Подпрограмма  \"Дошкольное  образование\"","901",10,"04","03 1 00 00000",null,19830]
[null,null,null,null,null,null,null,null,null,null,null,null,null,null,null,null,null,null,null,null,null,null,null,"Основное  мероприятие \"Финансовое  обеспечение  реализации  прав  граждан  на  получение  общедоступного  и  бесплатного  дошкольного  образования\"","901",10,"04","03 1 02 00000",null,19830]
[null,null,null,null,null,null,null,null,null,null,null,null,null,null,null,null,null,null,null,null,null,null,null,"Выплата  компенсации родительской  платы  за  присмотр  и  уход  за  детьми, осваивающими  образовательные  программы дошкольного  образования в  организациях  Московской  области, осуществляющих  образовательную  деятельность","901",10,"04",{"$f":"AB1124","v":"03 1 02 62140"},null,{"$f":"AD1124+AD1126","v":19830}]
[null,null,null,null,null,null,null,null,null,null,null,null,null,null,null,null,null,null,null,null,null,null,null,"Закупка товаров, работ и услуг для обеспечения государственных (муниципальных) нужд","901",10,"04",{"$f":"AB1125","v":"03 1 02 62140"},200,{"$f":"AD1125","v":196}]
[null,null,null,null,null,null,null,null,null,null,null,null,null,null,null,null,null,null,null,null,null,null,null,"Иные закупки товаров, работ и услуг для обеспечения государственных (муниципальных) нужд","901",10,"04",{"$f":"AB1126","v":"03 1 02 62140"},240,{"$f":"207+11-22","v":196}]
[null,null,null,null,null,null,null,null,null,null,null,null,null,null,null,null,null,null,null,null,null,null,null,"Социальное обеспечение и иные выплаты населению","901",10,"04",{"$f":"AB1127","v":"03 1 02 62140"},300,{"$f":"AD1127","v":19634}]
[null,null,null,null,null,null,null,null,null,null,null,null,null,null,null,null,null,null,null,null,null,null,null,"Публичные нормативные социальные выплаты гражданам","901",10,"04","03 1 02 62140",310,{"$f":"20723+1091-2180","v":19634}]
["Подпрограмма «Развитие земельно-имущественного комплекса в городе Лыткарино»","005","01",13,"01 8 00 00000",null,null,null,null,null,null,null,null,null,null,null,null,null,null,null,null,null,null,"Управление  жилищно-коммунального  хозяйства    и  развития  городской  инфраструктуры  города  Лыткарино",902,null,null,null,null,{"$f":"AD1138+AD1196+AD1319+AD1300+AD1129+AD1349+AD1292","v":1499137.3}]
[null,null,null,null,null,null,null,null,null,null,null,null,null,null,null,null,null,null,null,null,null,null,null,"Общегосударственные вопросы","902","01",null,null,null,{"$f":"AD1130","v":10143.9}]
[null,null,null,null,null,null,null,null,null,null,null,null,null,null,null,null,null,null,null,null,null,null,null," Другие общегосударственные вопросы","902","01",13,null,null,10143.9]
[null,null,null,null,null,null,null,null,null,null,null,null,null,null,null,null,null,null,null,null,null,null,null,"Муниципальная  программа «Муниципальное управление города Лыткарино на 2017-2021 годы»","902","01",13,"01 0 00 00000",null,{"$f":"AD1132","v":10143.9}]
[null,null,null,null,null,null,null,null,null,null,null,null,null,null,null,null,null,null,null,null,null,null,null,"Обеспечивающая подпрограмма","902","01",13,"01 1 00 00000",null,10143.9]
[null,null,null,null,null,null,null,null,null,null,null,null,null,null,null,null,null,null,null,null,null,null,null,"Основное  мероприятие \" Прочие  общегосударственные  мероприятия\" ","902","01",13,"01 1 02 00000",null,10143.9]
[null,null,null,null,null,null,null,null,null,null,null,null,null,null,null,null,null,null,null,null,null,null,null,"Прочие  общегосударственные  мероприятия ","902","01",13,"01 1 02 27000",null,10143.9]
[null,null,null,null,null,null,null,null,null,null,null,null,null,null,null,null,null,null,null,null,null,null,null,"Исполнение  судебных  актов  по  обращениям  и  взыскания  на  средства  бюджета","902","01",13,{"$f":"AB1136","v":"01 1 02 27010"},null,10143.9]
[null,null,null,null,null,null,null,null,null,null,null,null,null,null,null,null,null,null,null,null,null,null,null,"Иные бюджетные ассигнования","902","01",13,{"$f":"AB1137","v":"01 1 02 27010"},800,10143.9]
[null,null,null,null,null,null,null,null,null,null,null,null,null,null,null,null,null,null,null,null,null,null,null,"Исполнение судебных актов","902","01",13,"01 1 02 27010",830,{"$f":"9659.4+445+39.5","v":10143.9}]
[null,null,null,null,null,null,null,null,null,null,null,null,null,null,null,null,null,null,null,null,null,null,null,"Национальная экономика","902","04",null,null,null,{"$f":"AD1146+AD1139+AD1190","v":38144.600000000006}]
[null,null,null,null,null,null,null,null,null,null,null,null,null,null,null,null,null,null,null,null,null,null,null,"Сельское хозяйство и рыболовство","902","04","05",null,null,{"$f":"AD1140","v":846}]
[null,null,null,null,null,null,null,null,null,null,null,null,null,null,null,null,null,null,null,null,null,null,null,"Муниципальная программа «Формирование современной городской среды города Лыткарино» на 2018-2024 годы","902","04","05","10 0 00 00000",null,846]
[null,null,null,null,null,null,null,null,null,null,null,null,null,null,null,null,null,null,null,null,null,null,null,"Подпрограмма  \"Благоустройство дворовых и общественных территорий города Лыткарино\"","902","04","05","10 1 00 00000",null,846]
[null,null,null,null,null,null,null,null,null,null,null,null,null,null,null,null,null,null,null,null,null,null,null,"Основное мероприятие \"Благоустройство дворовых и общественных территорий\"","902","04","05","10 1 01 00000",null,846]
[null,null,null,null,null,null,null,null,null,null,null,null,null,null,null,null,null,null,null,null,null,null,null,"Благоустройство территорий города в части защиты  от неблагоприятного воздействия безнадзорных животных","902","04","05",{"$f":"AB1144","v":"10 1 01 60870"},null,{"$f":"AD1144","v":846}]
[null,null,null,null,null,null,null,null,null,null,null,null,null,null,null,null,null,null,null,null,null,null,null,"Закупка товаров, работ и услуг для обеспечения государственных (муниципальных) нужд","902","04","05",{"$f":"AB1145","v":"10 1 01 60870"},200,846]
[null,null,null,null,null,null,null,null,null,null,null,null,null,null,null,null,null,null,null,null,null,null,null,"Иные закупки товаров, работ и услуг для обеспечения государственных (муниципальных) нужд","902","04","05","10 1 01 60870",240,{"$f":"554+27+265","v":846}]
[null,null,null,null,null,null,null,null,null,null,null,null,null,null,null,null,null,null,null,null,null,null,null,"Дорожное  хозяйство  (дорожные  фонды)  ","902","04","09",null,null,{"$f":"AD1153+AD1164+AD1147","v":37213.100000000006}]
[null,null,null,null,null,null,null,null,null,null,null,null,null,null,null,null,null,null,null,null,null,null,null,"Муниципальная  программа «Муниципальное управление города Лыткарино на 2017-2021 годы»","902","04","09","01 0 00 00000",null,{"$f":"AD1148","v":1000}]
[null,null,null,null,null,null,null,null,null,null,null,null,null,null,null,null,null,null,null,null,null,null,null,"Подпрограмма  \"Архитектура  и  градостроительство  города Лыткарино\"","902","04","09","01 7 00 00000",null,{"$f":"AD1149","v":1000}]
[null,null,null,null,null,null,null,null,null,null,null,null,null,null,null,null,null,null,null,null,null,null,null,"Основное  мероприятие \"Выполнение работ по отсыпке щебнем линейных объектов транспортной инфраструктуры, расположенных в границах указанной территории\"","902","04","09","01 7 10 00000",null,{"$f":"AD1150","v":1000}]
[null,null,null,null,null,null,null,null,null,null,null,null,null,null,null,null,null,null,null,null,null,null,null,"Мероприятия  в  области  строительства,архитектуры  и  градостроительства","902","04","09",{"$f":"AB1151","v":"01 7 10 00100"},null,{"$f":"AD1151","v":1000}]
[null,null,null,null,null,null,null,null,null,null,null,null,null,null,null,null,null,null,null,null,null,null,null,"Закупка товаров, работ и услуг для обеспечения государственных (муниципальных) нужд","902","04","09",{"$f":"AB1152","v":"01 7 10 00100"},200,{"$f":"AD1152","v":1000}]
[null,null,null,null,null,null,null,null,null,null,null,null,null,null,null,null,null,null,null,null,null,null,null,"Иные закупки товаров, работ и услуг для обеспечения государственных (муниципальных) нужд","902","04","09","01 7 10 00100",240,1000]
[null,null,null,null,null,null,null,null,null,null,null,null,null,null,null,null,null,null,null,null,null,null,null,"Муниципальная программа «Формирование современной городской среды города Лыткарино» на 2018-2024 годы","902","04","09","10 0 00 00000",null,{"$f":"AD1154","v":11567.2}]
[null,null,null,null,null,null,null,null,null,null,null,null,null,null,null,null,null,null,null,null,null,null,null,"Подпрограмма  \"Благоустройство дворовых и общественных территорий города Лыткарино\"","902","04","09","10 1 00 00000",null,{"$f":"AD1155+AD1160","v":11567.2}]
[null,null,null,null,null,null,null,null,null,null,null,null,null,null,null,null,null,null,null,null,null,null,null,"Основное мероприятие \"Ремонт внутриквартальных  дорог  и  дворовых территорий  за счет средств дорожных  фондов\"","902","04","09","10 1 02 00000",null,{"$f":"AD1156","v":4589.3}]
[null,null,null,null,null,null,null,null,null,null,null,null,null,null,null,null,null,null,null,null,null,null,null,"Ремонт, содержание   дорог ","902","04","09","10 1 02 16000",null,{"$f":"AD1157","v":4589.3}]
[null,null,null,null,null,null,null,null,null,null,null,null,null,null,null,null,null,null,null,null,null,null,null,"Ремонт, содержание  дорог  общего  пользования и  внутриквартальных дорог  и   дворовых  территорий  за  счет  средств  дорожного  фонда города Лыткарино","902","04","09","10 1 02 16020",null,4589.3]
[null,null,null,null,null,null,null,null,null,null,null,null,null,null,null,null,null,null,null,null,null,null,null,"Закупка товаров, работ и услуг для обеспечения государственных (муниципальных) нужд","902","04","09","10 1 02 16020",200,4589.3]
[null,null,null,null,null,null,null,null,null,null,null,null,null,null,null,null,null,null,null,null,null,null,null,"Иные закупки товаров, работ и услуг для обеспечения государственных (муниципальных) нужд","902","04","09","10 1 02 16020",240,{"$f":"1615.8+565.6+4000-77.9-1587.4+73.2","v":4589.3}]
[null,null,null,null,null,null,null,null,null,null,null,null,null,null,null,null,null,null,null,null,null,null,null,"Основное мероприятие \"Федеральный проект \"Формирование комфортной городской среды\"","902","04","09","10 1 F2 00000",null,{"$f":"AD1161","v":6977.9000000000005}]
[null,null,null,null,null,null,null,null,null,null,null,null,null,null,null,null,null,null,null,null,null,null,null,"Ремонт дворовых территорий","902","04","09","10 1 F2 S2740",null,{"$f":"AD1162","v":6977.9000000000005}]
[null,null,null,null,null,null,null,null,null,null,null,null,null,null,null,null,null,null,null,null,null,null,null,"Закупка товаров, работ и услуг для обеспечения государственных (муниципальных) нужд","902","04","09","10 1 F2 S2740",200,{"$f":"AD1163","v":6977.9000000000005}]
[null,null,null,null,null,null,null,null,null,null,null,null,null,null,null,null,null,null,null,null,null,null,null,"Иные закупки товаров, работ и услуг для обеспечения государственных (муниципальных) нужд","902","04","09","10 1 F2 S2740",240,{"$f":"5727.7+1587.4-264-73.2","v":6977.9000000000005}]
[null,null,null,null,null,null,null,null,null,null,null,null,null,null,null,null,null,null,null,null,null,null,null,"Муниципальная  программа «Развитие и функционирование дорожно-транспортного комплекса города Лыткарино» на 2017-2021 годы","902","04","09","12 0 00 00000",null,{"$f":"AD1165+AD1178","v":24645.9}]
[null,null,null,null,null,null,null,null,null,null,null,null,null,null,null,null,null,null,null,null,null,null,null,"Подпрограмма  \"Дороги города  Лыткарино\"","902","04","09","12 2 00 00000",null,{"$f":"AD1166+AD1174","v":22685.9}]
[null,null,null,null,null,null,null,null,null,null,null,null,null,null,null,null,null,null,null,null,null,null,null,"Основное  мероприятие \"Ремонт, содержание  дорог  общего  пользования,  внутриквартальных дорог  и   дворовых  территорий\"","902","04","09","12 2 01 00000",null,{"$f":"AD1167+AD1171","v":20601.900000000001}]
[null,null,null,null,null,null,null,null,null,null,null,null,null,null,null,null,null,null,null,null,null,null,null,"Ремонт, содержание   дорог ","902","04","09","12 2 01 16000",null,{"$f":"AD1168","v":4453.8999999999996}]
[null,null,null,null,null,null,null,null,null,null,null,null,null,null,null,null,null,null,null,null,null,null,null,"Ремонт, содержание  дорог  общего  пользования и  внутриквартальных дорог  и   дворовых  территорий","902","04","09","12 2 01 16010",null,{"$f":"AD1169","v":4453.8999999999996}]
[null,null,null,null,null,null,null,null,null,null,null,null,null,null,null,null,null,null,null,null,null,null,null,"Закупка товаров, работ и услуг для обеспечения государственных (муниципальных) нужд","902","04","09","12 2 01 16010",200,{"$f":"AD1170","v":4453.8999999999996}]
[null,null,null,null,null,null,null,null,null,null,null,null,null,null,null,null,null,null,null,null,null,null,null,"Иные закупки товаров, работ и услуг для обеспечения государственных (муниципальных) нужд","902","04","09","12 2 01 16010",240,{"$f":"6000+77.9-685+145-2084+1124-124","v":4453.8999999999996}]
[null,null,null,null,null,null,null,null,null,null,null,null,null,null,null,null,null,null,null,null,null,null,null,"Расходы  на  капитальный ремонт и ремонт автомобильных дорог общего пользования города Лыткарино","902","04","09","12 2 01 S0240",null,{"$f":"AD1172","v":16148}]
[null,null,null,null,null,null,null,null,null,null,null,null,null,null,null,null,null,null,null,null,null,null,null,"Закупка товаров, работ и услуг для обеспечения государственных (муниципальных) нужд","902","04","09","12 2 01 S0240",200,{"$f":"AD1173","v":16148}]
[null,null,null,null,null,null,null,null,null,null,null,null,null,null,null,null,null,null,null,null,null,null,null,"Иные закупки товаров, работ и услуг для обеспечения государственных (муниципальных) нужд","902","04","09","12 2 01 S0240",240,{"$f":"13000+685+2339+124","v":16148}]
[null,null,null,null,null,null,null,null,null,null,null,null,null,null,null,null,null,null,null,null,null,null,null,"Основное  мероприятие \"Ремонт, содержание  дорог  общего  пользования,  внутриквартальных дорог  и   дворовых  территорий за счет средств дорожных фондов\"","902","04","09","12 2 02 00000",null,{"$f":"AD1175","v":2084}]
[null,null,null,null,null,null,null,null,null,null,null,null,null,null,null,null,null,null,null,null,null,null,null,"Ремонт, содержание  дорог  общего  пользования и  внутриквартальных дорог  и   дворовых  территорий  за  счет  средств  дорожного  фонда города Лыткарино","902","04","09","12 2 02 16020",null,{"$f":"AD1176","v":2084}]
[null,null,null,null,null,null,null,null,null,null,null,null,null,null,null,null,null,null,null,null,null,null,null,"Закупка товаров, работ и услуг для обеспечения государственных (муниципальных) нужд","902","04","09","12 2 02 16020",200,{"$f":"AD1177","v":2084}]
[null,null,null,null,null,null,null,null,null,null,null,null,null,null,null,null,null,null,null,null,null,null,null,"Иные закупки товаров, работ и услуг для обеспечения государственных (муниципальных) нужд","902","04","09","12 2 02 16020",240,2084]
[null,null,null,null,null,null,null,null,null,null,null,null,null,null,null,null,null,null,null,null,null,null,null,"Подпрограмма  \"Безопасность  дорожного  движения\"","902","04","09","12 3 00 00000",null,{"$f":"AD1179","v":1960}]
[null,null,null,null,null,null,null,null,null,null,null,null,null,null,null,null,null,null,null,null,null,null,null,"Основное  мероприятие  \"Обеспечение  безопасности  дорожного  движения\"","902","04","09","12 3 01 00000",null,1960]
[null,null,null,null,null,null,null,null,null,null,null,null,null,null,null,null,null,null,null,null,null,null,null,"Мероприятия  по обеспечению безопасности  дорожного  движения","902","04","09","12 3 01 17000",null,{"$f":"AD1181+AD1187+AD1184","v":1960}]
[null,null,null,null,null,null,null,null,null,null,null,null,null,null,null,null,null,null,null,null,null,null,null,"Организация  изготовления  социальной  рекламы  по  пропаганде  безопасности  дорожного  движения","902","04","09","12 3 01 17010",null,{"$f":"AD1182","v":60}]
[null,null,null,null,null,null,null,null,null,null,null,null,null,null,null,null,null,null,null,null,null,null,null,"Закупка товаров, работ и услуг для обеспечения государственных (муниципальных) нужд","902","04","09","12 3 01 17010",200,60]
[null,null,null,null,null,null,null,null,null,null,null,null,null,null,null,null,null,null,null,null,null,null,null,"Иные закупки товаров, работ и услуг для обеспечения государственных (муниципальных) нужд","902","04","09","12 3 01 17010",240,60]
[null,null,null,null,null,null,null,null,null,null,null,null,null,null,null,null,null,null,null,null,null,null,null,"Организация  вывоза  брошенных  автотранспортных  средств","902","04","09","12 3 01 17020",null,{"$f":"AD1185","v":100}]
[null,null,null,null,null,null,null,null,null,null,null,null,null,null,null,null,null,null,null,null,null,null,null,"Закупка товаров, работ и услуг для обеспечения государственных (муниципальных) нужд","902","04","09","12 3 01 17020",200,{"$f":"AD1186","v":100}]
[null,null,null,null,null,null,null,null,null,null,null,null,null,null,null,null,null,null,null,null,null,null,null,"Иные закупки товаров, работ и услуг для обеспечения государственных (муниципальных) нужд","902","04","09","12 3 01 17020",240,100]
[null,null,null,null,null,null,null,null,null,null,null,null,null,null,null,null,null,null,null,null,null,null,null,"Устройство дорожной разметки, установка пешеходных ограждений перильного типа,обустройство нерегулируемых пешеходных переходов дополнительными источниками освещения","902","04","09","12 3 01 17060",null,{"$f":"AD1188","v":1800}]
[null,null,null,null,null,null,null,null,null,null,null,null,null,null,null,null,null,null,null,null,null,null,null,"Закупка товаров, работ и услуг для обеспечения государственных (муниципальных) нужд","902","04","09","12 3 01 17060",200,{"$f":"AD1189","v":1800}]
[null,null,null,null,null,null,null,null,null,null,null,null,null,null,null,null,null,null,null,null,null,null,null,"Иные закупки товаров, работ и услуг для обеспечения государственных (муниципальных) нужд","902","04","09","12 3 01 17060",240,{"$f":"1000+100+700","v":1800}]
[null,null,null,null,null,null,null,null,null,null,null,null,null,null,null,null,null,null,null,null,null,null,null,"Связь и информатика","902","04",10,null,null,{"$f":"AD1191","v":85.5}]
[null,null,null,null,null,null,null,null,null,null,null,null,null,null,null,null,null,null,null,null,null,null,null,"Муниципальная программа  «Развитие информационно-коммуникационных технологий для повышения эффективности процессов управления и создания благоприятных условий жизни и ведения бизнеса в городе  Лыткарино Московской области» на 2017-2021годы","902","04",10,"13 0 00 00000",null,{"$f":"AD1192","v":85.5}]
[null,null,null,null,null,null,null,null,null,null,null,null,null,null,null,null,null,null,null,null,null,null,null,"Основное мероприятие \"Федеральный проект \"Цифровое государственное управление\"","902","04",10,"13 0 D6 00000",null,{"$f":"AD1193","v":85.5}]
[null,null,null,null,null,null,null,null,null,null,null,null,null,null,null,null,null,null,null,null,null,null,null,"Мероприятия  в  области  информационно-коммуникационных  технологий","902","04",10,"13 0 D6 00010",null,{"$f":"AD1194","v":85.5}]
[null,null,null,null,null,null,null,null,null,null,null,null,null,null,null,null,null,null,null,null,null,null,null,"Закупка товаров, работ и услуг для обеспечения государственных (муниципальных) нужд","902","04",10,"13 0 D6 00010",200,{"$f":"AD1195","v":85.5}]
[null,null,null,null,null,null,null,null,null,null,null,null,null,null,null,null,null,null,null,null,null,null,null,"Иные закупки товаров, работ и услуг для обеспечения государственных (муниципальных) нужд","902","04",10,"13 0 D6 00010",240,{"$f":"31.5+54","v":85.5}]
[null,null,null,null,null,null,null,null,null,null,null,null,null,null,null,null,null,null,null,null,null,null,null,"Жилищно-коммунальное хозяйство","902","05",null,null,null,{"$f":"AD1197+AD1212+AD1254+AD1205","v":172089.9}]
[null,null,null,null,null,null,null,null,null,null,null,null,null,null,null,null,null,null,null,null,null,null,null," Жилищное хозяйство","902","05","01",null,null,{"$f":"AD1198","v":494.5}]
[null,null,null,null,null,null,null,null,null,null,null,null,null,null,null,null,null,null,null,null,null,null,null,"Муниципальная программа «Формирование современной городской среды города Лыткарино» на 2018-2024 годы","902","05","01","10 0 00 00000",null,494.5]
[null,null,null,null,null,null,null,null,null,null,null,null,null,null,null,null,null,null,null,null,null,null,null,"Подпрограмма  \"Создание условий для обеспечения комфортного  проживания  жителей  в  многоквартирных  домах\"","902","05","01","10 2 00 00000",null,{"$f":"AD1200","v":494.5}]
[null,null,null,null,null,null,null,null,null,null,null,null,null,null,null,null,null,null,null,null,null,null,null,"Основное мероприятие \"Капитальный  ремонт  многоквартирных  жилых  домов\"","902","05","01","10 2 01 00000",null,494.5]
[null,null,null,null,null,null,null,null,null,null,null,null,null,null,null,null,null,null,null,null,null,null,null,"Капитальный  ремонт ","902","05","01","10 2 01 21000",null,494.5]
[null,null,null,null,null,null,null,null,null,null,null,null,null,null,null,null,null,null,null,null,null,null,null,"Комплекс работ по капитальному ремонту жилых помещений в многоквартирных домах, предоставленных по договорам социального найма","902","05","01",{"$f":"AB1203","v":"10 2 01 21060"},null,494.5]
[null,null,null,null,null,null,null,null,null,null,null,null,null,null,null,null,null,null,null,null,null,null,null,"Закупка товаров, работ и услуг для обеспечения государственных (муниципальных) нужд","902","05","01",{"$f":"AB1204","v":"10 2 01 21060"},"200",494.5]
[null,null,null,null,null,null,null,null,null,null,null,null,null,null,null,null,null,null,null,null,null,null,null,"Иные закупки товаров, работ и услуг для обеспечения государственных (муниципальных) нужд","902","05","01","10 2 01 21060","240",{"$f":"100+44.5+150+200","v":494.5}]
[null,null,null,null,null,null,null,null,null,null,null,null,null,null,null,null,null,null,null,null,null,null,null,"Коммунальное  хозяйство","902","05","02",null,null,{"$f":"AD1206","v":200}]
[null,null,null,null,null,null,null,null,null,null,null,null,null,null,null,null,null,null,null,null,null,null,null,"Муниципальная  программа  \"Развитие  инженерной инфраструктуры и энергоэффективности  на  территории  города  Лыткарино\"на  2018-2022 годы","902","05","02","06 0 00 00000",null,200]
[null,null,null,null,null,null,null,null,null,null,null,null,null,null,null,null,null,null,null,null,null,null,null,"Подпрограмма \"Содержание и развитие инженерной инфраструктуры на территории города Лыткарино\"  ","902","05","02","06 1 00 00000",null,{"$f":"AD1208","v":200}]
[null,null,null,null,null,null,null,null,null,null,null,null,null,null,null,null,null,null,null,null,null,null,null,"Основное мероприятие \"Чистая вода\"","902","05","02","06 1 05 00000",null,{"$f":"AD1209","v":200}]
[null,null,null,null,null,null,null,null,null,null,null,null,null,null,null,null,null,null,null,null,null,null,null,"Проект прокладки водовода от ул.Трудкоммуны городского округа Дзержинский до водораспределительного узла, ВЗУ-2, ВЗУ-3, ВЗУ-4 городского округа Лыткарино  ","902","05","02",{"$f":"AB1210","v":"06 1 05 00010"},null,{"$f":"AD1210","v":200}]
[null,null,null,null,null,null,null,null,null,null,null,null,null,null,null,null,null,null,null,null,null,null,null,"Капитальные вложения в объекты государственной(муниципальной) собственности","902","05","02",{"$f":"AB1211","v":"06 1 05 00010"},"400",{"$f":"AD1211","v":200}]
[null,null,null,null,null,null,null,null,null,null,null,null,null,null,null,null,null,null,null,null,null,null,null,"Бюджетные инвестиции ","902","05","02","06 1 05 00010","410",{"$f":"5000-4800","v":200}]
[null,null,null,null,null,null,null,null,null,null,null,null,null,null,null,null,null,null,null,null,null,null,null,"Благоустройство","902","05","03",null,null,{"$f":"AD1220+AD1213","v":156769.1}]
[null,null,null,null,null,null,null,null,null,null,null,null,null,null,null,null,null,null,null,null,null,null,null,"Муниципальная  программа «Предпринимательство города Лыткарино» на 2017-2021 годы","902","05","03","04 0 00 00000",null,{"$f":"AD1214","v":3408.8}]
[null,null,null,null,null,null,null,null,null,null,null,null,null,null,null,null,null,null,null,null,null,null,null,"Подпрограмма  \"Развитие  потребительского  рынка  и  услуг\"","902","05","03","04 1 00 00000",null,{"$f":"AD1215","v":3408.8}]
[null,null,null,null,null,null,null,null,null,null,null,null,null,null,null,null,null,null,null,null,null,null,null,"Основное  мероприятие \"Приведение  кладбищ  города  Лыткарино  в  соответствие  с  Порядком  деятельности  общественных кладбищ  и крематориев  на территории  города Лыткарино\"","902","05","03","04 1 05 00000",null,3408.8]
[null,null,null,null,null,null,null,null,null,null,null,null,null,null,null,null,null,null,null,null,null,null,null,"Мероприятия  по  благоустройству","902","05","03","04 1 05 15000",null,{"$f":"AD1217","v":3408.8}]
[null,null,null,null,null,null,null,null,null,null,null,null,null,null,null,null,null,null,null,null,null,null,null,"Содержание  мест  захоронения","902","05","03",{"$f":"AB1218","v":"04 1 05 15040"},null,3408.8]
[null,null,null,null,null,null,null,null,null,null,null,null,null,null,null,null,null,null,null,null,null,null,null,"Закупка товаров, работ и услуг для обеспечения государственных (муниципальных) нужд","902","05","03",{"$f":"AB1219","v":"04 1 05 15040"},"200",3408.8]
[null,null,null,null,null,null,null,null,null,null,null,null,null,null,null,null,null,null,null,null,null,null,null,"Иные закупки товаров, работ и услуг для обеспечения государственных (муниципальных) нужд","902","05","03","04 1 05 15040","240",{"$f":"5773.6-2174.8+480-670","v":3408.8}]
[null,null,null,null,null,null,null,null,null,null,null,null,null,null,null,null,null,null,null,null,null,null,null,"Муниципальная программа «Формирование современной городской среды города Лыткарино» на 2018-2024 годы","902","05","03","10 0 00 00000",null,{"$f":"AD1221","v":153360.30000000002}]
[null,null,null,null,null,null,null,null,null,null,null,null,null,null,null,null,null,null,null,null,null,null,null,"Подпрограмма  \"Благоустройство дворовых и общественных территорий города Лыткарино\"","902","05","03","10 1 00 00000",null,{"$f":"AD1222+AD1230+AD1236+AD1241","v":153360.30000000002}]
[null,null,null,null,null,null,null,null,null,null,null,null,null,null,null,null,null,null,null,null,null,null,null,"Основное мероприятие \"Благоустройство дворовых и общественных территорий\"","902","05","03","10 1 01 00000",null,{"$f":"AD1223","v":35664.600000000006}]
[null,null,null,null,null,null,null,null,null,null,null,null,null,null,null,null,null,null,null,null,null,null,null,"Мероприятия  по  благоустройству","902","05","03","10 1 01 15000",null,{"$f":"AD1224+AD1227","v":35664.600000000006}]
[null,null,null,null,null,null,null,null,null,null,null,null,null,null,null,null,null,null,null,null,null,null,null,"Мероприятия  по  озеленению","902","05","03","10 1 01 15010",null,{"$f":"AD1225","v":2635}]
[null,null,null,null,null,null,null,null,null,null,null,null,null,null,null,null,null,null,null,null,null,null,null,"Закупка товаров, работ и услуг для обеспечения государственных (муниципальных) нужд","902","05","03","10 1 01 15010",200,{"$f":"AD1226","v":2635}]
[null,null,null,null,null,null,null,null,null,null,null,null,null,null,null,null,null,null,null,null,null,null,null,"Иные закупки товаров, работ и услуг для обеспечения государственных (муниципальных) нужд","902","05","03","10 1 01 15010",240,{"$f":"3600-150-50-65-300-200-200","v":2635}]
[null,null,null,null,null,null,null,null,null,null,null,null,null,null,null,null,null,null,null,null,null,null,null,"Прочие  мероприятия   по  благоустройству  города","902","05","03","10 1 01 15030",null,{"$f":"AD1228","v":33029.600000000006}]
[null,null,null,null,null,null,null,null,null,null,null,null,null,null,null,null,null,null,null,null,null,null,null,"Закупка товаров, работ и услуг для обеспечения государственных (муниципальных) нужд","902","05","03",{"$f":"AB1229","v":"10 1 01 15030"},200,33029.600000000006]
[null,null,null,null,null,null,null,null,null,null,null,null,null,null,null,null,null,null,null,null,null,null,null,"Иные закупки товаров, работ и услуг для обеспечения государственных (муниципальных) нужд","902","05","03","10 1 01 15030",240,{"$f":"20794.4-17360+7492.4+19740+2500-17.2-120","v":33029.600000000006},-120]
[null,null,null,null,null,null,null,null,null,null,null,null,null,null,null,null,null,null,null,null,null,null,null,"Основное мероприятие \"Формирование комфортной городской световой среды\"","902","05","03","10 1 03 00000",null,{"$f":"AD1231","v":12517.799999999997}]
[null,null,null,null,null,null,null,null,null,null,null,null,null,null,null,null,null,null,null,null,null,null,null,"Мероприятия  по  организации  уличного  освещения","902","05","03","10 1 03 15020",null,{"$f":"AD1232+AD1234","v":12517.799999999997}]
[null,null,null,null,null,null,null,null,null,null,null,null,null,null,null,null,null,null,null,null,null,null,null,"Закупка товаров, работ и услуг для обеспечения государственных (муниципальных) нужд","902","05","03","10 1 03 15020",200,{"$f":"AD1233","v":12513.399999999998}]
[null,null,null,null,null,null,null,null,null,null,null,null,null,null,null,null,null,null,null,null,null,null,null,"Иные закупки товаров, работ и услуг для обеспечения государственных (муниципальных) нужд","902","05","03",{"$f":"AB1231","v":"10 1 03 15020"},240,{"$f":"11500+200+817.8-2.2-2.2","v":12513.399999999998}]
[null,null,null,null,null,null,null,null,null,null,null,null,null,null,null,null,null,null,null,null,null,null,null,"Иные бюджетные ассигнования","902","05","03","10 1 03 15020",800,{"$f":"AD1235","v":4.4000000000000004}]
[null,null,null,null,null,null,null,null,null,null,null,null,null,null,null,null,null,null,null,null,null,null,null,"Уплата налогов, сборов и иных платежей","902","05","03",{"$f":"AB1233","v":"10 1 03 15020"},850,{"$f":"2.2+2.2","v":4.4000000000000004}]
[null,null,null,null,null,null,null,null,null,null,null,null,null,null,null,null,null,null,null,null,null,null,null,"Основное  мероприятие \" Охрана  окружающей  среды\"","902","05","03","10 1 04 00000",null,{"$f":"AD1237","v":320}]
[null,null,null,null,null,null,null,null,null,null,null,null,null,null,null,null,null,null,null,null,null,null,null,"Мероприятия  по  благоустройству","902","05","03","10 1 04 15000",null,{"$f":"AD1238","v":320}]
[null,null,null,null,null,null,null,null,null,null,null,null,null,null,null,null,null,null,null,null,null,null,null,"Прочие  мероприятия   по  благоустройству  города","902","05","03",{"$f":"AB1239","v":"10 1 04 15030"},null,{"$f":"AD1239","v":320}]
[null,null,null,null,null,null,null,null,null,null,null,null,null,null,null,null,null,null,null,null,null,null,null,"Закупка товаров, работ и услуг для обеспечения государственных (муниципальных) нужд","902","05","03",{"$f":"AB1240","v":"10 1 04 15030"},200,{"$f":"AD1240","v":320}]
[null,null,null,null,null,null,null,null,null,null,null,null,null,null,null,null,null,null,null,null,null,null,null,"Иные закупки товаров, работ и услуг для обеспечения государственных (муниципальных) нужд","902","05","03","10 1 04 15030",240,{"$f":"520-150-50","v":320}]
[null,null,null,null,null,null,null,null,null,null,null,null,null,null,null,null,null,null,null,null,null,null,null,"Основное мероприятие \"Федеральный проект \"Формирование комфортной городской среды\"","902","05","03","10 1 F2 00000",null,{"$f":"AD1242+AD1245+AD1248+AD1251","v":104857.90000000001}]
[null,null,null,null,null,null,null,null,null,null,null,null,null,null,null,null,null,null,null,null,null,null,null,"Реализация программ формирования современной городской среды в части благоустройства общественных территорий- город Лыткарино, ул.Спортивная","902","05","03","10 1 F2 55551",null,{"$f":"AD1243","v":80000}]
[null,null,null,null,null,null,null,null,null,null,null,null,null,null,null,null,null,null,null,null,null,null,null,"Закупка товаров, работ и услуг для обеспечения государственных (муниципальных) нужд","902","05","03","10 1 F2 55551",200,{"$f":"AD1244","v":80000}]
[null,null,null,null,null,null,null,null,null,null,null,null,null,null,null,null,null,null,null,null,null,null,null,"Иные закупки товаров, работ и услуг для обеспечения государственных (муниципальных) нужд","902","05","03","10 1 F2 55551",240,{"$f":"62640+16960+18957.8-18557.8","v":80000}]
[null,null,null,null,null,null,null,null,null,null,null,null,null,null,null,null,null,null,null,null,null,null,null,"Комплексное обустройство территории муниципальных образований Московской области","902","05","03","10 1 F2 S1350",null,{"$f":"AD1246","v":79.099999999999994}]
[null,null,null,null,null,null,null,null,null,null,null,null,null,null,null,null,null,null,null,null,null,null,null,"Закупка товаров, работ и услуг для обеспечения государственных (муниципальных) нужд","902","05","03","10 1 F2 S1350",200,{"$f":"AD1247","v":79.099999999999994}]
[null,null,null,null,null,null,null,null,null,null,null,null,null,null,null,null,null,null,null,null,null,null,null,"Иные закупки товаров, работ и услуг для обеспечения государственных (муниципальных) нужд","902","05","03","10 1 F2 S1350",240,{"$f":"61.9+17.2","v":79.099999999999994}]
[null,null,null,null,null,null,null,null,null,null,null,null,null,null,null,null,null,null,null,null,null,null,null,"Обустройство и установка детских игровых площадок на территории муниципальных образований Московской области","902","05","03","10 1 F2 S1580",null,{"$f":"AD1249","v":6500}]
[null,null,null,null,null,null,null,null,null,null,null,null,null,null,null,null,null,null,null,null,null,null,null,"Закупка товаров, работ и услуг для обеспечения государственных (муниципальных) нужд","902","05","03","10 1 F2 S1580",200,{"$f":"AD1250","v":6500}]
[null,null,null,null,null,null,null,null,null,null,null,null,null,null,null,null,null,null,null,null,null,null,null,"Иные закупки товаров, работ и услуг для обеспечения государственных (муниципальных) нужд","902","05","03","10 1 F2 S1580",240,{"$f":"6435+65","v":6500}]
[null,null,null,null,null,null,null,null,null,null,null,null,null,null,null,null,null,null,null,null,null,null,null,"Дополнительные  расходы на реализацию программ формирования современной городской среды в части благоустройства общественных территорий- город Лыткарино, ул.Спортивная","902","05","03","10 1 F2 Д5551",null,{"$f":"AD1252","v":18278.8}]
[null,null,null,null,null,null,null,null,null,null,null,null,null,null,null,null,null,null,null,null,null,null,null,"Закупка товаров, работ и услуг для обеспечения государственных (муниципальных) нужд","902","05","03","10 1 F2 Д5551",200,{"$f":"AD1253","v":18278.8}]
[null,null,null,null,null,null,null,null,null,null,null,null,null,null,null,null,null,null,null,null,null,null,null,"Иные закупки товаров, работ и услуг для обеспечения государственных (муниципальных) нужд","902","05","03","10 1 F2 Д5551",240,{"$f":"18557.8-900.5+900.5-279","v":18278.8}]
[null,null,null,null,null,null,null,null,null,null,null,null,null,null,null,null,null,null,null,null,null,null,null,"Другие вопросы в области жилищно-коммунального хозяйства","902","05","05",null,null,{"$f":"AD1271+AD1255+AD1261","v":14626.3}]
[null,null,null,null,null,null,null,null,null,null,null,null,null,null,null,null,null,null,null,null,null,null,null,"Муниципальная  программа «Муниципальное управление города Лыткарино на 2017-2021 годы»","902","05","05","01 0 00 00000",null,{"$f":"AD1256","v":2.5}]
[null,null,null,null,null,null,null,null,null,null,null,null,null,null,null,null,null,null,null,null,null,null,null,"Подпрограмма «Развитие системы информирования населения о деятельности органов местного самоуправления города Лыткарино Московской области» ","902","05","05","01 4 00 00000",null,2.5]
[null,null,null,null,null,null,null,null,null,null,null,null,null,null,null,null,null,null,null,null,null,null,null,"Основное мероприятие \"Информирование населения г.Лыткарино об основных событиях социально-экономического развития, общественно-политической жизни, о деятельности органов местного самоуправления города  Лыткарино\" ","902","05","05","01 4 01 00000",null,2.5]
[null,null,null,null,null,null,null,null,null,null,null,null,null,null,null,null,null,null,null,null,null,null,null,"Осуществление взаимодействия органов местного самоуправления с печатными  средствами массовой  информации  в  области  подписки,доставки  и  распространения тиражей печатных изданий","902","05","05",{"$f":"AB1259","v":"01 4 01 00020"},null,2.5]
[null,null,null,null,null,null,null,null,null,null,null,null,null,null,null,null,null,null,null,null,null,null,null,"Закупка товаров, работ и услуг для обеспечения государственных (муниципальных) нужд","902","05","05",{"$f":"AB1260","v":"01 4 01 00020"},200,2.5]
[null,null,null,null,null,null,null,null,null,null,null,null,null,null,null,null,null,null,null,null,null,null,null,"Иные закупки товаров, работ и услуг для обеспечения государственных (муниципальных) нужд","902","05","05","01 4 01 00020",240,2.5]
[null,null,null,null,null,null,null,null,null,null,null,null,null,null,null,null,null,null,null,null,null,null,null,"Муниципальная  программа  \"Развитие  инженерной инфраструктуры и энергоэффективности  на  территории  города  Лыткарино\"на  2018-2022 годы","902","05","05","06 0 00 00000",null,{"$f":"AD1262","v":612}]
[null,null,null,null,null,null,null,null,null,null,null,null,null,null,null,null,null,null,null,null,null,null,null,"Обеспечивающая подпрограмма","902","05","05","06 3 00 00000",null,612]
[null,null,null,null,null,null,null,null,null,null,null,null,null,null,null,null,null,null,null,null,null,null,null,"Основное  мероприятие \"Обеспечение  деятельности  управления\"","902","05","05","06 3 01 00000",null,612]
[null,null,null,null,null,null,null,null,null,null,null,null,null,null,null,null,null,null,null,null,null,null,null,"Создание административных комиссий, уполномоченных рассматривать дела об административных правонарушениях в сфере благоустройства","902","05","05","06 3 01 62670",null,{"$f":"AD1265+AD1267+AD1269","v":612}]
[null,null,null,null,null,null,null,null,null,null,null,null,null,null,null,null,null,null,null,null,null,null,null,"Расходы на выплаты персоналу в целях обеспечения выполнения функций государственными (муниципальными) органами, казенными учреждениями, органами управления государственными внебюджетными фондами ","902","05","05","06 3 01 62670",100,{"$f":"AD1266","v":540}]
[null,null,null,null,null,null,null,null,null,null,null,null,null,null,null,null,null,null,null,null,null,null,null,"Расходы на выплаты персоналу государственных (муниципальных) органов","902","05","05","06 3 01 62670",120,540]
[null,null,null,null,null,null,null,null,null,null,null,null,null,null,null,null,null,null,null,null,null,null,null,"Закупка товаров, работ и услуг для обеспечения государственных (муниципальных) нужд","902","05","05","06 3 01 62670",200,{"$f":"AD1268","v":0}]
[null,null,null,null,null,null,null,null,null,null,null,null,null,null,null,null,null,null,null,null,null,null,null,"Иные закупки товаров, работ и услуг для обеспечения государственных (муниципальных) нужд","902","05","05","06 3 01 62670",240,0]
[null,null,null,null,null,null,null,null,null,null,null,null,null,null,null,null,null,null,null,null,null,null,null,"Закупка товаров, работ и услуг для обеспечения государственных (муниципальных) нужд","902","05","05","06 3 01 62670",200,{"$f":"AD1270","v":72}]
[null,null,null,null,null,null,null,null,null,null,null,null,null,null,null,null,null,null,null,null,null,null,null,"Иные закупки товаров, работ и услуг для обеспечения государственных (муниципальных) нужд","902","05","05","06 3 01 62670",240,72]
[null,null,null,null,null,null,null,null,null,null,null,null,null,null,null,null,null,null,null,null,null,null,null,"Муниципальная программа «Формирование современной городской среды города Лыткарино» на 2018-2024 годы","902","05","05","10 0 00 00000",null,{"$f":"AD1274+AD1287","v":14011.8}]
[null,null,null,null,null,null,null,null,null,null,null,null,null,null,null,null,null,null,null,null,null,null,null,"Обеспечивающая подпрограмма","902","05","05","10 3 00 00000",null,{"$f":"AD1286+AD1273","v":14011.8}]
[null,null,null,null,null,null,null,null,null,null,null,null,null,null,null,null,null,null,null,null,null,null,null,"Основное  мероприятие \" Обеспечение  деятельности  управления \"","902","05","05","10 3 01 00000",null,{"$f":"AD1274","v":12025.8}]
[null,null,null,null,null,null,null,null,null,null,null,null,null,null,null,null,null,null,null,null,null,null,null,"Центральный аппарат","902","05","05","10 3 01 04000",null,{"$f":"AD1275+AD1280+AD1283","v":12025.8}]
[null,null,null,null,null,null,null,null,null,null,null,null,null,null,null,null,null,null,null,null,null,null,null,"Расходы на обеспечение  деятельности  центрального  аппарата","902","05","05",{"$f":"AB1276","v":"10 3 01 04010"},null,{"$f":"AD1276+AD1278","v":2341.5}]
[null,null,null,null,null,null,null,null,null,null,null,null,null,null,null,null,null,null,null,null,null,null,null,"Закупка товаров, работ и услуг для обеспечения государственных (муниципальных) нужд","902","05","05",{"$f":"AB1277","v":"10 3 01 04010"},200,{"$f":"AD1277","v":1865.1000000000001}]
[null,null,null,null,null,null,null,null,null,null,null,null,null,null,null,null,null,null,null,null,null,null,null,"Иные закупки товаров, работ и услуг для обеспечения государственных (муниципальных) нужд","902","05","05",{"$f":"AB1278","v":"10 3 01 04010"},240,{"$f":"1774.4+20+71.8-1.1","v":1865.1000000000001}]
[null,null,null,null,null,null,null,null,null,null,null,null,null,null,null,null,null,null,null,null,null,null,null,"Иные бюджетные ассигнования","902","05","05",{"$f":"AB1279","v":"10 3 01 04010"},800,{"$f":"AD1279","v":476.40000000000003}]
[null,null,null,null,null,null,null,null,null,null,null,null,null,null,null,null,null,null,null,null,null,null,null,"Уплата налогов, сборов и иных платежей","902","05","05","10 3 01 04010",850,{"$f":"3+472.3+1.1","v":476.40000000000003}]
[null,null,null,null,null,null,null,null,null,null,null,null,null,null,null,null,null,null,null,null,null,null,null,"Расходы на содержание  лиц,  замещающих должности, не являющиеся должностями муниципальной  службы","902","05","05",{"$f":"AB1281","v":"10 3 01 04020"},null,{"$f":"AD1281","v":4492.5999999999995}]
[null,null,null,null,null,null,null,null,null,null,null,null,null,null,null,null,null,null,null,null,null,null,null,"Расходы на выплаты персоналу в целях обеспечения выполнения функций государственными (муниципальными) органами, казенными учреждениями, органами управления государственными внебюджетными фондами ","902","05","05",{"$f":"AB1282","v":"10 3 01 04020"},100,4492.5999999999995]
[null,null,null,null,null,null,null,null,null,null,null,null,null,null,null,null,null,null,null,null,null,null,null,"Расходы на выплаты персоналу государственных (муниципальных) органов","902","05","05","10 3 01 04020",120,{"$f":"3818.4+382+292.2","v":4492.5999999999995}]
[null,null,null,null,null,null,null,null,null,null,null,null,null,null,null,null,null,null,null,null,null,null,null,"Расходы на содержание  лиц,  замещающих должности  муниципальной  службы","902","05","05",{"$f":"AB1284","v":"10 3 01 04030"},null,{"$f":"AD1284","v":5191.6999999999989}]
[null,null,null,null,null,null,null,null,null,null,null,null,null,null,null,null,null,null,null,null,null,null,null,"Расходы на выплаты персоналу в целях обеспечения выполнения функций государственными (муниципальными) органами, казенными учреждениями, органами управления государственными внебюджетными фондами ","902","05","05",{"$f":"AB1285","v":"10 3 01 04030"},100,5191.6999999999989]
[null,null,null,null,null,null,null,null,null,null,null,null,null,null,null,null,null,null,null,null,null,null,null,"Расходы на выплаты персоналу государственных (муниципальных) органов","902","05","05","10 3 01 04030",120,{"$f":"4402.9+440.4+348.4","v":5191.6999999999989}]
[null,null,null,null,null,null,null,null,null,null,null,null,null,null,null,null,null,null,null,null,null,null,null,"Основное  мероприятие \"Обеспечение  предоставления  гражданам  субсидий  на  оплату  жилого  помещения  и  коммунальных  услуг\"","902","05","05","10 3 02 00000",null,{"$f":"AD1287","v":1986}]
[null,null,null,null,null,null,null,null,null,null,null,null,null,null,null,null,null,null,null,null,null,null,null,"Обеспечение  предоставления гражданам субсидий на оплату жилого помещения и коммунальных услуг","902","05","05","10 3 02 61420",null,{"$f":"AD1288+AD1290","v":1986}]
[null,null,null,null,null,null,null,null,null,null,null,null,null,null,null,null,null,null,null,null,null,null,null,"Расходы на выплаты персоналу в целях обеспечения выполнения функций государственными (муниципальными) органами, казенными учреждениями, органами управления государственными внебюджетными фондами ","902","05","05","10 3 02 61420",100,{"$f":"AD1289","v":1815}]
[null,null,null,null,null,null,null,null,null,null,null,null,null,null,null,null,null,null,null,null,null,null,null,"Расходы на выплаты персоналу государственных (муниципальных) органов","902","05","05","10 3 02 61420",120,{"$f":"1642+134+39","v":1815}]
[null,null,null,null,null,null,null,null,null,null,null,null,null,null,null,null,null,null,null,null,null,null,null,"Закупка товаров, работ и услуг для обеспечения государственных (муниципальных) нужд","902","05","05","10 3 02 61420",200,{"$f":"AD1291","v":171}]
[null,null,null,null,null,null,null,null,null,null,null,null,null,null,null,null,null,null,null,null,null,null,null,"Иные закупки товаров, работ и услуг для обеспечения государственных (муниципальных) нужд","902","05","05","10 3 02 61420",240,{"$f":"210-39","v":171}]
[null,null,null,null,null,null,null,null,null,null,null,null,null,null,null,null,null,null,null,null,null,null,null," \"Охрана окружающей среды\"","902","06",null,null,null,{"$f":"AD1293","v":1220903.8}]
[null,null,null,null,null,null,null,null,null,null,null,null,null,null,null,null,null,null,null,null,null,null,null,"Сбор, удаление отходов и очистка сточных вод","902","06","02",null,null,{"$f":"AD1294","v":1220903.8}]
[null,null,null,null,null,null,null,null,null,null,null,null,null,null,null,null,null,null,null,null,null,null,null,"Муниципальная  программа  \"Развитие  инженерной инфраструктуры и энергоэффективности  на  территории  города  Лыткарино\"на  2018-2022 годы","902","06","02","06 0 00 00000",null,{"$f":"AD1295","v":1220903.8}]
[null,null,null,null,null,null,null,null,null,null,null,null,null,null,null,null,null,null,null,null,null,null,null,"Подпрограмма \"Содержание и развитие инженерной инфраструктуры на территории города Лыткарино\"  ","902","06","02","06 1 00 00000",null,{"$f":"AD1296","v":1220903.8}]
[null,null,null,null,null,null,null,null,null,null,null,null,null,null,null,null,null,null,null,null,null,null,null,"Основное  мероприятие \"Федеральный проект \"Оздоровление Волги\"","902","06","02","06 1 G6 00000",null,{"$f":"AD1297","v":1220903.8}]
[null,null,null,null,null,null,null,null,null,null,null,null,null,null,null,null,null,null,null,null,null,null,null,"Строительство и реконструкция объектов очистки сточных вод в целях сохранения и предотвращения загрязнения реки Волги - строительство городских канализационных очистных сооружений г.Лыткарино производительностью 30 000 м.куб. в сутки","902","06","02","06 1 G6 50130",null,1220903.8]
[null,null,null,null,null,null,null,null,null,null,null,null,null,null,null,null,null,null,null,null,null,null,null,"Капитальные вложения в объекты государственной(муниципальной) собственности","902","06","02","06 1 G6 50130","400",1220903.8]
[null,null,null,null,null,null,null,null,null,null,null,null,null,null,null,null,null,null,null,null,null,null,null,"Бюджетные инвестиции ","902","06","02","06 1 G6 50130","410",{"$f":"1898202.7+19173.8-689508-6964.7","v":1220903.8}]
[null,null,null,null,null,null,null,null,null,null,null,null,null,null,null,null,null,null,null,null,null,null,null,"Образование",902,"07",null,null,null,{"$f":"AD1301","v":11640.8}]
[null,null,null,null,null,null,null,null,null,null,null,null,null,null,null,null,null,null,null,null,null,null,null,"Общее образование","902","07","02",null,null,11640.8]
[null,null,null,null,null,null,null,null,null,null,null,null,null,null,null,null,null,null,null,null,null,null,null,"Муниципальная  программа  \"Образование  города  Лыткарино\"  на  2017-2021  годы","902","07","02","03 0 00 00000",null,{"$f":"AD1303","v":11640.8}]
[null,null,null,null,null,null,null,null,null,null,null,null,null,null,null,null,null,null,null,null,null,null,null,"Подпрограмма  \"Общее образование\"","902","07","02","03 2 00 00000",null,{"$f":"AD1304+AD1315","v":11640.8}]
[null,null,null,null,null,null,null,null,null,null,null,null,null,null,null,null,null,null,null,null,null,null,null,"Основное мероприятие \"Обеспечение  развития  инновационной  инфраструктуры  общего  образования\"","902","07","02","03 2 02 00000",null,{"$f":"AD1309+AD1305","v":60.8}]
[null,null,null,null,null,null,null,null,null,null,null,null,null,null,null,null,null,null,null,null,null,null,null,"Бюджетные инвестиции в  объекты  капитального  строительства  муниципальной  собственности","902","07","02","03 2 02 22000",null,{"$f":"AD1306+AD1312","v":60.8}]
[null,null,null,null,null,null,null,null,null,null,null,null,null,null,null,null,null,null,null,null,null,null,null,"Капитальные вложения  в общеобразовательные организации -Пир и строительство пристройки на 245 мест к МОУ СОШ №5( городской округ Лыткарино,ул.Комсомольская д.34) ","902","07","02",{"$f":"AB1307","v":"03 2 02 22010"},null,{"$f":"AD1307","v":0}]
[null,null,null,null,null,null,null,null,null,null,null,null,null,null,null,null,null,null,null,null,null,null,null," Капитальные вложения в объекты государственной(муниципальной) собственности","902","07","02",{"$f":"AB1308","v":"03 2 02 22010"},400,{"$f":"AD1308","v":0}]
[null,null,null,null,null,null,null,null,null,null,null,null,null,null,null,null,null,null,null,null,null,null,null,"Бюджетные инвестиции ","902","07","02","03 2 02 22010",410,{"$f":"143400-45413.8-5000-18957.8-9500-6525.6-7000-5000-13000-5000-6500-970.7-6000-14532.1","v":0},-14532.1]
[null,null,null,null,null,null,null,null,null,null,null,null,null,null,null,null,null,null,null,null,null,null,null,"Капитальные вложения в общеобразовательные организации в целях обеспечения односменного режима обучения - реконструкция здания МС(К)ОУ специальной (коррекционной) общеобразовательной школы №8 для детей с ОВЗ на 216 мест, г.о.Лыткарино, ул.Пионерская, д.12б (ПИР и строительство)","902","07","02",{"$f":"AB1310","v":"03 2 02 64480"},null,{"$f":"AD1310","v":0}]
[null,null,null,null,null,null,null,null,null,null,null,null,null,null,null,null,null,null,null,null,null,null,null," Капитальные вложения в объекты государственной(муниципальной) собственности","902","07","02",{"$f":"AB1311","v":"03 2 02 64480"},400,{"$f":"AD1311","v":0}]
[null,null,null,null,null,null,null,null,null,null,null,null,null,null,null,null,null,null,null,null,null,null,null,"Бюджетные инвестиции ","902","07","02","03 2 02 64480",410]
[null,null,null,null,null,null,null,null,null,null,null,null,null,null,null,null,null,null,null,null,null,null,null,"Реконструкция здания МС(К)ОУ специальной (коррекционной) общеобразовательной школы N 8 для детей с ОВЗ на 216  мест, г.о. Лыткарино, ул. Пионерская, д. 12б (ПИР и строительство) в части лабораторно-инструментальных исследований и экспертизы данных исследований в отношении земельного участка для размещения школы","902","07","02",{"$f":"AB1313","v":"03 2 02 22020"},null,{"$f":"AD1313","v":60.8}]
[null,null,null,null,null,null,null,null,null,null,null,null,null,null,null,null,null,null,null,null,null,null,null," Капитальные вложения в объекты государственной(муниципальной) собственности","902","07","02",{"$f":"AB1314","v":"03 2 02 22020"},400,{"$f":"AD1314","v":60.8}]
[null,null,null,null,null,null,null,null,null,null,null,null,null,null,null,null,null,null,null,null,null,null,null,"Бюджетные инвестиции ","902","07","02","03 2 02 22020",410,60.8]
[null,null,null,null,null,null,null,null,null,null,null,null,null,null,null,null,null,null,null,null,null,null,null,"Основное мероприятие \"Федеральный проект \"Современная  школа\" ","902","07","02","03 2 E1 00000",null,{"$f":"AD1316","v":11580}]
[null,null,null,null,null,null,null,null,null,null,null,null,null,null,null,null,null,null,null,null,null,null,null,"Реконструкция здания МС(К)ОУ специальной (коррекционной) общеобразовательной школы N 8 для детей с ОВЗ на 216  мест, г.о. Лыткарино, ул. Пионерская, д. 12б (ПИР и строительство)","902","07","02",{"$f":"AB1317","v":"03 2 E1 S4480"},null,{"$f":"AD1317","v":11580}]
[null,null,null,null,null,null,null,null,null,null,null,null,null,null,null,null,null,null,null,null,null,null,null," Капитальные вложения в объекты государственной(муниципальной) собственности","902","07","02",{"$f":"AB1318","v":"03 2 E1 S4480"},400,{"$f":"AD1318","v":11580}]
[null,null,null,null,null,null,null,null,null,null,null,null,null,null,null,null,null,null,null,null,null,null,null,"Бюджетные инвестиции ","902","07","02","03 2 E1 S4480",410,{"$f":"95000+5000-83999-4421","v":11580}]
[null,null,null,null,null,null,null,null,null,null,null,null,null,null,null,null,null,null,null,null,null,null,null,"Социальная политика","902","10",null,null,null,{"$f":"AD1320+AD1327+AD1342","v":39580.800000000003}]
[null,null,null,null,null,null,null,null,null,null,null,null,null,null,null,null,null,null,null,null,null,null,null,"Пенсионное обеспечение","902",10,"01",null,null,{"$f":"AD1321","v":686.09999999999991}]
[null,null,null,null,null,null,null,null,null,null,null,null,null,null,null,null,null,null,null,null,null,null,null,"Муниципальная  программа «Муниципальное управление города Лыткарино на 2017-2021 годы»","902",10,"01","01 0 00 00000",null,686.09999999999991]
[null,null,null,null,null,null,null,null,null,null,null,null,null,null,null,null,null,null,null,null,null,null,null,"Подпрограмма  «Развитие муниципальной службы» ","902",10,"01","01 6 00 00000",null,{"$f":"AD1323","v":686.09999999999991}]
[null,null,null,null,null,null,null,null,null,null,null,null,null,null,null,null,null,null,null,null,null,null,null,"Основное  мероприятие \"Повышение  мотивации  к  исполнению  должностных  обязанностей  муниципальных  служащих\"","902",10,"01","01 6 02 00000",null,686.09999999999991]
[null,null,null,null,null,null,null,null,null,null,null,null,null,null,null,null,null,null,null,null,null,null,null,"Пенсия за выслугу лет лицам, замещавшим муниципальные должности или должности муниципальной службы в органах местного самоуправления и избирательных комиссиях муниципального образования \"Город Лыткарино Московской области\"","902",10,"01",{"$f":"AB1325","v":"01 6 02 00020"},null,686.09999999999991]
[null,null,null,null,null,null,null,null,null,null,null,null,null,null,null,null,null,null,null,null,null,null,null,"Социальное обеспечение и иные выплаты населению","902",10,"01",{"$f":"AB1326","v":"01 6 02 00020"},300,686.09999999999991]
[null,null,null,null,null,null,null,null,null,null,null,null,null,null,null,null,null,null,null,null,null,null,null,"Социальные выплаты гражданам, кроме публичных нормативных социальных выплат","902",10,"01","01 6 02 00020",320,{"$f":"636.3+49.8","v":686.09999999999991}]
[null,null,null,null,null,null,null,null,null,null,null,null,null,null,null,null,null,null,null,null,null,null,null,"Социальное обеспечение населения","902",10,"03",null,null,{"$f":"AD1328+AD1334","v":23413}]
[null,null,null,null,null,null,null,null,null,null,null,null,null,null,null,null,null,null,null,null,null,null,null,"Муниципальная    программа  \"Жилище  города Лыткарино\"  на 2014-2024 годы","902",10,"03","09 0 00 00000",null,{"$f":"AD1329","v":1102}]
[null,null,null,null,null,null,null,null,null,null,null,null,null,null,null,null,null,null,null,null,null,null,null,"Подпрограмма  «Обеспечение жильем отдельных категорий граждан, установленных федеральным законодательством»","902",10,"03","09 2 00 00000",null,{"$f":"AD1330","v":1102}]
[null,null,null,null,null,null,null,null,null,null,null,null,null,null,null,null,null,null,null,null,null,null,null,"Основное  мероприятие \"Оказание государственной  поддержки  по  обеспечению  жильем отдельных  категорий  граждан,установленных  федеральными  законами  от 12  января  1995 года №5-ФЗ \"О  ветеранах\" от 24 ноября  1995  года  №181-ФЗ  \"О  социальной  защите  инвалидов  в  Российской  Федерации\"","902",10,"03","09 2 01 00000",null,{"$f":"AD1331","v":1102}]
[null,null,null,null,null,null,null,null,null,null,null,null,null,null,null,null,null,null,null,null,null,null,null,"Осуществление  полномочий  по  обеспечению  жильем  отдельных  категорий  граждан,установленных  федеральными  законами  от 12  января  1995 года №5-ФЗ \"О  ветеранах\" от 24 ноября  1995  года  №181-ФЗ  \"О  социальной  защите  инвалидов  в  Российской  Федерации\"","902",10,"03",{"$f":"AB1332","v":"09 2 01 51350"},null,{"$f":"AD1332","v":1102}]
[null,null,null,null,null,null,null,null,null,null,null,null,null,null,null,null,null,null,null,null,null,null,null,"Социальное обеспечение и иные выплаты населению","902",10,"03",{"$f":"AB1333","v":"09 2 01 51350"},300,{"$f":"AD1333","v":1102}]
[null,null,null,null,null,null,null,null,null,null,null,null,null,null,null,null,null,null,null,null,null,null,null,"Социальные выплаты гражданам, кроме публичных  нормативных  социальных  выплат","902",10,"03","09 2 01 51350",320,{"$f":"1112-10","v":1102}]
[null,null,null,null,null,null,null,null,null,null,null,null,null,null,null,null,null,null,null,null,null,null,null,"Муниципальная программа «Формирование современной городской среды города Лыткарино» на 2018-2024 годы","902",10,"03","10 0 00 00000",null,{"$f":"AD1335","v":22311}]
[null,null,null,null,null,null,null,null,null,null,null,null,null,null,null,null,null,null,null,null,null,null,null,"Обеспечивающая подпрограмма","902",10,"03","10 3 00 00000",null,{"$f":"AD1337","v":22311}]
[null,null,null,null,null,null,null,null,null,null,null,null,null,null,null,null,null,null,null,null,null,null,null,"Основное  мероприятие \" Предоставление  гражданам  субсидий  на  оплату  жилого  помещения  и  коммунальных  услуг\"","902",10,"03","10 3 03 00000",null,{"$f":"AD1337","v":22311}]
[null,null,null,null,null,null,null,null,null,null,null,null,null,null,null,null,null,null,null,null,null,null,null,"Предоставление гражданам субсидий на оплату жилого помещения и коммунальных услуг","902",10,"03","10 3 03 61410",null,{"$f":"AD1338+AD1340","v":22311}]
[null,null,null,null,null,null,null,null,null,null,null,null,null,null,null,null,null,null,null,null,null,null,null,"Закупка товаров, работ и услуг для обеспечения государственных (муниципальных) нужд","902",10,"03",{"$f":"AB1339","v":"10 3 03 61410"},200,{"$f":"AD1339","v":195}]
[null,null,null,null,null,null,null,null,null,null,null,null,null,null,null,null,null,null,null,null,null,null,null,"Иные закупки товаров, работ и услуг для обеспечения государственных (муниципальных) нужд","902",10,"03",{"$f":"AB1340","v":"10 3 03 61410"},240,195]
[null,null,null,null,null,null,null,null,null,null,null,null,null,null,null,null,null,null,null,null,null,null,null,"Социальное обеспечение и иные выплаты населению","902",10,"03",{"$f":"AB1341","v":"10 3 03 61410"},300,{"$f":"AD1341","v":22116}]
[null,null,null,null,null,null,null,null,null,null,null,null,null,null,null,null,null,null,null,null,null,null,null,"Публичные нормативные социальные выплаты гражданам","902",10,"03","10 3 03 61410",310,22116]
[null,null,null,null,null,null,null,null,null,null,null,null,null,null,null,null,null,null,null,null,null,null,null,"Охрана семьи и детства","902",10,"04",null,null,{"$f":"AD1343","v":15481.7}]
[null,null,null,null,null,null,null,null,null,null,null,null,null,null,null,null,null,null,null,null,null,null,null,"Муниципальная    программа  \"Жилище  города Лыткарино\"  на 2014-2024 годы","902",10,"04","09 0 00 00000",null,{"$f":"AD1344","v":15481.7}]
[null,null,null,null,null,null,null,null,null,null,null,null,null,null,null,null,null,null,null,null,null,null,null,"Подпрограмма \"Обеспечение  жильем  молодых  семей\"  на  2014-2021  годы","902",10,"04","09 1 00 00000",null,{"$f":"AD1345","v":15481.7}]
[null,null,null,null,null,null,null,null,null,null,null,null,null,null,null,null,null,null,null,null,null,null,null,"Основное  мероприятие \"Оказание  государственной  поддержки  молодым  семьям  в  виде  социальных  выплат  на  приобретение  жилого  помещения  или  строительство  индивидуального  жилого  дома\"","902",10,"04","09 1 01 00000",null,{"$f":"AD1346","v":15481.7}]
[null,null,null,null,null,null,null,null,null,null,null,null,null,null,null,null,null,null,null,null,null,null,null,"Расходы  на  оказание  государственной  поддержки  молодым  семьям  на  приобретение  жилья ","902",10,"04",{"$f":"AB1347","v":"09 1 01 L4970"},null,15481.7]
[null,null,null,null,null,null,null,null,null,null,null,null,null,null,null,null,null,null,null,null,null,null,null,"Социальное обеспечение и иные выплаты населению","902",10,"04",{"$f":"AB1348","v":"09 1 01 L4970"},300,15481.7]
[null,null,null,null,null,null,null,null,null,null,null,null,null,null,null,null,null,null,null,null,null,null,null,"Социальные выплаты гражданам, кроме публичных  нормативных  социальных  выплат","902",10,"04","09 1 01 L4970",320,{"$f":"6870+8611.7","v":15481.7}]
[null,null,null,null,null,null,null,null,null,null,null,null,null,null,null,null,null,null,null,null,null,null,null,"Физическая  культура  и  спорт",902,11,null,null,null,{"$f":"AD1350","v":6633.5}]
[null,null,null,null,null,null,null,null,null,null,null,null,null,null,null,null,null,null,null,null,null,null,null,"Массовый  спорт",902,11,"02",null,null,6633.5]
[null,null,null,null,null,null,null,null,null,null,null,null,null,null,null,null,null,null,null,null,null,null,null,"Муниципальная  программа  \"Физическая  культура  и  спорт  города  Лыткарино\"  на  2017-2021 годы","902",11,"02","05 0 00 00000",null,{"$f":"AD1352","v":6633.5}]
[null,null,null,null,null,null,null,null,null,null,null,null,null,null,null,null,null,null,null,null,null,null,null,"Подпрограмма  \"Строительство,реконструкция,модернизация  и  благоустройство  территории  объектов  физической  культуры  и  спорта  города  Лыткарино\"    ",902,11,"02","05 1 00 00000",null,{"$f":"AD1353+AD1358","v":6633.5}]
[null,null,null,null,null,null,null,null,null,null,null,null,null,null,null,null,null,null,null,null,null,null,null,"Основное  мероприятие \"Реконструкция стадиона \"Полёт\"",902,11,"02","05 1 03 00000",null,200]
[null,null,null,null,null,null,null,null,null,null,null,null,null,null,null,null,null,null,null,null,null,null,null,"Бюджетные инвестиции в  объекты  капитального  строительства  муниципальной  собственности",902,11,"02","05 1 03 22000",null,200]
[null,null,null,null,null,null,null,null,null,null,null,null,null,null,null,null,null,null,null,null,null,null,null,"Проектно-изыскательские работы в целях реконструкции стадиона \"Полёт\", расположенного по адресу: г.Лыткарино, ул.Парковая",902,11,"02","05 1 03 22030",null,200]
[null,null,null,null,null,null,null,null,null,null,null,null,null,null,null,null,null,null,null,null,null,null,null," Капитальные вложения в объекты государственной(муниципальной) собственности",902,11,"02","05 1 03 22030",400,200]
[null,null,null,null,null,null,null,null,null,null,null,null,null,null,null,null,null,null,null,null,null,null,null,"Бюджетные инвестиции ",902,11,"02","05 1 03 22030",410,200]
[null,null,null,null,null,null,null,null,null,null,null,null,null,null,null,null,null,null,null,null,null,null,null,"Основное мероприятие \"Капитальный  ремонт нежилых помещений МБУ \"Спортивная школа Лыткарино\" по адресу: г.Лыткарино,улица Шестакова В.А.,стр.2 (Спортивный комплекс \"Кристалл\")\"",902,11,"02","05 1 04 00000",null,{"$f":"AD1359","v":6433.5}]
[null,null,null,null,null,null,null,null,null,null,null,null,null,null,null,null,null,null,null,null,null,null,null,"Капитальный  ремонт ",902,11,"02","05 1 04 21000",null,{"$f":"AD1361","v":6433.5}]
[null,null,null,null,null,null,null,null,null,null,null,null,null,null,null,null,null,null,null,null,null,null,null,"Капитальный  ремонт нежилых помещений МБУ Спортивная школа Лыткарино\" по адресу: г.Лыткарино,улица Шестакова В.А.,стр.2 (Спортивный комплекс \"Кристалл\")\"",902,11,"02","05 1 04 21010",null,{"$f":"AD1361","v":6433.5}]
[null,null,null,null,null,null,null,null,null,null,null,null,null,null,null,null,null,null,null,null,null,null,null,"Закупка товаров, работ и услуг для обеспечения государственных (муниципальных) нужд",902,11,"02","05 1 04 21010",200,{"$f":"AD1362","v":6433.5}]
[null,null,null,null,null,null,null,null,null,null,null,null,null,null,null,null,null,null,null,null,null,null,null,"Иные закупки товаров, работ и услуг для обеспечения государственных (муниципальных) нужд",902,11,"02","05 1 04 21010",240,{"$f":"10000-1400-2166.5","v":6433.5}]
[null,null,null,null,null,null,null,null,null,null,null,null,null,null,null,null,null,null,null,null,null,null,null,"Контрольно-счетная палата городского округа  Лыткарино  Московской  области",904,null,null,null,null,{"$f":"AD1364+AD1388","v":7499}]
[null,null,null,null,null,null,null,null,null,null,null,null,null,null,null,null,null,null,null,null,null,null,null,"Общегосударственные вопросы",904,"01",null,null,null,{"$f":"AD1365","v":7370.6}]
[null,null,null,null,null,null,null,null,null,null,null,null,null,null,null,null,null,null,null,null,null,null,null,"Обеспечение  деятельности  финансовых,налоговых  и  таможенных  органов  и  органов  финансового  (финансово-бюджетного)  надзора",904,"01","06",null,null,{"$f":"AD1372+AD1366","v":7370.6}]
[null,null,null,null,null,null,null,null,null,null,null,null,null,null,null,null,null,null,null,null,null,null,null,"Муниципальная  программа «Муниципальное управление города Лыткарино на 2017-2021 годы»",904,"01","06","01 0 00 00000",null,{"$f":"AD1367","v":4.5}]
[null,null,null,null,null,null,null,null,null,null,null,null,null,null,null,null,null,null,null,null,null,null,null,"Подпрограмма «Развитие системы информирования населения о деятельности органов местного самоуправления города Лыткарино Московской области» ",904,"01","06","01 4 00 00000",null,{"$f":"AD1368","v":4.5}]
[null,null,null,null,null,null,null,null,null,null,null,null,null,null,null,null,null,null,null,null,null,null,null,"Основное мероприятие \"Информирование населения г.Лыткарино об основных событиях социально-экономического развития, общественно-политической жизни, о деятельности органов местного самоуправления города  Лыткарино\" ",904,"01","06","01 4 01 00000",null,4.5]
[null,null,null,null,null,null,null,null,null,null,null,null,null,null,null,null,null,null,null,null,null,null,null,"Осуществление взаимодействия органов местного самоуправления с печатными  средствами массовой  информации  в  области  подписки,доставки  и  распространения тиражей печатных изданий",904,"01","06",{"$f":"AB1370","v":"01 4 01 00020"},null,4.5]
[null,null,null,null,null,null,null,null,null,null,null,null,null,null,null,null,null,null,null,null,null,null,null,"Закупка товаров, работ и услуг для обеспечения государственных (муниципальных) нужд",904,"01","06",{"$f":"AB1371","v":"01 4 01 00020"},200,4.5]
[null,null,null,null,null,null,null,null,null,null,null,null,null,null,null,null,null,null,null,null,null,null,null,"Иные закупки товаров, работ и услуг для обеспечения государственных (муниципальных) нужд",904,"01","06","01 4 01 00020",240,4.5]
[null,null,null,null,null,null,null,null,null,null,null,null,null,null,null,null,null,null,null,null,null,null,null,"Руководство и управление в сфере установленных функций органов местного  самоуправления, избирательных комиссий муниципальных образований ",904,"01","06","95 0 00 00000",null,{"$f":"AD1373+AD1385","v":7366.1}]
[null,null,null,null,null,null,null,null,null,null,null,null,null,null,null,null,null,null,null,null,null,null,null,"Центральный аппарат",904,"01","06","95 0 00 04000",null,{"$f":"AD1374+AD1382+AD1379","v":5427.2000000000007}]
[null,null,null,null,null,null,null,null,null,null,null,null,null,null,null,null,null,null,null,null,null,null,null,"Расходы на обеспечение  деятельности  центрального  аппарата",904,"01","06","95 0 00 04010",null,{"$f":"AD1375+AD1377","v":1248.5}]
[null,null,null,null,null,null,null,null,null,null,null,null,null,null,null,null,null,null,null,null,null,null,null,"Закупка товаров, работ и услуг для обеспечения государственных (муниципальных) нужд",904,"01","06","95 0 00 04010",200,{"$f":"AD1376","v":1211}]
[null,null,null,null,null,null,null,null,null,null,null,null,null,null,null,null,null,null,null,null,null,null,null,"Иные закупки товаров, работ и услуг для обеспечения государственных (муниципальных) нужд",904,"01","06","95 0 00 04010",240,{"$f":"844.9+2+2.5+49+23.7+6.5+60+128+85.4+9","v":1211},9]
[null,null,null,null,null,null,null,null,null,null,null,null,null,null,null,null,null,null,null,null,null,null,null,"Иные бюджетные ассигнования",904,"01","06","95 0 00 04010",800,{"$f":"AD1378","v":37.5}]
[null,null,null,null,null,null,null,null,null,null,null,null,null,null,null,null,null,null,null,null,null,null,null,"Уплата налогов, сборов и иных платежей",904,"01","06","95 0 00 04010",850,{"$f":"3+24.5+5+5","v":37.5},5]
[null,null,null,null,null,null,null,null,null,null,null,null,null,null,null,null,null,null,null,null,null,null,null,"Расходы  на  содержание  лиц,  замещающих должности, не являющиеся должностями муниципальной  службы",904,"01","06","95 0 00 04020",null,{"$f":"AD1380","v":1039}]
[null,null,null,null,null,null,null,null,null,null,null,null,null,null,null,null,null,null,null,null,null,null,null,"Расходы на выплаты персоналу в целях обеспечения выполнения функций государственными (муниципальными) органами, казенными учреждениями, органами управления государственными внебюджетными фондами ",904,"01","06","95 0 00 04020",100,{"$f":"AD1381","v":1039}]
[null,null,null,null,null,null,null,null,null,null,null,null,null,null,null,null,null,null,null,null,null,null,null,"Расходы на выплаты персоналу государственных (муниципальных) органов",904,"01","06","95 0 00 04020",120,{"$f":"1078.2+107.8-133-14","v":1039},-14]
[null,null,null,null,null,null,null,null,null,null,null,null,null,null,null,null,null,null,null,null,null,null,null,"Расходы  на  содержание  лиц,  замещающих должности  муниципальной  службы",904,"01","06","95 0 00 04030",null,{"$f":"AD1383","v":3139.7000000000003}]
[null,null,null,null,null,null,null,null,null,null,null,null,null,null,null,null,null,null,null,null,null,null,null,"Расходы на выплаты персоналу в целях обеспечения выполнения функций государственными (муниципальными) органами, казенными учреждениями, органами управления государственными внебюджетными фондами ",904,"01","06","95 0 00 04030",100,3139.7000000000003]
[null,null,null,null,null,null,null,null,null,null,null,null,null,null,null,null,null,null,null,null,null,null,null,"Расходы на выплаты персоналу государственных (муниципальных) органов",904,"01","06","95 0 00 04030",120,{"$f":"2649.4+265+225.3","v":3139.7000000000003}]
[null,null,null,null,null,null,null,null,null,null,null,null,null,null,null,null,null,null,null,null,null,null,null,"Председатель  контрольно-счетной  палаты  муниципального  образования  и  его  заместитель",904,"01","06","95 0 00 05000",null,{"$f":"AD1386","v":1938.9}]
[null,null,null,null,null,null,null,null,null,null,null,null,null,null,null,null,null,null,null,null,null,null,null,"Расходы на выплаты персоналу в целях обеспечения выполнения функций государственными (муниципальными) органами, казенными учреждениями, органами управления государственными внебюджетными фондами ",904,"01","06","95 0 00 05000",100,1938.9]
[null,null,null,null,null,null,null,null,null,null,null,null,null,null,null,null,null,null,null,null,null,null,null,"Расходы на выплаты персоналу государственных (муниципальных) органов",904,"01","06","95 0 00 05000",120,{"$f":"1675.5+167.5+95.9","v":1938.9}]
[null,null,null,null,null,null,null,null,null,null,null,null,null,null,null,null,null,null,null,null,null,null,null,"Социальная политика","904","10",null,null,null,{"$f":"AD1389","v":128.4}]
[null,null,null,null,null,null,null,null,null,null,null,null,null,null,null,null,null,null,null,null,null,null,null,"Пенсионное обеспечение",904,10,"01",null,null,128.4]
[null,null,null,null,null,null,null,null,null,null,null,null,null,null,null,null,null,null,null,null,null,null,null,"Муниципальная  программа «Муниципальное управление города Лыткарино на 2017-2021 годы»",904,10,"01","01 0 00 00000",null,128.4]
[null,null,null,null,null,null,null,null,null,null,null,null,null,null,null,null,null,null,null,null,null,null,null,"Подпрограмма  «Развитие муниципальной службы» ",904,10,"01","01 6 00 00000",null,128.4]
[null,null,null,null,null,null,null,null,null,null,null,null,null,null,null,null,null,null,null,null,null,null,null,"Основное  мероприятие \"Повышение  мотивации  к  исполнению  должностных  обязанностей  муниципальных  служащих\"",904,10,"01","01 6 02 00000",null,128.4]
[null,null,null,null,null,null,null,null,null,null,null,null,null,null,null,null,null,null,null,null,null,null,null,"Пенсия за выслугу лет лицам, замещавшим муниципальные должности или должности муниципальной службы в органах местного самоуправления и избирательных комиссиях муниципального образования \"Город Лыткарино Московской области\"",904,10,"01",{"$f":"AB1394","v":"01 6 02 00020"},null,128.4]
[null,null,null,null,null,null,null,null,null,null,null,null,null,null,null,null,null,null,null,null,null,null,null,"Социальное обеспечение и иные выплаты населению",904,10,"01",{"$f":"AB1395","v":"01 6 02 00020"},300,128.4]
[null,null,null,null,null,null,null,null,null,null,null,null,null,null,null,null,null,null,null,null,null,null,null,"Социальные выплаты гражданам, кроме публичных нормативных социальных выплат",904,10,"01","01 6 02 00020",320,128.4]
[null,null,null,null,null,null,null,null,null,null,null,null,null,null,null,null,null,null,null,null,null,null,null,"Избирательная  комиссия  городского  округа  Лыткарино",905,null,null,null,null,{"$f":"AD1397","v":4352.5}]
[null,null,null,null,null,null,null,null,null,null,null,null,null,null,null,null,null,null,null,null,null,null,null,"Общегосударственные вопросы",905,"01",null,null,null,{"$f":"AD1398","v":4352.5}]
[null,null,null,null,null,null,null,null,null,null,null,null,null,null,null,null,null,null,null,null,null,null,null,"Обеспечение проведения выборов и референдумов",905,"01","07",null,null,{"$f":"AD1405+AD1399","v":4352.5}]
[null,null,null,null,null,null,null,null,null,null,null,null,null,null,null,null,null,null,null,null,null,null,null,"Муниципальная  программа «Муниципальное управление города Лыткарино на 2017-2021 годы»",905,"01","07","01 0 00 00000",null,{"$f":"AD1400","v":1.1000000000000001}]
[null,null,null,null,null,null,null,null,null,null,null,null,null,null,null,null,null,null,null,null,null,null,null,"Подпрограмма «Развитие системы информирования населения о деятельности органов местного самоуправления города Лыткарино Московской области» ",905,"01","07","01 4 00 00000",null,1.1000000000000001]
[null,null,null,null,null,null,null,null,null,null,null,null,null,null,null,null,null,null,null,null,null,null,null,"Основное мероприятие \"Информирование населения г.Лыткарино об основных событиях социально-экономического развития, общественно-политической жизни, о деятельности органов местного самоуправления города  Лыткарино\" ",905,"01","07","01 4 01 00000",null,1.1000000000000001]
[null,null,null,null,null,null,null,null,null,null,null,null,null,null,null,null,null,null,null,null,null,null,null,"Осуществление взаимодействия органов местного самоуправления с печатными  средствами массовой  информации  в  области  подписки,доставки  и  распространения тиражей печатных изданий",905,"01","07",{"$f":"AB1403","v":"01 4 01 00020"},null,1.1000000000000001]
[null,null,null,null,null,null,null,null,null,null,null,null,null,null,null,null,null,null,null,null,null,null,null,"Закупка товаров, работ и услуг для обеспечения государственных (муниципальных) нужд",905,"01","07",{"$f":"AB1404","v":"01 4 01 00020"},200,1.1000000000000001]
[null,null,null,null,null,null,null,null,null,null,null,null,null,null,null,null,null,null,null,null,null,null,null,"Иные закупки товаров, работ и услуг для обеспечения государственных (муниципальных) нужд",905,"01","07","01 4 01 00020",240,{"$f":"1+0.1","v":1.1000000000000001}]
[null,null,null,null,null,null,null,null,null,null,null,null,null,null,null,null,null,null,null,null,null,null,null,"Руководство и управление в сфере установленных функций органов местного  самоуправления, избирательных комиссий муниципальных образований ",905,"01","07","95 0 00 00000",null,{"$f":"AD1406+AD1414","v":4351.3999999999996}]
[null,null,null,null,null,null,null,null,null,null,null,null,null,null,null,null,null,null,null,null,null,null,null,"Центральный аппарат",905,"01","07","95 0 00 04000",null,{"$f":"AD1407+AD1412","v":2296.1}]
[null,null,null,null,null,null,null,null,null,null,null,null,null,null,null,null,null,null,null,null,null,null,null,"Расходы на обеспечение  деятельности  центрального  аппарата",905,"01","07","95 0 00 04010",null,{"$f":"AD1408+AD1410","v":495.79999999999995}]
[null,null,null,null,null,null,null,null,null,null,null,null,null,null,null,null,null,null,null,null,null,null,null,"Закупка товаров, работ и услуг для обеспечения государственных (муниципальных) нужд",905,"01","07","95 0 00 04010",200,{"$f":"AD1409","v":458.29999999999995}]
[null,null,null,null,null,null,null,null,null,null,null,null,null,null,null,null,null,null,null,null,null,null,null,"Иные закупки товаров, работ и услуг для обеспечения государственных (муниципальных) нужд",905,"01","07","95 0 00 04010",240,{"$f":"388.9+59.4+10","v":458.29999999999995}]
[null,null,null,null,null,null,null,null,null,null,null,null,null,null,null,null,null,null,null,null,null,null,null,"Иные бюджетные ассигнования",905,"01","07","95 0 00 04010",800,{"$f":"AD1411","v":37.5}]
[null,null,null,null,null,null,null,null,null,null,null,null,null,null,null,null,null,null,null,null,null,null,null,"Уплата налогов, сборов и иных платежей",905,"01","07","95 0 00 04010",850,{"$f":"12.5+25","v":37.5}]
[null,null,null,null,null,null,null,null,null,null,null,null,null,null,null,null,null,null,null,null,null,null,null,"Расходы  на  содержание  лиц,  замещающих должности, не являющиеся должностями муниципальной  службы",905,"01","07","95 0 00 04020",100,{"$f":"AD1413","v":1800.3}]
[null,null,null,null,null,null,null,null,null,null,null,null,null,null,null,null,null,null,null,null,null,null,null,"Расходы на выплаты персоналу в целях обеспечения выполнения функций государственными (муниципальными) органами, казенными учреждениями, органами управления государственными внебюджетными фондами ",905,"01","07","95 0 00 04020",120,{"$f":"1668.5+166.8-25-10","v":1800.3}]
[null,null,null,null,null,null,null,null,null,null,null,null,null,null,null,null,null,null,null,null,null,null,null,"Члены избирательной  комиссии  муниципального  образования",905,"01","07","95 0 00 06000",null,{"$f":"AD1415","v":2055.3000000000002}]
[null,null,null,null,null,null,null,null,null,null,null,null,null,null,null,null,null,null,null,null,null,null,null,"Расходы на выплаты персоналу в целях обеспечения выполнения функций государственными (муниципальными) органами, казенными учреждениями, органами управления государственными внебюджетными фондами ",905,"01","07","95 0 00 06000",100,2055.3000000000002]
[null,null,null,null,null,null,null,null,null,null,null,null,null,null,null,null,null,null,null,null,null,null,null,"Расходы на выплаты персоналу государственных (муниципальных) органов",905,"01","07","95 0 00 06000",120,{"$f":"1868.5+186.8","v":2055.3000000000002}]
[null,null,null,null,null,null,null,null,null,null,null,null,null,null,null,null,null,null,null,null,null,null,null,"ВСЕГО",null,null,null,null,null,{"$f":"AD1363+AD1128+AD878+AD791+AD753+AD703+AD15+AD1396","v":3299060.8}]

{"sheet":"Лист1","index":7,"n_rows":0,"n_cols":0,"rows_kept":0,"cut":false,"hidden":false,"merged":[]}